{"text_format":"1","workbook":"xlsx","n_sheets":21,"sheets":["General Requirements","Instructions","Information Page","Interior Lighting Inventory","Input Summary","Secondary Lighting Inventory","Summary - Building Method","Summary - Space Method","Exterior Lighting Inventory","Lookup","Validation Logic","Calculations TRM","Incentive Logic","Version Tracking","Building Area  LPD","Space-by-Space LPD","AEG Import","Exterior LPD","Controls Allowance","Wattage Table","Lighting Hour Logic"],"not_rendered":{"charts":0,"images":4,"macros":1,"external_links":1,"defined_names":81,"comments":0,"pivot_tables":1},"unopened":[],"bounds":{"document_bytes":16777216,"sheet_cells":100000,"rows_first":2000,"rows_last":500,"rows_between":2000,"halvings":0,"cell_chars":16384,"cell_head_chars":4096},"cells_cut":0,"cells_raw":0,"read":"whole","date_system":"1900"}

{"sheet":"General Requirements","index":0,"n_rows":31,"n_cols":4,"rows_kept":31,"cut":false,"hidden":false,"merged":[[16,1,16,15],[20,1,20,15],[25,2,25,15],[22,1,22,15],[19,2,19,15],[23,2,23,15],[24,2,24,15],[21,1,21,15],[11,1,11,15],[12,1,12,15],[13,1,13,15],[14,1,14,15],[15,1,15,15],[5,1,5,15],[6,1,6,15],[8,1,8,15],[9,1,9,15],[10,1,10,15],[30,2,30,15],[26,2,26,15],[27,2,27,15],[28,2,28,15],[17,1,17,15]]}
[]
[]
[null,null,null,"New Construction Design-Based Lighting Worksheet"]
[null,null,null,"New Construction Measures - Custom Program"]
[null,null,null,{"$f":"\"Tool Version # \" &TEXT('Version Tracking'!$B$2,\"00000000\")","v":"Tool Version # 06232026"}]
[null,"GENERAL INFORMATION"]
[null,"The Pepco C&I Energy Savings Program offers incentives to install energy efficient lighting."]
[]
[null,"To take advantage of these incentives, you must meet the following eligibility requirements:"]
[null,"          1. Be a Pepco customer and business in the Maryland territory."]
[null,"          2. Doing site preparation for and construction of entirely new structures and/or extensions to existing buildings, or"]
[null,"          3. Doing extensive alterations of an existing building encompassing projects where lighting and HVAC systems are being completely replaced."]
[]
[null,"All projects require pre-approval."]
[]
[null,"You can also contact your installation contractor or equipment vendor to discuss energy efficiency equipment options. If you do not have a \ncontractor or vendor in mind, please visit our website for a list of Service Providers."]
[null,"HOW TO APPLY"]
[null,"All projects MUST receive pre-approval before purchasing equipment or beginning work. Please review the program process and eligibility \nrequirements on the program website as well as the Terms and Conditions. Please contact the program office with any questions."]
[]
[null,"1.","The application is completed and submitted via the online Application Center. Pre-approval is required before proceeding. The following supporting information must be included with the application:"]
[null,"          ☑ Completed and signed Terms and Conditions (T&Cs)"]
[null,"          ☑ Manufacturer specification sheets for lamps, ballasts, drivers, and lighting controls"]
[null,"          ☑ Lighting floor plans and fixture schedule, in PDF format"]
[null,"2.","The Program review submitted documentation, revises and/or requests additional documentation as necessary. A site inspection may be required as part of the pre-approval process."]
[null,"3.","The Program emails the project pre-approval to the customer and Service Provider."]
[null,"4."," If the scope of work has changed, notify the Program as soon as possible. If your project increases the incentive amount by more than $2,500 or 10% of the reserved amount – whichever is greater – a separate application must be submitted for the variance prior to installation and will need to go through the application pre-approval process."]
[null,"5.","Once the installation of all proposed equipment is complete and the Pepco customer is satisfied with the equipment and installation, the Pepco customer must sign the program pre-approval letter. The customer-signed pre-approval letter must be uploaded to the online Application Center along with the final detailed invoice(s). The invoice should indicate total project cost, incentive amount, and balance of cost to be paid by customer. The invoice should match the New Construction Design-Based Lighting Worksheet."]
[null,"6.","The Program may require a post-installation inspection to verify compliance with program rules, accuracy of project documentation, and equipment operation."]
[null,"7.","The Program distributes the incentive check to the payee following final approval processing."]
[]
[null,null,"EmPOWER Maryland programs are funded by a charge on your energy bill. EmPOWER programs can help you reduce your energy consumption and save you money. To learn more about EmPOWER and how you can participate, go to pepco.com/business"]

{"sheet":"Instructions","index":1,"n_rows":76,"n_cols":12,"rows_kept":76,"cut":false,"hidden":false,"merged":[[39,11,39,16],[45,11,45,16],[45,3,45,5],[54,11,54,16],[61,11,61,16],[75,2,75,16],[51,2,51,6],[52,2,52,5],[56,3,56,4],[58,2,58,5],[59,2,59,5],[63,11,64,16],[66,11,66,16],[66,8,66,10],[69,2,73,6],[69,11,69,16],[70,11,70,16],[71,11,71,16],[72,11,72,16],[47,2,47,5],[32,3,32,6],[33,3,33,6],[36,3,36,6],[37,3,37,6],[35,3,35,6],[40,3,40,6],[41,3,41,6],[42,3,42,6],[43,3,43,6],[46,2,46,8],[33,8,33,10],[31,3,31,6],[8,2,8,16],[9,2,9,5],[12,3,12,6],[14,3,14,6],[16,3,16,6],[18,3,18,6],[20,3,20,6],[27,3,27,16],[30,2,30,5],[13,3,13,16],[29,2,29,16],[11,3,11,16],[15,3,15,16],[31,11,31,16]]}
[]
[]
[null,null,null,null,"New Construction Design-Based Lighting Worksheet"]
[null,null,null,null,"New Construction Program"]
[null,null,null,null,{"$f":"\"Tool Version # \" &TEXT('Version Tracking'!$B$2,\"00000000\")","v":"Tool Version # 06232026"}]
[]
[]
[]
[null,null,"PLEASE READ THE FOLLOWING INSTRUCTIONS CAREFULLY BEFORE COMPLETING THIS WORKBOOK "]
[null,null,"       General Instructions"]
[]
[null,null,"1.","This workbook is for new construction or major renovation lighting projects only. Retrofit lighting projects must use the retrofit lighting workbook."]
[]
[null,null,"2.","This workbook is interactive and based on your selection on the information tab certain other worksheets , cells and columns will be available. \nPlease complete all the required fields shaded in green."]
[]
[null,null,"3.","General project information at the top of the appropriate worksheet automatically populates based on your \"Information Page\" tab entries."]
[]
[null,null,"4.","This workbook contains separate worksheets for Interior Lighting and Exterior Lighting, use as appropriate."]
[]
[null,null,"5.","The interior lighting inventory worksheet is for use in projects involving interior building or space method entries."]
[]
[null,null,"6.","Please choose either interior building area or space-by-space type entry, both cannot be selected at the same time."]
[]
[null,null,"7.","The exterior lighting inventory worksheet is for use in projects with new exterior lighting."]
[]
[null,null,"8.","Save this Lighting Worksheet with a project name and date using the naming convention: Project Name_YY_MM_DD.xls (or .xlsm)"]
[]
[null,null,"9.","This Lighting Worksheet, lighting floor plans and schedule are required for all New Construction Design-Based Lighting applications and must be included with the electronic application to be considered complete. If submittals are available at time of submission these should also be provided."]
[]
[null,null,"      Building Area Method, Space Method and Exterior Space Common Instructions"]
[null,null,"                 Fields",null,null,null,null,null,"Input Range",null,null,"Description"]
[null,null,"1.","Fixture location",null,null,null,null,"Any",null,null,"Enter descriptive location of the lighting fixtures (floor, room number or room description if no number)"]
[]
[null,null,"2.","Is the space conditioned",null,null,null,null,"Select from dropdown",null,null,"Yes or no"]
[]
[null,null,"3.","Fixture type as listed on lighting plans",null,null,null,null,"Any",null,null,"Enter fixture type as designated in lighting schedule or plans"]
[]
[null,null,"4.","Fixture manufacturer",null,null,null,null,"Any",null,null,"Enter fixture manufacturer"]
[]
[null,null,"5.","Full model number",null,null,null,null,"Any",null,null,"Enter complete model number (if DLC or Energy Star, model as listed on website screenshot)"]
[]
[null,null,"6.","Wattage/Fixture",null,null,null,null,"Numeric (Watts)",null,null,"Enter the fixture system rated watts (eg; lamp plus driver)"]
[]
[null,null,"7.","Fixture Quantity",null,null,null,null,"Numeric",null,null,"Enter the total quantity of fixtures"]
[]
[null,null,"8.","Annual hours of operation",null,null,null,null,"Numeric",null,null,"Enter the average annual operating hours for the building or space (8,760 maximum)"]
[null,null,"      Building Area Method Specific Instructions"]
[null,null,"                 Fields",null,null,null,null,null,"Input Range",null,null,"Description"]
[]
[null,null,"1.","Total building square feet",null,null,null,null,"Numeric",null,null,"Enter the total building area"]
[]
[null,null,"      Space Type Method Specific Instructions"]
[null,null,"                 Fields",null,null,null,null,null,"Input Range",null,null,"Description"]
[]
[null,null,"1.","Space type",null,null,null,null,"Select from dropdown",null,null,"Select the appropriate space type classification from ASHRAE Standard 90.1-2019 descriptions"]
[]
[null,null,"2.","Area of space",null,null,null,null,"Numeric (square feet)",null,null,"Enter the square footage of all lit space in the area defined"]
[]
[null,null,"      Exterior Space Specific Instructions"]
[null,null,"                 Fields",null,null,null,null,null,"Input Range",null,null,"Description"]
[]
[null,null,"1.","Space type",null,null,null,null,"Select from dropdown",null,null,"Select the appropriate space type classification from ASHRAE Standard 90.1-2019 descriptions"]
[]
[null,null,"2.","Space Dimension or quantity",null,null,null,null,"Numeric",null,null,"Enter dimensions or quantity based on measurement indicated in Column H on exterior lighting inventory sheet. Example: Square Feet, Linear Feet, Linear Feet of Door, Number of ATMs, Number of drive-throughs, Number of main entries."]
[]
[]
[null,null,"3.","Zone",null,null,null,null,"Select from dropdown",null,null,"Select the appropriate zone classification from ASHRAE Standard 90.1-2019 descriptions"]
[null,null,"Sports Lighting"]
[null,null,null,null,null,null,null,null,null,"Field Class",null,"Definition"]
[null,null,"Meausres for sports lighting are now available on the Interior and Exterior lighting inventory tabs. Please refer to the class definitions to the right in order to select the correct space type for your project. ",null,null,null,null,null,null,"Class 1",null,"Used for competition play for 5000 or more spectators."]
[null,null,null,null,null,null,null,null,null,"Class 2",null,"Used for competition play for up to 5000 spectators."]
[null,null,null,null,null,null,null,null,null,"Class 3",null,"Used for competition play for up to 2000 spectators."]
[null,null,null,null,null,null,null,null,null,"Class 4",null,"Used for recreational play and there is limited or no provision for spectators."]
[]
[]
[null,null,"Note 1: If there are multiple fixture types within an area or room, divide space area by number of fixture types and enter individual fixture data on separate line (manufacturer, model, \ntype, wattage, quantity)."]

{"sheet":"Information Page","index":2,"n_rows":23,"n_cols":10,"rows_kept":23,"cut":false,"hidden":false,"merged":[[6,8,6,9],[16,2,16,9],[18,2,19,9],[31,7,31,9],[6,2,6,4],[32,7,32,9],[33,7,33,9],[34,7,34,9],[21,7,21,9],[22,7,22,9],[23,7,23,9],[24,7,24,9],[25,7,25,9],[26,7,26,9],[27,7,27,9],[28,7,28,9],[29,7,29,9],[30,7,30,9],[35,7,35,9],[36,7,36,9],[37,7,37,9],[38,7,38,9],[39,7,39,9],[40,7,40,9],[41,7,41,9],[42,7,42,9],[43,7,43,9],[44,7,44,9],[45,7,45,9],[46,7,46,9],[47,7,47,9],[48,7,48,9],[49,7,49,9],[50,7,50,9],[51,7,51,9],[52,7,52,9],[53,7,53,9],[54,7,54,9],[55,7,55,9],[56,7,56,9],[57,7,57,9],[58,7,58,9],[59,7,59,9],[60,7,60,9],[61,7,61,9],[62,7,62,9],[63,7,63,9],[64,7,64,9],[71,7,71,9],[122,7,122,9],[70,7,70,9],[65,7,65,9],[66,7,66,9],[67,7,67,9],[68,7,68,9],[69,7,69,9]]}
[]
[]
[null,null,null,"New Construction Design-Based Lighting Worksheet"]
[null,null,null,"New Construction Measures - Custom Program"]
[null,null,null,{"$f":"\"Tool Version # \" &TEXT('Version Tracking'!$B$2,\"00000000\")","v":"Tool Version # 06232026"}]
[]
[null,null,"Required General Project Information",null,null,"Interior Lighting Inventory","Secondary Lighting Inventory",null,"Project Summary Table"]
[null,null,"Project Name",null,"Building type",null,null,null,"Project ID"]
[null,null,"Project type","Use Drop Down Menu to Select ","Choose entry type","Select Interior Entry Type",{"$f":"F9","v":"Select Interior Entry Type"},null,"Total Incentive",{"$f":"TRUNC('Summary - Building Method'!V9+'Summary - Space Method'!V9+'Exterior Lighting Inventory'!Y10,2)","v":0}]
[null,null,"Project Address",null,"Total building square feet",null,null,null,"Total kWh Saved",{"$f":"'Summary - Building Method'!V10+'Summary - Space Method'!V10+'Exterior Lighting Inventory'!Y11","v":0}]
[null,null,"Project Contact",null,"Annual building operating hours",null,null,null,"Total kW Saved",{"$f":"'Summary - Building Method'!V11+'Summary - Space Method'!V11+'Exterior Lighting Inventory'!Y12","v":0}]
[null,null,"Contact Email",null,"Primary heating type for building","Use Drop Down Menu to Select",null,null,"Total kW (PJM)",{"$f":"'Summary - Building Method'!V12+'Summary - Space Method'!V12+'Exterior Lighting Inventory'!Y13","v":0}]
[null,null,"Contact Phone number",null,"Secondary spaces in project","Use Drop Down Menu to Select",{"$f":"F13","v":"Use Drop Down Menu to Select"}]
[]
[]
[]
[null,null,"GENERAL FIXTURE INVENTORY"]
[]
[null,null,"Please enter the information below for all the fixtures that will be used in your project. You will then be able to select the fixture type on the Interior Lighting Inventory and Exterior Lighting Inventory, and the other fixture information will auto populate. This will prevent you from having to retype all the fixture information in each space that you use it. "]
[]
[]
[null,null,"Fixture Type as shown on lighting plan","Fixture Manufacturer","Full Fixture Model Number ","Wattage / Fixture",null,"Fixture Description (ex. \"2x4 troffer\" or \"High Bay\")"]
[null,null,"Type A","ABC Manufacturer","Model ABC-123",43,null,"2x4 troffer"]

{"sheet":"Interior Lighting Inventory","index":3,"n_rows":521,"n_cols":252,"rows_kept":521,"cut":false,"hidden":false,"merged":[[17,2,17,14],[6,13,6,14],[6,2,6,11]]}
[]
[]
[null,null,null,"New Construction Design-Based Lighting Worksheet"]
[null,null,null,"New Construction Measures - Custom Program"]
[null,null,null,{"$f":"\"Tool Version # \" &TEXT('Version Tracking'!$B$2,\"00000000\")","v":"Tool Version # 06232026"}]
[]
[null,null,"Required General Project Information"]
[null,null,"Project Name",{"$f":"'Information Page'!D8","v":0},null,null,null,null,null,"Project ID",{"$f":"'Information Page'!J8","v":0}]
[null,null,"Building Type",{"$f":"'Information Page'!$F$8","v":0},null,null,null,null,null,"Entry type for interior space",{"$f":"'Information Page'!F9","v":"Select Interior Entry Type"}]
[null,null,"Project address",{"$f":"'Information Page'!D10","v":0},null,null,null,null,null,"Total Building Square Feet ",{"$f":"IF('Information Page'!F9=\"Building Area Method\",'Information Page'!F10,'Interior Lighting Inventory'!H521)","v":0}]
[null,null,"Project contact",{"$f":"'Information Page'!D11","v":0},null,null,null,null,null,"Annual Hours of Operations ",{"$f":"IF('Information Page'!F9=\"Building Area Method\",'Information Page'!F11,\"Hours vary by space\")","v":"Hours vary by space"}]
[null,null,"Email",{"$f":"'Information Page'!D12","v":0},null,null,null,null,null,"Primary Heating Type For Building",{"$f":"'Information Page'!F12","v":"Use Drop Down Menu to Select"}]
[null,null,"Phone number",{"$f":"'Information Page'!D13","v":0},null,null,null,null,null,"Project type",{"$f":"'Information Page'!$D$9","v":"Use Drop Down Menu to Select "}]
[]
[]
[null,null,"Input Cells","Data input allowed in shaded cells only."]
[]
[null,null,{"$f":"'Information Page'!F9","v":"Select Interior Entry Type"}]
[null,null,"Line item","Fixture location ","Is the space conditioned?","Interior/Exterior","Space type","Area of space / sqft.","Annual hours of operation","Fixture Type as shown on lighting plan","Fixture Manufacturer","Full Fixture Model Number","Wattage / Fixture","Fixture Quantity","Total Wattage",null,null,null,null,null,null,null,null,null,null,null,null,null,null,null,null,null,null,null,null,null,null,null,null,null,null,null,null,null,null,null,null,null,null,null,null,null,null,null,null,null,null,null,null,null,null,null,null,null,null,null,null,null,null,null,null,null,null,null,null,null,null,null,null,null,null,null,null,null,null,null,null,null,null,null,null,null,null,null,null,null,null,null,null,null,null,null,null,null,null,null,null,null,null,null,null,null,null,null,null,null,null,null,null,null,null,null,null,null,null,null,null,null,null,null,null,null,null,null,null,null,null,null,null,null,null,null,null,null,null,null,null,null,null,null,null,null,null,null,null,null,null,null,null,null,null,null,null,null,null,null,null,null,null,null,null,null,null,null,null,null,null,null,null,null,null,null,null,null,null,null,null,null,null,null,null,null,null,null,null,null,null,null,null,null,null,null,null,null,null,null,null,null,null,null,null,null,null,null,null,null,null,null,null,null,null,null,null,null,null,null,null,null,null,null,null,null,null,null,null,null,null,null,null,null,null,null,null,null,null,null,null,null,null,null,null,"Minimum Efficiency"]
[null,null,"EX","First Floor Room 012","Yes","Interior","Conference / Meeting Room / Multipurpose",43600,3465,"Type A","ABC Manufacturer"," IG-NM-5S-J-30K-xx-xx-xxx",45,12,{"$f":"M20*N20","v":540},null,null,null,null,null,null,null,null,null,null,null,null,null,null,null,null,null,null,null,null,null,null,null,null,null,null,null,null,null,null,null,null,null,null,null,null,null,null,null,null,null,null,null,null,null,null,null,null,null,null,null,null,null,null,null,null,null,null,null,null,null,null,null,null,null,null,null,null,null,null,null,null,null,null,null,null,null,null,null,null,null,null,null,null,null,null,null,null,null,null,null,null,null,null,null,null,null,null,null,null,null,null,null,null,null,null,null,null,null,null,null,null,null,null,null,null,null,null,null,null,null,null,null,null,null,null,null,null,null,null,null,null,null,null,null,null,null,null,null,null,null,null,null,null,null,null,null,null,null,null,null,null,null,null,null,null,null,null,null,null,null,null,null,null,null,null,null,null,null,null,null,null,null,null,null,null,null,null,null,null,null,null,null,null,null,null,null,null,null,null,null,null,null,null,null,null,null,null,null,null,null,null,null,null,null,null,null,null,null,null,null,null,null,null,null,null,null,null,null,null,null,null,null,null,null,null,null,null,null,null,null,null,null,null,null,null,{"$f":"#REF!","v":{"$error":"#REF!"}}]
[null,null,1,null,null,null,null,null,null,null,{"$f":"IF(ISERROR(VLOOKUP(J21,'Information Page'!$C$24:$F$123,2,FALSE)),\"-\",VLOOKUP(J21,'Information Page'!$C$24:$F$123,2,FALSE))","v":"-"},{"$f":"IF(ISERROR(VLOOKUP(J21,'Information Page'!$C$24:$F$123,3,FALSE)),\"-\",VLOOKUP(J21,'Information Page'!$C$24:$F$123,3,FALSE))","v":"-"},{"$f":"IF(ISERROR(VLOOKUP(J21,'Information Page'!$C$24:$F$123,4,FALSE)),\"-\",VLOOKUP(J21,'Information Page'!$C$24:$F$123,4,FALSE))","v":"-"},null,{"$f":"IF(M21=\"-\",\"0\",M21*N21)","v":"0"}]
[null,null,2,null,null,null,null,null,null,null,{"$f":"IF(ISERROR(VLOOKUP(J22,'Information Page'!$C$24:$F$123,2,FALSE)),\"-\",VLOOKUP(J22,'Information Page'!$C$24:$F$123,2,FALSE))","v":"-"},{"$f":"IF(ISERROR(VLOOKUP(J22,'Information Page'!$C$24:$F$123,3,FALSE)),\"-\",VLOOKUP(J22,'Information Page'!$C$24:$F$123,3,FALSE))","v":"-"},{"$f":"IF(ISERROR(VLOOKUP(J22,'Information Page'!$C$24:$F$123,4,FALSE)),\"-\",VLOOKUP(J22,'Information Page'!$C$24:$F$123,4,FALSE))","v":"-"},null,{"$f":"IF(M22=\"-\",\"0\",M22*N22)","v":"0"}]
[null,null,3,null,null,null,null,null,null,null,{"$f":"IF(ISERROR(VLOOKUP(J23,'Information Page'!$C$24:$F$123,2,FALSE)),\"-\",VLOOKUP(J23,'Information Page'!$C$24:$F$123,2,FALSE))","v":"-"},{"$f":"IF(ISERROR(VLOOKUP(J23,'Information Page'!$C$24:$F$123,3,FALSE)),\"-\",VLOOKUP(J23,'Information Page'!$C$24:$F$123,3,FALSE))","v":"-"},{"$f":"IF(ISERROR(VLOOKUP(J23,'Information Page'!$C$24:$F$123,4,FALSE)),\"-\",VLOOKUP(J23,'Information Page'!$C$24:$F$123,4,FALSE))","v":"-"},null,"0"]
[null,null,4,null,null,null,null,null,null,null,{"$f":"IF(ISERROR(VLOOKUP(J24,'Information Page'!$C$24:$F$123,2,FALSE)),\"-\",VLOOKUP(J24,'Information Page'!$C$24:$F$123,2,FALSE))","v":"-"},{"$f":"IF(ISERROR(VLOOKUP(J24,'Information Page'!$C$24:$F$123,3,FALSE)),\"-\",VLOOKUP(J24,'Information Page'!$C$24:$F$123,3,FALSE))","v":"-"},{"$f":"IF(ISERROR(VLOOKUP(J24,'Information Page'!$C$24:$F$123,4,FALSE)),\"-\",VLOOKUP(J24,'Information Page'!$C$24:$F$123,4,FALSE))","v":"-"},null,"0"]
[null,null,5,null,null,null,null,null,null,null,{"$f":"IF(ISERROR(VLOOKUP(J25,'Information Page'!$C$24:$F$123,2,FALSE)),\"-\",VLOOKUP(J25,'Information Page'!$C$24:$F$123,2,FALSE))","v":"-"},{"$f":"IF(ISERROR(VLOOKUP(J25,'Information Page'!$C$24:$F$123,3,FALSE)),\"-\",VLOOKUP(J25,'Information Page'!$C$24:$F$123,3,FALSE))","v":"-"},{"$f":"IF(ISERROR(VLOOKUP(J25,'Information Page'!$C$24:$F$123,4,FALSE)),\"-\",VLOOKUP(J25,'Information Page'!$C$24:$F$123,4,FALSE))","v":"-"},null,"0"]
[null,null,6,null,null,null,null,null,null,null,{"$f":"IF(ISERROR(VLOOKUP(J26,'Information Page'!$C$24:$F$123,2,FALSE)),\"-\",VLOOKUP(J26,'Information Page'!$C$24:$F$123,2,FALSE))","v":"-"},{"$f":"IF(ISERROR(VLOOKUP(J26,'Information Page'!$C$24:$F$123,3,FALSE)),\"-\",VLOOKUP(J26,'Information Page'!$C$24:$F$123,3,FALSE))","v":"-"},{"$f":"IF(ISERROR(VLOOKUP(J26,'Information Page'!$C$24:$F$123,4,FALSE)),\"-\",VLOOKUP(J26,'Information Page'!$C$24:$F$123,4,FALSE))","v":"-"},null,"0"]
[null,null,7,null,null,null,null,null,null,null,{"$f":"IF(ISERROR(VLOOKUP(J27,'Information Page'!$C$24:$F$123,2,FALSE)),\"-\",VLOOKUP(J27,'Information Page'!$C$24:$F$123,2,FALSE))","v":"-"},{"$f":"IF(ISERROR(VLOOKUP(J27,'Information Page'!$C$24:$F$123,3,FALSE)),\"-\",VLOOKUP(J27,'Information Page'!$C$24:$F$123,3,FALSE))","v":"-"},{"$f":"IF(ISERROR(VLOOKUP(J27,'Information Page'!$C$24:$F$123,4,FALSE)),\"-\",VLOOKUP(J27,'Information Page'!$C$24:$F$123,4,FALSE))","v":"-"},null,"0"]
[null,null,8,null,null,null,null,null,null,null,{"$f":"IF(ISERROR(VLOOKUP(J28,'Information Page'!$C$24:$F$123,2,FALSE)),\"-\",VLOOKUP(J28,'Information Page'!$C$24:$F$123,2,FALSE))","v":"-"},{"$f":"IF(ISERROR(VLOOKUP(J28,'Information Page'!$C$24:$F$123,3,FALSE)),\"-\",VLOOKUP(J28,'Information Page'!$C$24:$F$123,3,FALSE))","v":"-"},{"$f":"IF(ISERROR(VLOOKUP(J28,'Information Page'!$C$24:$F$123,4,FALSE)),\"-\",VLOOKUP(J28,'Information Page'!$C$24:$F$123,4,FALSE))","v":"-"},null,"0"]
[null,null,9,null,null,null,null,null,null,null,{"$f":"IF(ISERROR(VLOOKUP(J29,'Information Page'!$C$24:$F$123,2,FALSE)),\"-\",VLOOKUP(J29,'Information Page'!$C$24:$F$123,2,FALSE))","v":"-"},{"$f":"IF(ISERROR(VLOOKUP(J29,'Information Page'!$C$24:$F$123,3,FALSE)),\"-\",VLOOKUP(J29,'Information Page'!$C$24:$F$123,3,FALSE))","v":"-"},{"$f":"IF(ISERROR(VLOOKUP(J29,'Information Page'!$C$24:$F$123,4,FALSE)),\"-\",VLOOKUP(J29,'Information Page'!$C$24:$F$123,4,FALSE))","v":"-"},null,"0"]
[null,null,10,null,null,null,null,null,null,null,{"$f":"IF(ISERROR(VLOOKUP(J30,'Information Page'!$C$24:$F$123,2,FALSE)),\"-\",VLOOKUP(J30,'Information Page'!$C$24:$F$123,2,FALSE))","v":"-"},{"$f":"IF(ISERROR(VLOOKUP(J30,'Information Page'!$C$24:$F$123,3,FALSE)),\"-\",VLOOKUP(J30,'Information Page'!$C$24:$F$123,3,FALSE))","v":"-"},{"$f":"IF(ISERROR(VLOOKUP(J30,'Information Page'!$C$24:$F$123,4,FALSE)),\"-\",VLOOKUP(J30,'Information Page'!$C$24:$F$123,4,FALSE))","v":"-"},null,"0"]
[null,null,11,null,null,null,null,null,null,null,{"$f":"IF(ISERROR(VLOOKUP(J31,'Information Page'!$C$24:$F$123,2,FALSE)),\"-\",VLOOKUP(J31,'Information Page'!$C$24:$F$123,2,FALSE))","v":"-"},{"$f":"IF(ISERROR(VLOOKUP(J31,'Information Page'!$C$24:$F$123,3,FALSE)),\"-\",VLOOKUP(J31,'Information Page'!$C$24:$F$123,3,FALSE))","v":"-"},{"$f":"IF(ISERROR(VLOOKUP(J31,'Information Page'!$C$24:$F$123,4,FALSE)),\"-\",VLOOKUP(J31,'Information Page'!$C$24:$F$123,4,FALSE))","v":"-"},null,"0"]
[null,null,12,null,null,null,null,null,null,null,{"$f":"IF(ISERROR(VLOOKUP(J32,'Information Page'!$C$24:$F$123,2,FALSE)),\"-\",VLOOKUP(J32,'Information Page'!$C$24:$F$123,2,FALSE))","v":"-"},{"$f":"IF(ISERROR(VLOOKUP(J32,'Information Page'!$C$24:$F$123,3,FALSE)),\"-\",VLOOKUP(J32,'Information Page'!$C$24:$F$123,3,FALSE))","v":"-"},{"$f":"IF(ISERROR(VLOOKUP(J32,'Information Page'!$C$24:$F$123,4,FALSE)),\"-\",VLOOKUP(J32,'Information Page'!$C$24:$F$123,4,FALSE))","v":"-"},null,"0"]
[null,null,13,null,null,null,null,null,null,null,{"$f":"IF(ISERROR(VLOOKUP(J33,'Information Page'!$C$24:$F$123,2,FALSE)),\"-\",VLOOKUP(J33,'Information Page'!$C$24:$F$123,2,FALSE))","v":"-"},{"$f":"IF(ISERROR(VLOOKUP(J33,'Information Page'!$C$24:$F$123,3,FALSE)),\"-\",VLOOKUP(J33,'Information Page'!$C$24:$F$123,3,FALSE))","v":"-"},{"$f":"IF(ISERROR(VLOOKUP(J33,'Information Page'!$C$24:$F$123,4,FALSE)),\"-\",VLOOKUP(J33,'Information Page'!$C$24:$F$123,4,FALSE))","v":"-"},null,"0"]
[null,null,14,null,null,null,null,null,null,null,{"$f":"IF(ISERROR(VLOOKUP(J34,'Information Page'!$C$24:$F$123,2,FALSE)),\"-\",VLOOKUP(J34,'Information Page'!$C$24:$F$123,2,FALSE))","v":"-"},{"$f":"IF(ISERROR(VLOOKUP(J34,'Information Page'!$C$24:$F$123,3,FALSE)),\"-\",VLOOKUP(J34,'Information Page'!$C$24:$F$123,3,FALSE))","v":"-"},{"$f":"IF(ISERROR(VLOOKUP(J34,'Information Page'!$C$24:$F$123,4,FALSE)),\"-\",VLOOKUP(J34,'Information Page'!$C$24:$F$123,4,FALSE))","v":"-"},null,"0"]
[null,null,15,null,null,null,null,null,null,null,{"$f":"IF(ISERROR(VLOOKUP(J35,'Information Page'!$C$24:$F$123,2,FALSE)),\"-\",VLOOKUP(J35,'Information Page'!$C$24:$F$123,2,FALSE))","v":"-"},{"$f":"IF(ISERROR(VLOOKUP(J35,'Information Page'!$C$24:$F$123,3,FALSE)),\"-\",VLOOKUP(J35,'Information Page'!$C$24:$F$123,3,FALSE))","v":"-"},{"$f":"IF(ISERROR(VLOOKUP(J35,'Information Page'!$C$24:$F$123,4,FALSE)),\"-\",VLOOKUP(J35,'Information Page'!$C$24:$F$123,4,FALSE))","v":"-"},null,"0"]
[null,null,16,null,null,null,null,null,null,null,{"$f":"IF(ISERROR(VLOOKUP(J36,'Information Page'!$C$24:$F$123,2,FALSE)),\"-\",VLOOKUP(J36,'Information Page'!$C$24:$F$123,2,FALSE))","v":"-"},{"$f":"IF(ISERROR(VLOOKUP(J36,'Information Page'!$C$24:$F$123,3,FALSE)),\"-\",VLOOKUP(J36,'Information Page'!$C$24:$F$123,3,FALSE))","v":"-"},{"$f":"IF(ISERROR(VLOOKUP(J36,'Information Page'!$C$24:$F$123,4,FALSE)),\"-\",VLOOKUP(J36,'Information Page'!$C$24:$F$123,4,FALSE))","v":"-"},null,"0"]
[null,null,17,null,null,null,null,null,null,null,{"$f":"IF(ISERROR(VLOOKUP(J37,'Information Page'!$C$24:$F$123,2,FALSE)),\"-\",VLOOKUP(J37,'Information Page'!$C$24:$F$123,2,FALSE))","v":"-"},{"$f":"IF(ISERROR(VLOOKUP(J37,'Information Page'!$C$24:$F$123,3,FALSE)),\"-\",VLOOKUP(J37,'Information Page'!$C$24:$F$123,3,FALSE))","v":"-"},{"$f":"IF(ISERROR(VLOOKUP(J37,'Information Page'!$C$24:$F$123,4,FALSE)),\"-\",VLOOKUP(J37,'Information Page'!$C$24:$F$123,4,FALSE))","v":"-"},null,"0"]
[null,null,18,null,null,null,null,null,null,null,{"$f":"IF(ISERROR(VLOOKUP(J38,'Information Page'!$C$24:$F$123,2,FALSE)),\"-\",VLOOKUP(J38,'Information Page'!$C$24:$F$123,2,FALSE))","v":"-"},{"$f":"IF(ISERROR(VLOOKUP(J38,'Information Page'!$C$24:$F$123,3,FALSE)),\"-\",VLOOKUP(J38,'Information Page'!$C$24:$F$123,3,FALSE))","v":"-"},{"$f":"IF(ISERROR(VLOOKUP(J38,'Information Page'!$C$24:$F$123,4,FALSE)),\"-\",VLOOKUP(J38,'Information Page'!$C$24:$F$123,4,FALSE))","v":"-"},null,"0"]
[null,null,19,null,null,null,null,null,null,null,{"$f":"IF(ISERROR(VLOOKUP(J39,'Information Page'!$C$24:$F$123,2,FALSE)),\"-\",VLOOKUP(J39,'Information Page'!$C$24:$F$123,2,FALSE))","v":"-"},{"$f":"IF(ISERROR(VLOOKUP(J39,'Information Page'!$C$24:$F$123,3,FALSE)),\"-\",VLOOKUP(J39,'Information Page'!$C$24:$F$123,3,FALSE))","v":"-"},{"$f":"IF(ISERROR(VLOOKUP(J39,'Information Page'!$C$24:$F$123,4,FALSE)),\"-\",VLOOKUP(J39,'Information Page'!$C$24:$F$123,4,FALSE))","v":"-"},null,"0"]
[null,null,20,null,null,null,null,null,null,null,{"$f":"IF(ISERROR(VLOOKUP(J40,'Information Page'!$C$24:$F$123,2,FALSE)),\"-\",VLOOKUP(J40,'Information Page'!$C$24:$F$123,2,FALSE))","v":"-"},{"$f":"IF(ISERROR(VLOOKUP(J40,'Information Page'!$C$24:$F$123,3,FALSE)),\"-\",VLOOKUP(J40,'Information Page'!$C$24:$F$123,3,FALSE))","v":"-"},{"$f":"IF(ISERROR(VLOOKUP(J40,'Information Page'!$C$24:$F$123,4,FALSE)),\"-\",VLOOKUP(J40,'Information Page'!$C$24:$F$123,4,FALSE))","v":"-"},null,"0"]
[null,null,21,null,null,null,null,null,null,null,{"$f":"IF(ISERROR(VLOOKUP(J41,'Information Page'!$C$24:$F$123,2,FALSE)),\"-\",VLOOKUP(J41,'Information Page'!$C$24:$F$123,2,FALSE))","v":"-"},{"$f":"IF(ISERROR(VLOOKUP(J41,'Information Page'!$C$24:$F$123,3,FALSE)),\"-\",VLOOKUP(J41,'Information Page'!$C$24:$F$123,3,FALSE))","v":"-"},{"$f":"IF(ISERROR(VLOOKUP(J41,'Information Page'!$C$24:$F$123,4,FALSE)),\"-\",VLOOKUP(J41,'Information Page'!$C$24:$F$123,4,FALSE))","v":"-"},null,"0"]
[null,null,22,null,null,null,null,null,null,null,{"$f":"IF(ISERROR(VLOOKUP(J42,'Information Page'!$C$24:$F$123,2,FALSE)),\"-\",VLOOKUP(J42,'Information Page'!$C$24:$F$123,2,FALSE))","v":"-"},{"$f":"IF(ISERROR(VLOOKUP(J42,'Information Page'!$C$24:$F$123,3,FALSE)),\"-\",VLOOKUP(J42,'Information Page'!$C$24:$F$123,3,FALSE))","v":"-"},{"$f":"IF(ISERROR(VLOOKUP(J42,'Information Page'!$C$24:$F$123,4,FALSE)),\"-\",VLOOKUP(J42,'Information Page'!$C$24:$F$123,4,FALSE))","v":"-"},null,"0"]
[null,null,23,null,null,null,null,null,null,null,{"$f":"IF(ISERROR(VLOOKUP(J43,'Information Page'!$C$24:$F$123,2,FALSE)),\"-\",VLOOKUP(J43,'Information Page'!$C$24:$F$123,2,FALSE))","v":"-"},{"$f":"IF(ISERROR(VLOOKUP(J43,'Information Page'!$C$24:$F$123,3,FALSE)),\"-\",VLOOKUP(J43,'Information Page'!$C$24:$F$123,3,FALSE))","v":"-"},{"$f":"IF(ISERROR(VLOOKUP(J43,'Information Page'!$C$24:$F$123,4,FALSE)),\"-\",VLOOKUP(J43,'Information Page'!$C$24:$F$123,4,FALSE))","v":"-"},null,"0"]
[null,null,24,null,null,null,null,null,null,null,{"$f":"IF(ISERROR(VLOOKUP(J44,'Information Page'!$C$24:$F$123,2,FALSE)),\"-\",VLOOKUP(J44,'Information Page'!$C$24:$F$123,2,FALSE))","v":"-"},{"$f":"IF(ISERROR(VLOOKUP(J44,'Information Page'!$C$24:$F$123,3,FALSE)),\"-\",VLOOKUP(J44,'Information Page'!$C$24:$F$123,3,FALSE))","v":"-"},{"$f":"IF(ISERROR(VLOOKUP(J44,'Information Page'!$C$24:$F$123,4,FALSE)),\"-\",VLOOKUP(J44,'Information Page'!$C$24:$F$123,4,FALSE))","v":"-"},null,"0"]
[null,null,25,null,null,null,null,null,null,null,{"$f":"IF(ISERROR(VLOOKUP(J45,'Information Page'!$C$24:$F$123,2,FALSE)),\"-\",VLOOKUP(J45,'Information Page'!$C$24:$F$123,2,FALSE))","v":"-"},{"$f":"IF(ISERROR(VLOOKUP(J45,'Information Page'!$C$24:$F$123,3,FALSE)),\"-\",VLOOKUP(J45,'Information Page'!$C$24:$F$123,3,FALSE))","v":"-"},{"$f":"IF(ISERROR(VLOOKUP(J45,'Information Page'!$C$24:$F$123,4,FALSE)),\"-\",VLOOKUP(J45,'Information Page'!$C$24:$F$123,4,FALSE))","v":"-"},null,"0"]
[null,null,26,null,null,null,null,null,null,null,{"$f":"IF(ISERROR(VLOOKUP(J46,'Information Page'!$C$24:$F$123,2,FALSE)),\"-\",VLOOKUP(J46,'Information Page'!$C$24:$F$123,2,FALSE))","v":"-"},{"$f":"IF(ISERROR(VLOOKUP(J46,'Information Page'!$C$24:$F$123,3,FALSE)),\"-\",VLOOKUP(J46,'Information Page'!$C$24:$F$123,3,FALSE))","v":"-"},{"$f":"IF(ISERROR(VLOOKUP(J46,'Information Page'!$C$24:$F$123,4,FALSE)),\"-\",VLOOKUP(J46,'Information Page'!$C$24:$F$123,4,FALSE))","v":"-"},null,"0"]
[null,null,27,null,null,null,null,null,null,null,{"$f":"IF(ISERROR(VLOOKUP(J47,'Information Page'!$C$24:$F$123,2,FALSE)),\"-\",VLOOKUP(J47,'Information Page'!$C$24:$F$123,2,FALSE))","v":"-"},{"$f":"IF(ISERROR(VLOOKUP(J47,'Information Page'!$C$24:$F$123,3,FALSE)),\"-\",VLOOKUP(J47,'Information Page'!$C$24:$F$123,3,FALSE))","v":"-"},{"$f":"IF(ISERROR(VLOOKUP(J47,'Information Page'!$C$24:$F$123,4,FALSE)),\"-\",VLOOKUP(J47,'Information Page'!$C$24:$F$123,4,FALSE))","v":"-"},null,"0"]
[null,null,28,null,null,null,null,null,null,null,{"$f":"IF(ISERROR(VLOOKUP(J48,'Information Page'!$C$24:$F$123,2,FALSE)),\"-\",VLOOKUP(J48,'Information Page'!$C$24:$F$123,2,FALSE))","v":"-"},{"$f":"IF(ISERROR(VLOOKUP(J48,'Information Page'!$C$24:$F$123,3,FALSE)),\"-\",VLOOKUP(J48,'Information Page'!$C$24:$F$123,3,FALSE))","v":"-"},{"$f":"IF(ISERROR(VLOOKUP(J48,'Information Page'!$C$24:$F$123,4,FALSE)),\"-\",VLOOKUP(J48,'Information Page'!$C$24:$F$123,4,FALSE))","v":"-"},null,"0"]
[null,null,29,null,null,null,null,null,null,null,{"$f":"IF(ISERROR(VLOOKUP(J49,'Information Page'!$C$24:$F$123,2,FALSE)),\"-\",VLOOKUP(J49,'Information Page'!$C$24:$F$123,2,FALSE))","v":"-"},{"$f":"IF(ISERROR(VLOOKUP(J49,'Information Page'!$C$24:$F$123,3,FALSE)),\"-\",VLOOKUP(J49,'Information Page'!$C$24:$F$123,3,FALSE))","v":"-"},{"$f":"IF(ISERROR(VLOOKUP(J49,'Information Page'!$C$24:$F$123,4,FALSE)),\"-\",VLOOKUP(J49,'Information Page'!$C$24:$F$123,4,FALSE))","v":"-"},null,"0"]
[null,null,30,null,null,null,null,null,null,null,{"$f":"IF(ISERROR(VLOOKUP(J50,'Information Page'!$C$24:$F$123,2,FALSE)),\"-\",VLOOKUP(J50,'Information Page'!$C$24:$F$123,2,FALSE))","v":"-"},{"$f":"IF(ISERROR(VLOOKUP(J50,'Information Page'!$C$24:$F$123,3,FALSE)),\"-\",VLOOKUP(J50,'Information Page'!$C$24:$F$123,3,FALSE))","v":"-"},{"$f":"IF(ISERROR(VLOOKUP(J50,'Information Page'!$C$24:$F$123,4,FALSE)),\"-\",VLOOKUP(J50,'Information Page'!$C$24:$F$123,4,FALSE))","v":"-"},null,"0"]
[null,null,31,null,null,null,null,null,null,null,{"$f":"IF(ISERROR(VLOOKUP(J51,'Information Page'!$C$24:$F$123,2,FALSE)),\"-\",VLOOKUP(J51,'Information Page'!$C$24:$F$123,2,FALSE))","v":"-"},{"$f":"IF(ISERROR(VLOOKUP(J51,'Information Page'!$C$24:$F$123,3,FALSE)),\"-\",VLOOKUP(J51,'Information Page'!$C$24:$F$123,3,FALSE))","v":"-"},{"$f":"IF(ISERROR(VLOOKUP(J51,'Information Page'!$C$24:$F$123,4,FALSE)),\"-\",VLOOKUP(J51,'Information Page'!$C$24:$F$123,4,FALSE))","v":"-"},null,"0"]
[null,null,32,null,null,null,null,null,null,null,{"$f":"IF(ISERROR(VLOOKUP(J52,'Information Page'!$C$24:$F$123,2,FALSE)),\"-\",VLOOKUP(J52,'Information Page'!$C$24:$F$123,2,FALSE))","v":"-"},{"$f":"IF(ISERROR(VLOOKUP(J52,'Information Page'!$C$24:$F$123,3,FALSE)),\"-\",VLOOKUP(J52,'Information Page'!$C$24:$F$123,3,FALSE))","v":"-"},{"$f":"IF(ISERROR(VLOOKUP(J52,'Information Page'!$C$24:$F$123,4,FALSE)),\"-\",VLOOKUP(J52,'Information Page'!$C$24:$F$123,4,FALSE))","v":"-"},null,"0"]
[null,null,33,null,null,null,null,null,null,null,{"$f":"IF(ISERROR(VLOOKUP(J53,'Information Page'!$C$24:$F$123,2,FALSE)),\"-\",VLOOKUP(J53,'Information Page'!$C$24:$F$123,2,FALSE))","v":"-"},{"$f":"IF(ISERROR(VLOOKUP(J53,'Information Page'!$C$24:$F$123,3,FALSE)),\"-\",VLOOKUP(J53,'Information Page'!$C$24:$F$123,3,FALSE))","v":"-"},{"$f":"IF(ISERROR(VLOOKUP(J53,'Information Page'!$C$24:$F$123,4,FALSE)),\"-\",VLOOKUP(J53,'Information Page'!$C$24:$F$123,4,FALSE))","v":"-"},null,"0"]
[null,null,34,null,null,null,null,null,null,null,{"$f":"IF(ISERROR(VLOOKUP(J54,'Information Page'!$C$24:$F$123,2,FALSE)),\"-\",VLOOKUP(J54,'Information Page'!$C$24:$F$123,2,FALSE))","v":"-"},{"$f":"IF(ISERROR(VLOOKUP(J54,'Information Page'!$C$24:$F$123,3,FALSE)),\"-\",VLOOKUP(J54,'Information Page'!$C$24:$F$123,3,FALSE))","v":"-"},{"$f":"IF(ISERROR(VLOOKUP(J54,'Information Page'!$C$24:$F$123,4,FALSE)),\"-\",VLOOKUP(J54,'Information Page'!$C$24:$F$123,4,FALSE))","v":"-"},null,"0"]
[null,null,35,null,null,null,null,null,null,null,{"$f":"IF(ISERROR(VLOOKUP(J55,'Information Page'!$C$24:$F$123,2,FALSE)),\"-\",VLOOKUP(J55,'Information Page'!$C$24:$F$123,2,FALSE))","v":"-"},{"$f":"IF(ISERROR(VLOOKUP(J55,'Information Page'!$C$24:$F$123,3,FALSE)),\"-\",VLOOKUP(J55,'Information Page'!$C$24:$F$123,3,FALSE))","v":"-"},{"$f":"IF(ISERROR(VLOOKUP(J55,'Information Page'!$C$24:$F$123,4,FALSE)),\"-\",VLOOKUP(J55,'Information Page'!$C$24:$F$123,4,FALSE))","v":"-"},null,"0"]
[null,null,36,null,null,null,null,null,null,null,{"$f":"IF(ISERROR(VLOOKUP(J56,'Information Page'!$C$24:$F$123,2,FALSE)),\"-\",VLOOKUP(J56,'Information Page'!$C$24:$F$123,2,FALSE))","v":"-"},{"$f":"IF(ISERROR(VLOOKUP(J56,'Information Page'!$C$24:$F$123,3,FALSE)),\"-\",VLOOKUP(J56,'Information Page'!$C$24:$F$123,3,FALSE))","v":"-"},{"$f":"IF(ISERROR(VLOOKUP(J56,'Information Page'!$C$24:$F$123,4,FALSE)),\"-\",VLOOKUP(J56,'Information Page'!$C$24:$F$123,4,FALSE))","v":"-"},null,"0"]
[null,null,37,null,null,null,null,null,null,null,{"$f":"IF(ISERROR(VLOOKUP(J57,'Information Page'!$C$24:$F$123,2,FALSE)),\"-\",VLOOKUP(J57,'Information Page'!$C$24:$F$123,2,FALSE))","v":"-"},{"$f":"IF(ISERROR(VLOOKUP(J57,'Information Page'!$C$24:$F$123,3,FALSE)),\"-\",VLOOKUP(J57,'Information Page'!$C$24:$F$123,3,FALSE))","v":"-"},{"$f":"IF(ISERROR(VLOOKUP(J57,'Information Page'!$C$24:$F$123,4,FALSE)),\"-\",VLOOKUP(J57,'Information Page'!$C$24:$F$123,4,FALSE))","v":"-"},null,"0"]
[null,null,38,null,null,null,null,null,null,null,{"$f":"IF(ISERROR(VLOOKUP(J58,'Information Page'!$C$24:$F$123,2,FALSE)),\"-\",VLOOKUP(J58,'Information Page'!$C$24:$F$123,2,FALSE))","v":"-"},{"$f":"IF(ISERROR(VLOOKUP(J58,'Information Page'!$C$24:$F$123,3,FALSE)),\"-\",VLOOKUP(J58,'Information Page'!$C$24:$F$123,3,FALSE))","v":"-"},{"$f":"IF(ISERROR(VLOOKUP(J58,'Information Page'!$C$24:$F$123,4,FALSE)),\"-\",VLOOKUP(J58,'Information Page'!$C$24:$F$123,4,FALSE))","v":"-"},null,"0"]
[null,null,39,null,null,null,null,null,null,null,{"$f":"IF(ISERROR(VLOOKUP(J59,'Information Page'!$C$24:$F$123,2,FALSE)),\"-\",VLOOKUP(J59,'Information Page'!$C$24:$F$123,2,FALSE))","v":"-"},{"$f":"IF(ISERROR(VLOOKUP(J59,'Information Page'!$C$24:$F$123,3,FALSE)),\"-\",VLOOKUP(J59,'Information Page'!$C$24:$F$123,3,FALSE))","v":"-"},{"$f":"IF(ISERROR(VLOOKUP(J59,'Information Page'!$C$24:$F$123,4,FALSE)),\"-\",VLOOKUP(J59,'Information Page'!$C$24:$F$123,4,FALSE))","v":"-"},null,"0"]
[null,null,40,null,null,null,null,null,null,null,{"$f":"IF(ISERROR(VLOOKUP(J60,'Information Page'!$C$24:$F$123,2,FALSE)),\"-\",VLOOKUP(J60,'Information Page'!$C$24:$F$123,2,FALSE))","v":"-"},{"$f":"IF(ISERROR(VLOOKUP(J60,'Information Page'!$C$24:$F$123,3,FALSE)),\"-\",VLOOKUP(J60,'Information Page'!$C$24:$F$123,3,FALSE))","v":"-"},{"$f":"IF(ISERROR(VLOOKUP(J60,'Information Page'!$C$24:$F$123,4,FALSE)),\"-\",VLOOKUP(J60,'Information Page'!$C$24:$F$123,4,FALSE))","v":"-"},null,"0"]
[null,null,41,null,null,null,null,null,null,null,{"$f":"IF(ISERROR(VLOOKUP(J61,'Information Page'!$C$24:$F$123,2,FALSE)),\"-\",VLOOKUP(J61,'Information Page'!$C$24:$F$123,2,FALSE))","v":"-"},{"$f":"IF(ISERROR(VLOOKUP(J61,'Information Page'!$C$24:$F$123,3,FALSE)),\"-\",VLOOKUP(J61,'Information Page'!$C$24:$F$123,3,FALSE))","v":"-"},{"$f":"IF(ISERROR(VLOOKUP(J61,'Information Page'!$C$24:$F$123,4,FALSE)),\"-\",VLOOKUP(J61,'Information Page'!$C$24:$F$123,4,FALSE))","v":"-"},null,"0"]
[null,null,42,null,null,null,null,null,null,null,{"$f":"IF(ISERROR(VLOOKUP(J62,'Information Page'!$C$24:$F$123,2,FALSE)),\"-\",VLOOKUP(J62,'Information Page'!$C$24:$F$123,2,FALSE))","v":"-"},{"$f":"IF(ISERROR(VLOOKUP(J62,'Information Page'!$C$24:$F$123,3,FALSE)),\"-\",VLOOKUP(J62,'Information Page'!$C$24:$F$123,3,FALSE))","v":"-"},{"$f":"IF(ISERROR(VLOOKUP(J62,'Information Page'!$C$24:$F$123,4,FALSE)),\"-\",VLOOKUP(J62,'Information Page'!$C$24:$F$123,4,FALSE))","v":"-"},null,"0"]
[null,null,43,null,null,null,null,null,null,null,{"$f":"IF(ISERROR(VLOOKUP(J63,'Information Page'!$C$24:$F$123,2,FALSE)),\"-\",VLOOKUP(J63,'Information Page'!$C$24:$F$123,2,FALSE))","v":"-"},{"$f":"IF(ISERROR(VLOOKUP(J63,'Information Page'!$C$24:$F$123,3,FALSE)),\"-\",VLOOKUP(J63,'Information Page'!$C$24:$F$123,3,FALSE))","v":"-"},{"$f":"IF(ISERROR(VLOOKUP(J63,'Information Page'!$C$24:$F$123,4,FALSE)),\"-\",VLOOKUP(J63,'Information Page'!$C$24:$F$123,4,FALSE))","v":"-"},null,"0"]
[null,null,44,null,null,null,null,null,null,null,{"$f":"IF(ISERROR(VLOOKUP(J64,'Information Page'!$C$24:$F$123,2,FALSE)),\"-\",VLOOKUP(J64,'Information Page'!$C$24:$F$123,2,FALSE))","v":"-"},{"$f":"IF(ISERROR(VLOOKUP(J64,'Information Page'!$C$24:$F$123,3,FALSE)),\"-\",VLOOKUP(J64,'Information Page'!$C$24:$F$123,3,FALSE))","v":"-"},{"$f":"IF(ISERROR(VLOOKUP(J64,'Information Page'!$C$24:$F$123,4,FALSE)),\"-\",VLOOKUP(J64,'Information Page'!$C$24:$F$123,4,FALSE))","v":"-"},null,"0"]
[null,null,45,null,null,null,null,null,null,null,{"$f":"IF(ISERROR(VLOOKUP(J65,'Information Page'!$C$24:$F$123,2,FALSE)),\"-\",VLOOKUP(J65,'Information Page'!$C$24:$F$123,2,FALSE))","v":"-"},{"$f":"IF(ISERROR(VLOOKUP(J65,'Information Page'!$C$24:$F$123,3,FALSE)),\"-\",VLOOKUP(J65,'Information Page'!$C$24:$F$123,3,FALSE))","v":"-"},{"$f":"IF(ISERROR(VLOOKUP(J65,'Information Page'!$C$24:$F$123,4,FALSE)),\"-\",VLOOKUP(J65,'Information Page'!$C$24:$F$123,4,FALSE))","v":"-"},null,"0"]
[null,null,46,null,null,null,null,null,null,null,{"$f":"IF(ISERROR(VLOOKUP(J66,'Information Page'!$C$24:$F$123,2,FALSE)),\"-\",VLOOKUP(J66,'Information Page'!$C$24:$F$123,2,FALSE))","v":"-"},{"$f":"IF(ISERROR(VLOOKUP(J66,'Information Page'!$C$24:$F$123,3,FALSE)),\"-\",VLOOKUP(J66,'Information Page'!$C$24:$F$123,3,FALSE))","v":"-"},{"$f":"IF(ISERROR(VLOOKUP(J66,'Information Page'!$C$24:$F$123,4,FALSE)),\"-\",VLOOKUP(J66,'Information Page'!$C$24:$F$123,4,FALSE))","v":"-"},null,"0"]
[null,null,47,null,null,null,null,null,null,null,{"$f":"IF(ISERROR(VLOOKUP(J67,'Information Page'!$C$24:$F$123,2,FALSE)),\"-\",VLOOKUP(J67,'Information Page'!$C$24:$F$123,2,FALSE))","v":"-"},{"$f":"IF(ISERROR(VLOOKUP(J67,'Information Page'!$C$24:$F$123,3,FALSE)),\"-\",VLOOKUP(J67,'Information Page'!$C$24:$F$123,3,FALSE))","v":"-"},{"$f":"IF(ISERROR(VLOOKUP(J67,'Information Page'!$C$24:$F$123,4,FALSE)),\"-\",VLOOKUP(J67,'Information Page'!$C$24:$F$123,4,FALSE))","v":"-"},null,"0"]
[null,null,48,null,null,null,null,null,null,null,{"$f":"IF(ISERROR(VLOOKUP(J68,'Information Page'!$C$24:$F$123,2,FALSE)),\"-\",VLOOKUP(J68,'Information Page'!$C$24:$F$123,2,FALSE))","v":"-"},{"$f":"IF(ISERROR(VLOOKUP(J68,'Information Page'!$C$24:$F$123,3,FALSE)),\"-\",VLOOKUP(J68,'Information Page'!$C$24:$F$123,3,FALSE))","v":"-"},{"$f":"IF(ISERROR(VLOOKUP(J68,'Information Page'!$C$24:$F$123,4,FALSE)),\"-\",VLOOKUP(J68,'Information Page'!$C$24:$F$123,4,FALSE))","v":"-"},null,"0"]
[null,null,49,null,null,null,null,null,null,null,{"$f":"IF(ISERROR(VLOOKUP(J69,'Information Page'!$C$24:$F$123,2,FALSE)),\"-\",VLOOKUP(J69,'Information Page'!$C$24:$F$123,2,FALSE))","v":"-"},{"$f":"IF(ISERROR(VLOOKUP(J69,'Information Page'!$C$24:$F$123,3,FALSE)),\"-\",VLOOKUP(J69,'Information Page'!$C$24:$F$123,3,FALSE))","v":"-"},{"$f":"IF(ISERROR(VLOOKUP(J69,'Information Page'!$C$24:$F$123,4,FALSE)),\"-\",VLOOKUP(J69,'Information Page'!$C$24:$F$123,4,FALSE))","v":"-"},null,"0"]
[null,null,50,null,null,null,null,null,null,null,{"$f":"IF(ISERROR(VLOOKUP(J70,'Information Page'!$C$24:$F$123,2,FALSE)),\"-\",VLOOKUP(J70,'Information Page'!$C$24:$F$123,2,FALSE))","v":"-"},{"$f":"IF(ISERROR(VLOOKUP(J70,'Information Page'!$C$24:$F$123,3,FALSE)),\"-\",VLOOKUP(J70,'Information Page'!$C$24:$F$123,3,FALSE))","v":"-"},{"$f":"IF(ISERROR(VLOOKUP(J70,'Information Page'!$C$24:$F$123,4,FALSE)),\"-\",VLOOKUP(J70,'Information Page'!$C$24:$F$123,4,FALSE))","v":"-"},null,"0"]
[null,null,51,null,null,null,null,null,null,null,{"$f":"IF(ISERROR(VLOOKUP(J71,'Information Page'!$C$24:$F$123,2,FALSE)),\"-\",VLOOKUP(J71,'Information Page'!$C$24:$F$123,2,FALSE))","v":"-"},{"$f":"IF(ISERROR(VLOOKUP(J71,'Information Page'!$C$24:$F$123,3,FALSE)),\"-\",VLOOKUP(J71,'Information Page'!$C$24:$F$123,3,FALSE))","v":"-"},{"$f":"IF(ISERROR(VLOOKUP(J71,'Information Page'!$C$24:$F$123,4,FALSE)),\"-\",VLOOKUP(J71,'Information Page'!$C$24:$F$123,4,FALSE))","v":"-"},null,"0"]
[null,null,52,null,null,null,null,null,null,null,{"$f":"IF(ISERROR(VLOOKUP(J72,'Information Page'!$C$24:$F$123,2,FALSE)),\"-\",VLOOKUP(J72,'Information Page'!$C$24:$F$123,2,FALSE))","v":"-"},{"$f":"IF(ISERROR(VLOOKUP(J72,'Information Page'!$C$24:$F$123,3,FALSE)),\"-\",VLOOKUP(J72,'Information Page'!$C$24:$F$123,3,FALSE))","v":"-"},{"$f":"IF(ISERROR(VLOOKUP(J72,'Information Page'!$C$24:$F$123,4,FALSE)),\"-\",VLOOKUP(J72,'Information Page'!$C$24:$F$123,4,FALSE))","v":"-"},null,"0"]
[null,null,53,null,null,null,null,null,null,null,{"$f":"IF(ISERROR(VLOOKUP(J73,'Information Page'!$C$24:$F$123,2,FALSE)),\"-\",VLOOKUP(J73,'Information Page'!$C$24:$F$123,2,FALSE))","v":"-"},{"$f":"IF(ISERROR(VLOOKUP(J73,'Information Page'!$C$24:$F$123,3,FALSE)),\"-\",VLOOKUP(J73,'Information Page'!$C$24:$F$123,3,FALSE))","v":"-"},{"$f":"IF(ISERROR(VLOOKUP(J73,'Information Page'!$C$24:$F$123,4,FALSE)),\"-\",VLOOKUP(J73,'Information Page'!$C$24:$F$123,4,FALSE))","v":"-"},null,"0"]
[null,null,54,null,null,null,null,null,null,null,{"$f":"IF(ISERROR(VLOOKUP(J74,'Information Page'!$C$24:$F$123,2,FALSE)),\"-\",VLOOKUP(J74,'Information Page'!$C$24:$F$123,2,FALSE))","v":"-"},{"$f":"IF(ISERROR(VLOOKUP(J74,'Information Page'!$C$24:$F$123,3,FALSE)),\"-\",VLOOKUP(J74,'Information Page'!$C$24:$F$123,3,FALSE))","v":"-"},{"$f":"IF(ISERROR(VLOOKUP(J74,'Information Page'!$C$24:$F$123,4,FALSE)),\"-\",VLOOKUP(J74,'Information Page'!$C$24:$F$123,4,FALSE))","v":"-"},null,"0"]
[null,null,55,null,null,null,null,null,null,null,{"$f":"IF(ISERROR(VLOOKUP(J75,'Information Page'!$C$24:$F$123,2,FALSE)),\"-\",VLOOKUP(J75,'Information Page'!$C$24:$F$123,2,FALSE))","v":"-"},{"$f":"IF(ISERROR(VLOOKUP(J75,'Information Page'!$C$24:$F$123,3,FALSE)),\"-\",VLOOKUP(J75,'Information Page'!$C$24:$F$123,3,FALSE))","v":"-"},{"$f":"IF(ISERROR(VLOOKUP(J75,'Information Page'!$C$24:$F$123,4,FALSE)),\"-\",VLOOKUP(J75,'Information Page'!$C$24:$F$123,4,FALSE))","v":"-"},null,"0"]
[null,null,56,null,null,null,null,null,null,null,{"$f":"IF(ISERROR(VLOOKUP(J76,'Information Page'!$C$24:$F$123,2,FALSE)),\"-\",VLOOKUP(J76,'Information Page'!$C$24:$F$123,2,FALSE))","v":"-"},{"$f":"IF(ISERROR(VLOOKUP(J76,'Information Page'!$C$24:$F$123,3,FALSE)),\"-\",VLOOKUP(J76,'Information Page'!$C$24:$F$123,3,FALSE))","v":"-"},{"$f":"IF(ISERROR(VLOOKUP(J76,'Information Page'!$C$24:$F$123,4,FALSE)),\"-\",VLOOKUP(J76,'Information Page'!$C$24:$F$123,4,FALSE))","v":"-"},null,"0"]
[null,null,57,null,null,null,null,null,null,null,{"$f":"IF(ISERROR(VLOOKUP(J77,'Information Page'!$C$24:$F$123,2,FALSE)),\"-\",VLOOKUP(J77,'Information Page'!$C$24:$F$123,2,FALSE))","v":"-"},{"$f":"IF(ISERROR(VLOOKUP(J77,'Information Page'!$C$24:$F$123,3,FALSE)),\"-\",VLOOKUP(J77,'Information Page'!$C$24:$F$123,3,FALSE))","v":"-"},{"$f":"IF(ISERROR(VLOOKUP(J77,'Information Page'!$C$24:$F$123,4,FALSE)),\"-\",VLOOKUP(J77,'Information Page'!$C$24:$F$123,4,FALSE))","v":"-"},null,"0"]
[null,null,58,null,null,null,null,null,null,null,{"$f":"IF(ISERROR(VLOOKUP(J78,'Information Page'!$C$24:$F$123,2,FALSE)),\"-\",VLOOKUP(J78,'Information Page'!$C$24:$F$123,2,FALSE))","v":"-"},{"$f":"IF(ISERROR(VLOOKUP(J78,'Information Page'!$C$24:$F$123,3,FALSE)),\"-\",VLOOKUP(J78,'Information Page'!$C$24:$F$123,3,FALSE))","v":"-"},{"$f":"IF(ISERROR(VLOOKUP(J78,'Information Page'!$C$24:$F$123,4,FALSE)),\"-\",VLOOKUP(J78,'Information Page'!$C$24:$F$123,4,FALSE))","v":"-"},null,"0"]
[null,null,59,null,null,null,null,null,null,null,{"$f":"IF(ISERROR(VLOOKUP(J79,'Information Page'!$C$24:$F$123,2,FALSE)),\"-\",VLOOKUP(J79,'Information Page'!$C$24:$F$123,2,FALSE))","v":"-"},{"$f":"IF(ISERROR(VLOOKUP(J79,'Information Page'!$C$24:$F$123,3,FALSE)),\"-\",VLOOKUP(J79,'Information Page'!$C$24:$F$123,3,FALSE))","v":"-"},{"$f":"IF(ISERROR(VLOOKUP(J79,'Information Page'!$C$24:$F$123,4,FALSE)),\"-\",VLOOKUP(J79,'Information Page'!$C$24:$F$123,4,FALSE))","v":"-"},null,"0"]
[null,null,60,null,null,null,null,null,null,null,{"$f":"IF(ISERROR(VLOOKUP(J80,'Information Page'!$C$24:$F$123,2,FALSE)),\"-\",VLOOKUP(J80,'Information Page'!$C$24:$F$123,2,FALSE))","v":"-"},{"$f":"IF(ISERROR(VLOOKUP(J80,'Information Page'!$C$24:$F$123,3,FALSE)),\"-\",VLOOKUP(J80,'Information Page'!$C$24:$F$123,3,FALSE))","v":"-"},{"$f":"IF(ISERROR(VLOOKUP(J80,'Information Page'!$C$24:$F$123,4,FALSE)),\"-\",VLOOKUP(J80,'Information Page'!$C$24:$F$123,4,FALSE))","v":"-"},null,"0"]
[null,null,61,null,null,null,null,null,null,null,{"$f":"IF(ISERROR(VLOOKUP(J81,'Information Page'!$C$24:$F$123,2,FALSE)),\"-\",VLOOKUP(J81,'Information Page'!$C$24:$F$123,2,FALSE))","v":"-"},{"$f":"IF(ISERROR(VLOOKUP(J81,'Information Page'!$C$24:$F$123,3,FALSE)),\"-\",VLOOKUP(J81,'Information Page'!$C$24:$F$123,3,FALSE))","v":"-"},{"$f":"IF(ISERROR(VLOOKUP(J81,'Information Page'!$C$24:$F$123,4,FALSE)),\"-\",VLOOKUP(J81,'Information Page'!$C$24:$F$123,4,FALSE))","v":"-"},null,"0"]
[null,null,62,null,null,null,null,null,null,null,{"$f":"IF(ISERROR(VLOOKUP(J82,'Information Page'!$C$24:$F$123,2,FALSE)),\"-\",VLOOKUP(J82,'Information Page'!$C$24:$F$123,2,FALSE))","v":"-"},{"$f":"IF(ISERROR(VLOOKUP(J82,'Information Page'!$C$24:$F$123,3,FALSE)),\"-\",VLOOKUP(J82,'Information Page'!$C$24:$F$123,3,FALSE))","v":"-"},{"$f":"IF(ISERROR(VLOOKUP(J82,'Information Page'!$C$24:$F$123,4,FALSE)),\"-\",VLOOKUP(J82,'Information Page'!$C$24:$F$123,4,FALSE))","v":"-"},null,"0"]
[null,null,63,null,null,null,null,null,null,null,{"$f":"IF(ISERROR(VLOOKUP(J83,'Information Page'!$C$24:$F$123,2,FALSE)),\"-\",VLOOKUP(J83,'Information Page'!$C$24:$F$123,2,FALSE))","v":"-"},{"$f":"IF(ISERROR(VLOOKUP(J83,'Information Page'!$C$24:$F$123,3,FALSE)),\"-\",VLOOKUP(J83,'Information Page'!$C$24:$F$123,3,FALSE))","v":"-"},{"$f":"IF(ISERROR(VLOOKUP(J83,'Information Page'!$C$24:$F$123,4,FALSE)),\"-\",VLOOKUP(J83,'Information Page'!$C$24:$F$123,4,FALSE))","v":"-"},null,"0"]
[null,null,64,null,null,null,null,null,null,null,{"$f":"IF(ISERROR(VLOOKUP(J84,'Information Page'!$C$24:$F$123,2,FALSE)),\"-\",VLOOKUP(J84,'Information Page'!$C$24:$F$123,2,FALSE))","v":"-"},{"$f":"IF(ISERROR(VLOOKUP(J84,'Information Page'!$C$24:$F$123,3,FALSE)),\"-\",VLOOKUP(J84,'Information Page'!$C$24:$F$123,3,FALSE))","v":"-"},{"$f":"IF(ISERROR(VLOOKUP(J84,'Information Page'!$C$24:$F$123,4,FALSE)),\"-\",VLOOKUP(J84,'Information Page'!$C$24:$F$123,4,FALSE))","v":"-"},null,"0"]
[null,null,65,null,null,null,null,null,null,null,{"$f":"IF(ISERROR(VLOOKUP(J85,'Information Page'!$C$24:$F$123,2,FALSE)),\"-\",VLOOKUP(J85,'Information Page'!$C$24:$F$123,2,FALSE))","v":"-"},{"$f":"IF(ISERROR(VLOOKUP(J85,'Information Page'!$C$24:$F$123,3,FALSE)),\"-\",VLOOKUP(J85,'Information Page'!$C$24:$F$123,3,FALSE))","v":"-"},{"$f":"IF(ISERROR(VLOOKUP(J85,'Information Page'!$C$24:$F$123,4,FALSE)),\"-\",VLOOKUP(J85,'Information Page'!$C$24:$F$123,4,FALSE))","v":"-"},null,"0"]
[null,null,66,null,null,null,null,null,null,null,{"$f":"IF(ISERROR(VLOOKUP(J86,'Information Page'!$C$24:$F$123,2,FALSE)),\"-\",VLOOKUP(J86,'Information Page'!$C$24:$F$123,2,FALSE))","v":"-"},{"$f":"IF(ISERROR(VLOOKUP(J86,'Information Page'!$C$24:$F$123,3,FALSE)),\"-\",VLOOKUP(J86,'Information Page'!$C$24:$F$123,3,FALSE))","v":"-"},{"$f":"IF(ISERROR(VLOOKUP(J86,'Information Page'!$C$24:$F$123,4,FALSE)),\"-\",VLOOKUP(J86,'Information Page'!$C$24:$F$123,4,FALSE))","v":"-"},null,{"$f":"IF(M86=\"-\",\"0\",M86*N86)","v":"0"}]
[null,null,67,null,null,null,null,null,null,null,{"$f":"IF(ISERROR(VLOOKUP(J87,'Information Page'!$C$24:$F$123,2,FALSE)),\"-\",VLOOKUP(J87,'Information Page'!$C$24:$F$123,2,FALSE))","v":"-"},{"$f":"IF(ISERROR(VLOOKUP(J87,'Information Page'!$C$24:$F$123,3,FALSE)),\"-\",VLOOKUP(J87,'Information Page'!$C$24:$F$123,3,FALSE))","v":"-"},{"$f":"IF(ISERROR(VLOOKUP(J87,'Information Page'!$C$24:$F$123,4,FALSE)),\"-\",VLOOKUP(J87,'Information Page'!$C$24:$F$123,4,FALSE))","v":"-"},null,"0"]
[null,null,68,null,null,null,null,null,null,null,{"$f":"IF(ISERROR(VLOOKUP(J88,'Information Page'!$C$24:$F$123,2,FALSE)),\"-\",VLOOKUP(J88,'Information Page'!$C$24:$F$123,2,FALSE))","v":"-"},{"$f":"IF(ISERROR(VLOOKUP(J88,'Information Page'!$C$24:$F$123,3,FALSE)),\"-\",VLOOKUP(J88,'Information Page'!$C$24:$F$123,3,FALSE))","v":"-"},{"$f":"IF(ISERROR(VLOOKUP(J88,'Information Page'!$C$24:$F$123,4,FALSE)),\"-\",VLOOKUP(J88,'Information Page'!$C$24:$F$123,4,FALSE))","v":"-"},null,"0"]
[null,null,69,null,null,null,null,null,null,null,{"$f":"IF(ISERROR(VLOOKUP(J89,'Information Page'!$C$24:$F$123,2,FALSE)),\"-\",VLOOKUP(J89,'Information Page'!$C$24:$F$123,2,FALSE))","v":"-"},{"$f":"IF(ISERROR(VLOOKUP(J89,'Information Page'!$C$24:$F$123,3,FALSE)),\"-\",VLOOKUP(J89,'Information Page'!$C$24:$F$123,3,FALSE))","v":"-"},{"$f":"IF(ISERROR(VLOOKUP(J89,'Information Page'!$C$24:$F$123,4,FALSE)),\"-\",VLOOKUP(J89,'Information Page'!$C$24:$F$123,4,FALSE))","v":"-"},null,"0"]
[null,null,70,null,null,null,null,null,null,null,{"$f":"IF(ISERROR(VLOOKUP(J90,'Information Page'!$C$24:$F$123,2,FALSE)),\"-\",VLOOKUP(J90,'Information Page'!$C$24:$F$123,2,FALSE))","v":"-"},{"$f":"IF(ISERROR(VLOOKUP(J90,'Information Page'!$C$24:$F$123,3,FALSE)),\"-\",VLOOKUP(J90,'Information Page'!$C$24:$F$123,3,FALSE))","v":"-"},{"$f":"IF(ISERROR(VLOOKUP(J90,'Information Page'!$C$24:$F$123,4,FALSE)),\"-\",VLOOKUP(J90,'Information Page'!$C$24:$F$123,4,FALSE))","v":"-"},null,"0"]
[null,null,71,null,null,null,null,null,null,null,{"$f":"IF(ISERROR(VLOOKUP(J91,'Information Page'!$C$24:$F$123,2,FALSE)),\"-\",VLOOKUP(J91,'Information Page'!$C$24:$F$123,2,FALSE))","v":"-"},{"$f":"IF(ISERROR(VLOOKUP(J91,'Information Page'!$C$24:$F$123,3,FALSE)),\"-\",VLOOKUP(J91,'Information Page'!$C$24:$F$123,3,FALSE))","v":"-"},{"$f":"IF(ISERROR(VLOOKUP(J91,'Information Page'!$C$24:$F$123,4,FALSE)),\"-\",VLOOKUP(J91,'Information Page'!$C$24:$F$123,4,FALSE))","v":"-"},null,"0"]
[null,null,72,null,null,null,null,null,null,null,{"$f":"IF(ISERROR(VLOOKUP(J92,'Information Page'!$C$24:$F$123,2,FALSE)),\"-\",VLOOKUP(J92,'Information Page'!$C$24:$F$123,2,FALSE))","v":"-"},{"$f":"IF(ISERROR(VLOOKUP(J92,'Information Page'!$C$24:$F$123,3,FALSE)),\"-\",VLOOKUP(J92,'Information Page'!$C$24:$F$123,3,FALSE))","v":"-"},{"$f":"IF(ISERROR(VLOOKUP(J92,'Information Page'!$C$24:$F$123,4,FALSE)),\"-\",VLOOKUP(J92,'Information Page'!$C$24:$F$123,4,FALSE))","v":"-"},null,"0"]
[null,null,73,null,null,null,null,null,null,null,{"$f":"IF(ISERROR(VLOOKUP(J93,'Information Page'!$C$24:$F$123,2,FALSE)),\"-\",VLOOKUP(J93,'Information Page'!$C$24:$F$123,2,FALSE))","v":"-"},{"$f":"IF(ISERROR(VLOOKUP(J93,'Information Page'!$C$24:$F$123,3,FALSE)),\"-\",VLOOKUP(J93,'Information Page'!$C$24:$F$123,3,FALSE))","v":"-"},{"$f":"IF(ISERROR(VLOOKUP(J93,'Information Page'!$C$24:$F$123,4,FALSE)),\"-\",VLOOKUP(J93,'Information Page'!$C$24:$F$123,4,FALSE))","v":"-"},null,"0"]
[null,null,74,null,null,null,null,null,null,null,{"$f":"IF(ISERROR(VLOOKUP(J94,'Information Page'!$C$24:$F$123,2,FALSE)),\"-\",VLOOKUP(J94,'Information Page'!$C$24:$F$123,2,FALSE))","v":"-"},{"$f":"IF(ISERROR(VLOOKUP(J94,'Information Page'!$C$24:$F$123,3,FALSE)),\"-\",VLOOKUP(J94,'Information Page'!$C$24:$F$123,3,FALSE))","v":"-"},{"$f":"IF(ISERROR(VLOOKUP(J94,'Information Page'!$C$24:$F$123,4,FALSE)),\"-\",VLOOKUP(J94,'Information Page'!$C$24:$F$123,4,FALSE))","v":"-"},null,"0"]
[null,null,75,null,null,null,null,null,null,null,{"$f":"IF(ISERROR(VLOOKUP(J95,'Information Page'!$C$24:$F$123,2,FALSE)),\"-\",VLOOKUP(J95,'Information Page'!$C$24:$F$123,2,FALSE))","v":"-"},{"$f":"IF(ISERROR(VLOOKUP(J95,'Information Page'!$C$24:$F$123,3,FALSE)),\"-\",VLOOKUP(J95,'Information Page'!$C$24:$F$123,3,FALSE))","v":"-"},{"$f":"IF(ISERROR(VLOOKUP(J95,'Information Page'!$C$24:$F$123,4,FALSE)),\"-\",VLOOKUP(J95,'Information Page'!$C$24:$F$123,4,FALSE))","v":"-"},null,"0"]
[null,null,76,null,null,null,null,null,null,null,{"$f":"IF(ISERROR(VLOOKUP(J96,'Information Page'!$C$24:$F$123,2,FALSE)),\"-\",VLOOKUP(J96,'Information Page'!$C$24:$F$123,2,FALSE))","v":"-"},{"$f":"IF(ISERROR(VLOOKUP(J96,'Information Page'!$C$24:$F$123,3,FALSE)),\"-\",VLOOKUP(J96,'Information Page'!$C$24:$F$123,3,FALSE))","v":"-"},{"$f":"IF(ISERROR(VLOOKUP(J96,'Information Page'!$C$24:$F$123,4,FALSE)),\"-\",VLOOKUP(J96,'Information Page'!$C$24:$F$123,4,FALSE))","v":"-"},null,"0"]
[null,null,77,null,null,null,null,null,null,null,{"$f":"IF(ISERROR(VLOOKUP(J97,'Information Page'!$C$24:$F$123,2,FALSE)),\"-\",VLOOKUP(J97,'Information Page'!$C$24:$F$123,2,FALSE))","v":"-"},{"$f":"IF(ISERROR(VLOOKUP(J97,'Information Page'!$C$24:$F$123,3,FALSE)),\"-\",VLOOKUP(J97,'Information Page'!$C$24:$F$123,3,FALSE))","v":"-"},{"$f":"IF(ISERROR(VLOOKUP(J97,'Information Page'!$C$24:$F$123,4,FALSE)),\"-\",VLOOKUP(J97,'Information Page'!$C$24:$F$123,4,FALSE))","v":"-"},null,"0"]
[null,null,78,null,null,null,null,null,null,null,{"$f":"IF(ISERROR(VLOOKUP(J98,'Information Page'!$C$24:$F$123,2,FALSE)),\"-\",VLOOKUP(J98,'Information Page'!$C$24:$F$123,2,FALSE))","v":"-"},{"$f":"IF(ISERROR(VLOOKUP(J98,'Information Page'!$C$24:$F$123,3,FALSE)),\"-\",VLOOKUP(J98,'Information Page'!$C$24:$F$123,3,FALSE))","v":"-"},{"$f":"IF(ISERROR(VLOOKUP(J98,'Information Page'!$C$24:$F$123,4,FALSE)),\"-\",VLOOKUP(J98,'Information Page'!$C$24:$F$123,4,FALSE))","v":"-"},null,"0"]
[null,null,79,null,null,null,null,null,null,null,{"$f":"IF(ISERROR(VLOOKUP(J99,'Information Page'!$C$24:$F$123,2,FALSE)),\"-\",VLOOKUP(J99,'Information Page'!$C$24:$F$123,2,FALSE))","v":"-"},{"$f":"IF(ISERROR(VLOOKUP(J99,'Information Page'!$C$24:$F$123,3,FALSE)),\"-\",VLOOKUP(J99,'Information Page'!$C$24:$F$123,3,FALSE))","v":"-"},{"$f":"IF(ISERROR(VLOOKUP(J99,'Information Page'!$C$24:$F$123,4,FALSE)),\"-\",VLOOKUP(J99,'Information Page'!$C$24:$F$123,4,FALSE))","v":"-"},null,"0"]
[null,null,80,null,null,null,null,null,null,null,{"$f":"IF(ISERROR(VLOOKUP(J100,'Information Page'!$C$24:$F$123,2,FALSE)),\"-\",VLOOKUP(J100,'Information Page'!$C$24:$F$123,2,FALSE))","v":"-"},{"$f":"IF(ISERROR(VLOOKUP(J100,'Information Page'!$C$24:$F$123,3,FALSE)),\"-\",VLOOKUP(J100,'Information Page'!$C$24:$F$123,3,FALSE))","v":"-"},{"$f":"IF(ISERROR(VLOOKUP(J100,'Information Page'!$C$24:$F$123,4,FALSE)),\"-\",VLOOKUP(J100,'Information Page'!$C$24:$F$123,4,FALSE))","v":"-"},null,"0"]
[null,null,81,null,null,null,null,null,null,null,{"$f":"IF(ISERROR(VLOOKUP(J101,'Information Page'!$C$24:$F$123,2,FALSE)),\"-\",VLOOKUP(J101,'Information Page'!$C$24:$F$123,2,FALSE))","v":"-"},{"$f":"IF(ISERROR(VLOOKUP(J101,'Information Page'!$C$24:$F$123,3,FALSE)),\"-\",VLOOKUP(J101,'Information Page'!$C$24:$F$123,3,FALSE))","v":"-"},{"$f":"IF(ISERROR(VLOOKUP(J101,'Information Page'!$C$24:$F$123,4,FALSE)),\"-\",VLOOKUP(J101,'Information Page'!$C$24:$F$123,4,FALSE))","v":"-"},null,"0"]
[null,null,82,null,null,null,null,null,null,null,{"$f":"IF(ISERROR(VLOOKUP(J102,'Information Page'!$C$24:$F$123,2,FALSE)),\"-\",VLOOKUP(J102,'Information Page'!$C$24:$F$123,2,FALSE))","v":"-"},{"$f":"IF(ISERROR(VLOOKUP(J102,'Information Page'!$C$24:$F$123,3,FALSE)),\"-\",VLOOKUP(J102,'Information Page'!$C$24:$F$123,3,FALSE))","v":"-"},{"$f":"IF(ISERROR(VLOOKUP(J102,'Information Page'!$C$24:$F$123,4,FALSE)),\"-\",VLOOKUP(J102,'Information Page'!$C$24:$F$123,4,FALSE))","v":"-"},null,"0"]
[null,null,83,null,null,null,null,null,null,null,{"$f":"IF(ISERROR(VLOOKUP(J103,'Information Page'!$C$24:$F$123,2,FALSE)),\"-\",VLOOKUP(J103,'Information Page'!$C$24:$F$123,2,FALSE))","v":"-"},{"$f":"IF(ISERROR(VLOOKUP(J103,'Information Page'!$C$24:$F$123,3,FALSE)),\"-\",VLOOKUP(J103,'Information Page'!$C$24:$F$123,3,FALSE))","v":"-"},{"$f":"IF(ISERROR(VLOOKUP(J103,'Information Page'!$C$24:$F$123,4,FALSE)),\"-\",VLOOKUP(J103,'Information Page'!$C$24:$F$123,4,FALSE))","v":"-"},null,"0"]
[null,null,84,null,null,null,null,null,null,null,{"$f":"IF(ISERROR(VLOOKUP(J104,'Information Page'!$C$24:$F$123,2,FALSE)),\"-\",VLOOKUP(J104,'Information Page'!$C$24:$F$123,2,FALSE))","v":"-"},{"$f":"IF(ISERROR(VLOOKUP(J104,'Information Page'!$C$24:$F$123,3,FALSE)),\"-\",VLOOKUP(J104,'Information Page'!$C$24:$F$123,3,FALSE))","v":"-"},{"$f":"IF(ISERROR(VLOOKUP(J104,'Information Page'!$C$24:$F$123,4,FALSE)),\"-\",VLOOKUP(J104,'Information Page'!$C$24:$F$123,4,FALSE))","v":"-"},null,"0"]
[null,null,85,null,null,null,null,null,null,null,{"$f":"IF(ISERROR(VLOOKUP(J105,'Information Page'!$C$24:$F$123,2,FALSE)),\"-\",VLOOKUP(J105,'Information Page'!$C$24:$F$123,2,FALSE))","v":"-"},{"$f":"IF(ISERROR(VLOOKUP(J105,'Information Page'!$C$24:$F$123,3,FALSE)),\"-\",VLOOKUP(J105,'Information Page'!$C$24:$F$123,3,FALSE))","v":"-"},{"$f":"IF(ISERROR(VLOOKUP(J105,'Information Page'!$C$24:$F$123,4,FALSE)),\"-\",VLOOKUP(J105,'Information Page'!$C$24:$F$123,4,FALSE))","v":"-"},null,"0"]
[null,null,86,null,null,null,null,null,null,null,{"$f":"IF(ISERROR(VLOOKUP(J106,'Information Page'!$C$24:$F$123,2,FALSE)),\"-\",VLOOKUP(J106,'Information Page'!$C$24:$F$123,2,FALSE))","v":"-"},{"$f":"IF(ISERROR(VLOOKUP(J106,'Information Page'!$C$24:$F$123,3,FALSE)),\"-\",VLOOKUP(J106,'Information Page'!$C$24:$F$123,3,FALSE))","v":"-"},{"$f":"IF(ISERROR(VLOOKUP(J106,'Information Page'!$C$24:$F$123,4,FALSE)),\"-\",VLOOKUP(J106,'Information Page'!$C$24:$F$123,4,FALSE))","v":"-"},null,"0"]
[null,null,87,null,null,null,null,null,null,null,{"$f":"IF(ISERROR(VLOOKUP(J107,'Information Page'!$C$24:$F$123,2,FALSE)),\"-\",VLOOKUP(J107,'Information Page'!$C$24:$F$123,2,FALSE))","v":"-"},{"$f":"IF(ISERROR(VLOOKUP(J107,'Information Page'!$C$24:$F$123,3,FALSE)),\"-\",VLOOKUP(J107,'Information Page'!$C$24:$F$123,3,FALSE))","v":"-"},{"$f":"IF(ISERROR(VLOOKUP(J107,'Information Page'!$C$24:$F$123,4,FALSE)),\"-\",VLOOKUP(J107,'Information Page'!$C$24:$F$123,4,FALSE))","v":"-"},null,"0"]
[null,null,88,null,null,null,null,null,null,null,{"$f":"IF(ISERROR(VLOOKUP(J108,'Information Page'!$C$24:$F$123,2,FALSE)),\"-\",VLOOKUP(J108,'Information Page'!$C$24:$F$123,2,FALSE))","v":"-"},{"$f":"IF(ISERROR(VLOOKUP(J108,'Information Page'!$C$24:$F$123,3,FALSE)),\"-\",VLOOKUP(J108,'Information Page'!$C$24:$F$123,3,FALSE))","v":"-"},{"$f":"IF(ISERROR(VLOOKUP(J108,'Information Page'!$C$24:$F$123,4,FALSE)),\"-\",VLOOKUP(J108,'Information Page'!$C$24:$F$123,4,FALSE))","v":"-"},null,"0"]
[null,null,89,null,null,null,null,null,null,null,{"$f":"IF(ISERROR(VLOOKUP(J109,'Information Page'!$C$24:$F$123,2,FALSE)),\"-\",VLOOKUP(J109,'Information Page'!$C$24:$F$123,2,FALSE))","v":"-"},{"$f":"IF(ISERROR(VLOOKUP(J109,'Information Page'!$C$24:$F$123,3,FALSE)),\"-\",VLOOKUP(J109,'Information Page'!$C$24:$F$123,3,FALSE))","v":"-"},{"$f":"IF(ISERROR(VLOOKUP(J109,'Information Page'!$C$24:$F$123,4,FALSE)),\"-\",VLOOKUP(J109,'Information Page'!$C$24:$F$123,4,FALSE))","v":"-"},null,"0"]
[null,null,90,null,null,null,null,null,null,null,{"$f":"IF(ISERROR(VLOOKUP(J110,'Information Page'!$C$24:$F$123,2,FALSE)),\"-\",VLOOKUP(J110,'Information Page'!$C$24:$F$123,2,FALSE))","v":"-"},{"$f":"IF(ISERROR(VLOOKUP(J110,'Information Page'!$C$24:$F$123,3,FALSE)),\"-\",VLOOKUP(J110,'Information Page'!$C$24:$F$123,3,FALSE))","v":"-"},{"$f":"IF(ISERROR(VLOOKUP(J110,'Information Page'!$C$24:$F$123,4,FALSE)),\"-\",VLOOKUP(J110,'Information Page'!$C$24:$F$123,4,FALSE))","v":"-"},null,"0"]
[null,null,91,null,null,null,null,null,null,null,{"$f":"IF(ISERROR(VLOOKUP(J111,'Information Page'!$C$24:$F$123,2,FALSE)),\"-\",VLOOKUP(J111,'Information Page'!$C$24:$F$123,2,FALSE))","v":"-"},{"$f":"IF(ISERROR(VLOOKUP(J111,'Information Page'!$C$24:$F$123,3,FALSE)),\"-\",VLOOKUP(J111,'Information Page'!$C$24:$F$123,3,FALSE))","v":"-"},{"$f":"IF(ISERROR(VLOOKUP(J111,'Information Page'!$C$24:$F$123,4,FALSE)),\"-\",VLOOKUP(J111,'Information Page'!$C$24:$F$123,4,FALSE))","v":"-"},null,"0"]
[null,null,92,null,null,null,null,null,null,null,{"$f":"IF(ISERROR(VLOOKUP(J112,'Information Page'!$C$24:$F$123,2,FALSE)),\"-\",VLOOKUP(J112,'Information Page'!$C$24:$F$123,2,FALSE))","v":"-"},{"$f":"IF(ISERROR(VLOOKUP(J112,'Information Page'!$C$24:$F$123,3,FALSE)),\"-\",VLOOKUP(J112,'Information Page'!$C$24:$F$123,3,FALSE))","v":"-"},{"$f":"IF(ISERROR(VLOOKUP(J112,'Information Page'!$C$24:$F$123,4,FALSE)),\"-\",VLOOKUP(J112,'Information Page'!$C$24:$F$123,4,FALSE))","v":"-"},null,"0"]
[null,null,93,null,null,null,null,null,null,null,{"$f":"IF(ISERROR(VLOOKUP(J113,'Information Page'!$C$24:$F$123,2,FALSE)),\"-\",VLOOKUP(J113,'Information Page'!$C$24:$F$123,2,FALSE))","v":"-"},{"$f":"IF(ISERROR(VLOOKUP(J113,'Information Page'!$C$24:$F$123,3,FALSE)),\"-\",VLOOKUP(J113,'Information Page'!$C$24:$F$123,3,FALSE))","v":"-"},{"$f":"IF(ISERROR(VLOOKUP(J113,'Information Page'!$C$24:$F$123,4,FALSE)),\"-\",VLOOKUP(J113,'Information Page'!$C$24:$F$123,4,FALSE))","v":"-"},null,"0"]
[null,null,94,null,null,null,null,null,null,null,{"$f":"IF(ISERROR(VLOOKUP(J114,'Information Page'!$C$24:$F$123,2,FALSE)),\"-\",VLOOKUP(J114,'Information Page'!$C$24:$F$123,2,FALSE))","v":"-"},{"$f":"IF(ISERROR(VLOOKUP(J114,'Information Page'!$C$24:$F$123,3,FALSE)),\"-\",VLOOKUP(J114,'Information Page'!$C$24:$F$123,3,FALSE))","v":"-"},{"$f":"IF(ISERROR(VLOOKUP(J114,'Information Page'!$C$24:$F$123,4,FALSE)),\"-\",VLOOKUP(J114,'Information Page'!$C$24:$F$123,4,FALSE))","v":"-"},null,"0"]
[null,null,95,null,null,null,null,null,null,null,{"$f":"IF(ISERROR(VLOOKUP(J115,'Information Page'!$C$24:$F$123,2,FALSE)),\"-\",VLOOKUP(J115,'Information Page'!$C$24:$F$123,2,FALSE))","v":"-"},{"$f":"IF(ISERROR(VLOOKUP(J115,'Information Page'!$C$24:$F$123,3,FALSE)),\"-\",VLOOKUP(J115,'Information Page'!$C$24:$F$123,3,FALSE))","v":"-"},{"$f":"IF(ISERROR(VLOOKUP(J115,'Information Page'!$C$24:$F$123,4,FALSE)),\"-\",VLOOKUP(J115,'Information Page'!$C$24:$F$123,4,FALSE))","v":"-"},null,"0"]
[null,null,96,null,null,null,null,null,null,null,{"$f":"IF(ISERROR(VLOOKUP(J116,'Information Page'!$C$24:$F$123,2,FALSE)),\"-\",VLOOKUP(J116,'Information Page'!$C$24:$F$123,2,FALSE))","v":"-"},{"$f":"IF(ISERROR(VLOOKUP(J116,'Information Page'!$C$24:$F$123,3,FALSE)),\"-\",VLOOKUP(J116,'Information Page'!$C$24:$F$123,3,FALSE))","v":"-"},{"$f":"IF(ISERROR(VLOOKUP(J116,'Information Page'!$C$24:$F$123,4,FALSE)),\"-\",VLOOKUP(J116,'Information Page'!$C$24:$F$123,4,FALSE))","v":"-"},null,"0"]
[null,null,97,null,null,null,null,null,null,null,{"$f":"IF(ISERROR(VLOOKUP(J117,'Information Page'!$C$24:$F$123,2,FALSE)),\"-\",VLOOKUP(J117,'Information Page'!$C$24:$F$123,2,FALSE))","v":"-"},{"$f":"IF(ISERROR(VLOOKUP(J117,'Information Page'!$C$24:$F$123,3,FALSE)),\"-\",VLOOKUP(J117,'Information Page'!$C$24:$F$123,3,FALSE))","v":"-"},{"$f":"IF(ISERROR(VLOOKUP(J117,'Information Page'!$C$24:$F$123,4,FALSE)),\"-\",VLOOKUP(J117,'Information Page'!$C$24:$F$123,4,FALSE))","v":"-"},null,"0"]
[null,null,98,null,null,null,null,null,null,null,{"$f":"IF(ISERROR(VLOOKUP(J118,'Information Page'!$C$24:$F$123,2,FALSE)),\"-\",VLOOKUP(J118,'Information Page'!$C$24:$F$123,2,FALSE))","v":"-"},{"$f":"IF(ISERROR(VLOOKUP(J118,'Information Page'!$C$24:$F$123,3,FALSE)),\"-\",VLOOKUP(J118,'Information Page'!$C$24:$F$123,3,FALSE))","v":"-"},{"$f":"IF(ISERROR(VLOOKUP(J118,'Information Page'!$C$24:$F$123,4,FALSE)),\"-\",VLOOKUP(J118,'Information Page'!$C$24:$F$123,4,FALSE))","v":"-"},null,"0"]
[null,null,99,null,null,null,null,null,null,null,{"$f":"IF(ISERROR(VLOOKUP(J119,'Information Page'!$C$24:$F$123,2,FALSE)),\"-\",VLOOKUP(J119,'Information Page'!$C$24:$F$123,2,FALSE))","v":"-"},{"$f":"IF(ISERROR(VLOOKUP(J119,'Information Page'!$C$24:$F$123,3,FALSE)),\"-\",VLOOKUP(J119,'Information Page'!$C$24:$F$123,3,FALSE))","v":"-"},{"$f":"IF(ISERROR(VLOOKUP(J119,'Information Page'!$C$24:$F$123,4,FALSE)),\"-\",VLOOKUP(J119,'Information Page'!$C$24:$F$123,4,FALSE))","v":"-"},null,"0"]
[null,null,100,null,null,null,null,null,null,null,{"$f":"IF(ISERROR(VLOOKUP(J120,'Information Page'!$C$24:$F$123,2,FALSE)),\"-\",VLOOKUP(J120,'Information Page'!$C$24:$F$123,2,FALSE))","v":"-"},{"$f":"IF(ISERROR(VLOOKUP(J120,'Information Page'!$C$24:$F$123,3,FALSE)),\"-\",VLOOKUP(J120,'Information Page'!$C$24:$F$123,3,FALSE))","v":"-"},{"$f":"IF(ISERROR(VLOOKUP(J120,'Information Page'!$C$24:$F$123,4,FALSE)),\"-\",VLOOKUP(J120,'Information Page'!$C$24:$F$123,4,FALSE))","v":"-"},null,"0"]
[null,null,101,null,null,null,null,null,null,null,{"$f":"IF(ISERROR(VLOOKUP(J121,'Information Page'!$C$24:$F$123,2,FALSE)),\"-\",VLOOKUP(J121,'Information Page'!$C$24:$F$123,2,FALSE))","v":"-"},{"$f":"IF(ISERROR(VLOOKUP(J121,'Information Page'!$C$24:$F$123,3,FALSE)),\"-\",VLOOKUP(J121,'Information Page'!$C$24:$F$123,3,FALSE))","v":"-"},{"$f":"IF(ISERROR(VLOOKUP(J121,'Information Page'!$C$24:$F$123,4,FALSE)),\"-\",VLOOKUP(J121,'Information Page'!$C$24:$F$123,4,FALSE))","v":"-"},null,"0"]
[null,null,102,null,null,null,null,null,null,null,{"$f":"IF(ISERROR(VLOOKUP(J122,'Information Page'!$C$24:$F$123,2,FALSE)),\"-\",VLOOKUP(J122,'Information Page'!$C$24:$F$123,2,FALSE))","v":"-"},{"$f":"IF(ISERROR(VLOOKUP(J122,'Information Page'!$C$24:$F$123,3,FALSE)),\"-\",VLOOKUP(J122,'Information Page'!$C$24:$F$123,3,FALSE))","v":"-"},{"$f":"IF(ISERROR(VLOOKUP(J122,'Information Page'!$C$24:$F$123,4,FALSE)),\"-\",VLOOKUP(J122,'Information Page'!$C$24:$F$123,4,FALSE))","v":"-"},null,"0"]
[null,null,103,null,null,null,null,null,null,null,{"$f":"IF(ISERROR(VLOOKUP(J123,'Information Page'!$C$24:$F$123,2,FALSE)),\"-\",VLOOKUP(J123,'Information Page'!$C$24:$F$123,2,FALSE))","v":"-"},{"$f":"IF(ISERROR(VLOOKUP(J123,'Information Page'!$C$24:$F$123,3,FALSE)),\"-\",VLOOKUP(J123,'Information Page'!$C$24:$F$123,3,FALSE))","v":"-"},{"$f":"IF(ISERROR(VLOOKUP(J123,'Information Page'!$C$24:$F$123,4,FALSE)),\"-\",VLOOKUP(J123,'Information Page'!$C$24:$F$123,4,FALSE))","v":"-"},null,"0"]
[null,null,104,null,null,null,null,null,null,null,{"$f":"IF(ISERROR(VLOOKUP(J124,'Information Page'!$C$24:$F$123,2,FALSE)),\"-\",VLOOKUP(J124,'Information Page'!$C$24:$F$123,2,FALSE))","v":"-"},{"$f":"IF(ISERROR(VLOOKUP(J124,'Information Page'!$C$24:$F$123,3,FALSE)),\"-\",VLOOKUP(J124,'Information Page'!$C$24:$F$123,3,FALSE))","v":"-"},{"$f":"IF(ISERROR(VLOOKUP(J124,'Information Page'!$C$24:$F$123,4,FALSE)),\"-\",VLOOKUP(J124,'Information Page'!$C$24:$F$123,4,FALSE))","v":"-"},null,"0"]
[null,null,105,null,null,null,null,null,null,null,{"$f":"IF(ISERROR(VLOOKUP(J125,'Information Page'!$C$24:$F$123,2,FALSE)),\"-\",VLOOKUP(J125,'Information Page'!$C$24:$F$123,2,FALSE))","v":"-"},{"$f":"IF(ISERROR(VLOOKUP(J125,'Information Page'!$C$24:$F$123,3,FALSE)),\"-\",VLOOKUP(J125,'Information Page'!$C$24:$F$123,3,FALSE))","v":"-"},{"$f":"IF(ISERROR(VLOOKUP(J125,'Information Page'!$C$24:$F$123,4,FALSE)),\"-\",VLOOKUP(J125,'Information Page'!$C$24:$F$123,4,FALSE))","v":"-"},null,"0"]
[null,null,106,null,null,null,null,null,null,null,{"$f":"IF(ISERROR(VLOOKUP(J126,'Information Page'!$C$24:$F$123,2,FALSE)),\"-\",VLOOKUP(J126,'Information Page'!$C$24:$F$123,2,FALSE))","v":"-"},{"$f":"IF(ISERROR(VLOOKUP(J126,'Information Page'!$C$24:$F$123,3,FALSE)),\"-\",VLOOKUP(J126,'Information Page'!$C$24:$F$123,3,FALSE))","v":"-"},{"$f":"IF(ISERROR(VLOOKUP(J126,'Information Page'!$C$24:$F$123,4,FALSE)),\"-\",VLOOKUP(J126,'Information Page'!$C$24:$F$123,4,FALSE))","v":"-"},null,"0"]
[null,null,107,null,null,null,null,null,null,null,{"$f":"IF(ISERROR(VLOOKUP(J127,'Information Page'!$C$24:$F$123,2,FALSE)),\"-\",VLOOKUP(J127,'Information Page'!$C$24:$F$123,2,FALSE))","v":"-"},{"$f":"IF(ISERROR(VLOOKUP(J127,'Information Page'!$C$24:$F$123,3,FALSE)),\"-\",VLOOKUP(J127,'Information Page'!$C$24:$F$123,3,FALSE))","v":"-"},{"$f":"IF(ISERROR(VLOOKUP(J127,'Information Page'!$C$24:$F$123,4,FALSE)),\"-\",VLOOKUP(J127,'Information Page'!$C$24:$F$123,4,FALSE))","v":"-"},null,"0"]
[null,null,108,null,null,null,null,null,null,null,{"$f":"IF(ISERROR(VLOOKUP(J128,'Information Page'!$C$24:$F$123,2,FALSE)),\"-\",VLOOKUP(J128,'Information Page'!$C$24:$F$123,2,FALSE))","v":"-"},{"$f":"IF(ISERROR(VLOOKUP(J128,'Information Page'!$C$24:$F$123,3,FALSE)),\"-\",VLOOKUP(J128,'Information Page'!$C$24:$F$123,3,FALSE))","v":"-"},{"$f":"IF(ISERROR(VLOOKUP(J128,'Information Page'!$C$24:$F$123,4,FALSE)),\"-\",VLOOKUP(J128,'Information Page'!$C$24:$F$123,4,FALSE))","v":"-"},null,"0"]
[null,null,109,null,null,null,null,null,null,null,{"$f":"IF(ISERROR(VLOOKUP(J129,'Information Page'!$C$24:$F$123,2,FALSE)),\"-\",VLOOKUP(J129,'Information Page'!$C$24:$F$123,2,FALSE))","v":"-"},{"$f":"IF(ISERROR(VLOOKUP(J129,'Information Page'!$C$24:$F$123,3,FALSE)),\"-\",VLOOKUP(J129,'Information Page'!$C$24:$F$123,3,FALSE))","v":"-"},{"$f":"IF(ISERROR(VLOOKUP(J129,'Information Page'!$C$24:$F$123,4,FALSE)),\"-\",VLOOKUP(J129,'Information Page'!$C$24:$F$123,4,FALSE))","v":"-"},null,"0"]
[null,null,110,null,null,null,null,null,null,null,{"$f":"IF(ISERROR(VLOOKUP(J130,'Information Page'!$C$24:$F$123,2,FALSE)),\"-\",VLOOKUP(J130,'Information Page'!$C$24:$F$123,2,FALSE))","v":"-"},{"$f":"IF(ISERROR(VLOOKUP(J130,'Information Page'!$C$24:$F$123,3,FALSE)),\"-\",VLOOKUP(J130,'Information Page'!$C$24:$F$123,3,FALSE))","v":"-"},{"$f":"IF(ISERROR(VLOOKUP(J130,'Information Page'!$C$24:$F$123,4,FALSE)),\"-\",VLOOKUP(J130,'Information Page'!$C$24:$F$123,4,FALSE))","v":"-"},null,"0"]
[null,null,111,null,null,null,null,null,null,null,{"$f":"IF(ISERROR(VLOOKUP(J131,'Information Page'!$C$24:$F$123,2,FALSE)),\"-\",VLOOKUP(J131,'Information Page'!$C$24:$F$123,2,FALSE))","v":"-"},{"$f":"IF(ISERROR(VLOOKUP(J131,'Information Page'!$C$24:$F$123,3,FALSE)),\"-\",VLOOKUP(J131,'Information Page'!$C$24:$F$123,3,FALSE))","v":"-"},{"$f":"IF(ISERROR(VLOOKUP(J131,'Information Page'!$C$24:$F$123,4,FALSE)),\"-\",VLOOKUP(J131,'Information Page'!$C$24:$F$123,4,FALSE))","v":"-"},null,"0"]
[null,null,112,null,null,null,null,null,null,null,{"$f":"IF(ISERROR(VLOOKUP(J132,'Information Page'!$C$24:$F$123,2,FALSE)),\"-\",VLOOKUP(J132,'Information Page'!$C$24:$F$123,2,FALSE))","v":"-"},{"$f":"IF(ISERROR(VLOOKUP(J132,'Information Page'!$C$24:$F$123,3,FALSE)),\"-\",VLOOKUP(J132,'Information Page'!$C$24:$F$123,3,FALSE))","v":"-"},{"$f":"IF(ISERROR(VLOOKUP(J132,'Information Page'!$C$24:$F$123,4,FALSE)),\"-\",VLOOKUP(J132,'Information Page'!$C$24:$F$123,4,FALSE))","v":"-"},null,"0"]
[null,null,113,null,null,null,null,null,null,null,{"$f":"IF(ISERROR(VLOOKUP(J133,'Information Page'!$C$24:$F$123,2,FALSE)),\"-\",VLOOKUP(J133,'Information Page'!$C$24:$F$123,2,FALSE))","v":"-"},{"$f":"IF(ISERROR(VLOOKUP(J133,'Information Page'!$C$24:$F$123,3,FALSE)),\"-\",VLOOKUP(J133,'Information Page'!$C$24:$F$123,3,FALSE))","v":"-"},{"$f":"IF(ISERROR(VLOOKUP(J133,'Information Page'!$C$24:$F$123,4,FALSE)),\"-\",VLOOKUP(J133,'Information Page'!$C$24:$F$123,4,FALSE))","v":"-"},null,"0"]
[null,null,114,null,null,null,null,null,null,null,{"$f":"IF(ISERROR(VLOOKUP(J134,'Information Page'!$C$24:$F$123,2,FALSE)),\"-\",VLOOKUP(J134,'Information Page'!$C$24:$F$123,2,FALSE))","v":"-"},{"$f":"IF(ISERROR(VLOOKUP(J134,'Information Page'!$C$24:$F$123,3,FALSE)),\"-\",VLOOKUP(J134,'Information Page'!$C$24:$F$123,3,FALSE))","v":"-"},{"$f":"IF(ISERROR(VLOOKUP(J134,'Information Page'!$C$24:$F$123,4,FALSE)),\"-\",VLOOKUP(J134,'Information Page'!$C$24:$F$123,4,FALSE))","v":"-"},null,"0"]
[null,null,115,null,null,null,null,null,null,null,{"$f":"IF(ISERROR(VLOOKUP(J135,'Information Page'!$C$24:$F$123,2,FALSE)),\"-\",VLOOKUP(J135,'Information Page'!$C$24:$F$123,2,FALSE))","v":"-"},{"$f":"IF(ISERROR(VLOOKUP(J135,'Information Page'!$C$24:$F$123,3,FALSE)),\"-\",VLOOKUP(J135,'Information Page'!$C$24:$F$123,3,FALSE))","v":"-"},{"$f":"IF(ISERROR(VLOOKUP(J135,'Information Page'!$C$24:$F$123,4,FALSE)),\"-\",VLOOKUP(J135,'Information Page'!$C$24:$F$123,4,FALSE))","v":"-"},null,"0"]
[null,null,116,null,null,null,null,null,null,null,{"$f":"IF(ISERROR(VLOOKUP(J136,'Information Page'!$C$24:$F$123,2,FALSE)),\"-\",VLOOKUP(J136,'Information Page'!$C$24:$F$123,2,FALSE))","v":"-"},{"$f":"IF(ISERROR(VLOOKUP(J136,'Information Page'!$C$24:$F$123,3,FALSE)),\"-\",VLOOKUP(J136,'Information Page'!$C$24:$F$123,3,FALSE))","v":"-"},{"$f":"IF(ISERROR(VLOOKUP(J136,'Information Page'!$C$24:$F$123,4,FALSE)),\"-\",VLOOKUP(J136,'Information Page'!$C$24:$F$123,4,FALSE))","v":"-"},null,"0"]
[null,null,117,null,null,null,null,null,null,null,{"$f":"IF(ISERROR(VLOOKUP(J137,'Information Page'!$C$24:$F$123,2,FALSE)),\"-\",VLOOKUP(J137,'Information Page'!$C$24:$F$123,2,FALSE))","v":"-"},{"$f":"IF(ISERROR(VLOOKUP(J137,'Information Page'!$C$24:$F$123,3,FALSE)),\"-\",VLOOKUP(J137,'Information Page'!$C$24:$F$123,3,FALSE))","v":"-"},{"$f":"IF(ISERROR(VLOOKUP(J137,'Information Page'!$C$24:$F$123,4,FALSE)),\"-\",VLOOKUP(J137,'Information Page'!$C$24:$F$123,4,FALSE))","v":"-"},null,"0"]
[null,null,118,null,null,null,null,null,null,null,{"$f":"IF(ISERROR(VLOOKUP(J138,'Information Page'!$C$24:$F$123,2,FALSE)),\"-\",VLOOKUP(J138,'Information Page'!$C$24:$F$123,2,FALSE))","v":"-"},{"$f":"IF(ISERROR(VLOOKUP(J138,'Information Page'!$C$24:$F$123,3,FALSE)),\"-\",VLOOKUP(J138,'Information Page'!$C$24:$F$123,3,FALSE))","v":"-"},{"$f":"IF(ISERROR(VLOOKUP(J138,'Information Page'!$C$24:$F$123,4,FALSE)),\"-\",VLOOKUP(J138,'Information Page'!$C$24:$F$123,4,FALSE))","v":"-"},null,"0"]
[null,null,119,null,null,null,null,null,null,null,{"$f":"IF(ISERROR(VLOOKUP(J139,'Information Page'!$C$24:$F$123,2,FALSE)),\"-\",VLOOKUP(J139,'Information Page'!$C$24:$F$123,2,FALSE))","v":"-"},{"$f":"IF(ISERROR(VLOOKUP(J139,'Information Page'!$C$24:$F$123,3,FALSE)),\"-\",VLOOKUP(J139,'Information Page'!$C$24:$F$123,3,FALSE))","v":"-"},{"$f":"IF(ISERROR(VLOOKUP(J139,'Information Page'!$C$24:$F$123,4,FALSE)),\"-\",VLOOKUP(J139,'Information Page'!$C$24:$F$123,4,FALSE))","v":"-"},null,"0"]
[null,null,120,null,null,null,null,null,null,null,{"$f":"IF(ISERROR(VLOOKUP(J140,'Information Page'!$C$24:$F$123,2,FALSE)),\"-\",VLOOKUP(J140,'Information Page'!$C$24:$F$123,2,FALSE))","v":"-"},{"$f":"IF(ISERROR(VLOOKUP(J140,'Information Page'!$C$24:$F$123,3,FALSE)),\"-\",VLOOKUP(J140,'Information Page'!$C$24:$F$123,3,FALSE))","v":"-"},{"$f":"IF(ISERROR(VLOOKUP(J140,'Information Page'!$C$24:$F$123,4,FALSE)),\"-\",VLOOKUP(J140,'Information Page'!$C$24:$F$123,4,FALSE))","v":"-"},null,"0"]
[null,null,121,null,null,null,null,null,null,null,{"$f":"IF(ISERROR(VLOOKUP(J141,'Information Page'!$C$24:$F$123,2,FALSE)),\"-\",VLOOKUP(J141,'Information Page'!$C$24:$F$123,2,FALSE))","v":"-"},{"$f":"IF(ISERROR(VLOOKUP(J141,'Information Page'!$C$24:$F$123,3,FALSE)),\"-\",VLOOKUP(J141,'Information Page'!$C$24:$F$123,3,FALSE))","v":"-"},{"$f":"IF(ISERROR(VLOOKUP(J141,'Information Page'!$C$24:$F$123,4,FALSE)),\"-\",VLOOKUP(J141,'Information Page'!$C$24:$F$123,4,FALSE))","v":"-"},null,"0"]
[null,null,122,null,null,null,null,null,null,null,{"$f":"IF(ISERROR(VLOOKUP(J142,'Information Page'!$C$24:$F$123,2,FALSE)),\"-\",VLOOKUP(J142,'Information Page'!$C$24:$F$123,2,FALSE))","v":"-"},{"$f":"IF(ISERROR(VLOOKUP(J142,'Information Page'!$C$24:$F$123,3,FALSE)),\"-\",VLOOKUP(J142,'Information Page'!$C$24:$F$123,3,FALSE))","v":"-"},{"$f":"IF(ISERROR(VLOOKUP(J142,'Information Page'!$C$24:$F$123,4,FALSE)),\"-\",VLOOKUP(J142,'Information Page'!$C$24:$F$123,4,FALSE))","v":"-"},null,"0"]
[null,null,123,null,null,null,null,null,null,null,{"$f":"IF(ISERROR(VLOOKUP(J143,'Information Page'!$C$24:$F$123,2,FALSE)),\"-\",VLOOKUP(J143,'Information Page'!$C$24:$F$123,2,FALSE))","v":"-"},{"$f":"IF(ISERROR(VLOOKUP(J143,'Information Page'!$C$24:$F$123,3,FALSE)),\"-\",VLOOKUP(J143,'Information Page'!$C$24:$F$123,3,FALSE))","v":"-"},{"$f":"IF(ISERROR(VLOOKUP(J143,'Information Page'!$C$24:$F$123,4,FALSE)),\"-\",VLOOKUP(J143,'Information Page'!$C$24:$F$123,4,FALSE))","v":"-"},null,"0"]
[null,null,124,null,null,null,null,null,null,null,{"$f":"IF(ISERROR(VLOOKUP(J144,'Information Page'!$C$24:$F$123,2,FALSE)),\"-\",VLOOKUP(J144,'Information Page'!$C$24:$F$123,2,FALSE))","v":"-"},{"$f":"IF(ISERROR(VLOOKUP(J144,'Information Page'!$C$24:$F$123,3,FALSE)),\"-\",VLOOKUP(J144,'Information Page'!$C$24:$F$123,3,FALSE))","v":"-"},{"$f":"IF(ISERROR(VLOOKUP(J144,'Information Page'!$C$24:$F$123,4,FALSE)),\"-\",VLOOKUP(J144,'Information Page'!$C$24:$F$123,4,FALSE))","v":"-"},null,"0"]
[null,null,125,null,null,null,null,null,null,null,{"$f":"IF(ISERROR(VLOOKUP(J145,'Information Page'!$C$24:$F$123,2,FALSE)),\"-\",VLOOKUP(J145,'Information Page'!$C$24:$F$123,2,FALSE))","v":"-"},{"$f":"IF(ISERROR(VLOOKUP(J145,'Information Page'!$C$24:$F$123,3,FALSE)),\"-\",VLOOKUP(J145,'Information Page'!$C$24:$F$123,3,FALSE))","v":"-"},{"$f":"IF(ISERROR(VLOOKUP(J145,'Information Page'!$C$24:$F$123,4,FALSE)),\"-\",VLOOKUP(J145,'Information Page'!$C$24:$F$123,4,FALSE))","v":"-"},null,"0"]
[null,null,126,null,null,null,null,null,null,null,{"$f":"IF(ISERROR(VLOOKUP(J146,'Information Page'!$C$24:$F$123,2,FALSE)),\"-\",VLOOKUP(J146,'Information Page'!$C$24:$F$123,2,FALSE))","v":"-"},{"$f":"IF(ISERROR(VLOOKUP(J146,'Information Page'!$C$24:$F$123,3,FALSE)),\"-\",VLOOKUP(J146,'Information Page'!$C$24:$F$123,3,FALSE))","v":"-"},{"$f":"IF(ISERROR(VLOOKUP(J146,'Information Page'!$C$24:$F$123,4,FALSE)),\"-\",VLOOKUP(J146,'Information Page'!$C$24:$F$123,4,FALSE))","v":"-"},null,"0"]
[null,null,127,null,null,null,null,null,null,null,{"$f":"IF(ISERROR(VLOOKUP(J147,'Information Page'!$C$24:$F$123,2,FALSE)),\"-\",VLOOKUP(J147,'Information Page'!$C$24:$F$123,2,FALSE))","v":"-"},{"$f":"IF(ISERROR(VLOOKUP(J147,'Information Page'!$C$24:$F$123,3,FALSE)),\"-\",VLOOKUP(J147,'Information Page'!$C$24:$F$123,3,FALSE))","v":"-"},{"$f":"IF(ISERROR(VLOOKUP(J147,'Information Page'!$C$24:$F$123,4,FALSE)),\"-\",VLOOKUP(J147,'Information Page'!$C$24:$F$123,4,FALSE))","v":"-"},null,"0"]
[null,null,128,null,null,null,null,null,null,null,{"$f":"IF(ISERROR(VLOOKUP(J148,'Information Page'!$C$24:$F$123,2,FALSE)),\"-\",VLOOKUP(J148,'Information Page'!$C$24:$F$123,2,FALSE))","v":"-"},{"$f":"IF(ISERROR(VLOOKUP(J148,'Information Page'!$C$24:$F$123,3,FALSE)),\"-\",VLOOKUP(J148,'Information Page'!$C$24:$F$123,3,FALSE))","v":"-"},{"$f":"IF(ISERROR(VLOOKUP(J148,'Information Page'!$C$24:$F$123,4,FALSE)),\"-\",VLOOKUP(J148,'Information Page'!$C$24:$F$123,4,FALSE))","v":"-"},null,"0"]
[null,null,129,null,null,null,null,null,null,null,{"$f":"IF(ISERROR(VLOOKUP(J149,'Information Page'!$C$24:$F$123,2,FALSE)),\"-\",VLOOKUP(J149,'Information Page'!$C$24:$F$123,2,FALSE))","v":"-"},{"$f":"IF(ISERROR(VLOOKUP(J149,'Information Page'!$C$24:$F$123,3,FALSE)),\"-\",VLOOKUP(J149,'Information Page'!$C$24:$F$123,3,FALSE))","v":"-"},{"$f":"IF(ISERROR(VLOOKUP(J149,'Information Page'!$C$24:$F$123,4,FALSE)),\"-\",VLOOKUP(J149,'Information Page'!$C$24:$F$123,4,FALSE))","v":"-"},null,"0"]
[null,null,130,null,null,null,null,null,null,null,{"$f":"IF(ISERROR(VLOOKUP(J150,'Information Page'!$C$24:$F$123,2,FALSE)),\"-\",VLOOKUP(J150,'Information Page'!$C$24:$F$123,2,FALSE))","v":"-"},{"$f":"IF(ISERROR(VLOOKUP(J150,'Information Page'!$C$24:$F$123,3,FALSE)),\"-\",VLOOKUP(J150,'Information Page'!$C$24:$F$123,3,FALSE))","v":"-"},{"$f":"IF(ISERROR(VLOOKUP(J150,'Information Page'!$C$24:$F$123,4,FALSE)),\"-\",VLOOKUP(J150,'Information Page'!$C$24:$F$123,4,FALSE))","v":"-"},null,{"$f":"IF(M150=\"-\",\"0\",M150*N150)","v":"0"}]
[null,null,131,null,null,null,null,null,null,null,{"$f":"IF(ISERROR(VLOOKUP(J151,'Information Page'!$C$24:$F$123,2,FALSE)),\"-\",VLOOKUP(J151,'Information Page'!$C$24:$F$123,2,FALSE))","v":"-"},{"$f":"IF(ISERROR(VLOOKUP(J151,'Information Page'!$C$24:$F$123,3,FALSE)),\"-\",VLOOKUP(J151,'Information Page'!$C$24:$F$123,3,FALSE))","v":"-"},{"$f":"IF(ISERROR(VLOOKUP(J151,'Information Page'!$C$24:$F$123,4,FALSE)),\"-\",VLOOKUP(J151,'Information Page'!$C$24:$F$123,4,FALSE))","v":"-"},null,"0"]
[null,null,132,null,null,null,null,null,null,null,{"$f":"IF(ISERROR(VLOOKUP(J152,'Information Page'!$C$24:$F$123,2,FALSE)),\"-\",VLOOKUP(J152,'Information Page'!$C$24:$F$123,2,FALSE))","v":"-"},{"$f":"IF(ISERROR(VLOOKUP(J152,'Information Page'!$C$24:$F$123,3,FALSE)),\"-\",VLOOKUP(J152,'Information Page'!$C$24:$F$123,3,FALSE))","v":"-"},{"$f":"IF(ISERROR(VLOOKUP(J152,'Information Page'!$C$24:$F$123,4,FALSE)),\"-\",VLOOKUP(J152,'Information Page'!$C$24:$F$123,4,FALSE))","v":"-"},null,"0"]
[null,null,133,null,null,null,null,null,null,null,{"$f":"IF(ISERROR(VLOOKUP(J153,'Information Page'!$C$24:$F$123,2,FALSE)),\"-\",VLOOKUP(J153,'Information Page'!$C$24:$F$123,2,FALSE))","v":"-"},{"$f":"IF(ISERROR(VLOOKUP(J153,'Information Page'!$C$24:$F$123,3,FALSE)),\"-\",VLOOKUP(J153,'Information Page'!$C$24:$F$123,3,FALSE))","v":"-"},{"$f":"IF(ISERROR(VLOOKUP(J153,'Information Page'!$C$24:$F$123,4,FALSE)),\"-\",VLOOKUP(J153,'Information Page'!$C$24:$F$123,4,FALSE))","v":"-"},null,"0"]
[null,null,134,null,null,null,null,null,null,null,{"$f":"IF(ISERROR(VLOOKUP(J154,'Information Page'!$C$24:$F$123,2,FALSE)),\"-\",VLOOKUP(J154,'Information Page'!$C$24:$F$123,2,FALSE))","v":"-"},{"$f":"IF(ISERROR(VLOOKUP(J154,'Information Page'!$C$24:$F$123,3,FALSE)),\"-\",VLOOKUP(J154,'Information Page'!$C$24:$F$123,3,FALSE))","v":"-"},{"$f":"IF(ISERROR(VLOOKUP(J154,'Information Page'!$C$24:$F$123,4,FALSE)),\"-\",VLOOKUP(J154,'Information Page'!$C$24:$F$123,4,FALSE))","v":"-"},null,"0"]
[null,null,135,null,null,null,null,null,null,null,{"$f":"IF(ISERROR(VLOOKUP(J155,'Information Page'!$C$24:$F$123,2,FALSE)),\"-\",VLOOKUP(J155,'Information Page'!$C$24:$F$123,2,FALSE))","v":"-"},{"$f":"IF(ISERROR(VLOOKUP(J155,'Information Page'!$C$24:$F$123,3,FALSE)),\"-\",VLOOKUP(J155,'Information Page'!$C$24:$F$123,3,FALSE))","v":"-"},{"$f":"IF(ISERROR(VLOOKUP(J155,'Information Page'!$C$24:$F$123,4,FALSE)),\"-\",VLOOKUP(J155,'Information Page'!$C$24:$F$123,4,FALSE))","v":"-"},null,"0"]
[null,null,136,null,null,null,null,null,null,null,{"$f":"IF(ISERROR(VLOOKUP(J156,'Information Page'!$C$24:$F$123,2,FALSE)),\"-\",VLOOKUP(J156,'Information Page'!$C$24:$F$123,2,FALSE))","v":"-"},{"$f":"IF(ISERROR(VLOOKUP(J156,'Information Page'!$C$24:$F$123,3,FALSE)),\"-\",VLOOKUP(J156,'Information Page'!$C$24:$F$123,3,FALSE))","v":"-"},{"$f":"IF(ISERROR(VLOOKUP(J156,'Information Page'!$C$24:$F$123,4,FALSE)),\"-\",VLOOKUP(J156,'Information Page'!$C$24:$F$123,4,FALSE))","v":"-"},null,"0"]
[null,null,137,null,null,null,null,null,null,null,{"$f":"IF(ISERROR(VLOOKUP(J157,'Information Page'!$C$24:$F$123,2,FALSE)),\"-\",VLOOKUP(J157,'Information Page'!$C$24:$F$123,2,FALSE))","v":"-"},{"$f":"IF(ISERROR(VLOOKUP(J157,'Information Page'!$C$24:$F$123,3,FALSE)),\"-\",VLOOKUP(J157,'Information Page'!$C$24:$F$123,3,FALSE))","v":"-"},{"$f":"IF(ISERROR(VLOOKUP(J157,'Information Page'!$C$24:$F$123,4,FALSE)),\"-\",VLOOKUP(J157,'Information Page'!$C$24:$F$123,4,FALSE))","v":"-"},null,"0"]
[null,null,138,null,null,null,null,null,null,null,{"$f":"IF(ISERROR(VLOOKUP(J158,'Information Page'!$C$24:$F$123,2,FALSE)),\"-\",VLOOKUP(J158,'Information Page'!$C$24:$F$123,2,FALSE))","v":"-"},{"$f":"IF(ISERROR(VLOOKUP(J158,'Information Page'!$C$24:$F$123,3,FALSE)),\"-\",VLOOKUP(J158,'Information Page'!$C$24:$F$123,3,FALSE))","v":"-"},{"$f":"IF(ISERROR(VLOOKUP(J158,'Information Page'!$C$24:$F$123,4,FALSE)),\"-\",VLOOKUP(J158,'Information Page'!$C$24:$F$123,4,FALSE))","v":"-"},null,"0"]
[null,null,139,null,null,null,null,null,null,null,{"$f":"IF(ISERROR(VLOOKUP(J159,'Information Page'!$C$24:$F$123,2,FALSE)),\"-\",VLOOKUP(J159,'Information Page'!$C$24:$F$123,2,FALSE))","v":"-"},{"$f":"IF(ISERROR(VLOOKUP(J159,'Information Page'!$C$24:$F$123,3,FALSE)),\"-\",VLOOKUP(J159,'Information Page'!$C$24:$F$123,3,FALSE))","v":"-"},{"$f":"IF(ISERROR(VLOOKUP(J159,'Information Page'!$C$24:$F$123,4,FALSE)),\"-\",VLOOKUP(J159,'Information Page'!$C$24:$F$123,4,FALSE))","v":"-"},null,"0"]
[null,null,140,null,null,null,null,null,null,null,{"$f":"IF(ISERROR(VLOOKUP(J160,'Information Page'!$C$24:$F$123,2,FALSE)),\"-\",VLOOKUP(J160,'Information Page'!$C$24:$F$123,2,FALSE))","v":"-"},{"$f":"IF(ISERROR(VLOOKUP(J160,'Information Page'!$C$24:$F$123,3,FALSE)),\"-\",VLOOKUP(J160,'Information Page'!$C$24:$F$123,3,FALSE))","v":"-"},{"$f":"IF(ISERROR(VLOOKUP(J160,'Information Page'!$C$24:$F$123,4,FALSE)),\"-\",VLOOKUP(J160,'Information Page'!$C$24:$F$123,4,FALSE))","v":"-"},null,"0"]
[null,null,141,null,null,null,null,null,null,null,{"$f":"IF(ISERROR(VLOOKUP(J161,'Information Page'!$C$24:$F$123,2,FALSE)),\"-\",VLOOKUP(J161,'Information Page'!$C$24:$F$123,2,FALSE))","v":"-"},{"$f":"IF(ISERROR(VLOOKUP(J161,'Information Page'!$C$24:$F$123,3,FALSE)),\"-\",VLOOKUP(J161,'Information Page'!$C$24:$F$123,3,FALSE))","v":"-"},{"$f":"IF(ISERROR(VLOOKUP(J161,'Information Page'!$C$24:$F$123,4,FALSE)),\"-\",VLOOKUP(J161,'Information Page'!$C$24:$F$123,4,FALSE))","v":"-"},null,"0"]
[null,null,142,null,null,null,null,null,null,null,{"$f":"IF(ISERROR(VLOOKUP(J162,'Information Page'!$C$24:$F$123,2,FALSE)),\"-\",VLOOKUP(J162,'Information Page'!$C$24:$F$123,2,FALSE))","v":"-"},{"$f":"IF(ISERROR(VLOOKUP(J162,'Information Page'!$C$24:$F$123,3,FALSE)),\"-\",VLOOKUP(J162,'Information Page'!$C$24:$F$123,3,FALSE))","v":"-"},{"$f":"IF(ISERROR(VLOOKUP(J162,'Information Page'!$C$24:$F$123,4,FALSE)),\"-\",VLOOKUP(J162,'Information Page'!$C$24:$F$123,4,FALSE))","v":"-"},null,"0"]
[null,null,143,null,null,null,null,null,null,null,{"$f":"IF(ISERROR(VLOOKUP(J163,'Information Page'!$C$24:$F$123,2,FALSE)),\"-\",VLOOKUP(J163,'Information Page'!$C$24:$F$123,2,FALSE))","v":"-"},{"$f":"IF(ISERROR(VLOOKUP(J163,'Information Page'!$C$24:$F$123,3,FALSE)),\"-\",VLOOKUP(J163,'Information Page'!$C$24:$F$123,3,FALSE))","v":"-"},{"$f":"IF(ISERROR(VLOOKUP(J163,'Information Page'!$C$24:$F$123,4,FALSE)),\"-\",VLOOKUP(J163,'Information Page'!$C$24:$F$123,4,FALSE))","v":"-"},null,"0"]
[null,null,144,null,null,null,null,null,null,null,{"$f":"IF(ISERROR(VLOOKUP(J164,'Information Page'!$C$24:$F$123,2,FALSE)),\"-\",VLOOKUP(J164,'Information Page'!$C$24:$F$123,2,FALSE))","v":"-"},{"$f":"IF(ISERROR(VLOOKUP(J164,'Information Page'!$C$24:$F$123,3,FALSE)),\"-\",VLOOKUP(J164,'Information Page'!$C$24:$F$123,3,FALSE))","v":"-"},{"$f":"IF(ISERROR(VLOOKUP(J164,'Information Page'!$C$24:$F$123,4,FALSE)),\"-\",VLOOKUP(J164,'Information Page'!$C$24:$F$123,4,FALSE))","v":"-"},null,"0"]
[null,null,145,null,null,null,null,null,null,null,{"$f":"IF(ISERROR(VLOOKUP(J165,'Information Page'!$C$24:$F$123,2,FALSE)),\"-\",VLOOKUP(J165,'Information Page'!$C$24:$F$123,2,FALSE))","v":"-"},{"$f":"IF(ISERROR(VLOOKUP(J165,'Information Page'!$C$24:$F$123,3,FALSE)),\"-\",VLOOKUP(J165,'Information Page'!$C$24:$F$123,3,FALSE))","v":"-"},{"$f":"IF(ISERROR(VLOOKUP(J165,'Information Page'!$C$24:$F$123,4,FALSE)),\"-\",VLOOKUP(J165,'Information Page'!$C$24:$F$123,4,FALSE))","v":"-"},null,"0"]
[null,null,146,null,null,null,null,null,null,null,{"$f":"IF(ISERROR(VLOOKUP(J166,'Information Page'!$C$24:$F$123,2,FALSE)),\"-\",VLOOKUP(J166,'Information Page'!$C$24:$F$123,2,FALSE))","v":"-"},{"$f":"IF(ISERROR(VLOOKUP(J166,'Information Page'!$C$24:$F$123,3,FALSE)),\"-\",VLOOKUP(J166,'Information Page'!$C$24:$F$123,3,FALSE))","v":"-"},{"$f":"IF(ISERROR(VLOOKUP(J166,'Information Page'!$C$24:$F$123,4,FALSE)),\"-\",VLOOKUP(J166,'Information Page'!$C$24:$F$123,4,FALSE))","v":"-"},null,"0"]
[null,null,147,null,null,null,null,null,null,null,{"$f":"IF(ISERROR(VLOOKUP(J167,'Information Page'!$C$24:$F$123,2,FALSE)),\"-\",VLOOKUP(J167,'Information Page'!$C$24:$F$123,2,FALSE))","v":"-"},{"$f":"IF(ISERROR(VLOOKUP(J167,'Information Page'!$C$24:$F$123,3,FALSE)),\"-\",VLOOKUP(J167,'Information Page'!$C$24:$F$123,3,FALSE))","v":"-"},{"$f":"IF(ISERROR(VLOOKUP(J167,'Information Page'!$C$24:$F$123,4,FALSE)),\"-\",VLOOKUP(J167,'Information Page'!$C$24:$F$123,4,FALSE))","v":"-"},null,"0"]
[null,null,148,null,null,null,null,null,null,null,{"$f":"IF(ISERROR(VLOOKUP(J168,'Information Page'!$C$24:$F$123,2,FALSE)),\"-\",VLOOKUP(J168,'Information Page'!$C$24:$F$123,2,FALSE))","v":"-"},{"$f":"IF(ISERROR(VLOOKUP(J168,'Information Page'!$C$24:$F$123,3,FALSE)),\"-\",VLOOKUP(J168,'Information Page'!$C$24:$F$123,3,FALSE))","v":"-"},{"$f":"IF(ISERROR(VLOOKUP(J168,'Information Page'!$C$24:$F$123,4,FALSE)),\"-\",VLOOKUP(J168,'Information Page'!$C$24:$F$123,4,FALSE))","v":"-"},null,"0"]
[null,null,149,null,null,null,null,null,null,null,{"$f":"IF(ISERROR(VLOOKUP(J169,'Information Page'!$C$24:$F$123,2,FALSE)),\"-\",VLOOKUP(J169,'Information Page'!$C$24:$F$123,2,FALSE))","v":"-"},{"$f":"IF(ISERROR(VLOOKUP(J169,'Information Page'!$C$24:$F$123,3,FALSE)),\"-\",VLOOKUP(J169,'Information Page'!$C$24:$F$123,3,FALSE))","v":"-"},{"$f":"IF(ISERROR(VLOOKUP(J169,'Information Page'!$C$24:$F$123,4,FALSE)),\"-\",VLOOKUP(J169,'Information Page'!$C$24:$F$123,4,FALSE))","v":"-"},null,"0"]
[null,null,150,null,null,null,null,null,null,null,{"$f":"IF(ISERROR(VLOOKUP(J170,'Information Page'!$C$24:$F$123,2,FALSE)),\"-\",VLOOKUP(J170,'Information Page'!$C$24:$F$123,2,FALSE))","v":"-"},{"$f":"IF(ISERROR(VLOOKUP(J170,'Information Page'!$C$24:$F$123,3,FALSE)),\"-\",VLOOKUP(J170,'Information Page'!$C$24:$F$123,3,FALSE))","v":"-"},{"$f":"IF(ISERROR(VLOOKUP(J170,'Information Page'!$C$24:$F$123,4,FALSE)),\"-\",VLOOKUP(J170,'Information Page'!$C$24:$F$123,4,FALSE))","v":"-"},null,"0"]
[null,null,151,null,null,null,null,null,null,null,{"$f":"IF(ISERROR(VLOOKUP(J171,'Information Page'!$C$24:$F$123,2,FALSE)),\"-\",VLOOKUP(J171,'Information Page'!$C$24:$F$123,2,FALSE))","v":"-"},{"$f":"IF(ISERROR(VLOOKUP(J171,'Information Page'!$C$24:$F$123,3,FALSE)),\"-\",VLOOKUP(J171,'Information Page'!$C$24:$F$123,3,FALSE))","v":"-"},{"$f":"IF(ISERROR(VLOOKUP(J171,'Information Page'!$C$24:$F$123,4,FALSE)),\"-\",VLOOKUP(J171,'Information Page'!$C$24:$F$123,4,FALSE))","v":"-"},null,"0"]
[null,null,152,null,null,null,null,null,null,null,{"$f":"IF(ISERROR(VLOOKUP(J172,'Information Page'!$C$24:$F$123,2,FALSE)),\"-\",VLOOKUP(J172,'Information Page'!$C$24:$F$123,2,FALSE))","v":"-"},{"$f":"IF(ISERROR(VLOOKUP(J172,'Information Page'!$C$24:$F$123,3,FALSE)),\"-\",VLOOKUP(J172,'Information Page'!$C$24:$F$123,3,FALSE))","v":"-"},{"$f":"IF(ISERROR(VLOOKUP(J172,'Information Page'!$C$24:$F$123,4,FALSE)),\"-\",VLOOKUP(J172,'Information Page'!$C$24:$F$123,4,FALSE))","v":"-"},null,"0"]
[null,null,153,null,null,null,null,null,null,null,{"$f":"IF(ISERROR(VLOOKUP(J173,'Information Page'!$C$24:$F$123,2,FALSE)),\"-\",VLOOKUP(J173,'Information Page'!$C$24:$F$123,2,FALSE))","v":"-"},{"$f":"IF(ISERROR(VLOOKUP(J173,'Information Page'!$C$24:$F$123,3,FALSE)),\"-\",VLOOKUP(J173,'Information Page'!$C$24:$F$123,3,FALSE))","v":"-"},{"$f":"IF(ISERROR(VLOOKUP(J173,'Information Page'!$C$24:$F$123,4,FALSE)),\"-\",VLOOKUP(J173,'Information Page'!$C$24:$F$123,4,FALSE))","v":"-"},null,"0"]
[null,null,154,null,null,null,null,null,null,null,{"$f":"IF(ISERROR(VLOOKUP(J174,'Information Page'!$C$24:$F$123,2,FALSE)),\"-\",VLOOKUP(J174,'Information Page'!$C$24:$F$123,2,FALSE))","v":"-"},{"$f":"IF(ISERROR(VLOOKUP(J174,'Information Page'!$C$24:$F$123,3,FALSE)),\"-\",VLOOKUP(J174,'Information Page'!$C$24:$F$123,3,FALSE))","v":"-"},{"$f":"IF(ISERROR(VLOOKUP(J174,'Information Page'!$C$24:$F$123,4,FALSE)),\"-\",VLOOKUP(J174,'Information Page'!$C$24:$F$123,4,FALSE))","v":"-"},null,"0"]
[null,null,155,null,null,null,null,null,null,null,{"$f":"IF(ISERROR(VLOOKUP(J175,'Information Page'!$C$24:$F$123,2,FALSE)),\"-\",VLOOKUP(J175,'Information Page'!$C$24:$F$123,2,FALSE))","v":"-"},{"$f":"IF(ISERROR(VLOOKUP(J175,'Information Page'!$C$24:$F$123,3,FALSE)),\"-\",VLOOKUP(J175,'Information Page'!$C$24:$F$123,3,FALSE))","v":"-"},{"$f":"IF(ISERROR(VLOOKUP(J175,'Information Page'!$C$24:$F$123,4,FALSE)),\"-\",VLOOKUP(J175,'Information Page'!$C$24:$F$123,4,FALSE))","v":"-"},null,"0"]
[null,null,156,null,null,null,null,null,null,null,{"$f":"IF(ISERROR(VLOOKUP(J176,'Information Page'!$C$24:$F$123,2,FALSE)),\"-\",VLOOKUP(J176,'Information Page'!$C$24:$F$123,2,FALSE))","v":"-"},{"$f":"IF(ISERROR(VLOOKUP(J176,'Information Page'!$C$24:$F$123,3,FALSE)),\"-\",VLOOKUP(J176,'Information Page'!$C$24:$F$123,3,FALSE))","v":"-"},{"$f":"IF(ISERROR(VLOOKUP(J176,'Information Page'!$C$24:$F$123,4,FALSE)),\"-\",VLOOKUP(J176,'Information Page'!$C$24:$F$123,4,FALSE))","v":"-"},null,"0"]
[null,null,157,null,null,null,null,null,null,null,{"$f":"IF(ISERROR(VLOOKUP(J177,'Information Page'!$C$24:$F$123,2,FALSE)),\"-\",VLOOKUP(J177,'Information Page'!$C$24:$F$123,2,FALSE))","v":"-"},{"$f":"IF(ISERROR(VLOOKUP(J177,'Information Page'!$C$24:$F$123,3,FALSE)),\"-\",VLOOKUP(J177,'Information Page'!$C$24:$F$123,3,FALSE))","v":"-"},{"$f":"IF(ISERROR(VLOOKUP(J177,'Information Page'!$C$24:$F$123,4,FALSE)),\"-\",VLOOKUP(J177,'Information Page'!$C$24:$F$123,4,FALSE))","v":"-"},null,"0"]
[null,null,158,null,null,null,null,null,null,null,{"$f":"IF(ISERROR(VLOOKUP(J178,'Information Page'!$C$24:$F$123,2,FALSE)),\"-\",VLOOKUP(J178,'Information Page'!$C$24:$F$123,2,FALSE))","v":"-"},{"$f":"IF(ISERROR(VLOOKUP(J178,'Information Page'!$C$24:$F$123,3,FALSE)),\"-\",VLOOKUP(J178,'Information Page'!$C$24:$F$123,3,FALSE))","v":"-"},{"$f":"IF(ISERROR(VLOOKUP(J178,'Information Page'!$C$24:$F$123,4,FALSE)),\"-\",VLOOKUP(J178,'Information Page'!$C$24:$F$123,4,FALSE))","v":"-"},null,"0"]
[null,null,159,null,null,null,null,null,null,null,{"$f":"IF(ISERROR(VLOOKUP(J179,'Information Page'!$C$24:$F$123,2,FALSE)),\"-\",VLOOKUP(J179,'Information Page'!$C$24:$F$123,2,FALSE))","v":"-"},{"$f":"IF(ISERROR(VLOOKUP(J179,'Information Page'!$C$24:$F$123,3,FALSE)),\"-\",VLOOKUP(J179,'Information Page'!$C$24:$F$123,3,FALSE))","v":"-"},{"$f":"IF(ISERROR(VLOOKUP(J179,'Information Page'!$C$24:$F$123,4,FALSE)),\"-\",VLOOKUP(J179,'Information Page'!$C$24:$F$123,4,FALSE))","v":"-"},null,"0"]
[null,null,160,null,null,null,null,null,null,null,{"$f":"IF(ISERROR(VLOOKUP(J180,'Information Page'!$C$24:$F$123,2,FALSE)),\"-\",VLOOKUP(J180,'Information Page'!$C$24:$F$123,2,FALSE))","v":"-"},{"$f":"IF(ISERROR(VLOOKUP(J180,'Information Page'!$C$24:$F$123,3,FALSE)),\"-\",VLOOKUP(J180,'Information Page'!$C$24:$F$123,3,FALSE))","v":"-"},{"$f":"IF(ISERROR(VLOOKUP(J180,'Information Page'!$C$24:$F$123,4,FALSE)),\"-\",VLOOKUP(J180,'Information Page'!$C$24:$F$123,4,FALSE))","v":"-"},null,"0"]
[null,null,161,null,null,null,null,null,null,null,{"$f":"IF(ISERROR(VLOOKUP(J181,'Information Page'!$C$24:$F$123,2,FALSE)),\"-\",VLOOKUP(J181,'Information Page'!$C$24:$F$123,2,FALSE))","v":"-"},{"$f":"IF(ISERROR(VLOOKUP(J181,'Information Page'!$C$24:$F$123,3,FALSE)),\"-\",VLOOKUP(J181,'Information Page'!$C$24:$F$123,3,FALSE))","v":"-"},{"$f":"IF(ISERROR(VLOOKUP(J181,'Information Page'!$C$24:$F$123,4,FALSE)),\"-\",VLOOKUP(J181,'Information Page'!$C$24:$F$123,4,FALSE))","v":"-"},null,"0"]
[null,null,162,null,null,null,null,null,null,null,{"$f":"IF(ISERROR(VLOOKUP(J182,'Information Page'!$C$24:$F$123,2,FALSE)),\"-\",VLOOKUP(J182,'Information Page'!$C$24:$F$123,2,FALSE))","v":"-"},{"$f":"IF(ISERROR(VLOOKUP(J182,'Information Page'!$C$24:$F$123,3,FALSE)),\"-\",VLOOKUP(J182,'Information Page'!$C$24:$F$123,3,FALSE))","v":"-"},{"$f":"IF(ISERROR(VLOOKUP(J182,'Information Page'!$C$24:$F$123,4,FALSE)),\"-\",VLOOKUP(J182,'Information Page'!$C$24:$F$123,4,FALSE))","v":"-"},null,"0"]
[null,null,163,null,null,null,null,null,null,null,{"$f":"IF(ISERROR(VLOOKUP(J183,'Information Page'!$C$24:$F$123,2,FALSE)),\"-\",VLOOKUP(J183,'Information Page'!$C$24:$F$123,2,FALSE))","v":"-"},{"$f":"IF(ISERROR(VLOOKUP(J183,'Information Page'!$C$24:$F$123,3,FALSE)),\"-\",VLOOKUP(J183,'Information Page'!$C$24:$F$123,3,FALSE))","v":"-"},{"$f":"IF(ISERROR(VLOOKUP(J183,'Information Page'!$C$24:$F$123,4,FALSE)),\"-\",VLOOKUP(J183,'Information Page'!$C$24:$F$123,4,FALSE))","v":"-"},null,"0"]
[null,null,164,null,null,null,null,null,null,null,{"$f":"IF(ISERROR(VLOOKUP(J184,'Information Page'!$C$24:$F$123,2,FALSE)),\"-\",VLOOKUP(J184,'Information Page'!$C$24:$F$123,2,FALSE))","v":"-"},{"$f":"IF(ISERROR(VLOOKUP(J184,'Information Page'!$C$24:$F$123,3,FALSE)),\"-\",VLOOKUP(J184,'Information Page'!$C$24:$F$123,3,FALSE))","v":"-"},{"$f":"IF(ISERROR(VLOOKUP(J184,'Information Page'!$C$24:$F$123,4,FALSE)),\"-\",VLOOKUP(J184,'Information Page'!$C$24:$F$123,4,FALSE))","v":"-"},null,"0"]
[null,null,165,null,null,null,null,null,null,null,{"$f":"IF(ISERROR(VLOOKUP(J185,'Information Page'!$C$24:$F$123,2,FALSE)),\"-\",VLOOKUP(J185,'Information Page'!$C$24:$F$123,2,FALSE))","v":"-"},{"$f":"IF(ISERROR(VLOOKUP(J185,'Information Page'!$C$24:$F$123,3,FALSE)),\"-\",VLOOKUP(J185,'Information Page'!$C$24:$F$123,3,FALSE))","v":"-"},{"$f":"IF(ISERROR(VLOOKUP(J185,'Information Page'!$C$24:$F$123,4,FALSE)),\"-\",VLOOKUP(J185,'Information Page'!$C$24:$F$123,4,FALSE))","v":"-"},null,"0"]
[null,null,166,null,null,null,null,null,null,null,{"$f":"IF(ISERROR(VLOOKUP(J186,'Information Page'!$C$24:$F$123,2,FALSE)),\"-\",VLOOKUP(J186,'Information Page'!$C$24:$F$123,2,FALSE))","v":"-"},{"$f":"IF(ISERROR(VLOOKUP(J186,'Information Page'!$C$24:$F$123,3,FALSE)),\"-\",VLOOKUP(J186,'Information Page'!$C$24:$F$123,3,FALSE))","v":"-"},{"$f":"IF(ISERROR(VLOOKUP(J186,'Information Page'!$C$24:$F$123,4,FALSE)),\"-\",VLOOKUP(J186,'Information Page'!$C$24:$F$123,4,FALSE))","v":"-"},null,"0"]
[null,null,167,null,null,null,null,null,null,null,{"$f":"IF(ISERROR(VLOOKUP(J187,'Information Page'!$C$24:$F$123,2,FALSE)),\"-\",VLOOKUP(J187,'Information Page'!$C$24:$F$123,2,FALSE))","v":"-"},{"$f":"IF(ISERROR(VLOOKUP(J187,'Information Page'!$C$24:$F$123,3,FALSE)),\"-\",VLOOKUP(J187,'Information Page'!$C$24:$F$123,3,FALSE))","v":"-"},{"$f":"IF(ISERROR(VLOOKUP(J187,'Information Page'!$C$24:$F$123,4,FALSE)),\"-\",VLOOKUP(J187,'Information Page'!$C$24:$F$123,4,FALSE))","v":"-"},null,"0"]
[null,null,168,null,null,null,null,null,null,null,{"$f":"IF(ISERROR(VLOOKUP(J188,'Information Page'!$C$24:$F$123,2,FALSE)),\"-\",VLOOKUP(J188,'Information Page'!$C$24:$F$123,2,FALSE))","v":"-"},{"$f":"IF(ISERROR(VLOOKUP(J188,'Information Page'!$C$24:$F$123,3,FALSE)),\"-\",VLOOKUP(J188,'Information Page'!$C$24:$F$123,3,FALSE))","v":"-"},{"$f":"IF(ISERROR(VLOOKUP(J188,'Information Page'!$C$24:$F$123,4,FALSE)),\"-\",VLOOKUP(J188,'Information Page'!$C$24:$F$123,4,FALSE))","v":"-"},null,"0"]
[null,null,169,null,null,null,null,null,null,null,{"$f":"IF(ISERROR(VLOOKUP(J189,'Information Page'!$C$24:$F$123,2,FALSE)),\"-\",VLOOKUP(J189,'Information Page'!$C$24:$F$123,2,FALSE))","v":"-"},{"$f":"IF(ISERROR(VLOOKUP(J189,'Information Page'!$C$24:$F$123,3,FALSE)),\"-\",VLOOKUP(J189,'Information Page'!$C$24:$F$123,3,FALSE))","v":"-"},{"$f":"IF(ISERROR(VLOOKUP(J189,'Information Page'!$C$24:$F$123,4,FALSE)),\"-\",VLOOKUP(J189,'Information Page'!$C$24:$F$123,4,FALSE))","v":"-"},null,"0"]
[null,null,170,null,null,null,null,null,null,null,{"$f":"IF(ISERROR(VLOOKUP(J190,'Information Page'!$C$24:$F$123,2,FALSE)),\"-\",VLOOKUP(J190,'Information Page'!$C$24:$F$123,2,FALSE))","v":"-"},{"$f":"IF(ISERROR(VLOOKUP(J190,'Information Page'!$C$24:$F$123,3,FALSE)),\"-\",VLOOKUP(J190,'Information Page'!$C$24:$F$123,3,FALSE))","v":"-"},{"$f":"IF(ISERROR(VLOOKUP(J190,'Information Page'!$C$24:$F$123,4,FALSE)),\"-\",VLOOKUP(J190,'Information Page'!$C$24:$F$123,4,FALSE))","v":"-"},null,"0"]
[null,null,171,null,null,null,null,null,null,null,{"$f":"IF(ISERROR(VLOOKUP(J191,'Information Page'!$C$24:$F$123,2,FALSE)),\"-\",VLOOKUP(J191,'Information Page'!$C$24:$F$123,2,FALSE))","v":"-"},{"$f":"IF(ISERROR(VLOOKUP(J191,'Information Page'!$C$24:$F$123,3,FALSE)),\"-\",VLOOKUP(J191,'Information Page'!$C$24:$F$123,3,FALSE))","v":"-"},{"$f":"IF(ISERROR(VLOOKUP(J191,'Information Page'!$C$24:$F$123,4,FALSE)),\"-\",VLOOKUP(J191,'Information Page'!$C$24:$F$123,4,FALSE))","v":"-"},null,"0"]
[null,null,172,null,null,null,null,null,null,null,{"$f":"IF(ISERROR(VLOOKUP(J192,'Information Page'!$C$24:$F$123,2,FALSE)),\"-\",VLOOKUP(J192,'Information Page'!$C$24:$F$123,2,FALSE))","v":"-"},{"$f":"IF(ISERROR(VLOOKUP(J192,'Information Page'!$C$24:$F$123,3,FALSE)),\"-\",VLOOKUP(J192,'Information Page'!$C$24:$F$123,3,FALSE))","v":"-"},{"$f":"IF(ISERROR(VLOOKUP(J192,'Information Page'!$C$24:$F$123,4,FALSE)),\"-\",VLOOKUP(J192,'Information Page'!$C$24:$F$123,4,FALSE))","v":"-"},null,"0"]
[null,null,173,null,null,null,null,null,null,null,{"$f":"IF(ISERROR(VLOOKUP(J193,'Information Page'!$C$24:$F$123,2,FALSE)),\"-\",VLOOKUP(J193,'Information Page'!$C$24:$F$123,2,FALSE))","v":"-"},{"$f":"IF(ISERROR(VLOOKUP(J193,'Information Page'!$C$24:$F$123,3,FALSE)),\"-\",VLOOKUP(J193,'Information Page'!$C$24:$F$123,3,FALSE))","v":"-"},{"$f":"IF(ISERROR(VLOOKUP(J193,'Information Page'!$C$24:$F$123,4,FALSE)),\"-\",VLOOKUP(J193,'Information Page'!$C$24:$F$123,4,FALSE))","v":"-"},null,"0"]
[null,null,174,null,null,null,null,null,null,null,{"$f":"IF(ISERROR(VLOOKUP(J194,'Information Page'!$C$24:$F$123,2,FALSE)),\"-\",VLOOKUP(J194,'Information Page'!$C$24:$F$123,2,FALSE))","v":"-"},{"$f":"IF(ISERROR(VLOOKUP(J194,'Information Page'!$C$24:$F$123,3,FALSE)),\"-\",VLOOKUP(J194,'Information Page'!$C$24:$F$123,3,FALSE))","v":"-"},{"$f":"IF(ISERROR(VLOOKUP(J194,'Information Page'!$C$24:$F$123,4,FALSE)),\"-\",VLOOKUP(J194,'Information Page'!$C$24:$F$123,4,FALSE))","v":"-"},null,"0"]
[null,null,175,null,null,null,null,null,null,null,{"$f":"IF(ISERROR(VLOOKUP(J195,'Information Page'!$C$24:$F$123,2,FALSE)),\"-\",VLOOKUP(J195,'Information Page'!$C$24:$F$123,2,FALSE))","v":"-"},{"$f":"IF(ISERROR(VLOOKUP(J195,'Information Page'!$C$24:$F$123,3,FALSE)),\"-\",VLOOKUP(J195,'Information Page'!$C$24:$F$123,3,FALSE))","v":"-"},{"$f":"IF(ISERROR(VLOOKUP(J195,'Information Page'!$C$24:$F$123,4,FALSE)),\"-\",VLOOKUP(J195,'Information Page'!$C$24:$F$123,4,FALSE))","v":"-"},null,"0"]
[null,null,176,null,null,null,null,null,null,null,{"$f":"IF(ISERROR(VLOOKUP(J196,'Information Page'!$C$24:$F$123,2,FALSE)),\"-\",VLOOKUP(J196,'Information Page'!$C$24:$F$123,2,FALSE))","v":"-"},{"$f":"IF(ISERROR(VLOOKUP(J196,'Information Page'!$C$24:$F$123,3,FALSE)),\"-\",VLOOKUP(J196,'Information Page'!$C$24:$F$123,3,FALSE))","v":"-"},{"$f":"IF(ISERROR(VLOOKUP(J196,'Information Page'!$C$24:$F$123,4,FALSE)),\"-\",VLOOKUP(J196,'Information Page'!$C$24:$F$123,4,FALSE))","v":"-"},null,"0"]
[null,null,177,null,null,null,null,null,null,null,{"$f":"IF(ISERROR(VLOOKUP(J197,'Information Page'!$C$24:$F$123,2,FALSE)),\"-\",VLOOKUP(J197,'Information Page'!$C$24:$F$123,2,FALSE))","v":"-"},{"$f":"IF(ISERROR(VLOOKUP(J197,'Information Page'!$C$24:$F$123,3,FALSE)),\"-\",VLOOKUP(J197,'Information Page'!$C$24:$F$123,3,FALSE))","v":"-"},{"$f":"IF(ISERROR(VLOOKUP(J197,'Information Page'!$C$24:$F$123,4,FALSE)),\"-\",VLOOKUP(J197,'Information Page'!$C$24:$F$123,4,FALSE))","v":"-"},null,"0"]
[null,null,178,null,null,null,null,null,null,null,{"$f":"IF(ISERROR(VLOOKUP(J198,'Information Page'!$C$24:$F$123,2,FALSE)),\"-\",VLOOKUP(J198,'Information Page'!$C$24:$F$123,2,FALSE))","v":"-"},{"$f":"IF(ISERROR(VLOOKUP(J198,'Information Page'!$C$24:$F$123,3,FALSE)),\"-\",VLOOKUP(J198,'Information Page'!$C$24:$F$123,3,FALSE))","v":"-"},{"$f":"IF(ISERROR(VLOOKUP(J198,'Information Page'!$C$24:$F$123,4,FALSE)),\"-\",VLOOKUP(J198,'Information Page'!$C$24:$F$123,4,FALSE))","v":"-"},null,"0"]
[null,null,179,null,null,null,null,null,null,null,{"$f":"IF(ISERROR(VLOOKUP(J199,'Information Page'!$C$24:$F$123,2,FALSE)),\"-\",VLOOKUP(J199,'Information Page'!$C$24:$F$123,2,FALSE))","v":"-"},{"$f":"IF(ISERROR(VLOOKUP(J199,'Information Page'!$C$24:$F$123,3,FALSE)),\"-\",VLOOKUP(J199,'Information Page'!$C$24:$F$123,3,FALSE))","v":"-"},{"$f":"IF(ISERROR(VLOOKUP(J199,'Information Page'!$C$24:$F$123,4,FALSE)),\"-\",VLOOKUP(J199,'Information Page'!$C$24:$F$123,4,FALSE))","v":"-"},null,"0"]
[null,null,180,null,null,null,null,null,null,null,{"$f":"IF(ISERROR(VLOOKUP(J200,'Information Page'!$C$24:$F$123,2,FALSE)),\"-\",VLOOKUP(J200,'Information Page'!$C$24:$F$123,2,FALSE))","v":"-"},{"$f":"IF(ISERROR(VLOOKUP(J200,'Information Page'!$C$24:$F$123,3,FALSE)),\"-\",VLOOKUP(J200,'Information Page'!$C$24:$F$123,3,FALSE))","v":"-"},{"$f":"IF(ISERROR(VLOOKUP(J200,'Information Page'!$C$24:$F$123,4,FALSE)),\"-\",VLOOKUP(J200,'Information Page'!$C$24:$F$123,4,FALSE))","v":"-"},null,"0"]
[null,null,181,null,null,null,null,null,null,null,{"$f":"IF(ISERROR(VLOOKUP(J201,'Information Page'!$C$24:$F$123,2,FALSE)),\"-\",VLOOKUP(J201,'Information Page'!$C$24:$F$123,2,FALSE))","v":"-"},{"$f":"IF(ISERROR(VLOOKUP(J201,'Information Page'!$C$24:$F$123,3,FALSE)),\"-\",VLOOKUP(J201,'Information Page'!$C$24:$F$123,3,FALSE))","v":"-"},{"$f":"IF(ISERROR(VLOOKUP(J201,'Information Page'!$C$24:$F$123,4,FALSE)),\"-\",VLOOKUP(J201,'Information Page'!$C$24:$F$123,4,FALSE))","v":"-"},null,"0"]
[null,null,182,null,null,null,null,null,null,null,{"$f":"IF(ISERROR(VLOOKUP(J202,'Information Page'!$C$24:$F$123,2,FALSE)),\"-\",VLOOKUP(J202,'Information Page'!$C$24:$F$123,2,FALSE))","v":"-"},{"$f":"IF(ISERROR(VLOOKUP(J202,'Information Page'!$C$24:$F$123,3,FALSE)),\"-\",VLOOKUP(J202,'Information Page'!$C$24:$F$123,3,FALSE))","v":"-"},{"$f":"IF(ISERROR(VLOOKUP(J202,'Information Page'!$C$24:$F$123,4,FALSE)),\"-\",VLOOKUP(J202,'Information Page'!$C$24:$F$123,4,FALSE))","v":"-"},null,"0"]
[null,null,183,null,null,null,null,null,null,null,{"$f":"IF(ISERROR(VLOOKUP(J203,'Information Page'!$C$24:$F$123,2,FALSE)),\"-\",VLOOKUP(J203,'Information Page'!$C$24:$F$123,2,FALSE))","v":"-"},{"$f":"IF(ISERROR(VLOOKUP(J203,'Information Page'!$C$24:$F$123,3,FALSE)),\"-\",VLOOKUP(J203,'Information Page'!$C$24:$F$123,3,FALSE))","v":"-"},{"$f":"IF(ISERROR(VLOOKUP(J203,'Information Page'!$C$24:$F$123,4,FALSE)),\"-\",VLOOKUP(J203,'Information Page'!$C$24:$F$123,4,FALSE))","v":"-"},null,"0"]
[null,null,184,null,null,null,null,null,null,null,{"$f":"IF(ISERROR(VLOOKUP(J204,'Information Page'!$C$24:$F$123,2,FALSE)),\"-\",VLOOKUP(J204,'Information Page'!$C$24:$F$123,2,FALSE))","v":"-"},{"$f":"IF(ISERROR(VLOOKUP(J204,'Information Page'!$C$24:$F$123,3,FALSE)),\"-\",VLOOKUP(J204,'Information Page'!$C$24:$F$123,3,FALSE))","v":"-"},{"$f":"IF(ISERROR(VLOOKUP(J204,'Information Page'!$C$24:$F$123,4,FALSE)),\"-\",VLOOKUP(J204,'Information Page'!$C$24:$F$123,4,FALSE))","v":"-"},null,"0"]
[null,null,185,null,null,null,null,null,null,null,{"$f":"IF(ISERROR(VLOOKUP(J205,'Information Page'!$C$24:$F$123,2,FALSE)),\"-\",VLOOKUP(J205,'Information Page'!$C$24:$F$123,2,FALSE))","v":"-"},{"$f":"IF(ISERROR(VLOOKUP(J205,'Information Page'!$C$24:$F$123,3,FALSE)),\"-\",VLOOKUP(J205,'Information Page'!$C$24:$F$123,3,FALSE))","v":"-"},{"$f":"IF(ISERROR(VLOOKUP(J205,'Information Page'!$C$24:$F$123,4,FALSE)),\"-\",VLOOKUP(J205,'Information Page'!$C$24:$F$123,4,FALSE))","v":"-"},null,"0"]
[null,null,186,null,null,null,null,null,null,null,{"$f":"IF(ISERROR(VLOOKUP(J206,'Information Page'!$C$24:$F$123,2,FALSE)),\"-\",VLOOKUP(J206,'Information Page'!$C$24:$F$123,2,FALSE))","v":"-"},{"$f":"IF(ISERROR(VLOOKUP(J206,'Information Page'!$C$24:$F$123,3,FALSE)),\"-\",VLOOKUP(J206,'Information Page'!$C$24:$F$123,3,FALSE))","v":"-"},{"$f":"IF(ISERROR(VLOOKUP(J206,'Information Page'!$C$24:$F$123,4,FALSE)),\"-\",VLOOKUP(J206,'Information Page'!$C$24:$F$123,4,FALSE))","v":"-"},null,"0"]
[null,null,187,null,null,null,null,null,null,null,{"$f":"IF(ISERROR(VLOOKUP(J207,'Information Page'!$C$24:$F$123,2,FALSE)),\"-\",VLOOKUP(J207,'Information Page'!$C$24:$F$123,2,FALSE))","v":"-"},{"$f":"IF(ISERROR(VLOOKUP(J207,'Information Page'!$C$24:$F$123,3,FALSE)),\"-\",VLOOKUP(J207,'Information Page'!$C$24:$F$123,3,FALSE))","v":"-"},{"$f":"IF(ISERROR(VLOOKUP(J207,'Information Page'!$C$24:$F$123,4,FALSE)),\"-\",VLOOKUP(J207,'Information Page'!$C$24:$F$123,4,FALSE))","v":"-"},null,"0"]
[null,null,188,null,null,null,null,null,null,null,{"$f":"IF(ISERROR(VLOOKUP(J208,'Information Page'!$C$24:$F$123,2,FALSE)),\"-\",VLOOKUP(J208,'Information Page'!$C$24:$F$123,2,FALSE))","v":"-"},{"$f":"IF(ISERROR(VLOOKUP(J208,'Information Page'!$C$24:$F$123,3,FALSE)),\"-\",VLOOKUP(J208,'Information Page'!$C$24:$F$123,3,FALSE))","v":"-"},{"$f":"IF(ISERROR(VLOOKUP(J208,'Information Page'!$C$24:$F$123,4,FALSE)),\"-\",VLOOKUP(J208,'Information Page'!$C$24:$F$123,4,FALSE))","v":"-"},null,"0"]
[null,null,189,null,null,null,null,null,null,null,{"$f":"IF(ISERROR(VLOOKUP(J209,'Information Page'!$C$24:$F$123,2,FALSE)),\"-\",VLOOKUP(J209,'Information Page'!$C$24:$F$123,2,FALSE))","v":"-"},{"$f":"IF(ISERROR(VLOOKUP(J209,'Information Page'!$C$24:$F$123,3,FALSE)),\"-\",VLOOKUP(J209,'Information Page'!$C$24:$F$123,3,FALSE))","v":"-"},{"$f":"IF(ISERROR(VLOOKUP(J209,'Information Page'!$C$24:$F$123,4,FALSE)),\"-\",VLOOKUP(J209,'Information Page'!$C$24:$F$123,4,FALSE))","v":"-"},null,"0"]
[null,null,190,null,null,null,null,null,null,null,{"$f":"IF(ISERROR(VLOOKUP(J210,'Information Page'!$C$24:$F$123,2,FALSE)),\"-\",VLOOKUP(J210,'Information Page'!$C$24:$F$123,2,FALSE))","v":"-"},{"$f":"IF(ISERROR(VLOOKUP(J210,'Information Page'!$C$24:$F$123,3,FALSE)),\"-\",VLOOKUP(J210,'Information Page'!$C$24:$F$123,3,FALSE))","v":"-"},{"$f":"IF(ISERROR(VLOOKUP(J210,'Information Page'!$C$24:$F$123,4,FALSE)),\"-\",VLOOKUP(J210,'Information Page'!$C$24:$F$123,4,FALSE))","v":"-"},null,"0"]
[null,null,191,null,null,null,null,null,null,null,{"$f":"IF(ISERROR(VLOOKUP(J211,'Information Page'!$C$24:$F$123,2,FALSE)),\"-\",VLOOKUP(J211,'Information Page'!$C$24:$F$123,2,FALSE))","v":"-"},{"$f":"IF(ISERROR(VLOOKUP(J211,'Information Page'!$C$24:$F$123,3,FALSE)),\"-\",VLOOKUP(J211,'Information Page'!$C$24:$F$123,3,FALSE))","v":"-"},{"$f":"IF(ISERROR(VLOOKUP(J211,'Information Page'!$C$24:$F$123,4,FALSE)),\"-\",VLOOKUP(J211,'Information Page'!$C$24:$F$123,4,FALSE))","v":"-"},null,"0"]
[null,null,192,null,null,null,null,null,null,null,{"$f":"IF(ISERROR(VLOOKUP(J212,'Information Page'!$C$24:$F$123,2,FALSE)),\"-\",VLOOKUP(J212,'Information Page'!$C$24:$F$123,2,FALSE))","v":"-"},{"$f":"IF(ISERROR(VLOOKUP(J212,'Information Page'!$C$24:$F$123,3,FALSE)),\"-\",VLOOKUP(J212,'Information Page'!$C$24:$F$123,3,FALSE))","v":"-"},{"$f":"IF(ISERROR(VLOOKUP(J212,'Information Page'!$C$24:$F$123,4,FALSE)),\"-\",VLOOKUP(J212,'Information Page'!$C$24:$F$123,4,FALSE))","v":"-"},null,"0"]
[null,null,193,null,null,null,null,null,null,null,{"$f":"IF(ISERROR(VLOOKUP(J213,'Information Page'!$C$24:$F$123,2,FALSE)),\"-\",VLOOKUP(J213,'Information Page'!$C$24:$F$123,2,FALSE))","v":"-"},{"$f":"IF(ISERROR(VLOOKUP(J213,'Information Page'!$C$24:$F$123,3,FALSE)),\"-\",VLOOKUP(J213,'Information Page'!$C$24:$F$123,3,FALSE))","v":"-"},{"$f":"IF(ISERROR(VLOOKUP(J213,'Information Page'!$C$24:$F$123,4,FALSE)),\"-\",VLOOKUP(J213,'Information Page'!$C$24:$F$123,4,FALSE))","v":"-"},null,"0"]
[null,null,194,null,null,null,null,null,null,null,{"$f":"IF(ISERROR(VLOOKUP(J214,'Information Page'!$C$24:$F$123,2,FALSE)),\"-\",VLOOKUP(J214,'Information Page'!$C$24:$F$123,2,FALSE))","v":"-"},{"$f":"IF(ISERROR(VLOOKUP(J214,'Information Page'!$C$24:$F$123,3,FALSE)),\"-\",VLOOKUP(J214,'Information Page'!$C$24:$F$123,3,FALSE))","v":"-"},{"$f":"IF(ISERROR(VLOOKUP(J214,'Information Page'!$C$24:$F$123,4,FALSE)),\"-\",VLOOKUP(J214,'Information Page'!$C$24:$F$123,4,FALSE))","v":"-"},null,{"$f":"IF(M214=\"-\",\"0\",M214*N214)","v":"0"}]
[null,null,195,null,null,null,null,null,null,null,{"$f":"IF(ISERROR(VLOOKUP(J215,'Information Page'!$C$24:$F$123,2,FALSE)),\"-\",VLOOKUP(J215,'Information Page'!$C$24:$F$123,2,FALSE))","v":"-"},{"$f":"IF(ISERROR(VLOOKUP(J215,'Information Page'!$C$24:$F$123,3,FALSE)),\"-\",VLOOKUP(J215,'Information Page'!$C$24:$F$123,3,FALSE))","v":"-"},{"$f":"IF(ISERROR(VLOOKUP(J215,'Information Page'!$C$24:$F$123,4,FALSE)),\"-\",VLOOKUP(J215,'Information Page'!$C$24:$F$123,4,FALSE))","v":"-"},null,"0"]
[null,null,196,null,null,null,null,null,null,null,{"$f":"IF(ISERROR(VLOOKUP(J216,'Information Page'!$C$24:$F$123,2,FALSE)),\"-\",VLOOKUP(J216,'Information Page'!$C$24:$F$123,2,FALSE))","v":"-"},{"$f":"IF(ISERROR(VLOOKUP(J216,'Information Page'!$C$24:$F$123,3,FALSE)),\"-\",VLOOKUP(J216,'Information Page'!$C$24:$F$123,3,FALSE))","v":"-"},{"$f":"IF(ISERROR(VLOOKUP(J216,'Information Page'!$C$24:$F$123,4,FALSE)),\"-\",VLOOKUP(J216,'Information Page'!$C$24:$F$123,4,FALSE))","v":"-"},null,"0"]
[null,null,197,null,null,null,null,null,null,null,{"$f":"IF(ISERROR(VLOOKUP(J217,'Information Page'!$C$24:$F$123,2,FALSE)),\"-\",VLOOKUP(J217,'Information Page'!$C$24:$F$123,2,FALSE))","v":"-"},{"$f":"IF(ISERROR(VLOOKUP(J217,'Information Page'!$C$24:$F$123,3,FALSE)),\"-\",VLOOKUP(J217,'Information Page'!$C$24:$F$123,3,FALSE))","v":"-"},{"$f":"IF(ISERROR(VLOOKUP(J217,'Information Page'!$C$24:$F$123,4,FALSE)),\"-\",VLOOKUP(J217,'Information Page'!$C$24:$F$123,4,FALSE))","v":"-"},null,"0"]
[null,null,198,null,null,null,null,null,null,null,{"$f":"IF(ISERROR(VLOOKUP(J218,'Information Page'!$C$24:$F$123,2,FALSE)),\"-\",VLOOKUP(J218,'Information Page'!$C$24:$F$123,2,FALSE))","v":"-"},{"$f":"IF(ISERROR(VLOOKUP(J218,'Information Page'!$C$24:$F$123,3,FALSE)),\"-\",VLOOKUP(J218,'Information Page'!$C$24:$F$123,3,FALSE))","v":"-"},{"$f":"IF(ISERROR(VLOOKUP(J218,'Information Page'!$C$24:$F$123,4,FALSE)),\"-\",VLOOKUP(J218,'Information Page'!$C$24:$F$123,4,FALSE))","v":"-"},null,"0"]
[null,null,199,null,null,null,null,null,null,null,{"$f":"IF(ISERROR(VLOOKUP(J219,'Information Page'!$C$24:$F$123,2,FALSE)),\"-\",VLOOKUP(J219,'Information Page'!$C$24:$F$123,2,FALSE))","v":"-"},{"$f":"IF(ISERROR(VLOOKUP(J219,'Information Page'!$C$24:$F$123,3,FALSE)),\"-\",VLOOKUP(J219,'Information Page'!$C$24:$F$123,3,FALSE))","v":"-"},{"$f":"IF(ISERROR(VLOOKUP(J219,'Information Page'!$C$24:$F$123,4,FALSE)),\"-\",VLOOKUP(J219,'Information Page'!$C$24:$F$123,4,FALSE))","v":"-"},null,"0"]
[null,null,200,null,null,null,null,null,null,null,{"$f":"IF(ISERROR(VLOOKUP(J220,'Information Page'!$C$24:$F$123,2,FALSE)),\"-\",VLOOKUP(J220,'Information Page'!$C$24:$F$123,2,FALSE))","v":"-"},{"$f":"IF(ISERROR(VLOOKUP(J220,'Information Page'!$C$24:$F$123,3,FALSE)),\"-\",VLOOKUP(J220,'Information Page'!$C$24:$F$123,3,FALSE))","v":"-"},{"$f":"IF(ISERROR(VLOOKUP(J220,'Information Page'!$C$24:$F$123,4,FALSE)),\"-\",VLOOKUP(J220,'Information Page'!$C$24:$F$123,4,FALSE))","v":"-"},null,"0"]
[null,null,201,null,null,null,null,null,null,null,{"$f":"IF(ISERROR(VLOOKUP(J221,'Information Page'!$C$24:$F$123,2,FALSE)),\"-\",VLOOKUP(J221,'Information Page'!$C$24:$F$123,2,FALSE))","v":"-"},{"$f":"IF(ISERROR(VLOOKUP(J221,'Information Page'!$C$24:$F$123,3,FALSE)),\"-\",VLOOKUP(J221,'Information Page'!$C$24:$F$123,3,FALSE))","v":"-"},{"$f":"IF(ISERROR(VLOOKUP(J221,'Information Page'!$C$24:$F$123,4,FALSE)),\"-\",VLOOKUP(J221,'Information Page'!$C$24:$F$123,4,FALSE))","v":"-"},null,"0"]
[null,null,202,null,null,null,null,null,null,null,{"$f":"IF(ISERROR(VLOOKUP(J222,'Information Page'!$C$24:$F$123,2,FALSE)),\"-\",VLOOKUP(J222,'Information Page'!$C$24:$F$123,2,FALSE))","v":"-"},{"$f":"IF(ISERROR(VLOOKUP(J222,'Information Page'!$C$24:$F$123,3,FALSE)),\"-\",VLOOKUP(J222,'Information Page'!$C$24:$F$123,3,FALSE))","v":"-"},{"$f":"IF(ISERROR(VLOOKUP(J222,'Information Page'!$C$24:$F$123,4,FALSE)),\"-\",VLOOKUP(J222,'Information Page'!$C$24:$F$123,4,FALSE))","v":"-"},null,"0"]
[null,null,203,null,null,null,null,null,null,null,{"$f":"IF(ISERROR(VLOOKUP(J223,'Information Page'!$C$24:$F$123,2,FALSE)),\"-\",VLOOKUP(J223,'Information Page'!$C$24:$F$123,2,FALSE))","v":"-"},{"$f":"IF(ISERROR(VLOOKUP(J223,'Information Page'!$C$24:$F$123,3,FALSE)),\"-\",VLOOKUP(J223,'Information Page'!$C$24:$F$123,3,FALSE))","v":"-"},{"$f":"IF(ISERROR(VLOOKUP(J223,'Information Page'!$C$24:$F$123,4,FALSE)),\"-\",VLOOKUP(J223,'Information Page'!$C$24:$F$123,4,FALSE))","v":"-"},null,"0"]
[null,null,204,null,null,null,null,null,null,null,{"$f":"IF(ISERROR(VLOOKUP(J224,'Information Page'!$C$24:$F$123,2,FALSE)),\"-\",VLOOKUP(J224,'Information Page'!$C$24:$F$123,2,FALSE))","v":"-"},{"$f":"IF(ISERROR(VLOOKUP(J224,'Information Page'!$C$24:$F$123,3,FALSE)),\"-\",VLOOKUP(J224,'Information Page'!$C$24:$F$123,3,FALSE))","v":"-"},{"$f":"IF(ISERROR(VLOOKUP(J224,'Information Page'!$C$24:$F$123,4,FALSE)),\"-\",VLOOKUP(J224,'Information Page'!$C$24:$F$123,4,FALSE))","v":"-"},null,"0"]
[null,null,205,null,null,null,null,null,null,null,{"$f":"IF(ISERROR(VLOOKUP(J225,'Information Page'!$C$24:$F$123,2,FALSE)),\"-\",VLOOKUP(J225,'Information Page'!$C$24:$F$123,2,FALSE))","v":"-"},{"$f":"IF(ISERROR(VLOOKUP(J225,'Information Page'!$C$24:$F$123,3,FALSE)),\"-\",VLOOKUP(J225,'Information Page'!$C$24:$F$123,3,FALSE))","v":"-"},{"$f":"IF(ISERROR(VLOOKUP(J225,'Information Page'!$C$24:$F$123,4,FALSE)),\"-\",VLOOKUP(J225,'Information Page'!$C$24:$F$123,4,FALSE))","v":"-"},null,"0"]
[null,null,206,null,null,null,null,null,null,null,{"$f":"IF(ISERROR(VLOOKUP(J226,'Information Page'!$C$24:$F$123,2,FALSE)),\"-\",VLOOKUP(J226,'Information Page'!$C$24:$F$123,2,FALSE))","v":"-"},{"$f":"IF(ISERROR(VLOOKUP(J226,'Information Page'!$C$24:$F$123,3,FALSE)),\"-\",VLOOKUP(J226,'Information Page'!$C$24:$F$123,3,FALSE))","v":"-"},{"$f":"IF(ISERROR(VLOOKUP(J226,'Information Page'!$C$24:$F$123,4,FALSE)),\"-\",VLOOKUP(J226,'Information Page'!$C$24:$F$123,4,FALSE))","v":"-"},null,"0"]
[null,null,207,null,null,null,null,null,null,null,{"$f":"IF(ISERROR(VLOOKUP(J227,'Information Page'!$C$24:$F$123,2,FALSE)),\"-\",VLOOKUP(J227,'Information Page'!$C$24:$F$123,2,FALSE))","v":"-"},{"$f":"IF(ISERROR(VLOOKUP(J227,'Information Page'!$C$24:$F$123,3,FALSE)),\"-\",VLOOKUP(J227,'Information Page'!$C$24:$F$123,3,FALSE))","v":"-"},{"$f":"IF(ISERROR(VLOOKUP(J227,'Information Page'!$C$24:$F$123,4,FALSE)),\"-\",VLOOKUP(J227,'Information Page'!$C$24:$F$123,4,FALSE))","v":"-"},null,"0"]
[null,null,208,null,null,null,null,null,null,null,{"$f":"IF(ISERROR(VLOOKUP(J228,'Information Page'!$C$24:$F$123,2,FALSE)),\"-\",VLOOKUP(J228,'Information Page'!$C$24:$F$123,2,FALSE))","v":"-"},{"$f":"IF(ISERROR(VLOOKUP(J228,'Information Page'!$C$24:$F$123,3,FALSE)),\"-\",VLOOKUP(J228,'Information Page'!$C$24:$F$123,3,FALSE))","v":"-"},{"$f":"IF(ISERROR(VLOOKUP(J228,'Information Page'!$C$24:$F$123,4,FALSE)),\"-\",VLOOKUP(J228,'Information Page'!$C$24:$F$123,4,FALSE))","v":"-"},null,"0"]
[null,null,209,null,null,null,null,null,null,null,{"$f":"IF(ISERROR(VLOOKUP(J229,'Information Page'!$C$24:$F$123,2,FALSE)),\"-\",VLOOKUP(J229,'Information Page'!$C$24:$F$123,2,FALSE))","v":"-"},{"$f":"IF(ISERROR(VLOOKUP(J229,'Information Page'!$C$24:$F$123,3,FALSE)),\"-\",VLOOKUP(J229,'Information Page'!$C$24:$F$123,3,FALSE))","v":"-"},{"$f":"IF(ISERROR(VLOOKUP(J229,'Information Page'!$C$24:$F$123,4,FALSE)),\"-\",VLOOKUP(J229,'Information Page'!$C$24:$F$123,4,FALSE))","v":"-"},null,"0"]
[null,null,210,null,null,null,null,null,null,null,{"$f":"IF(ISERROR(VLOOKUP(J230,'Information Page'!$C$24:$F$123,2,FALSE)),\"-\",VLOOKUP(J230,'Information Page'!$C$24:$F$123,2,FALSE))","v":"-"},{"$f":"IF(ISERROR(VLOOKUP(J230,'Information Page'!$C$24:$F$123,3,FALSE)),\"-\",VLOOKUP(J230,'Information Page'!$C$24:$F$123,3,FALSE))","v":"-"},{"$f":"IF(ISERROR(VLOOKUP(J230,'Information Page'!$C$24:$F$123,4,FALSE)),\"-\",VLOOKUP(J230,'Information Page'!$C$24:$F$123,4,FALSE))","v":"-"},null,"0"]
[null,null,211,null,null,null,null,null,null,null,{"$f":"IF(ISERROR(VLOOKUP(J231,'Information Page'!$C$24:$F$123,2,FALSE)),\"-\",VLOOKUP(J231,'Information Page'!$C$24:$F$123,2,FALSE))","v":"-"},{"$f":"IF(ISERROR(VLOOKUP(J231,'Information Page'!$C$24:$F$123,3,FALSE)),\"-\",VLOOKUP(J231,'Information Page'!$C$24:$F$123,3,FALSE))","v":"-"},{"$f":"IF(ISERROR(VLOOKUP(J231,'Information Page'!$C$24:$F$123,4,FALSE)),\"-\",VLOOKUP(J231,'Information Page'!$C$24:$F$123,4,FALSE))","v":"-"},null,"0"]
[null,null,212,null,null,null,null,null,null,null,{"$f":"IF(ISERROR(VLOOKUP(J232,'Information Page'!$C$24:$F$123,2,FALSE)),\"-\",VLOOKUP(J232,'Information Page'!$C$24:$F$123,2,FALSE))","v":"-"},{"$f":"IF(ISERROR(VLOOKUP(J232,'Information Page'!$C$24:$F$123,3,FALSE)),\"-\",VLOOKUP(J232,'Information Page'!$C$24:$F$123,3,FALSE))","v":"-"},{"$f":"IF(ISERROR(VLOOKUP(J232,'Information Page'!$C$24:$F$123,4,FALSE)),\"-\",VLOOKUP(J232,'Information Page'!$C$24:$F$123,4,FALSE))","v":"-"},null,"0"]
[null,null,213,null,null,null,null,null,null,null,{"$f":"IF(ISERROR(VLOOKUP(J233,'Information Page'!$C$24:$F$123,2,FALSE)),\"-\",VLOOKUP(J233,'Information Page'!$C$24:$F$123,2,FALSE))","v":"-"},{"$f":"IF(ISERROR(VLOOKUP(J233,'Information Page'!$C$24:$F$123,3,FALSE)),\"-\",VLOOKUP(J233,'Information Page'!$C$24:$F$123,3,FALSE))","v":"-"},{"$f":"IF(ISERROR(VLOOKUP(J233,'Information Page'!$C$24:$F$123,4,FALSE)),\"-\",VLOOKUP(J233,'Information Page'!$C$24:$F$123,4,FALSE))","v":"-"},null,"0"]
[null,null,214,null,null,null,null,null,null,null,{"$f":"IF(ISERROR(VLOOKUP(J234,'Information Page'!$C$24:$F$123,2,FALSE)),\"-\",VLOOKUP(J234,'Information Page'!$C$24:$F$123,2,FALSE))","v":"-"},{"$f":"IF(ISERROR(VLOOKUP(J234,'Information Page'!$C$24:$F$123,3,FALSE)),\"-\",VLOOKUP(J234,'Information Page'!$C$24:$F$123,3,FALSE))","v":"-"},{"$f":"IF(ISERROR(VLOOKUP(J234,'Information Page'!$C$24:$F$123,4,FALSE)),\"-\",VLOOKUP(J234,'Information Page'!$C$24:$F$123,4,FALSE))","v":"-"},null,"0"]
[null,null,215,null,null,null,null,null,null,null,{"$f":"IF(ISERROR(VLOOKUP(J235,'Information Page'!$C$24:$F$123,2,FALSE)),\"-\",VLOOKUP(J235,'Information Page'!$C$24:$F$123,2,FALSE))","v":"-"},{"$f":"IF(ISERROR(VLOOKUP(J235,'Information Page'!$C$24:$F$123,3,FALSE)),\"-\",VLOOKUP(J235,'Information Page'!$C$24:$F$123,3,FALSE))","v":"-"},{"$f":"IF(ISERROR(VLOOKUP(J235,'Information Page'!$C$24:$F$123,4,FALSE)),\"-\",VLOOKUP(J235,'Information Page'!$C$24:$F$123,4,FALSE))","v":"-"},null,"0"]
[null,null,216,null,null,null,null,null,null,null,{"$f":"IF(ISERROR(VLOOKUP(J236,'Information Page'!$C$24:$F$123,2,FALSE)),\"-\",VLOOKUP(J236,'Information Page'!$C$24:$F$123,2,FALSE))","v":"-"},{"$f":"IF(ISERROR(VLOOKUP(J236,'Information Page'!$C$24:$F$123,3,FALSE)),\"-\",VLOOKUP(J236,'Information Page'!$C$24:$F$123,3,FALSE))","v":"-"},{"$f":"IF(ISERROR(VLOOKUP(J236,'Information Page'!$C$24:$F$123,4,FALSE)),\"-\",VLOOKUP(J236,'Information Page'!$C$24:$F$123,4,FALSE))","v":"-"},null,"0"]
[null,null,217,null,null,null,null,null,null,null,{"$f":"IF(ISERROR(VLOOKUP(J237,'Information Page'!$C$24:$F$123,2,FALSE)),\"-\",VLOOKUP(J237,'Information Page'!$C$24:$F$123,2,FALSE))","v":"-"},{"$f":"IF(ISERROR(VLOOKUP(J237,'Information Page'!$C$24:$F$123,3,FALSE)),\"-\",VLOOKUP(J237,'Information Page'!$C$24:$F$123,3,FALSE))","v":"-"},{"$f":"IF(ISERROR(VLOOKUP(J237,'Information Page'!$C$24:$F$123,4,FALSE)),\"-\",VLOOKUP(J237,'Information Page'!$C$24:$F$123,4,FALSE))","v":"-"},null,"0"]
[null,null,218,null,null,null,null,null,null,null,{"$f":"IF(ISERROR(VLOOKUP(J238,'Information Page'!$C$24:$F$123,2,FALSE)),\"-\",VLOOKUP(J238,'Information Page'!$C$24:$F$123,2,FALSE))","v":"-"},{"$f":"IF(ISERROR(VLOOKUP(J238,'Information Page'!$C$24:$F$123,3,FALSE)),\"-\",VLOOKUP(J238,'Information Page'!$C$24:$F$123,3,FALSE))","v":"-"},{"$f":"IF(ISERROR(VLOOKUP(J238,'Information Page'!$C$24:$F$123,4,FALSE)),\"-\",VLOOKUP(J238,'Information Page'!$C$24:$F$123,4,FALSE))","v":"-"},null,"0"]
[null,null,219,null,null,null,null,null,null,null,{"$f":"IF(ISERROR(VLOOKUP(J239,'Information Page'!$C$24:$F$123,2,FALSE)),\"-\",VLOOKUP(J239,'Information Page'!$C$24:$F$123,2,FALSE))","v":"-"},{"$f":"IF(ISERROR(VLOOKUP(J239,'Information Page'!$C$24:$F$123,3,FALSE)),\"-\",VLOOKUP(J239,'Information Page'!$C$24:$F$123,3,FALSE))","v":"-"},{"$f":"IF(ISERROR(VLOOKUP(J239,'Information Page'!$C$24:$F$123,4,FALSE)),\"-\",VLOOKUP(J239,'Information Page'!$C$24:$F$123,4,FALSE))","v":"-"},null,"0"]
[null,null,220,null,null,null,null,null,null,null,{"$f":"IF(ISERROR(VLOOKUP(J240,'Information Page'!$C$24:$F$123,2,FALSE)),\"-\",VLOOKUP(J240,'Information Page'!$C$24:$F$123,2,FALSE))","v":"-"},{"$f":"IF(ISERROR(VLOOKUP(J240,'Information Page'!$C$24:$F$123,3,FALSE)),\"-\",VLOOKUP(J240,'Information Page'!$C$24:$F$123,3,FALSE))","v":"-"},{"$f":"IF(ISERROR(VLOOKUP(J240,'Information Page'!$C$24:$F$123,4,FALSE)),\"-\",VLOOKUP(J240,'Information Page'!$C$24:$F$123,4,FALSE))","v":"-"},null,"0"]
[null,null,221,null,null,null,null,null,null,null,{"$f":"IF(ISERROR(VLOOKUP(J241,'Information Page'!$C$24:$F$123,2,FALSE)),\"-\",VLOOKUP(J241,'Information Page'!$C$24:$F$123,2,FALSE))","v":"-"},{"$f":"IF(ISERROR(VLOOKUP(J241,'Information Page'!$C$24:$F$123,3,FALSE)),\"-\",VLOOKUP(J241,'Information Page'!$C$24:$F$123,3,FALSE))","v":"-"},{"$f":"IF(ISERROR(VLOOKUP(J241,'Information Page'!$C$24:$F$123,4,FALSE)),\"-\",VLOOKUP(J241,'Information Page'!$C$24:$F$123,4,FALSE))","v":"-"},null,"0"]
[null,null,222,null,null,null,null,null,null,null,{"$f":"IF(ISERROR(VLOOKUP(J242,'Information Page'!$C$24:$F$123,2,FALSE)),\"-\",VLOOKUP(J242,'Information Page'!$C$24:$F$123,2,FALSE))","v":"-"},{"$f":"IF(ISERROR(VLOOKUP(J242,'Information Page'!$C$24:$F$123,3,FALSE)),\"-\",VLOOKUP(J242,'Information Page'!$C$24:$F$123,3,FALSE))","v":"-"},{"$f":"IF(ISERROR(VLOOKUP(J242,'Information Page'!$C$24:$F$123,4,FALSE)),\"-\",VLOOKUP(J242,'Information Page'!$C$24:$F$123,4,FALSE))","v":"-"},null,"0"]
[null,null,223,null,null,null,null,null,null,null,{"$f":"IF(ISERROR(VLOOKUP(J243,'Information Page'!$C$24:$F$123,2,FALSE)),\"-\",VLOOKUP(J243,'Information Page'!$C$24:$F$123,2,FALSE))","v":"-"},{"$f":"IF(ISERROR(VLOOKUP(J243,'Information Page'!$C$24:$F$123,3,FALSE)),\"-\",VLOOKUP(J243,'Information Page'!$C$24:$F$123,3,FALSE))","v":"-"},{"$f":"IF(ISERROR(VLOOKUP(J243,'Information Page'!$C$24:$F$123,4,FALSE)),\"-\",VLOOKUP(J243,'Information Page'!$C$24:$F$123,4,FALSE))","v":"-"},null,"0"]
[null,null,224,null,null,null,null,null,null,null,{"$f":"IF(ISERROR(VLOOKUP(J244,'Information Page'!$C$24:$F$123,2,FALSE)),\"-\",VLOOKUP(J244,'Information Page'!$C$24:$F$123,2,FALSE))","v":"-"},{"$f":"IF(ISERROR(VLOOKUP(J244,'Information Page'!$C$24:$F$123,3,FALSE)),\"-\",VLOOKUP(J244,'Information Page'!$C$24:$F$123,3,FALSE))","v":"-"},{"$f":"IF(ISERROR(VLOOKUP(J244,'Information Page'!$C$24:$F$123,4,FALSE)),\"-\",VLOOKUP(J244,'Information Page'!$C$24:$F$123,4,FALSE))","v":"-"},null,"0"]
[null,null,225,null,null,null,null,null,null,null,{"$f":"IF(ISERROR(VLOOKUP(J245,'Information Page'!$C$24:$F$123,2,FALSE)),\"-\",VLOOKUP(J245,'Information Page'!$C$24:$F$123,2,FALSE))","v":"-"},{"$f":"IF(ISERROR(VLOOKUP(J245,'Information Page'!$C$24:$F$123,3,FALSE)),\"-\",VLOOKUP(J245,'Information Page'!$C$24:$F$123,3,FALSE))","v":"-"},{"$f":"IF(ISERROR(VLOOKUP(J245,'Information Page'!$C$24:$F$123,4,FALSE)),\"-\",VLOOKUP(J245,'Information Page'!$C$24:$F$123,4,FALSE))","v":"-"},null,"0"]
[null,null,226,null,null,null,null,null,null,null,{"$f":"IF(ISERROR(VLOOKUP(J246,'Information Page'!$C$24:$F$123,2,FALSE)),\"-\",VLOOKUP(J246,'Information Page'!$C$24:$F$123,2,FALSE))","v":"-"},{"$f":"IF(ISERROR(VLOOKUP(J246,'Information Page'!$C$24:$F$123,3,FALSE)),\"-\",VLOOKUP(J246,'Information Page'!$C$24:$F$123,3,FALSE))","v":"-"},{"$f":"IF(ISERROR(VLOOKUP(J246,'Information Page'!$C$24:$F$123,4,FALSE)),\"-\",VLOOKUP(J246,'Information Page'!$C$24:$F$123,4,FALSE))","v":"-"},null,"0"]
[null,null,227,null,null,null,null,null,null,null,{"$f":"IF(ISERROR(VLOOKUP(J247,'Information Page'!$C$24:$F$123,2,FALSE)),\"-\",VLOOKUP(J247,'Information Page'!$C$24:$F$123,2,FALSE))","v":"-"},{"$f":"IF(ISERROR(VLOOKUP(J247,'Information Page'!$C$24:$F$123,3,FALSE)),\"-\",VLOOKUP(J247,'Information Page'!$C$24:$F$123,3,FALSE))","v":"-"},{"$f":"IF(ISERROR(VLOOKUP(J247,'Information Page'!$C$24:$F$123,4,FALSE)),\"-\",VLOOKUP(J247,'Information Page'!$C$24:$F$123,4,FALSE))","v":"-"},null,"0"]
[null,null,228,null,null,null,null,null,null,null,{"$f":"IF(ISERROR(VLOOKUP(J248,'Information Page'!$C$24:$F$123,2,FALSE)),\"-\",VLOOKUP(J248,'Information Page'!$C$24:$F$123,2,FALSE))","v":"-"},{"$f":"IF(ISERROR(VLOOKUP(J248,'Information Page'!$C$24:$F$123,3,FALSE)),\"-\",VLOOKUP(J248,'Information Page'!$C$24:$F$123,3,FALSE))","v":"-"},{"$f":"IF(ISERROR(VLOOKUP(J248,'Information Page'!$C$24:$F$123,4,FALSE)),\"-\",VLOOKUP(J248,'Information Page'!$C$24:$F$123,4,FALSE))","v":"-"},null,"0"]
[null,null,229,null,null,null,null,null,null,null,{"$f":"IF(ISERROR(VLOOKUP(J249,'Information Page'!$C$24:$F$123,2,FALSE)),\"-\",VLOOKUP(J249,'Information Page'!$C$24:$F$123,2,FALSE))","v":"-"},{"$f":"IF(ISERROR(VLOOKUP(J249,'Information Page'!$C$24:$F$123,3,FALSE)),\"-\",VLOOKUP(J249,'Information Page'!$C$24:$F$123,3,FALSE))","v":"-"},{"$f":"IF(ISERROR(VLOOKUP(J249,'Information Page'!$C$24:$F$123,4,FALSE)),\"-\",VLOOKUP(J249,'Information Page'!$C$24:$F$123,4,FALSE))","v":"-"},null,"0"]
[null,null,230,null,null,null,null,null,null,null,{"$f":"IF(ISERROR(VLOOKUP(J250,'Information Page'!$C$24:$F$123,2,FALSE)),\"-\",VLOOKUP(J250,'Information Page'!$C$24:$F$123,2,FALSE))","v":"-"},{"$f":"IF(ISERROR(VLOOKUP(J250,'Information Page'!$C$24:$F$123,3,FALSE)),\"-\",VLOOKUP(J250,'Information Page'!$C$24:$F$123,3,FALSE))","v":"-"},{"$f":"IF(ISERROR(VLOOKUP(J250,'Information Page'!$C$24:$F$123,4,FALSE)),\"-\",VLOOKUP(J250,'Information Page'!$C$24:$F$123,4,FALSE))","v":"-"},null,"0"]
[null,null,231,null,null,null,null,null,null,null,{"$f":"IF(ISERROR(VLOOKUP(J251,'Information Page'!$C$24:$F$123,2,FALSE)),\"-\",VLOOKUP(J251,'Information Page'!$C$24:$F$123,2,FALSE))","v":"-"},{"$f":"IF(ISERROR(VLOOKUP(J251,'Information Page'!$C$24:$F$123,3,FALSE)),\"-\",VLOOKUP(J251,'Information Page'!$C$24:$F$123,3,FALSE))","v":"-"},{"$f":"IF(ISERROR(VLOOKUP(J251,'Information Page'!$C$24:$F$123,4,FALSE)),\"-\",VLOOKUP(J251,'Information Page'!$C$24:$F$123,4,FALSE))","v":"-"},null,"0"]
[null,null,232,null,null,null,null,null,null,null,{"$f":"IF(ISERROR(VLOOKUP(J252,'Information Page'!$C$24:$F$123,2,FALSE)),\"-\",VLOOKUP(J252,'Information Page'!$C$24:$F$123,2,FALSE))","v":"-"},{"$f":"IF(ISERROR(VLOOKUP(J252,'Information Page'!$C$24:$F$123,3,FALSE)),\"-\",VLOOKUP(J252,'Information Page'!$C$24:$F$123,3,FALSE))","v":"-"},{"$f":"IF(ISERROR(VLOOKUP(J252,'Information Page'!$C$24:$F$123,4,FALSE)),\"-\",VLOOKUP(J252,'Information Page'!$C$24:$F$123,4,FALSE))","v":"-"},null,"0"]
[null,null,233,null,null,null,null,null,null,null,{"$f":"IF(ISERROR(VLOOKUP(J253,'Information Page'!$C$24:$F$123,2,FALSE)),\"-\",VLOOKUP(J253,'Information Page'!$C$24:$F$123,2,FALSE))","v":"-"},{"$f":"IF(ISERROR(VLOOKUP(J253,'Information Page'!$C$24:$F$123,3,FALSE)),\"-\",VLOOKUP(J253,'Information Page'!$C$24:$F$123,3,FALSE))","v":"-"},{"$f":"IF(ISERROR(VLOOKUP(J253,'Information Page'!$C$24:$F$123,4,FALSE)),\"-\",VLOOKUP(J253,'Information Page'!$C$24:$F$123,4,FALSE))","v":"-"},null,"0"]
[null,null,234,null,null,null,null,null,null,null,{"$f":"IF(ISERROR(VLOOKUP(J254,'Information Page'!$C$24:$F$123,2,FALSE)),\"-\",VLOOKUP(J254,'Information Page'!$C$24:$F$123,2,FALSE))","v":"-"},{"$f":"IF(ISERROR(VLOOKUP(J254,'Information Page'!$C$24:$F$123,3,FALSE)),\"-\",VLOOKUP(J254,'Information Page'!$C$24:$F$123,3,FALSE))","v":"-"},{"$f":"IF(ISERROR(VLOOKUP(J254,'Information Page'!$C$24:$F$123,4,FALSE)),\"-\",VLOOKUP(J254,'Information Page'!$C$24:$F$123,4,FALSE))","v":"-"},null,"0"]
[null,null,235,null,null,null,null,null,null,null,{"$f":"IF(ISERROR(VLOOKUP(J255,'Information Page'!$C$24:$F$123,2,FALSE)),\"-\",VLOOKUP(J255,'Information Page'!$C$24:$F$123,2,FALSE))","v":"-"},{"$f":"IF(ISERROR(VLOOKUP(J255,'Information Page'!$C$24:$F$123,3,FALSE)),\"-\",VLOOKUP(J255,'Information Page'!$C$24:$F$123,3,FALSE))","v":"-"},{"$f":"IF(ISERROR(VLOOKUP(J255,'Information Page'!$C$24:$F$123,4,FALSE)),\"-\",VLOOKUP(J255,'Information Page'!$C$24:$F$123,4,FALSE))","v":"-"},null,"0"]
[null,null,236,null,null,null,null,null,null,null,{"$f":"IF(ISERROR(VLOOKUP(J256,'Information Page'!$C$24:$F$123,2,FALSE)),\"-\",VLOOKUP(J256,'Information Page'!$C$24:$F$123,2,FALSE))","v":"-"},{"$f":"IF(ISERROR(VLOOKUP(J256,'Information Page'!$C$24:$F$123,3,FALSE)),\"-\",VLOOKUP(J256,'Information Page'!$C$24:$F$123,3,FALSE))","v":"-"},{"$f":"IF(ISERROR(VLOOKUP(J256,'Information Page'!$C$24:$F$123,4,FALSE)),\"-\",VLOOKUP(J256,'Information Page'!$C$24:$F$123,4,FALSE))","v":"-"},null,"0"]
[null,null,237,null,null,null,null,null,null,null,{"$f":"IF(ISERROR(VLOOKUP(J257,'Information Page'!$C$24:$F$123,2,FALSE)),\"-\",VLOOKUP(J257,'Information Page'!$C$24:$F$123,2,FALSE))","v":"-"},{"$f":"IF(ISERROR(VLOOKUP(J257,'Information Page'!$C$24:$F$123,3,FALSE)),\"-\",VLOOKUP(J257,'Information Page'!$C$24:$F$123,3,FALSE))","v":"-"},{"$f":"IF(ISERROR(VLOOKUP(J257,'Information Page'!$C$24:$F$123,4,FALSE)),\"-\",VLOOKUP(J257,'Information Page'!$C$24:$F$123,4,FALSE))","v":"-"},null,"0"]
[null,null,238,null,null,null,null,null,null,null,{"$f":"IF(ISERROR(VLOOKUP(J258,'Information Page'!$C$24:$F$123,2,FALSE)),\"-\",VLOOKUP(J258,'Information Page'!$C$24:$F$123,2,FALSE))","v":"-"},{"$f":"IF(ISERROR(VLOOKUP(J258,'Information Page'!$C$24:$F$123,3,FALSE)),\"-\",VLOOKUP(J258,'Information Page'!$C$24:$F$123,3,FALSE))","v":"-"},{"$f":"IF(ISERROR(VLOOKUP(J258,'Information Page'!$C$24:$F$123,4,FALSE)),\"-\",VLOOKUP(J258,'Information Page'!$C$24:$F$123,4,FALSE))","v":"-"},null,"0"]
[null,null,239,null,null,null,null,null,null,null,{"$f":"IF(ISERROR(VLOOKUP(J259,'Information Page'!$C$24:$F$123,2,FALSE)),\"-\",VLOOKUP(J259,'Information Page'!$C$24:$F$123,2,FALSE))","v":"-"},{"$f":"IF(ISERROR(VLOOKUP(J259,'Information Page'!$C$24:$F$123,3,FALSE)),\"-\",VLOOKUP(J259,'Information Page'!$C$24:$F$123,3,FALSE))","v":"-"},{"$f":"IF(ISERROR(VLOOKUP(J259,'Information Page'!$C$24:$F$123,4,FALSE)),\"-\",VLOOKUP(J259,'Information Page'!$C$24:$F$123,4,FALSE))","v":"-"},null,"0"]
[null,null,240,null,null,null,null,null,null,null,{"$f":"IF(ISERROR(VLOOKUP(J260,'Information Page'!$C$24:$F$123,2,FALSE)),\"-\",VLOOKUP(J260,'Information Page'!$C$24:$F$123,2,FALSE))","v":"-"},{"$f":"IF(ISERROR(VLOOKUP(J260,'Information Page'!$C$24:$F$123,3,FALSE)),\"-\",VLOOKUP(J260,'Information Page'!$C$24:$F$123,3,FALSE))","v":"-"},{"$f":"IF(ISERROR(VLOOKUP(J260,'Information Page'!$C$24:$F$123,4,FALSE)),\"-\",VLOOKUP(J260,'Information Page'!$C$24:$F$123,4,FALSE))","v":"-"},null,"0"]
[null,null,241,null,null,null,null,null,null,null,{"$f":"IF(ISERROR(VLOOKUP(J261,'Information Page'!$C$24:$F$123,2,FALSE)),\"-\",VLOOKUP(J261,'Information Page'!$C$24:$F$123,2,FALSE))","v":"-"},{"$f":"IF(ISERROR(VLOOKUP(J261,'Information Page'!$C$24:$F$123,3,FALSE)),\"-\",VLOOKUP(J261,'Information Page'!$C$24:$F$123,3,FALSE))","v":"-"},{"$f":"IF(ISERROR(VLOOKUP(J261,'Information Page'!$C$24:$F$123,4,FALSE)),\"-\",VLOOKUP(J261,'Information Page'!$C$24:$F$123,4,FALSE))","v":"-"},null,"0"]
[null,null,242,null,null,null,null,null,null,null,{"$f":"IF(ISERROR(VLOOKUP(J262,'Information Page'!$C$24:$F$123,2,FALSE)),\"-\",VLOOKUP(J262,'Information Page'!$C$24:$F$123,2,FALSE))","v":"-"},{"$f":"IF(ISERROR(VLOOKUP(J262,'Information Page'!$C$24:$F$123,3,FALSE)),\"-\",VLOOKUP(J262,'Information Page'!$C$24:$F$123,3,FALSE))","v":"-"},{"$f":"IF(ISERROR(VLOOKUP(J262,'Information Page'!$C$24:$F$123,4,FALSE)),\"-\",VLOOKUP(J262,'Information Page'!$C$24:$F$123,4,FALSE))","v":"-"},null,"0"]
[null,null,243,null,null,null,null,null,null,null,{"$f":"IF(ISERROR(VLOOKUP(J263,'Information Page'!$C$24:$F$123,2,FALSE)),\"-\",VLOOKUP(J263,'Information Page'!$C$24:$F$123,2,FALSE))","v":"-"},{"$f":"IF(ISERROR(VLOOKUP(J263,'Information Page'!$C$24:$F$123,3,FALSE)),\"-\",VLOOKUP(J263,'Information Page'!$C$24:$F$123,3,FALSE))","v":"-"},{"$f":"IF(ISERROR(VLOOKUP(J263,'Information Page'!$C$24:$F$123,4,FALSE)),\"-\",VLOOKUP(J263,'Information Page'!$C$24:$F$123,4,FALSE))","v":"-"},null,"0"]
[null,null,244,null,null,null,null,null,null,null,{"$f":"IF(ISERROR(VLOOKUP(J264,'Information Page'!$C$24:$F$123,2,FALSE)),\"-\",VLOOKUP(J264,'Information Page'!$C$24:$F$123,2,FALSE))","v":"-"},{"$f":"IF(ISERROR(VLOOKUP(J264,'Information Page'!$C$24:$F$123,3,FALSE)),\"-\",VLOOKUP(J264,'Information Page'!$C$24:$F$123,3,FALSE))","v":"-"},{"$f":"IF(ISERROR(VLOOKUP(J264,'Information Page'!$C$24:$F$123,4,FALSE)),\"-\",VLOOKUP(J264,'Information Page'!$C$24:$F$123,4,FALSE))","v":"-"},null,"0"]
[null,null,245,null,null,null,null,null,null,null,{"$f":"IF(ISERROR(VLOOKUP(J265,'Information Page'!$C$24:$F$123,2,FALSE)),\"-\",VLOOKUP(J265,'Information Page'!$C$24:$F$123,2,FALSE))","v":"-"},{"$f":"IF(ISERROR(VLOOKUP(J265,'Information Page'!$C$24:$F$123,3,FALSE)),\"-\",VLOOKUP(J265,'Information Page'!$C$24:$F$123,3,FALSE))","v":"-"},{"$f":"IF(ISERROR(VLOOKUP(J265,'Information Page'!$C$24:$F$123,4,FALSE)),\"-\",VLOOKUP(J265,'Information Page'!$C$24:$F$123,4,FALSE))","v":"-"},null,"0"]
[null,null,246,null,null,null,null,null,null,null,{"$f":"IF(ISERROR(VLOOKUP(J266,'Information Page'!$C$24:$F$123,2,FALSE)),\"-\",VLOOKUP(J266,'Information Page'!$C$24:$F$123,2,FALSE))","v":"-"},{"$f":"IF(ISERROR(VLOOKUP(J266,'Information Page'!$C$24:$F$123,3,FALSE)),\"-\",VLOOKUP(J266,'Information Page'!$C$24:$F$123,3,FALSE))","v":"-"},{"$f":"IF(ISERROR(VLOOKUP(J266,'Information Page'!$C$24:$F$123,4,FALSE)),\"-\",VLOOKUP(J266,'Information Page'!$C$24:$F$123,4,FALSE))","v":"-"},null,"0"]
[null,null,247,null,null,null,null,null,null,null,{"$f":"IF(ISERROR(VLOOKUP(J267,'Information Page'!$C$24:$F$123,2,FALSE)),\"-\",VLOOKUP(J267,'Information Page'!$C$24:$F$123,2,FALSE))","v":"-"},{"$f":"IF(ISERROR(VLOOKUP(J267,'Information Page'!$C$24:$F$123,3,FALSE)),\"-\",VLOOKUP(J267,'Information Page'!$C$24:$F$123,3,FALSE))","v":"-"},{"$f":"IF(ISERROR(VLOOKUP(J267,'Information Page'!$C$24:$F$123,4,FALSE)),\"-\",VLOOKUP(J267,'Information Page'!$C$24:$F$123,4,FALSE))","v":"-"},null,"0"]
[null,null,248,null,null,null,null,null,null,null,{"$f":"IF(ISERROR(VLOOKUP(J268,'Information Page'!$C$24:$F$123,2,FALSE)),\"-\",VLOOKUP(J268,'Information Page'!$C$24:$F$123,2,FALSE))","v":"-"},{"$f":"IF(ISERROR(VLOOKUP(J268,'Information Page'!$C$24:$F$123,3,FALSE)),\"-\",VLOOKUP(J268,'Information Page'!$C$24:$F$123,3,FALSE))","v":"-"},{"$f":"IF(ISERROR(VLOOKUP(J268,'Information Page'!$C$24:$F$123,4,FALSE)),\"-\",VLOOKUP(J268,'Information Page'!$C$24:$F$123,4,FALSE))","v":"-"},null,"0"]
[null,null,249,null,null,null,null,null,null,null,{"$f":"IF(ISERROR(VLOOKUP(J269,'Information Page'!$C$24:$F$123,2,FALSE)),\"-\",VLOOKUP(J269,'Information Page'!$C$24:$F$123,2,FALSE))","v":"-"},{"$f":"IF(ISERROR(VLOOKUP(J269,'Information Page'!$C$24:$F$123,3,FALSE)),\"-\",VLOOKUP(J269,'Information Page'!$C$24:$F$123,3,FALSE))","v":"-"},{"$f":"IF(ISERROR(VLOOKUP(J269,'Information Page'!$C$24:$F$123,4,FALSE)),\"-\",VLOOKUP(J269,'Information Page'!$C$24:$F$123,4,FALSE))","v":"-"},null,"0"]
[null,null,250,null,null,null,null,null,null,null,{"$f":"IF(ISERROR(VLOOKUP(J270,'Information Page'!$C$24:$F$123,2,FALSE)),\"-\",VLOOKUP(J270,'Information Page'!$C$24:$F$123,2,FALSE))","v":"-"},{"$f":"IF(ISERROR(VLOOKUP(J270,'Information Page'!$C$24:$F$123,3,FALSE)),\"-\",VLOOKUP(J270,'Information Page'!$C$24:$F$123,3,FALSE))","v":"-"},{"$f":"IF(ISERROR(VLOOKUP(J270,'Information Page'!$C$24:$F$123,4,FALSE)),\"-\",VLOOKUP(J270,'Information Page'!$C$24:$F$123,4,FALSE))","v":"-"},null,"0"]
[null,null,251,null,null,null,null,null,null,null,{"$f":"IF(ISERROR(VLOOKUP(J271,'Information Page'!$C$24:$F$123,2,FALSE)),\"-\",VLOOKUP(J271,'Information Page'!$C$24:$F$123,2,FALSE))","v":"-"},{"$f":"IF(ISERROR(VLOOKUP(J271,'Information Page'!$C$24:$F$123,3,FALSE)),\"-\",VLOOKUP(J271,'Information Page'!$C$24:$F$123,3,FALSE))","v":"-"},{"$f":"IF(ISERROR(VLOOKUP(J271,'Information Page'!$C$24:$F$123,4,FALSE)),\"-\",VLOOKUP(J271,'Information Page'!$C$24:$F$123,4,FALSE))","v":"-"},null,"0"]
[null,null,252,null,null,null,null,null,null,null,{"$f":"IF(ISERROR(VLOOKUP(J272,'Information Page'!$C$24:$F$123,2,FALSE)),\"-\",VLOOKUP(J272,'Information Page'!$C$24:$F$123,2,FALSE))","v":"-"},{"$f":"IF(ISERROR(VLOOKUP(J272,'Information Page'!$C$24:$F$123,3,FALSE)),\"-\",VLOOKUP(J272,'Information Page'!$C$24:$F$123,3,FALSE))","v":"-"},{"$f":"IF(ISERROR(VLOOKUP(J272,'Information Page'!$C$24:$F$123,4,FALSE)),\"-\",VLOOKUP(J272,'Information Page'!$C$24:$F$123,4,FALSE))","v":"-"},null,"0"]
[null,null,253,null,null,null,null,null,null,null,{"$f":"IF(ISERROR(VLOOKUP(J273,'Information Page'!$C$24:$F$123,2,FALSE)),\"-\",VLOOKUP(J273,'Information Page'!$C$24:$F$123,2,FALSE))","v":"-"},{"$f":"IF(ISERROR(VLOOKUP(J273,'Information Page'!$C$24:$F$123,3,FALSE)),\"-\",VLOOKUP(J273,'Information Page'!$C$24:$F$123,3,FALSE))","v":"-"},{"$f":"IF(ISERROR(VLOOKUP(J273,'Information Page'!$C$24:$F$123,4,FALSE)),\"-\",VLOOKUP(J273,'Information Page'!$C$24:$F$123,4,FALSE))","v":"-"},null,"0"]
[null,null,254,null,null,null,null,null,null,null,{"$f":"IF(ISERROR(VLOOKUP(J274,'Information Page'!$C$24:$F$123,2,FALSE)),\"-\",VLOOKUP(J274,'Information Page'!$C$24:$F$123,2,FALSE))","v":"-"},{"$f":"IF(ISERROR(VLOOKUP(J274,'Information Page'!$C$24:$F$123,3,FALSE)),\"-\",VLOOKUP(J274,'Information Page'!$C$24:$F$123,3,FALSE))","v":"-"},{"$f":"IF(ISERROR(VLOOKUP(J274,'Information Page'!$C$24:$F$123,4,FALSE)),\"-\",VLOOKUP(J274,'Information Page'!$C$24:$F$123,4,FALSE))","v":"-"},null,"0"]
[null,null,255,null,null,null,null,null,null,null,{"$f":"IF(ISERROR(VLOOKUP(J275,'Information Page'!$C$24:$F$123,2,FALSE)),\"-\",VLOOKUP(J275,'Information Page'!$C$24:$F$123,2,FALSE))","v":"-"},{"$f":"IF(ISERROR(VLOOKUP(J275,'Information Page'!$C$24:$F$123,3,FALSE)),\"-\",VLOOKUP(J275,'Information Page'!$C$24:$F$123,3,FALSE))","v":"-"},{"$f":"IF(ISERROR(VLOOKUP(J275,'Information Page'!$C$24:$F$123,4,FALSE)),\"-\",VLOOKUP(J275,'Information Page'!$C$24:$F$123,4,FALSE))","v":"-"},null,"0"]
[null,null,256,null,null,null,null,null,null,null,{"$f":"IF(ISERROR(VLOOKUP(J276,'Information Page'!$C$24:$F$123,2,FALSE)),\"-\",VLOOKUP(J276,'Information Page'!$C$24:$F$123,2,FALSE))","v":"-"},{"$f":"IF(ISERROR(VLOOKUP(J276,'Information Page'!$C$24:$F$123,3,FALSE)),\"-\",VLOOKUP(J276,'Information Page'!$C$24:$F$123,3,FALSE))","v":"-"},{"$f":"IF(ISERROR(VLOOKUP(J276,'Information Page'!$C$24:$F$123,4,FALSE)),\"-\",VLOOKUP(J276,'Information Page'!$C$24:$F$123,4,FALSE))","v":"-"},null,"0"]
[null,null,257,null,null,null,null,null,null,null,{"$f":"IF(ISERROR(VLOOKUP(J277,'Information Page'!$C$24:$F$123,2,FALSE)),\"-\",VLOOKUP(J277,'Information Page'!$C$24:$F$123,2,FALSE))","v":"-"},{"$f":"IF(ISERROR(VLOOKUP(J277,'Information Page'!$C$24:$F$123,3,FALSE)),\"-\",VLOOKUP(J277,'Information Page'!$C$24:$F$123,3,FALSE))","v":"-"},{"$f":"IF(ISERROR(VLOOKUP(J277,'Information Page'!$C$24:$F$123,4,FALSE)),\"-\",VLOOKUP(J277,'Information Page'!$C$24:$F$123,4,FALSE))","v":"-"},null,"0"]
[null,null,258,null,null,null,null,null,null,null,{"$f":"IF(ISERROR(VLOOKUP(J278,'Information Page'!$C$24:$F$123,2,FALSE)),\"-\",VLOOKUP(J278,'Information Page'!$C$24:$F$123,2,FALSE))","v":"-"},{"$f":"IF(ISERROR(VLOOKUP(J278,'Information Page'!$C$24:$F$123,3,FALSE)),\"-\",VLOOKUP(J278,'Information Page'!$C$24:$F$123,3,FALSE))","v":"-"},{"$f":"IF(ISERROR(VLOOKUP(J278,'Information Page'!$C$24:$F$123,4,FALSE)),\"-\",VLOOKUP(J278,'Information Page'!$C$24:$F$123,4,FALSE))","v":"-"},null,{"$f":"IF(M278=\"-\",\"0\",M278*N278)","v":"0"}]
[null,null,259,null,null,null,null,null,null,null,{"$f":"IF(ISERROR(VLOOKUP(J279,'Information Page'!$C$24:$F$123,2,FALSE)),\"-\",VLOOKUP(J279,'Information Page'!$C$24:$F$123,2,FALSE))","v":"-"},{"$f":"IF(ISERROR(VLOOKUP(J279,'Information Page'!$C$24:$F$123,3,FALSE)),\"-\",VLOOKUP(J279,'Information Page'!$C$24:$F$123,3,FALSE))","v":"-"},{"$f":"IF(ISERROR(VLOOKUP(J279,'Information Page'!$C$24:$F$123,4,FALSE)),\"-\",VLOOKUP(J279,'Information Page'!$C$24:$F$123,4,FALSE))","v":"-"},null,"0"]
[null,null,260,null,null,null,null,null,null,null,{"$f":"IF(ISERROR(VLOOKUP(J280,'Information Page'!$C$24:$F$123,2,FALSE)),\"-\",VLOOKUP(J280,'Information Page'!$C$24:$F$123,2,FALSE))","v":"-"},{"$f":"IF(ISERROR(VLOOKUP(J280,'Information Page'!$C$24:$F$123,3,FALSE)),\"-\",VLOOKUP(J280,'Information Page'!$C$24:$F$123,3,FALSE))","v":"-"},{"$f":"IF(ISERROR(VLOOKUP(J280,'Information Page'!$C$24:$F$123,4,FALSE)),\"-\",VLOOKUP(J280,'Information Page'!$C$24:$F$123,4,FALSE))","v":"-"},null,"0"]
[null,null,261,null,null,null,null,null,null,null,{"$f":"IF(ISERROR(VLOOKUP(J281,'Information Page'!$C$24:$F$123,2,FALSE)),\"-\",VLOOKUP(J281,'Information Page'!$C$24:$F$123,2,FALSE))","v":"-"},{"$f":"IF(ISERROR(VLOOKUP(J281,'Information Page'!$C$24:$F$123,3,FALSE)),\"-\",VLOOKUP(J281,'Information Page'!$C$24:$F$123,3,FALSE))","v":"-"},{"$f":"IF(ISERROR(VLOOKUP(J281,'Information Page'!$C$24:$F$123,4,FALSE)),\"-\",VLOOKUP(J281,'Information Page'!$C$24:$F$123,4,FALSE))","v":"-"},null,"0"]
[null,null,262,null,null,null,null,null,null,null,{"$f":"IF(ISERROR(VLOOKUP(J282,'Information Page'!$C$24:$F$123,2,FALSE)),\"-\",VLOOKUP(J282,'Information Page'!$C$24:$F$123,2,FALSE))","v":"-"},{"$f":"IF(ISERROR(VLOOKUP(J282,'Information Page'!$C$24:$F$123,3,FALSE)),\"-\",VLOOKUP(J282,'Information Page'!$C$24:$F$123,3,FALSE))","v":"-"},{"$f":"IF(ISERROR(VLOOKUP(J282,'Information Page'!$C$24:$F$123,4,FALSE)),\"-\",VLOOKUP(J282,'Information Page'!$C$24:$F$123,4,FALSE))","v":"-"},null,"0"]
[null,null,263,null,null,null,null,null,null,null,{"$f":"IF(ISERROR(VLOOKUP(J283,'Information Page'!$C$24:$F$123,2,FALSE)),\"-\",VLOOKUP(J283,'Information Page'!$C$24:$F$123,2,FALSE))","v":"-"},{"$f":"IF(ISERROR(VLOOKUP(J283,'Information Page'!$C$24:$F$123,3,FALSE)),\"-\",VLOOKUP(J283,'Information Page'!$C$24:$F$123,3,FALSE))","v":"-"},{"$f":"IF(ISERROR(VLOOKUP(J283,'Information Page'!$C$24:$F$123,4,FALSE)),\"-\",VLOOKUP(J283,'Information Page'!$C$24:$F$123,4,FALSE))","v":"-"},null,"0"]
[null,null,264,null,null,null,null,null,null,null,{"$f":"IF(ISERROR(VLOOKUP(J284,'Information Page'!$C$24:$F$123,2,FALSE)),\"-\",VLOOKUP(J284,'Information Page'!$C$24:$F$123,2,FALSE))","v":"-"},{"$f":"IF(ISERROR(VLOOKUP(J284,'Information Page'!$C$24:$F$123,3,FALSE)),\"-\",VLOOKUP(J284,'Information Page'!$C$24:$F$123,3,FALSE))","v":"-"},{"$f":"IF(ISERROR(VLOOKUP(J284,'Information Page'!$C$24:$F$123,4,FALSE)),\"-\",VLOOKUP(J284,'Information Page'!$C$24:$F$123,4,FALSE))","v":"-"},null,"0"]
[null,null,265,null,null,null,null,null,null,null,{"$f":"IF(ISERROR(VLOOKUP(J285,'Information Page'!$C$24:$F$123,2,FALSE)),\"-\",VLOOKUP(J285,'Information Page'!$C$24:$F$123,2,FALSE))","v":"-"},{"$f":"IF(ISERROR(VLOOKUP(J285,'Information Page'!$C$24:$F$123,3,FALSE)),\"-\",VLOOKUP(J285,'Information Page'!$C$24:$F$123,3,FALSE))","v":"-"},{"$f":"IF(ISERROR(VLOOKUP(J285,'Information Page'!$C$24:$F$123,4,FALSE)),\"-\",VLOOKUP(J285,'Information Page'!$C$24:$F$123,4,FALSE))","v":"-"},null,"0"]
[null,null,266,null,null,null,null,null,null,null,{"$f":"IF(ISERROR(VLOOKUP(J286,'Information Page'!$C$24:$F$123,2,FALSE)),\"-\",VLOOKUP(J286,'Information Page'!$C$24:$F$123,2,FALSE))","v":"-"},{"$f":"IF(ISERROR(VLOOKUP(J286,'Information Page'!$C$24:$F$123,3,FALSE)),\"-\",VLOOKUP(J286,'Information Page'!$C$24:$F$123,3,FALSE))","v":"-"},{"$f":"IF(ISERROR(VLOOKUP(J286,'Information Page'!$C$24:$F$123,4,FALSE)),\"-\",VLOOKUP(J286,'Information Page'!$C$24:$F$123,4,FALSE))","v":"-"},null,"0"]
[null,null,267,null,null,null,null,null,null,null,{"$f":"IF(ISERROR(VLOOKUP(J287,'Information Page'!$C$24:$F$123,2,FALSE)),\"-\",VLOOKUP(J287,'Information Page'!$C$24:$F$123,2,FALSE))","v":"-"},{"$f":"IF(ISERROR(VLOOKUP(J287,'Information Page'!$C$24:$F$123,3,FALSE)),\"-\",VLOOKUP(J287,'Information Page'!$C$24:$F$123,3,FALSE))","v":"-"},{"$f":"IF(ISERROR(VLOOKUP(J287,'Information Page'!$C$24:$F$123,4,FALSE)),\"-\",VLOOKUP(J287,'Information Page'!$C$24:$F$123,4,FALSE))","v":"-"},null,"0"]
[null,null,268,null,null,null,null,null,null,null,{"$f":"IF(ISERROR(VLOOKUP(J288,'Information Page'!$C$24:$F$123,2,FALSE)),\"-\",VLOOKUP(J288,'Information Page'!$C$24:$F$123,2,FALSE))","v":"-"},{"$f":"IF(ISERROR(VLOOKUP(J288,'Information Page'!$C$24:$F$123,3,FALSE)),\"-\",VLOOKUP(J288,'Information Page'!$C$24:$F$123,3,FALSE))","v":"-"},{"$f":"IF(ISERROR(VLOOKUP(J288,'Information Page'!$C$24:$F$123,4,FALSE)),\"-\",VLOOKUP(J288,'Information Page'!$C$24:$F$123,4,FALSE))","v":"-"},null,"0"]
[null,null,269,null,null,null,null,null,null,null,{"$f":"IF(ISERROR(VLOOKUP(J289,'Information Page'!$C$24:$F$123,2,FALSE)),\"-\",VLOOKUP(J289,'Information Page'!$C$24:$F$123,2,FALSE))","v":"-"},{"$f":"IF(ISERROR(VLOOKUP(J289,'Information Page'!$C$24:$F$123,3,FALSE)),\"-\",VLOOKUP(J289,'Information Page'!$C$24:$F$123,3,FALSE))","v":"-"},{"$f":"IF(ISERROR(VLOOKUP(J289,'Information Page'!$C$24:$F$123,4,FALSE)),\"-\",VLOOKUP(J289,'Information Page'!$C$24:$F$123,4,FALSE))","v":"-"},null,"0"]
[null,null,270,null,null,null,null,null,null,null,{"$f":"IF(ISERROR(VLOOKUP(J290,'Information Page'!$C$24:$F$123,2,FALSE)),\"-\",VLOOKUP(J290,'Information Page'!$C$24:$F$123,2,FALSE))","v":"-"},{"$f":"IF(ISERROR(VLOOKUP(J290,'Information Page'!$C$24:$F$123,3,FALSE)),\"-\",VLOOKUP(J290,'Information Page'!$C$24:$F$123,3,FALSE))","v":"-"},{"$f":"IF(ISERROR(VLOOKUP(J290,'Information Page'!$C$24:$F$123,4,FALSE)),\"-\",VLOOKUP(J290,'Information Page'!$C$24:$F$123,4,FALSE))","v":"-"},null,"0"]
[null,null,271,null,null,null,null,null,null,null,{"$f":"IF(ISERROR(VLOOKUP(J291,'Information Page'!$C$24:$F$123,2,FALSE)),\"-\",VLOOKUP(J291,'Information Page'!$C$24:$F$123,2,FALSE))","v":"-"},{"$f":"IF(ISERROR(VLOOKUP(J291,'Information Page'!$C$24:$F$123,3,FALSE)),\"-\",VLOOKUP(J291,'Information Page'!$C$24:$F$123,3,FALSE))","v":"-"},{"$f":"IF(ISERROR(VLOOKUP(J291,'Information Page'!$C$24:$F$123,4,FALSE)),\"-\",VLOOKUP(J291,'Information Page'!$C$24:$F$123,4,FALSE))","v":"-"},null,"0"]
[null,null,272,null,null,null,null,null,null,null,{"$f":"IF(ISERROR(VLOOKUP(J292,'Information Page'!$C$24:$F$123,2,FALSE)),\"-\",VLOOKUP(J292,'Information Page'!$C$24:$F$123,2,FALSE))","v":"-"},{"$f":"IF(ISERROR(VLOOKUP(J292,'Information Page'!$C$24:$F$123,3,FALSE)),\"-\",VLOOKUP(J292,'Information Page'!$C$24:$F$123,3,FALSE))","v":"-"},{"$f":"IF(ISERROR(VLOOKUP(J292,'Information Page'!$C$24:$F$123,4,FALSE)),\"-\",VLOOKUP(J292,'Information Page'!$C$24:$F$123,4,FALSE))","v":"-"},null,"0"]
[null,null,273,null,null,null,null,null,null,null,{"$f":"IF(ISERROR(VLOOKUP(J293,'Information Page'!$C$24:$F$123,2,FALSE)),\"-\",VLOOKUP(J293,'Information Page'!$C$24:$F$123,2,FALSE))","v":"-"},{"$f":"IF(ISERROR(VLOOKUP(J293,'Information Page'!$C$24:$F$123,3,FALSE)),\"-\",VLOOKUP(J293,'Information Page'!$C$24:$F$123,3,FALSE))","v":"-"},{"$f":"IF(ISERROR(VLOOKUP(J293,'Information Page'!$C$24:$F$123,4,FALSE)),\"-\",VLOOKUP(J293,'Information Page'!$C$24:$F$123,4,FALSE))","v":"-"},null,"0"]
[null,null,274,null,null,null,null,null,null,null,{"$f":"IF(ISERROR(VLOOKUP(J294,'Information Page'!$C$24:$F$123,2,FALSE)),\"-\",VLOOKUP(J294,'Information Page'!$C$24:$F$123,2,FALSE))","v":"-"},{"$f":"IF(ISERROR(VLOOKUP(J294,'Information Page'!$C$24:$F$123,3,FALSE)),\"-\",VLOOKUP(J294,'Information Page'!$C$24:$F$123,3,FALSE))","v":"-"},{"$f":"IF(ISERROR(VLOOKUP(J294,'Information Page'!$C$24:$F$123,4,FALSE)),\"-\",VLOOKUP(J294,'Information Page'!$C$24:$F$123,4,FALSE))","v":"-"},null,"0"]
[null,null,275,null,null,null,null,null,null,null,{"$f":"IF(ISERROR(VLOOKUP(J295,'Information Page'!$C$24:$F$123,2,FALSE)),\"-\",VLOOKUP(J295,'Information Page'!$C$24:$F$123,2,FALSE))","v":"-"},{"$f":"IF(ISERROR(VLOOKUP(J295,'Information Page'!$C$24:$F$123,3,FALSE)),\"-\",VLOOKUP(J295,'Information Page'!$C$24:$F$123,3,FALSE))","v":"-"},{"$f":"IF(ISERROR(VLOOKUP(J295,'Information Page'!$C$24:$F$123,4,FALSE)),\"-\",VLOOKUP(J295,'Information Page'!$C$24:$F$123,4,FALSE))","v":"-"},null,"0"]
[null,null,276,null,null,null,null,null,null,null,{"$f":"IF(ISERROR(VLOOKUP(J296,'Information Page'!$C$24:$F$123,2,FALSE)),\"-\",VLOOKUP(J296,'Information Page'!$C$24:$F$123,2,FALSE))","v":"-"},{"$f":"IF(ISERROR(VLOOKUP(J296,'Information Page'!$C$24:$F$123,3,FALSE)),\"-\",VLOOKUP(J296,'Information Page'!$C$24:$F$123,3,FALSE))","v":"-"},{"$f":"IF(ISERROR(VLOOKUP(J296,'Information Page'!$C$24:$F$123,4,FALSE)),\"-\",VLOOKUP(J296,'Information Page'!$C$24:$F$123,4,FALSE))","v":"-"},null,"0"]
[null,null,277,null,null,null,null,null,null,null,{"$f":"IF(ISERROR(VLOOKUP(J297,'Information Page'!$C$24:$F$123,2,FALSE)),\"-\",VLOOKUP(J297,'Information Page'!$C$24:$F$123,2,FALSE))","v":"-"},{"$f":"IF(ISERROR(VLOOKUP(J297,'Information Page'!$C$24:$F$123,3,FALSE)),\"-\",VLOOKUP(J297,'Information Page'!$C$24:$F$123,3,FALSE))","v":"-"},{"$f":"IF(ISERROR(VLOOKUP(J297,'Information Page'!$C$24:$F$123,4,FALSE)),\"-\",VLOOKUP(J297,'Information Page'!$C$24:$F$123,4,FALSE))","v":"-"},null,"0"]
[null,null,278,null,null,null,null,null,null,null,{"$f":"IF(ISERROR(VLOOKUP(J298,'Information Page'!$C$24:$F$123,2,FALSE)),\"-\",VLOOKUP(J298,'Information Page'!$C$24:$F$123,2,FALSE))","v":"-"},{"$f":"IF(ISERROR(VLOOKUP(J298,'Information Page'!$C$24:$F$123,3,FALSE)),\"-\",VLOOKUP(J298,'Information Page'!$C$24:$F$123,3,FALSE))","v":"-"},{"$f":"IF(ISERROR(VLOOKUP(J298,'Information Page'!$C$24:$F$123,4,FALSE)),\"-\",VLOOKUP(J298,'Information Page'!$C$24:$F$123,4,FALSE))","v":"-"},null,"0"]
[null,null,279,null,null,null,null,null,null,null,{"$f":"IF(ISERROR(VLOOKUP(J299,'Information Page'!$C$24:$F$123,2,FALSE)),\"-\",VLOOKUP(J299,'Information Page'!$C$24:$F$123,2,FALSE))","v":"-"},{"$f":"IF(ISERROR(VLOOKUP(J299,'Information Page'!$C$24:$F$123,3,FALSE)),\"-\",VLOOKUP(J299,'Information Page'!$C$24:$F$123,3,FALSE))","v":"-"},{"$f":"IF(ISERROR(VLOOKUP(J299,'Information Page'!$C$24:$F$123,4,FALSE)),\"-\",VLOOKUP(J299,'Information Page'!$C$24:$F$123,4,FALSE))","v":"-"},null,"0"]
[null,null,280,null,null,null,null,null,null,null,{"$f":"IF(ISERROR(VLOOKUP(J300,'Information Page'!$C$24:$F$123,2,FALSE)),\"-\",VLOOKUP(J300,'Information Page'!$C$24:$F$123,2,FALSE))","v":"-"},{"$f":"IF(ISERROR(VLOOKUP(J300,'Information Page'!$C$24:$F$123,3,FALSE)),\"-\",VLOOKUP(J300,'Information Page'!$C$24:$F$123,3,FALSE))","v":"-"},{"$f":"IF(ISERROR(VLOOKUP(J300,'Information Page'!$C$24:$F$123,4,FALSE)),\"-\",VLOOKUP(J300,'Information Page'!$C$24:$F$123,4,FALSE))","v":"-"},null,"0"]
[null,null,281,null,null,null,null,null,null,null,{"$f":"IF(ISERROR(VLOOKUP(J301,'Information Page'!$C$24:$F$123,2,FALSE)),\"-\",VLOOKUP(J301,'Information Page'!$C$24:$F$123,2,FALSE))","v":"-"},{"$f":"IF(ISERROR(VLOOKUP(J301,'Information Page'!$C$24:$F$123,3,FALSE)),\"-\",VLOOKUP(J301,'Information Page'!$C$24:$F$123,3,FALSE))","v":"-"},{"$f":"IF(ISERROR(VLOOKUP(J301,'Information Page'!$C$24:$F$123,4,FALSE)),\"-\",VLOOKUP(J301,'Information Page'!$C$24:$F$123,4,FALSE))","v":"-"},null,"0"]
[null,null,282,null,null,null,null,null,null,null,{"$f":"IF(ISERROR(VLOOKUP(J302,'Information Page'!$C$24:$F$123,2,FALSE)),\"-\",VLOOKUP(J302,'Information Page'!$C$24:$F$123,2,FALSE))","v":"-"},{"$f":"IF(ISERROR(VLOOKUP(J302,'Information Page'!$C$24:$F$123,3,FALSE)),\"-\",VLOOKUP(J302,'Information Page'!$C$24:$F$123,3,FALSE))","v":"-"},{"$f":"IF(ISERROR(VLOOKUP(J302,'Information Page'!$C$24:$F$123,4,FALSE)),\"-\",VLOOKUP(J302,'Information Page'!$C$24:$F$123,4,FALSE))","v":"-"},null,"0"]
[null,null,283,null,null,null,null,null,null,null,{"$f":"IF(ISERROR(VLOOKUP(J303,'Information Page'!$C$24:$F$123,2,FALSE)),\"-\",VLOOKUP(J303,'Information Page'!$C$24:$F$123,2,FALSE))","v":"-"},{"$f":"IF(ISERROR(VLOOKUP(J303,'Information Page'!$C$24:$F$123,3,FALSE)),\"-\",VLOOKUP(J303,'Information Page'!$C$24:$F$123,3,FALSE))","v":"-"},{"$f":"IF(ISERROR(VLOOKUP(J303,'Information Page'!$C$24:$F$123,4,FALSE)),\"-\",VLOOKUP(J303,'Information Page'!$C$24:$F$123,4,FALSE))","v":"-"},null,"0"]
[null,null,284,null,null,null,null,null,null,null,{"$f":"IF(ISERROR(VLOOKUP(J304,'Information Page'!$C$24:$F$123,2,FALSE)),\"-\",VLOOKUP(J304,'Information Page'!$C$24:$F$123,2,FALSE))","v":"-"},{"$f":"IF(ISERROR(VLOOKUP(J304,'Information Page'!$C$24:$F$123,3,FALSE)),\"-\",VLOOKUP(J304,'Information Page'!$C$24:$F$123,3,FALSE))","v":"-"},{"$f":"IF(ISERROR(VLOOKUP(J304,'Information Page'!$C$24:$F$123,4,FALSE)),\"-\",VLOOKUP(J304,'Information Page'!$C$24:$F$123,4,FALSE))","v":"-"},null,"0"]
[null,null,285,null,null,null,null,null,null,null,{"$f":"IF(ISERROR(VLOOKUP(J305,'Information Page'!$C$24:$F$123,2,FALSE)),\"-\",VLOOKUP(J305,'Information Page'!$C$24:$F$123,2,FALSE))","v":"-"},{"$f":"IF(ISERROR(VLOOKUP(J305,'Information Page'!$C$24:$F$123,3,FALSE)),\"-\",VLOOKUP(J305,'Information Page'!$C$24:$F$123,3,FALSE))","v":"-"},{"$f":"IF(ISERROR(VLOOKUP(J305,'Information Page'!$C$24:$F$123,4,FALSE)),\"-\",VLOOKUP(J305,'Information Page'!$C$24:$F$123,4,FALSE))","v":"-"},null,"0"]
[null,null,286,null,null,null,null,null,null,null,{"$f":"IF(ISERROR(VLOOKUP(J306,'Information Page'!$C$24:$F$123,2,FALSE)),\"-\",VLOOKUP(J306,'Information Page'!$C$24:$F$123,2,FALSE))","v":"-"},{"$f":"IF(ISERROR(VLOOKUP(J306,'Information Page'!$C$24:$F$123,3,FALSE)),\"-\",VLOOKUP(J306,'Information Page'!$C$24:$F$123,3,FALSE))","v":"-"},{"$f":"IF(ISERROR(VLOOKUP(J306,'Information Page'!$C$24:$F$123,4,FALSE)),\"-\",VLOOKUP(J306,'Information Page'!$C$24:$F$123,4,FALSE))","v":"-"},null,"0"]
[null,null,287,null,null,null,null,null,null,null,{"$f":"IF(ISERROR(VLOOKUP(J307,'Information Page'!$C$24:$F$123,2,FALSE)),\"-\",VLOOKUP(J307,'Information Page'!$C$24:$F$123,2,FALSE))","v":"-"},{"$f":"IF(ISERROR(VLOOKUP(J307,'Information Page'!$C$24:$F$123,3,FALSE)),\"-\",VLOOKUP(J307,'Information Page'!$C$24:$F$123,3,FALSE))","v":"-"},{"$f":"IF(ISERROR(VLOOKUP(J307,'Information Page'!$C$24:$F$123,4,FALSE)),\"-\",VLOOKUP(J307,'Information Page'!$C$24:$F$123,4,FALSE))","v":"-"},null,"0"]
[null,null,288,null,null,null,null,null,null,null,{"$f":"IF(ISERROR(VLOOKUP(J308,'Information Page'!$C$24:$F$123,2,FALSE)),\"-\",VLOOKUP(J308,'Information Page'!$C$24:$F$123,2,FALSE))","v":"-"},{"$f":"IF(ISERROR(VLOOKUP(J308,'Information Page'!$C$24:$F$123,3,FALSE)),\"-\",VLOOKUP(J308,'Information Page'!$C$24:$F$123,3,FALSE))","v":"-"},{"$f":"IF(ISERROR(VLOOKUP(J308,'Information Page'!$C$24:$F$123,4,FALSE)),\"-\",VLOOKUP(J308,'Information Page'!$C$24:$F$123,4,FALSE))","v":"-"},null,"0"]
[null,null,289,null,null,null,null,null,null,null,{"$f":"IF(ISERROR(VLOOKUP(J309,'Information Page'!$C$24:$F$123,2,FALSE)),\"-\",VLOOKUP(J309,'Information Page'!$C$24:$F$123,2,FALSE))","v":"-"},{"$f":"IF(ISERROR(VLOOKUP(J309,'Information Page'!$C$24:$F$123,3,FALSE)),\"-\",VLOOKUP(J309,'Information Page'!$C$24:$F$123,3,FALSE))","v":"-"},{"$f":"IF(ISERROR(VLOOKUP(J309,'Information Page'!$C$24:$F$123,4,FALSE)),\"-\",VLOOKUP(J309,'Information Page'!$C$24:$F$123,4,FALSE))","v":"-"},null,"0"]
[null,null,290,null,null,null,null,null,null,null,{"$f":"IF(ISERROR(VLOOKUP(J310,'Information Page'!$C$24:$F$123,2,FALSE)),\"-\",VLOOKUP(J310,'Information Page'!$C$24:$F$123,2,FALSE))","v":"-"},{"$f":"IF(ISERROR(VLOOKUP(J310,'Information Page'!$C$24:$F$123,3,FALSE)),\"-\",VLOOKUP(J310,'Information Page'!$C$24:$F$123,3,FALSE))","v":"-"},{"$f":"IF(ISERROR(VLOOKUP(J310,'Information Page'!$C$24:$F$123,4,FALSE)),\"-\",VLOOKUP(J310,'Information Page'!$C$24:$F$123,4,FALSE))","v":"-"},null,"0"]
[null,null,291,null,null,null,null,null,null,null,{"$f":"IF(ISERROR(VLOOKUP(J311,'Information Page'!$C$24:$F$123,2,FALSE)),\"-\",VLOOKUP(J311,'Information Page'!$C$24:$F$123,2,FALSE))","v":"-"},{"$f":"IF(ISERROR(VLOOKUP(J311,'Information Page'!$C$24:$F$123,3,FALSE)),\"-\",VLOOKUP(J311,'Information Page'!$C$24:$F$123,3,FALSE))","v":"-"},{"$f":"IF(ISERROR(VLOOKUP(J311,'Information Page'!$C$24:$F$123,4,FALSE)),\"-\",VLOOKUP(J311,'Information Page'!$C$24:$F$123,4,FALSE))","v":"-"},null,"0"]
[null,null,292,null,null,null,null,null,null,null,{"$f":"IF(ISERROR(VLOOKUP(J312,'Information Page'!$C$24:$F$123,2,FALSE)),\"-\",VLOOKUP(J312,'Information Page'!$C$24:$F$123,2,FALSE))","v":"-"},{"$f":"IF(ISERROR(VLOOKUP(J312,'Information Page'!$C$24:$F$123,3,FALSE)),\"-\",VLOOKUP(J312,'Information Page'!$C$24:$F$123,3,FALSE))","v":"-"},{"$f":"IF(ISERROR(VLOOKUP(J312,'Information Page'!$C$24:$F$123,4,FALSE)),\"-\",VLOOKUP(J312,'Information Page'!$C$24:$F$123,4,FALSE))","v":"-"},null,"0"]
[null,null,293,null,null,null,null,null,null,null,{"$f":"IF(ISERROR(VLOOKUP(J313,'Information Page'!$C$24:$F$123,2,FALSE)),\"-\",VLOOKUP(J313,'Information Page'!$C$24:$F$123,2,FALSE))","v":"-"},{"$f":"IF(ISERROR(VLOOKUP(J313,'Information Page'!$C$24:$F$123,3,FALSE)),\"-\",VLOOKUP(J313,'Information Page'!$C$24:$F$123,3,FALSE))","v":"-"},{"$f":"IF(ISERROR(VLOOKUP(J313,'Information Page'!$C$24:$F$123,4,FALSE)),\"-\",VLOOKUP(J313,'Information Page'!$C$24:$F$123,4,FALSE))","v":"-"},null,"0"]
[null,null,294,null,null,null,null,null,null,null,{"$f":"IF(ISERROR(VLOOKUP(J314,'Information Page'!$C$24:$F$123,2,FALSE)),\"-\",VLOOKUP(J314,'Information Page'!$C$24:$F$123,2,FALSE))","v":"-"},{"$f":"IF(ISERROR(VLOOKUP(J314,'Information Page'!$C$24:$F$123,3,FALSE)),\"-\",VLOOKUP(J314,'Information Page'!$C$24:$F$123,3,FALSE))","v":"-"},{"$f":"IF(ISERROR(VLOOKUP(J314,'Information Page'!$C$24:$F$123,4,FALSE)),\"-\",VLOOKUP(J314,'Information Page'!$C$24:$F$123,4,FALSE))","v":"-"},null,"0"]
[null,null,295,null,null,null,null,null,null,null,{"$f":"IF(ISERROR(VLOOKUP(J315,'Information Page'!$C$24:$F$123,2,FALSE)),\"-\",VLOOKUP(J315,'Information Page'!$C$24:$F$123,2,FALSE))","v":"-"},{"$f":"IF(ISERROR(VLOOKUP(J315,'Information Page'!$C$24:$F$123,3,FALSE)),\"-\",VLOOKUP(J315,'Information Page'!$C$24:$F$123,3,FALSE))","v":"-"},{"$f":"IF(ISERROR(VLOOKUP(J315,'Information Page'!$C$24:$F$123,4,FALSE)),\"-\",VLOOKUP(J315,'Information Page'!$C$24:$F$123,4,FALSE))","v":"-"},null,"0"]
[null,null,296,null,null,null,null,null,null,null,{"$f":"IF(ISERROR(VLOOKUP(J316,'Information Page'!$C$24:$F$123,2,FALSE)),\"-\",VLOOKUP(J316,'Information Page'!$C$24:$F$123,2,FALSE))","v":"-"},{"$f":"IF(ISERROR(VLOOKUP(J316,'Information Page'!$C$24:$F$123,3,FALSE)),\"-\",VLOOKUP(J316,'Information Page'!$C$24:$F$123,3,FALSE))","v":"-"},{"$f":"IF(ISERROR(VLOOKUP(J316,'Information Page'!$C$24:$F$123,4,FALSE)),\"-\",VLOOKUP(J316,'Information Page'!$C$24:$F$123,4,FALSE))","v":"-"},null,"0"]
[null,null,297,null,null,null,null,null,null,null,{"$f":"IF(ISERROR(VLOOKUP(J317,'Information Page'!$C$24:$F$123,2,FALSE)),\"-\",VLOOKUP(J317,'Information Page'!$C$24:$F$123,2,FALSE))","v":"-"},{"$f":"IF(ISERROR(VLOOKUP(J317,'Information Page'!$C$24:$F$123,3,FALSE)),\"-\",VLOOKUP(J317,'Information Page'!$C$24:$F$123,3,FALSE))","v":"-"},{"$f":"IF(ISERROR(VLOOKUP(J317,'Information Page'!$C$24:$F$123,4,FALSE)),\"-\",VLOOKUP(J317,'Information Page'!$C$24:$F$123,4,FALSE))","v":"-"},null,"0"]
[null,null,298,null,null,null,null,null,null,null,{"$f":"IF(ISERROR(VLOOKUP(J318,'Information Page'!$C$24:$F$123,2,FALSE)),\"-\",VLOOKUP(J318,'Information Page'!$C$24:$F$123,2,FALSE))","v":"-"},{"$f":"IF(ISERROR(VLOOKUP(J318,'Information Page'!$C$24:$F$123,3,FALSE)),\"-\",VLOOKUP(J318,'Information Page'!$C$24:$F$123,3,FALSE))","v":"-"},{"$f":"IF(ISERROR(VLOOKUP(J318,'Information Page'!$C$24:$F$123,4,FALSE)),\"-\",VLOOKUP(J318,'Information Page'!$C$24:$F$123,4,FALSE))","v":"-"},null,"0"]
[null,null,299,null,null,null,null,null,null,null,{"$f":"IF(ISERROR(VLOOKUP(J319,'Information Page'!$C$24:$F$123,2,FALSE)),\"-\",VLOOKUP(J319,'Information Page'!$C$24:$F$123,2,FALSE))","v":"-"},{"$f":"IF(ISERROR(VLOOKUP(J319,'Information Page'!$C$24:$F$123,3,FALSE)),\"-\",VLOOKUP(J319,'Information Page'!$C$24:$F$123,3,FALSE))","v":"-"},{"$f":"IF(ISERROR(VLOOKUP(J319,'Information Page'!$C$24:$F$123,4,FALSE)),\"-\",VLOOKUP(J319,'Information Page'!$C$24:$F$123,4,FALSE))","v":"-"},null,"0"]
[null,null,300,null,null,null,null,null,null,null,{"$f":"IF(ISERROR(VLOOKUP(J320,'Information Page'!$C$24:$F$123,2,FALSE)),\"-\",VLOOKUP(J320,'Information Page'!$C$24:$F$123,2,FALSE))","v":"-"},{"$f":"IF(ISERROR(VLOOKUP(J320,'Information Page'!$C$24:$F$123,3,FALSE)),\"-\",VLOOKUP(J320,'Information Page'!$C$24:$F$123,3,FALSE))","v":"-"},{"$f":"IF(ISERROR(VLOOKUP(J320,'Information Page'!$C$24:$F$123,4,FALSE)),\"-\",VLOOKUP(J320,'Information Page'!$C$24:$F$123,4,FALSE))","v":"-"},null,"0"]
[null,null,301,null,null,null,null,null,null,null,{"$f":"IF(ISERROR(VLOOKUP(J321,'Information Page'!$C$24:$F$123,2,FALSE)),\"-\",VLOOKUP(J321,'Information Page'!$C$24:$F$123,2,FALSE))","v":"-"},{"$f":"IF(ISERROR(VLOOKUP(J321,'Information Page'!$C$24:$F$123,3,FALSE)),\"-\",VLOOKUP(J321,'Information Page'!$C$24:$F$123,3,FALSE))","v":"-"},{"$f":"IF(ISERROR(VLOOKUP(J321,'Information Page'!$C$24:$F$123,4,FALSE)),\"-\",VLOOKUP(J321,'Information Page'!$C$24:$F$123,4,FALSE))","v":"-"},null,"0"]
[null,null,302,null,null,null,null,null,null,null,{"$f":"IF(ISERROR(VLOOKUP(J322,'Information Page'!$C$24:$F$123,2,FALSE)),\"-\",VLOOKUP(J322,'Information Page'!$C$24:$F$123,2,FALSE))","v":"-"},{"$f":"IF(ISERROR(VLOOKUP(J322,'Information Page'!$C$24:$F$123,3,FALSE)),\"-\",VLOOKUP(J322,'Information Page'!$C$24:$F$123,3,FALSE))","v":"-"},{"$f":"IF(ISERROR(VLOOKUP(J322,'Information Page'!$C$24:$F$123,4,FALSE)),\"-\",VLOOKUP(J322,'Information Page'!$C$24:$F$123,4,FALSE))","v":"-"},null,"0"]
[null,null,303,null,null,null,null,null,null,null,{"$f":"IF(ISERROR(VLOOKUP(J323,'Information Page'!$C$24:$F$123,2,FALSE)),\"-\",VLOOKUP(J323,'Information Page'!$C$24:$F$123,2,FALSE))","v":"-"},{"$f":"IF(ISERROR(VLOOKUP(J323,'Information Page'!$C$24:$F$123,3,FALSE)),\"-\",VLOOKUP(J323,'Information Page'!$C$24:$F$123,3,FALSE))","v":"-"},{"$f":"IF(ISERROR(VLOOKUP(J323,'Information Page'!$C$24:$F$123,4,FALSE)),\"-\",VLOOKUP(J323,'Information Page'!$C$24:$F$123,4,FALSE))","v":"-"},null,"0"]
[null,null,304,null,null,null,null,null,null,null,{"$f":"IF(ISERROR(VLOOKUP(J324,'Information Page'!$C$24:$F$123,2,FALSE)),\"-\",VLOOKUP(J324,'Information Page'!$C$24:$F$123,2,FALSE))","v":"-"},{"$f":"IF(ISERROR(VLOOKUP(J324,'Information Page'!$C$24:$F$123,3,FALSE)),\"-\",VLOOKUP(J324,'Information Page'!$C$24:$F$123,3,FALSE))","v":"-"},{"$f":"IF(ISERROR(VLOOKUP(J324,'Information Page'!$C$24:$F$123,4,FALSE)),\"-\",VLOOKUP(J324,'Information Page'!$C$24:$F$123,4,FALSE))","v":"-"},null,"0"]
[null,null,305,null,null,null,null,null,null,null,{"$f":"IF(ISERROR(VLOOKUP(J325,'Information Page'!$C$24:$F$123,2,FALSE)),\"-\",VLOOKUP(J325,'Information Page'!$C$24:$F$123,2,FALSE))","v":"-"},{"$f":"IF(ISERROR(VLOOKUP(J325,'Information Page'!$C$24:$F$123,3,FALSE)),\"-\",VLOOKUP(J325,'Information Page'!$C$24:$F$123,3,FALSE))","v":"-"},{"$f":"IF(ISERROR(VLOOKUP(J325,'Information Page'!$C$24:$F$123,4,FALSE)),\"-\",VLOOKUP(J325,'Information Page'!$C$24:$F$123,4,FALSE))","v":"-"},null,"0"]
[null,null,306,null,null,null,null,null,null,null,{"$f":"IF(ISERROR(VLOOKUP(J326,'Information Page'!$C$24:$F$123,2,FALSE)),\"-\",VLOOKUP(J326,'Information Page'!$C$24:$F$123,2,FALSE))","v":"-"},{"$f":"IF(ISERROR(VLOOKUP(J326,'Information Page'!$C$24:$F$123,3,FALSE)),\"-\",VLOOKUP(J326,'Information Page'!$C$24:$F$123,3,FALSE))","v":"-"},{"$f":"IF(ISERROR(VLOOKUP(J326,'Information Page'!$C$24:$F$123,4,FALSE)),\"-\",VLOOKUP(J326,'Information Page'!$C$24:$F$123,4,FALSE))","v":"-"},null,"0"]
[null,null,307,null,null,null,null,null,null,null,{"$f":"IF(ISERROR(VLOOKUP(J327,'Information Page'!$C$24:$F$123,2,FALSE)),\"-\",VLOOKUP(J327,'Information Page'!$C$24:$F$123,2,FALSE))","v":"-"},{"$f":"IF(ISERROR(VLOOKUP(J327,'Information Page'!$C$24:$F$123,3,FALSE)),\"-\",VLOOKUP(J327,'Information Page'!$C$24:$F$123,3,FALSE))","v":"-"},{"$f":"IF(ISERROR(VLOOKUP(J327,'Information Page'!$C$24:$F$123,4,FALSE)),\"-\",VLOOKUP(J327,'Information Page'!$C$24:$F$123,4,FALSE))","v":"-"},null,"0"]
[null,null,308,null,null,null,null,null,null,null,{"$f":"IF(ISERROR(VLOOKUP(J328,'Information Page'!$C$24:$F$123,2,FALSE)),\"-\",VLOOKUP(J328,'Information Page'!$C$24:$F$123,2,FALSE))","v":"-"},{"$f":"IF(ISERROR(VLOOKUP(J328,'Information Page'!$C$24:$F$123,3,FALSE)),\"-\",VLOOKUP(J328,'Information Page'!$C$24:$F$123,3,FALSE))","v":"-"},{"$f":"IF(ISERROR(VLOOKUP(J328,'Information Page'!$C$24:$F$123,4,FALSE)),\"-\",VLOOKUP(J328,'Information Page'!$C$24:$F$123,4,FALSE))","v":"-"},null,"0"]
[null,null,309,null,null,null,null,null,null,null,{"$f":"IF(ISERROR(VLOOKUP(J329,'Information Page'!$C$24:$F$123,2,FALSE)),\"-\",VLOOKUP(J329,'Information Page'!$C$24:$F$123,2,FALSE))","v":"-"},{"$f":"IF(ISERROR(VLOOKUP(J329,'Information Page'!$C$24:$F$123,3,FALSE)),\"-\",VLOOKUP(J329,'Information Page'!$C$24:$F$123,3,FALSE))","v":"-"},{"$f":"IF(ISERROR(VLOOKUP(J329,'Information Page'!$C$24:$F$123,4,FALSE)),\"-\",VLOOKUP(J329,'Information Page'!$C$24:$F$123,4,FALSE))","v":"-"},null,"0"]
[null,null,310,null,null,null,null,null,null,null,{"$f":"IF(ISERROR(VLOOKUP(J330,'Information Page'!$C$24:$F$123,2,FALSE)),\"-\",VLOOKUP(J330,'Information Page'!$C$24:$F$123,2,FALSE))","v":"-"},{"$f":"IF(ISERROR(VLOOKUP(J330,'Information Page'!$C$24:$F$123,3,FALSE)),\"-\",VLOOKUP(J330,'Information Page'!$C$24:$F$123,3,FALSE))","v":"-"},{"$f":"IF(ISERROR(VLOOKUP(J330,'Information Page'!$C$24:$F$123,4,FALSE)),\"-\",VLOOKUP(J330,'Information Page'!$C$24:$F$123,4,FALSE))","v":"-"},null,"0"]
[null,null,311,null,null,null,null,null,null,null,{"$f":"IF(ISERROR(VLOOKUP(J331,'Information Page'!$C$24:$F$123,2,FALSE)),\"-\",VLOOKUP(J331,'Information Page'!$C$24:$F$123,2,FALSE))","v":"-"},{"$f":"IF(ISERROR(VLOOKUP(J331,'Information Page'!$C$24:$F$123,3,FALSE)),\"-\",VLOOKUP(J331,'Information Page'!$C$24:$F$123,3,FALSE))","v":"-"},{"$f":"IF(ISERROR(VLOOKUP(J331,'Information Page'!$C$24:$F$123,4,FALSE)),\"-\",VLOOKUP(J331,'Information Page'!$C$24:$F$123,4,FALSE))","v":"-"},null,"0"]
[null,null,312,null,null,null,null,null,null,null,{"$f":"IF(ISERROR(VLOOKUP(J332,'Information Page'!$C$24:$F$123,2,FALSE)),\"-\",VLOOKUP(J332,'Information Page'!$C$24:$F$123,2,FALSE))","v":"-"},{"$f":"IF(ISERROR(VLOOKUP(J332,'Information Page'!$C$24:$F$123,3,FALSE)),\"-\",VLOOKUP(J332,'Information Page'!$C$24:$F$123,3,FALSE))","v":"-"},{"$f":"IF(ISERROR(VLOOKUP(J332,'Information Page'!$C$24:$F$123,4,FALSE)),\"-\",VLOOKUP(J332,'Information Page'!$C$24:$F$123,4,FALSE))","v":"-"},null,"0"]
[null,null,313,null,null,null,null,null,null,null,{"$f":"IF(ISERROR(VLOOKUP(J333,'Information Page'!$C$24:$F$123,2,FALSE)),\"-\",VLOOKUP(J333,'Information Page'!$C$24:$F$123,2,FALSE))","v":"-"},{"$f":"IF(ISERROR(VLOOKUP(J333,'Information Page'!$C$24:$F$123,3,FALSE)),\"-\",VLOOKUP(J333,'Information Page'!$C$24:$F$123,3,FALSE))","v":"-"},{"$f":"IF(ISERROR(VLOOKUP(J333,'Information Page'!$C$24:$F$123,4,FALSE)),\"-\",VLOOKUP(J333,'Information Page'!$C$24:$F$123,4,FALSE))","v":"-"},null,"0"]
[null,null,314,null,null,null,null,null,null,null,{"$f":"IF(ISERROR(VLOOKUP(J334,'Information Page'!$C$24:$F$123,2,FALSE)),\"-\",VLOOKUP(J334,'Information Page'!$C$24:$F$123,2,FALSE))","v":"-"},{"$f":"IF(ISERROR(VLOOKUP(J334,'Information Page'!$C$24:$F$123,3,FALSE)),\"-\",VLOOKUP(J334,'Information Page'!$C$24:$F$123,3,FALSE))","v":"-"},{"$f":"IF(ISERROR(VLOOKUP(J334,'Information Page'!$C$24:$F$123,4,FALSE)),\"-\",VLOOKUP(J334,'Information Page'!$C$24:$F$123,4,FALSE))","v":"-"},null,"0"]
[null,null,315,null,null,null,null,null,null,null,{"$f":"IF(ISERROR(VLOOKUP(J335,'Information Page'!$C$24:$F$123,2,FALSE)),\"-\",VLOOKUP(J335,'Information Page'!$C$24:$F$123,2,FALSE))","v":"-"},{"$f":"IF(ISERROR(VLOOKUP(J335,'Information Page'!$C$24:$F$123,3,FALSE)),\"-\",VLOOKUP(J335,'Information Page'!$C$24:$F$123,3,FALSE))","v":"-"},{"$f":"IF(ISERROR(VLOOKUP(J335,'Information Page'!$C$24:$F$123,4,FALSE)),\"-\",VLOOKUP(J335,'Information Page'!$C$24:$F$123,4,FALSE))","v":"-"},null,"0"]
[null,null,316,null,null,null,null,null,null,null,{"$f":"IF(ISERROR(VLOOKUP(J336,'Information Page'!$C$24:$F$123,2,FALSE)),\"-\",VLOOKUP(J336,'Information Page'!$C$24:$F$123,2,FALSE))","v":"-"},{"$f":"IF(ISERROR(VLOOKUP(J336,'Information Page'!$C$24:$F$123,3,FALSE)),\"-\",VLOOKUP(J336,'Information Page'!$C$24:$F$123,3,FALSE))","v":"-"},{"$f":"IF(ISERROR(VLOOKUP(J336,'Information Page'!$C$24:$F$123,4,FALSE)),\"-\",VLOOKUP(J336,'Information Page'!$C$24:$F$123,4,FALSE))","v":"-"},null,"0"]
[null,null,317,null,null,null,null,null,null,null,{"$f":"IF(ISERROR(VLOOKUP(J337,'Information Page'!$C$24:$F$123,2,FALSE)),\"-\",VLOOKUP(J337,'Information Page'!$C$24:$F$123,2,FALSE))","v":"-"},{"$f":"IF(ISERROR(VLOOKUP(J337,'Information Page'!$C$24:$F$123,3,FALSE)),\"-\",VLOOKUP(J337,'Information Page'!$C$24:$F$123,3,FALSE))","v":"-"},{"$f":"IF(ISERROR(VLOOKUP(J337,'Information Page'!$C$24:$F$123,4,FALSE)),\"-\",VLOOKUP(J337,'Information Page'!$C$24:$F$123,4,FALSE))","v":"-"},null,"0"]
[null,null,318,null,null,null,null,null,null,null,{"$f":"IF(ISERROR(VLOOKUP(J338,'Information Page'!$C$24:$F$123,2,FALSE)),\"-\",VLOOKUP(J338,'Information Page'!$C$24:$F$123,2,FALSE))","v":"-"},{"$f":"IF(ISERROR(VLOOKUP(J338,'Information Page'!$C$24:$F$123,3,FALSE)),\"-\",VLOOKUP(J338,'Information Page'!$C$24:$F$123,3,FALSE))","v":"-"},{"$f":"IF(ISERROR(VLOOKUP(J338,'Information Page'!$C$24:$F$123,4,FALSE)),\"-\",VLOOKUP(J338,'Information Page'!$C$24:$F$123,4,FALSE))","v":"-"},null,"0"]
[null,null,319,null,null,null,null,null,null,null,{"$f":"IF(ISERROR(VLOOKUP(J339,'Information Page'!$C$24:$F$123,2,FALSE)),\"-\",VLOOKUP(J339,'Information Page'!$C$24:$F$123,2,FALSE))","v":"-"},{"$f":"IF(ISERROR(VLOOKUP(J339,'Information Page'!$C$24:$F$123,3,FALSE)),\"-\",VLOOKUP(J339,'Information Page'!$C$24:$F$123,3,FALSE))","v":"-"},{"$f":"IF(ISERROR(VLOOKUP(J339,'Information Page'!$C$24:$F$123,4,FALSE)),\"-\",VLOOKUP(J339,'Information Page'!$C$24:$F$123,4,FALSE))","v":"-"},null,"0"]
[null,null,320,null,null,null,null,null,null,null,{"$f":"IF(ISERROR(VLOOKUP(J340,'Information Page'!$C$24:$F$123,2,FALSE)),\"-\",VLOOKUP(J340,'Information Page'!$C$24:$F$123,2,FALSE))","v":"-"},{"$f":"IF(ISERROR(VLOOKUP(J340,'Information Page'!$C$24:$F$123,3,FALSE)),\"-\",VLOOKUP(J340,'Information Page'!$C$24:$F$123,3,FALSE))","v":"-"},{"$f":"IF(ISERROR(VLOOKUP(J340,'Information Page'!$C$24:$F$123,4,FALSE)),\"-\",VLOOKUP(J340,'Information Page'!$C$24:$F$123,4,FALSE))","v":"-"},null,"0"]
[null,null,321,null,null,null,null,null,null,null,{"$f":"IF(ISERROR(VLOOKUP(J341,'Information Page'!$C$24:$F$123,2,FALSE)),\"-\",VLOOKUP(J341,'Information Page'!$C$24:$F$123,2,FALSE))","v":"-"},{"$f":"IF(ISERROR(VLOOKUP(J341,'Information Page'!$C$24:$F$123,3,FALSE)),\"-\",VLOOKUP(J341,'Information Page'!$C$24:$F$123,3,FALSE))","v":"-"},{"$f":"IF(ISERROR(VLOOKUP(J341,'Information Page'!$C$24:$F$123,4,FALSE)),\"-\",VLOOKUP(J341,'Information Page'!$C$24:$F$123,4,FALSE))","v":"-"},null,"0"]
[null,null,322,null,null,null,null,null,null,null,{"$f":"IF(ISERROR(VLOOKUP(J342,'Information Page'!$C$24:$F$123,2,FALSE)),\"-\",VLOOKUP(J342,'Information Page'!$C$24:$F$123,2,FALSE))","v":"-"},{"$f":"IF(ISERROR(VLOOKUP(J342,'Information Page'!$C$24:$F$123,3,FALSE)),\"-\",VLOOKUP(J342,'Information Page'!$C$24:$F$123,3,FALSE))","v":"-"},{"$f":"IF(ISERROR(VLOOKUP(J342,'Information Page'!$C$24:$F$123,4,FALSE)),\"-\",VLOOKUP(J342,'Information Page'!$C$24:$F$123,4,FALSE))","v":"-"},null,{"$f":"IF(M342=\"-\",\"0\",M342*N342)","v":"0"}]
[null,null,323,null,null,null,null,null,null,null,{"$f":"IF(ISERROR(VLOOKUP(J343,'Information Page'!$C$24:$F$123,2,FALSE)),\"-\",VLOOKUP(J343,'Information Page'!$C$24:$F$123,2,FALSE))","v":"-"},{"$f":"IF(ISERROR(VLOOKUP(J343,'Information Page'!$C$24:$F$123,3,FALSE)),\"-\",VLOOKUP(J343,'Information Page'!$C$24:$F$123,3,FALSE))","v":"-"},{"$f":"IF(ISERROR(VLOOKUP(J343,'Information Page'!$C$24:$F$123,4,FALSE)),\"-\",VLOOKUP(J343,'Information Page'!$C$24:$F$123,4,FALSE))","v":"-"},null,"0"]
[null,null,324,null,null,null,null,null,null,null,{"$f":"IF(ISERROR(VLOOKUP(J344,'Information Page'!$C$24:$F$123,2,FALSE)),\"-\",VLOOKUP(J344,'Information Page'!$C$24:$F$123,2,FALSE))","v":"-"},{"$f":"IF(ISERROR(VLOOKUP(J344,'Information Page'!$C$24:$F$123,3,FALSE)),\"-\",VLOOKUP(J344,'Information Page'!$C$24:$F$123,3,FALSE))","v":"-"},{"$f":"IF(ISERROR(VLOOKUP(J344,'Information Page'!$C$24:$F$123,4,FALSE)),\"-\",VLOOKUP(J344,'Information Page'!$C$24:$F$123,4,FALSE))","v":"-"},null,"0"]
[null,null,325,null,null,null,null,null,null,null,{"$f":"IF(ISERROR(VLOOKUP(J345,'Information Page'!$C$24:$F$123,2,FALSE)),\"-\",VLOOKUP(J345,'Information Page'!$C$24:$F$123,2,FALSE))","v":"-"},{"$f":"IF(ISERROR(VLOOKUP(J345,'Information Page'!$C$24:$F$123,3,FALSE)),\"-\",VLOOKUP(J345,'Information Page'!$C$24:$F$123,3,FALSE))","v":"-"},{"$f":"IF(ISERROR(VLOOKUP(J345,'Information Page'!$C$24:$F$123,4,FALSE)),\"-\",VLOOKUP(J345,'Information Page'!$C$24:$F$123,4,FALSE))","v":"-"},null,"0"]
[null,null,326,null,null,null,null,null,null,null,{"$f":"IF(ISERROR(VLOOKUP(J346,'Information Page'!$C$24:$F$123,2,FALSE)),\"-\",VLOOKUP(J346,'Information Page'!$C$24:$F$123,2,FALSE))","v":"-"},{"$f":"IF(ISERROR(VLOOKUP(J346,'Information Page'!$C$24:$F$123,3,FALSE)),\"-\",VLOOKUP(J346,'Information Page'!$C$24:$F$123,3,FALSE))","v":"-"},{"$f":"IF(ISERROR(VLOOKUP(J346,'Information Page'!$C$24:$F$123,4,FALSE)),\"-\",VLOOKUP(J346,'Information Page'!$C$24:$F$123,4,FALSE))","v":"-"},null,"0"]
[null,null,327,null,null,null,null,null,null,null,{"$f":"IF(ISERROR(VLOOKUP(J347,'Information Page'!$C$24:$F$123,2,FALSE)),\"-\",VLOOKUP(J347,'Information Page'!$C$24:$F$123,2,FALSE))","v":"-"},{"$f":"IF(ISERROR(VLOOKUP(J347,'Information Page'!$C$24:$F$123,3,FALSE)),\"-\",VLOOKUP(J347,'Information Page'!$C$24:$F$123,3,FALSE))","v":"-"},{"$f":"IF(ISERROR(VLOOKUP(J347,'Information Page'!$C$24:$F$123,4,FALSE)),\"-\",VLOOKUP(J347,'Information Page'!$C$24:$F$123,4,FALSE))","v":"-"},null,"0"]
[null,null,328,null,null,null,null,null,null,null,{"$f":"IF(ISERROR(VLOOKUP(J348,'Information Page'!$C$24:$F$123,2,FALSE)),\"-\",VLOOKUP(J348,'Information Page'!$C$24:$F$123,2,FALSE))","v":"-"},{"$f":"IF(ISERROR(VLOOKUP(J348,'Information Page'!$C$24:$F$123,3,FALSE)),\"-\",VLOOKUP(J348,'Information Page'!$C$24:$F$123,3,FALSE))","v":"-"},{"$f":"IF(ISERROR(VLOOKUP(J348,'Information Page'!$C$24:$F$123,4,FALSE)),\"-\",VLOOKUP(J348,'Information Page'!$C$24:$F$123,4,FALSE))","v":"-"},null,"0"]
[null,null,329,null,null,null,null,null,null,null,{"$f":"IF(ISERROR(VLOOKUP(J349,'Information Page'!$C$24:$F$123,2,FALSE)),\"-\",VLOOKUP(J349,'Information Page'!$C$24:$F$123,2,FALSE))","v":"-"},{"$f":"IF(ISERROR(VLOOKUP(J349,'Information Page'!$C$24:$F$123,3,FALSE)),\"-\",VLOOKUP(J349,'Information Page'!$C$24:$F$123,3,FALSE))","v":"-"},{"$f":"IF(ISERROR(VLOOKUP(J349,'Information Page'!$C$24:$F$123,4,FALSE)),\"-\",VLOOKUP(J349,'Information Page'!$C$24:$F$123,4,FALSE))","v":"-"},null,"0"]
[null,null,330,null,null,null,null,null,null,null,{"$f":"IF(ISERROR(VLOOKUP(J350,'Information Page'!$C$24:$F$123,2,FALSE)),\"-\",VLOOKUP(J350,'Information Page'!$C$24:$F$123,2,FALSE))","v":"-"},{"$f":"IF(ISERROR(VLOOKUP(J350,'Information Page'!$C$24:$F$123,3,FALSE)),\"-\",VLOOKUP(J350,'Information Page'!$C$24:$F$123,3,FALSE))","v":"-"},{"$f":"IF(ISERROR(VLOOKUP(J350,'Information Page'!$C$24:$F$123,4,FALSE)),\"-\",VLOOKUP(J350,'Information Page'!$C$24:$F$123,4,FALSE))","v":"-"},null,"0"]
[null,null,331,null,null,null,null,null,null,null,{"$f":"IF(ISERROR(VLOOKUP(J351,'Information Page'!$C$24:$F$123,2,FALSE)),\"-\",VLOOKUP(J351,'Information Page'!$C$24:$F$123,2,FALSE))","v":"-"},{"$f":"IF(ISERROR(VLOOKUP(J351,'Information Page'!$C$24:$F$123,3,FALSE)),\"-\",VLOOKUP(J351,'Information Page'!$C$24:$F$123,3,FALSE))","v":"-"},{"$f":"IF(ISERROR(VLOOKUP(J351,'Information Page'!$C$24:$F$123,4,FALSE)),\"-\",VLOOKUP(J351,'Information Page'!$C$24:$F$123,4,FALSE))","v":"-"},null,"0"]
[null,null,332,null,null,null,null,null,null,null,{"$f":"IF(ISERROR(VLOOKUP(J352,'Information Page'!$C$24:$F$123,2,FALSE)),\"-\",VLOOKUP(J352,'Information Page'!$C$24:$F$123,2,FALSE))","v":"-"},{"$f":"IF(ISERROR(VLOOKUP(J352,'Information Page'!$C$24:$F$123,3,FALSE)),\"-\",VLOOKUP(J352,'Information Page'!$C$24:$F$123,3,FALSE))","v":"-"},{"$f":"IF(ISERROR(VLOOKUP(J352,'Information Page'!$C$24:$F$123,4,FALSE)),\"-\",VLOOKUP(J352,'Information Page'!$C$24:$F$123,4,FALSE))","v":"-"},null,"0"]
[null,null,333,null,null,null,null,null,null,null,{"$f":"IF(ISERROR(VLOOKUP(J353,'Information Page'!$C$24:$F$123,2,FALSE)),\"-\",VLOOKUP(J353,'Information Page'!$C$24:$F$123,2,FALSE))","v":"-"},{"$f":"IF(ISERROR(VLOOKUP(J353,'Information Page'!$C$24:$F$123,3,FALSE)),\"-\",VLOOKUP(J353,'Information Page'!$C$24:$F$123,3,FALSE))","v":"-"},{"$f":"IF(ISERROR(VLOOKUP(J353,'Information Page'!$C$24:$F$123,4,FALSE)),\"-\",VLOOKUP(J353,'Information Page'!$C$24:$F$123,4,FALSE))","v":"-"},null,"0"]
[null,null,334,null,null,null,null,null,null,null,{"$f":"IF(ISERROR(VLOOKUP(J354,'Information Page'!$C$24:$F$123,2,FALSE)),\"-\",VLOOKUP(J354,'Information Page'!$C$24:$F$123,2,FALSE))","v":"-"},{"$f":"IF(ISERROR(VLOOKUP(J354,'Information Page'!$C$24:$F$123,3,FALSE)),\"-\",VLOOKUP(J354,'Information Page'!$C$24:$F$123,3,FALSE))","v":"-"},{"$f":"IF(ISERROR(VLOOKUP(J354,'Information Page'!$C$24:$F$123,4,FALSE)),\"-\",VLOOKUP(J354,'Information Page'!$C$24:$F$123,4,FALSE))","v":"-"},null,"0"]
[null,null,335,null,null,null,null,null,null,null,{"$f":"IF(ISERROR(VLOOKUP(J355,'Information Page'!$C$24:$F$123,2,FALSE)),\"-\",VLOOKUP(J355,'Information Page'!$C$24:$F$123,2,FALSE))","v":"-"},{"$f":"IF(ISERROR(VLOOKUP(J355,'Information Page'!$C$24:$F$123,3,FALSE)),\"-\",VLOOKUP(J355,'Information Page'!$C$24:$F$123,3,FALSE))","v":"-"},{"$f":"IF(ISERROR(VLOOKUP(J355,'Information Page'!$C$24:$F$123,4,FALSE)),\"-\",VLOOKUP(J355,'Information Page'!$C$24:$F$123,4,FALSE))","v":"-"},null,"0"]
[null,null,336,null,null,null,null,null,null,null,{"$f":"IF(ISERROR(VLOOKUP(J356,'Information Page'!$C$24:$F$123,2,FALSE)),\"-\",VLOOKUP(J356,'Information Page'!$C$24:$F$123,2,FALSE))","v":"-"},{"$f":"IF(ISERROR(VLOOKUP(J356,'Information Page'!$C$24:$F$123,3,FALSE)),\"-\",VLOOKUP(J356,'Information Page'!$C$24:$F$123,3,FALSE))","v":"-"},{"$f":"IF(ISERROR(VLOOKUP(J356,'Information Page'!$C$24:$F$123,4,FALSE)),\"-\",VLOOKUP(J356,'Information Page'!$C$24:$F$123,4,FALSE))","v":"-"},null,"0"]
[null,null,337,null,null,null,null,null,null,null,{"$f":"IF(ISERROR(VLOOKUP(J357,'Information Page'!$C$24:$F$123,2,FALSE)),\"-\",VLOOKUP(J357,'Information Page'!$C$24:$F$123,2,FALSE))","v":"-"},{"$f":"IF(ISERROR(VLOOKUP(J357,'Information Page'!$C$24:$F$123,3,FALSE)),\"-\",VLOOKUP(J357,'Information Page'!$C$24:$F$123,3,FALSE))","v":"-"},{"$f":"IF(ISERROR(VLOOKUP(J357,'Information Page'!$C$24:$F$123,4,FALSE)),\"-\",VLOOKUP(J357,'Information Page'!$C$24:$F$123,4,FALSE))","v":"-"},null,"0"]
[null,null,338,null,null,null,null,null,null,null,{"$f":"IF(ISERROR(VLOOKUP(J358,'Information Page'!$C$24:$F$123,2,FALSE)),\"-\",VLOOKUP(J358,'Information Page'!$C$24:$F$123,2,FALSE))","v":"-"},{"$f":"IF(ISERROR(VLOOKUP(J358,'Information Page'!$C$24:$F$123,3,FALSE)),\"-\",VLOOKUP(J358,'Information Page'!$C$24:$F$123,3,FALSE))","v":"-"},{"$f":"IF(ISERROR(VLOOKUP(J358,'Information Page'!$C$24:$F$123,4,FALSE)),\"-\",VLOOKUP(J358,'Information Page'!$C$24:$F$123,4,FALSE))","v":"-"},null,"0"]
[null,null,339,null,null,null,null,null,null,null,{"$f":"IF(ISERROR(VLOOKUP(J359,'Information Page'!$C$24:$F$123,2,FALSE)),\"-\",VLOOKUP(J359,'Information Page'!$C$24:$F$123,2,FALSE))","v":"-"},{"$f":"IF(ISERROR(VLOOKUP(J359,'Information Page'!$C$24:$F$123,3,FALSE)),\"-\",VLOOKUP(J359,'Information Page'!$C$24:$F$123,3,FALSE))","v":"-"},{"$f":"IF(ISERROR(VLOOKUP(J359,'Information Page'!$C$24:$F$123,4,FALSE)),\"-\",VLOOKUP(J359,'Information Page'!$C$24:$F$123,4,FALSE))","v":"-"},null,"0"]
[null,null,340,null,null,null,null,null,null,null,{"$f":"IF(ISERROR(VLOOKUP(J360,'Information Page'!$C$24:$F$123,2,FALSE)),\"-\",VLOOKUP(J360,'Information Page'!$C$24:$F$123,2,FALSE))","v":"-"},{"$f":"IF(ISERROR(VLOOKUP(J360,'Information Page'!$C$24:$F$123,3,FALSE)),\"-\",VLOOKUP(J360,'Information Page'!$C$24:$F$123,3,FALSE))","v":"-"},{"$f":"IF(ISERROR(VLOOKUP(J360,'Information Page'!$C$24:$F$123,4,FALSE)),\"-\",VLOOKUP(J360,'Information Page'!$C$24:$F$123,4,FALSE))","v":"-"},null,"0"]
[null,null,341,null,null,null,null,null,null,null,{"$f":"IF(ISERROR(VLOOKUP(J361,'Information Page'!$C$24:$F$123,2,FALSE)),\"-\",VLOOKUP(J361,'Information Page'!$C$24:$F$123,2,FALSE))","v":"-"},{"$f":"IF(ISERROR(VLOOKUP(J361,'Information Page'!$C$24:$F$123,3,FALSE)),\"-\",VLOOKUP(J361,'Information Page'!$C$24:$F$123,3,FALSE))","v":"-"},{"$f":"IF(ISERROR(VLOOKUP(J361,'Information Page'!$C$24:$F$123,4,FALSE)),\"-\",VLOOKUP(J361,'Information Page'!$C$24:$F$123,4,FALSE))","v":"-"},null,"0"]
[null,null,342,null,null,null,null,null,null,null,{"$f":"IF(ISERROR(VLOOKUP(J362,'Information Page'!$C$24:$F$123,2,FALSE)),\"-\",VLOOKUP(J362,'Information Page'!$C$24:$F$123,2,FALSE))","v":"-"},{"$f":"IF(ISERROR(VLOOKUP(J362,'Information Page'!$C$24:$F$123,3,FALSE)),\"-\",VLOOKUP(J362,'Information Page'!$C$24:$F$123,3,FALSE))","v":"-"},{"$f":"IF(ISERROR(VLOOKUP(J362,'Information Page'!$C$24:$F$123,4,FALSE)),\"-\",VLOOKUP(J362,'Information Page'!$C$24:$F$123,4,FALSE))","v":"-"},null,"0"]
[null,null,343,null,null,null,null,null,null,null,{"$f":"IF(ISERROR(VLOOKUP(J363,'Information Page'!$C$24:$F$123,2,FALSE)),\"-\",VLOOKUP(J363,'Information Page'!$C$24:$F$123,2,FALSE))","v":"-"},{"$f":"IF(ISERROR(VLOOKUP(J363,'Information Page'!$C$24:$F$123,3,FALSE)),\"-\",VLOOKUP(J363,'Information Page'!$C$24:$F$123,3,FALSE))","v":"-"},{"$f":"IF(ISERROR(VLOOKUP(J363,'Information Page'!$C$24:$F$123,4,FALSE)),\"-\",VLOOKUP(J363,'Information Page'!$C$24:$F$123,4,FALSE))","v":"-"},null,"0"]
[null,null,344,null,null,null,null,null,null,null,{"$f":"IF(ISERROR(VLOOKUP(J364,'Information Page'!$C$24:$F$123,2,FALSE)),\"-\",VLOOKUP(J364,'Information Page'!$C$24:$F$123,2,FALSE))","v":"-"},{"$f":"IF(ISERROR(VLOOKUP(J364,'Information Page'!$C$24:$F$123,3,FALSE)),\"-\",VLOOKUP(J364,'Information Page'!$C$24:$F$123,3,FALSE))","v":"-"},{"$f":"IF(ISERROR(VLOOKUP(J364,'Information Page'!$C$24:$F$123,4,FALSE)),\"-\",VLOOKUP(J364,'Information Page'!$C$24:$F$123,4,FALSE))","v":"-"},null,"0"]
[null,null,345,null,null,null,null,null,null,null,{"$f":"IF(ISERROR(VLOOKUP(J365,'Information Page'!$C$24:$F$123,2,FALSE)),\"-\",VLOOKUP(J365,'Information Page'!$C$24:$F$123,2,FALSE))","v":"-"},{"$f":"IF(ISERROR(VLOOKUP(J365,'Information Page'!$C$24:$F$123,3,FALSE)),\"-\",VLOOKUP(J365,'Information Page'!$C$24:$F$123,3,FALSE))","v":"-"},{"$f":"IF(ISERROR(VLOOKUP(J365,'Information Page'!$C$24:$F$123,4,FALSE)),\"-\",VLOOKUP(J365,'Information Page'!$C$24:$F$123,4,FALSE))","v":"-"},null,"0"]
[null,null,346,null,null,null,null,null,null,null,{"$f":"IF(ISERROR(VLOOKUP(J366,'Information Page'!$C$24:$F$123,2,FALSE)),\"-\",VLOOKUP(J366,'Information Page'!$C$24:$F$123,2,FALSE))","v":"-"},{"$f":"IF(ISERROR(VLOOKUP(J366,'Information Page'!$C$24:$F$123,3,FALSE)),\"-\",VLOOKUP(J366,'Information Page'!$C$24:$F$123,3,FALSE))","v":"-"},{"$f":"IF(ISERROR(VLOOKUP(J366,'Information Page'!$C$24:$F$123,4,FALSE)),\"-\",VLOOKUP(J366,'Information Page'!$C$24:$F$123,4,FALSE))","v":"-"},null,"0"]
[null,null,347,null,null,null,null,null,null,null,{"$f":"IF(ISERROR(VLOOKUP(J367,'Information Page'!$C$24:$F$123,2,FALSE)),\"-\",VLOOKUP(J367,'Information Page'!$C$24:$F$123,2,FALSE))","v":"-"},{"$f":"IF(ISERROR(VLOOKUP(J367,'Information Page'!$C$24:$F$123,3,FALSE)),\"-\",VLOOKUP(J367,'Information Page'!$C$24:$F$123,3,FALSE))","v":"-"},{"$f":"IF(ISERROR(VLOOKUP(J367,'Information Page'!$C$24:$F$123,4,FALSE)),\"-\",VLOOKUP(J367,'Information Page'!$C$24:$F$123,4,FALSE))","v":"-"},null,"0"]
[null,null,348,null,null,null,null,null,null,null,{"$f":"IF(ISERROR(VLOOKUP(J368,'Information Page'!$C$24:$F$123,2,FALSE)),\"-\",VLOOKUP(J368,'Information Page'!$C$24:$F$123,2,FALSE))","v":"-"},{"$f":"IF(ISERROR(VLOOKUP(J368,'Information Page'!$C$24:$F$123,3,FALSE)),\"-\",VLOOKUP(J368,'Information Page'!$C$24:$F$123,3,FALSE))","v":"-"},{"$f":"IF(ISERROR(VLOOKUP(J368,'Information Page'!$C$24:$F$123,4,FALSE)),\"-\",VLOOKUP(J368,'Information Page'!$C$24:$F$123,4,FALSE))","v":"-"},null,"0"]
[null,null,349,null,null,null,null,null,null,null,{"$f":"IF(ISERROR(VLOOKUP(J369,'Information Page'!$C$24:$F$123,2,FALSE)),\"-\",VLOOKUP(J369,'Information Page'!$C$24:$F$123,2,FALSE))","v":"-"},{"$f":"IF(ISERROR(VLOOKUP(J369,'Information Page'!$C$24:$F$123,3,FALSE)),\"-\",VLOOKUP(J369,'Information Page'!$C$24:$F$123,3,FALSE))","v":"-"},{"$f":"IF(ISERROR(VLOOKUP(J369,'Information Page'!$C$24:$F$123,4,FALSE)),\"-\",VLOOKUP(J369,'Information Page'!$C$24:$F$123,4,FALSE))","v":"-"},null,"0"]
[null,null,350,null,null,null,null,null,null,null,{"$f":"IF(ISERROR(VLOOKUP(J370,'Information Page'!$C$24:$F$123,2,FALSE)),\"-\",VLOOKUP(J370,'Information Page'!$C$24:$F$123,2,FALSE))","v":"-"},{"$f":"IF(ISERROR(VLOOKUP(J370,'Information Page'!$C$24:$F$123,3,FALSE)),\"-\",VLOOKUP(J370,'Information Page'!$C$24:$F$123,3,FALSE))","v":"-"},{"$f":"IF(ISERROR(VLOOKUP(J370,'Information Page'!$C$24:$F$123,4,FALSE)),\"-\",VLOOKUP(J370,'Information Page'!$C$24:$F$123,4,FALSE))","v":"-"},null,"0"]
[null,null,351,null,null,null,null,null,null,null,{"$f":"IF(ISERROR(VLOOKUP(J371,'Information Page'!$C$24:$F$123,2,FALSE)),\"-\",VLOOKUP(J371,'Information Page'!$C$24:$F$123,2,FALSE))","v":"-"},{"$f":"IF(ISERROR(VLOOKUP(J371,'Information Page'!$C$24:$F$123,3,FALSE)),\"-\",VLOOKUP(J371,'Information Page'!$C$24:$F$123,3,FALSE))","v":"-"},{"$f":"IF(ISERROR(VLOOKUP(J371,'Information Page'!$C$24:$F$123,4,FALSE)),\"-\",VLOOKUP(J371,'Information Page'!$C$24:$F$123,4,FALSE))","v":"-"},null,"0"]
[null,null,352,null,null,null,null,null,null,null,{"$f":"IF(ISERROR(VLOOKUP(J372,'Information Page'!$C$24:$F$123,2,FALSE)),\"-\",VLOOKUP(J372,'Information Page'!$C$24:$F$123,2,FALSE))","v":"-"},{"$f":"IF(ISERROR(VLOOKUP(J372,'Information Page'!$C$24:$F$123,3,FALSE)),\"-\",VLOOKUP(J372,'Information Page'!$C$24:$F$123,3,FALSE))","v":"-"},{"$f":"IF(ISERROR(VLOOKUP(J372,'Information Page'!$C$24:$F$123,4,FALSE)),\"-\",VLOOKUP(J372,'Information Page'!$C$24:$F$123,4,FALSE))","v":"-"},null,"0"]
[null,null,353,null,null,null,null,null,null,null,{"$f":"IF(ISERROR(VLOOKUP(J373,'Information Page'!$C$24:$F$123,2,FALSE)),\"-\",VLOOKUP(J373,'Information Page'!$C$24:$F$123,2,FALSE))","v":"-"},{"$f":"IF(ISERROR(VLOOKUP(J373,'Information Page'!$C$24:$F$123,3,FALSE)),\"-\",VLOOKUP(J373,'Information Page'!$C$24:$F$123,3,FALSE))","v":"-"},{"$f":"IF(ISERROR(VLOOKUP(J373,'Information Page'!$C$24:$F$123,4,FALSE)),\"-\",VLOOKUP(J373,'Information Page'!$C$24:$F$123,4,FALSE))","v":"-"},null,"0"]
[null,null,354,null,null,null,null,null,null,null,{"$f":"IF(ISERROR(VLOOKUP(J374,'Information Page'!$C$24:$F$123,2,FALSE)),\"-\",VLOOKUP(J374,'Information Page'!$C$24:$F$123,2,FALSE))","v":"-"},{"$f":"IF(ISERROR(VLOOKUP(J374,'Information Page'!$C$24:$F$123,3,FALSE)),\"-\",VLOOKUP(J374,'Information Page'!$C$24:$F$123,3,FALSE))","v":"-"},{"$f":"IF(ISERROR(VLOOKUP(J374,'Information Page'!$C$24:$F$123,4,FALSE)),\"-\",VLOOKUP(J374,'Information Page'!$C$24:$F$123,4,FALSE))","v":"-"},null,"0"]
[null,null,355,null,null,null,null,null,null,null,{"$f":"IF(ISERROR(VLOOKUP(J375,'Information Page'!$C$24:$F$123,2,FALSE)),\"-\",VLOOKUP(J375,'Information Page'!$C$24:$F$123,2,FALSE))","v":"-"},{"$f":"IF(ISERROR(VLOOKUP(J375,'Information Page'!$C$24:$F$123,3,FALSE)),\"-\",VLOOKUP(J375,'Information Page'!$C$24:$F$123,3,FALSE))","v":"-"},{"$f":"IF(ISERROR(VLOOKUP(J375,'Information Page'!$C$24:$F$123,4,FALSE)),\"-\",VLOOKUP(J375,'Information Page'!$C$24:$F$123,4,FALSE))","v":"-"},null,"0"]
[null,null,356,null,null,null,null,null,null,null,{"$f":"IF(ISERROR(VLOOKUP(J376,'Information Page'!$C$24:$F$123,2,FALSE)),\"-\",VLOOKUP(J376,'Information Page'!$C$24:$F$123,2,FALSE))","v":"-"},{"$f":"IF(ISERROR(VLOOKUP(J376,'Information Page'!$C$24:$F$123,3,FALSE)),\"-\",VLOOKUP(J376,'Information Page'!$C$24:$F$123,3,FALSE))","v":"-"},{"$f":"IF(ISERROR(VLOOKUP(J376,'Information Page'!$C$24:$F$123,4,FALSE)),\"-\",VLOOKUP(J376,'Information Page'!$C$24:$F$123,4,FALSE))","v":"-"},null,"0"]
[null,null,357,null,null,null,null,null,null,null,{"$f":"IF(ISERROR(VLOOKUP(J377,'Information Page'!$C$24:$F$123,2,FALSE)),\"-\",VLOOKUP(J377,'Information Page'!$C$24:$F$123,2,FALSE))","v":"-"},{"$f":"IF(ISERROR(VLOOKUP(J377,'Information Page'!$C$24:$F$123,3,FALSE)),\"-\",VLOOKUP(J377,'Information Page'!$C$24:$F$123,3,FALSE))","v":"-"},{"$f":"IF(ISERROR(VLOOKUP(J377,'Information Page'!$C$24:$F$123,4,FALSE)),\"-\",VLOOKUP(J377,'Information Page'!$C$24:$F$123,4,FALSE))","v":"-"},null,"0"]
[null,null,358,null,null,null,null,null,null,null,{"$f":"IF(ISERROR(VLOOKUP(J378,'Information Page'!$C$24:$F$123,2,FALSE)),\"-\",VLOOKUP(J378,'Information Page'!$C$24:$F$123,2,FALSE))","v":"-"},{"$f":"IF(ISERROR(VLOOKUP(J378,'Information Page'!$C$24:$F$123,3,FALSE)),\"-\",VLOOKUP(J378,'Information Page'!$C$24:$F$123,3,FALSE))","v":"-"},{"$f":"IF(ISERROR(VLOOKUP(J378,'Information Page'!$C$24:$F$123,4,FALSE)),\"-\",VLOOKUP(J378,'Information Page'!$C$24:$F$123,4,FALSE))","v":"-"},null,"0"]
[null,null,359,null,null,null,null,null,null,null,{"$f":"IF(ISERROR(VLOOKUP(J379,'Information Page'!$C$24:$F$123,2,FALSE)),\"-\",VLOOKUP(J379,'Information Page'!$C$24:$F$123,2,FALSE))","v":"-"},{"$f":"IF(ISERROR(VLOOKUP(J379,'Information Page'!$C$24:$F$123,3,FALSE)),\"-\",VLOOKUP(J379,'Information Page'!$C$24:$F$123,3,FALSE))","v":"-"},{"$f":"IF(ISERROR(VLOOKUP(J379,'Information Page'!$C$24:$F$123,4,FALSE)),\"-\",VLOOKUP(J379,'Information Page'!$C$24:$F$123,4,FALSE))","v":"-"},null,"0"]
[null,null,360,null,null,null,null,null,null,null,{"$f":"IF(ISERROR(VLOOKUP(J380,'Information Page'!$C$24:$F$123,2,FALSE)),\"-\",VLOOKUP(J380,'Information Page'!$C$24:$F$123,2,FALSE))","v":"-"},{"$f":"IF(ISERROR(VLOOKUP(J380,'Information Page'!$C$24:$F$123,3,FALSE)),\"-\",VLOOKUP(J380,'Information Page'!$C$24:$F$123,3,FALSE))","v":"-"},{"$f":"IF(ISERROR(VLOOKUP(J380,'Information Page'!$C$24:$F$123,4,FALSE)),\"-\",VLOOKUP(J380,'Information Page'!$C$24:$F$123,4,FALSE))","v":"-"},null,"0"]
[null,null,361,null,null,null,null,null,null,null,{"$f":"IF(ISERROR(VLOOKUP(J381,'Information Page'!$C$24:$F$123,2,FALSE)),\"-\",VLOOKUP(J381,'Information Page'!$C$24:$F$123,2,FALSE))","v":"-"},{"$f":"IF(ISERROR(VLOOKUP(J381,'Information Page'!$C$24:$F$123,3,FALSE)),\"-\",VLOOKUP(J381,'Information Page'!$C$24:$F$123,3,FALSE))","v":"-"},{"$f":"IF(ISERROR(VLOOKUP(J381,'Information Page'!$C$24:$F$123,4,FALSE)),\"-\",VLOOKUP(J381,'Information Page'!$C$24:$F$123,4,FALSE))","v":"-"},null,"0"]
[null,null,362,null,null,null,null,null,null,null,{"$f":"IF(ISERROR(VLOOKUP(J382,'Information Page'!$C$24:$F$123,2,FALSE)),\"-\",VLOOKUP(J382,'Information Page'!$C$24:$F$123,2,FALSE))","v":"-"},{"$f":"IF(ISERROR(VLOOKUP(J382,'Information Page'!$C$24:$F$123,3,FALSE)),\"-\",VLOOKUP(J382,'Information Page'!$C$24:$F$123,3,FALSE))","v":"-"},{"$f":"IF(ISERROR(VLOOKUP(J382,'Information Page'!$C$24:$F$123,4,FALSE)),\"-\",VLOOKUP(J382,'Information Page'!$C$24:$F$123,4,FALSE))","v":"-"},null,"0"]
[null,null,363,null,null,null,null,null,null,null,{"$f":"IF(ISERROR(VLOOKUP(J383,'Information Page'!$C$24:$F$123,2,FALSE)),\"-\",VLOOKUP(J383,'Information Page'!$C$24:$F$123,2,FALSE))","v":"-"},{"$f":"IF(ISERROR(VLOOKUP(J383,'Information Page'!$C$24:$F$123,3,FALSE)),\"-\",VLOOKUP(J383,'Information Page'!$C$24:$F$123,3,FALSE))","v":"-"},{"$f":"IF(ISERROR(VLOOKUP(J383,'Information Page'!$C$24:$F$123,4,FALSE)),\"-\",VLOOKUP(J383,'Information Page'!$C$24:$F$123,4,FALSE))","v":"-"},null,"0"]
[null,null,364,null,null,null,null,null,null,null,{"$f":"IF(ISERROR(VLOOKUP(J384,'Information Page'!$C$24:$F$123,2,FALSE)),\"-\",VLOOKUP(J384,'Information Page'!$C$24:$F$123,2,FALSE))","v":"-"},{"$f":"IF(ISERROR(VLOOKUP(J384,'Information Page'!$C$24:$F$123,3,FALSE)),\"-\",VLOOKUP(J384,'Information Page'!$C$24:$F$123,3,FALSE))","v":"-"},{"$f":"IF(ISERROR(VLOOKUP(J384,'Information Page'!$C$24:$F$123,4,FALSE)),\"-\",VLOOKUP(J384,'Information Page'!$C$24:$F$123,4,FALSE))","v":"-"},null,"0"]
[null,null,365,null,null,null,null,null,null,null,{"$f":"IF(ISERROR(VLOOKUP(J385,'Information Page'!$C$24:$F$123,2,FALSE)),\"-\",VLOOKUP(J385,'Information Page'!$C$24:$F$123,2,FALSE))","v":"-"},{"$f":"IF(ISERROR(VLOOKUP(J385,'Information Page'!$C$24:$F$123,3,FALSE)),\"-\",VLOOKUP(J385,'Information Page'!$C$24:$F$123,3,FALSE))","v":"-"},{"$f":"IF(ISERROR(VLOOKUP(J385,'Information Page'!$C$24:$F$123,4,FALSE)),\"-\",VLOOKUP(J385,'Information Page'!$C$24:$F$123,4,FALSE))","v":"-"},null,"0"]
[null,null,366,null,null,null,null,null,null,null,{"$f":"IF(ISERROR(VLOOKUP(J386,'Information Page'!$C$24:$F$123,2,FALSE)),\"-\",VLOOKUP(J386,'Information Page'!$C$24:$F$123,2,FALSE))","v":"-"},{"$f":"IF(ISERROR(VLOOKUP(J386,'Information Page'!$C$24:$F$123,3,FALSE)),\"-\",VLOOKUP(J386,'Information Page'!$C$24:$F$123,3,FALSE))","v":"-"},{"$f":"IF(ISERROR(VLOOKUP(J386,'Information Page'!$C$24:$F$123,4,FALSE)),\"-\",VLOOKUP(J386,'Information Page'!$C$24:$F$123,4,FALSE))","v":"-"},null,"0"]
[null,null,367,null,null,null,null,null,null,null,{"$f":"IF(ISERROR(VLOOKUP(J387,'Information Page'!$C$24:$F$123,2,FALSE)),\"-\",VLOOKUP(J387,'Information Page'!$C$24:$F$123,2,FALSE))","v":"-"},{"$f":"IF(ISERROR(VLOOKUP(J387,'Information Page'!$C$24:$F$123,3,FALSE)),\"-\",VLOOKUP(J387,'Information Page'!$C$24:$F$123,3,FALSE))","v":"-"},{"$f":"IF(ISERROR(VLOOKUP(J387,'Information Page'!$C$24:$F$123,4,FALSE)),\"-\",VLOOKUP(J387,'Information Page'!$C$24:$F$123,4,FALSE))","v":"-"},null,"0"]
[null,null,368,null,null,null,null,null,null,null,{"$f":"IF(ISERROR(VLOOKUP(J388,'Information Page'!$C$24:$F$123,2,FALSE)),\"-\",VLOOKUP(J388,'Information Page'!$C$24:$F$123,2,FALSE))","v":"-"},{"$f":"IF(ISERROR(VLOOKUP(J388,'Information Page'!$C$24:$F$123,3,FALSE)),\"-\",VLOOKUP(J388,'Information Page'!$C$24:$F$123,3,FALSE))","v":"-"},{"$f":"IF(ISERROR(VLOOKUP(J388,'Information Page'!$C$24:$F$123,4,FALSE)),\"-\",VLOOKUP(J388,'Information Page'!$C$24:$F$123,4,FALSE))","v":"-"},null,"0"]
[null,null,369,null,null,null,null,null,null,null,{"$f":"IF(ISERROR(VLOOKUP(J389,'Information Page'!$C$24:$F$123,2,FALSE)),\"-\",VLOOKUP(J389,'Information Page'!$C$24:$F$123,2,FALSE))","v":"-"},{"$f":"IF(ISERROR(VLOOKUP(J389,'Information Page'!$C$24:$F$123,3,FALSE)),\"-\",VLOOKUP(J389,'Information Page'!$C$24:$F$123,3,FALSE))","v":"-"},{"$f":"IF(ISERROR(VLOOKUP(J389,'Information Page'!$C$24:$F$123,4,FALSE)),\"-\",VLOOKUP(J389,'Information Page'!$C$24:$F$123,4,FALSE))","v":"-"},null,"0"]
[null,null,370,null,null,null,null,null,null,null,{"$f":"IF(ISERROR(VLOOKUP(J390,'Information Page'!$C$24:$F$123,2,FALSE)),\"-\",VLOOKUP(J390,'Information Page'!$C$24:$F$123,2,FALSE))","v":"-"},{"$f":"IF(ISERROR(VLOOKUP(J390,'Information Page'!$C$24:$F$123,3,FALSE)),\"-\",VLOOKUP(J390,'Information Page'!$C$24:$F$123,3,FALSE))","v":"-"},{"$f":"IF(ISERROR(VLOOKUP(J390,'Information Page'!$C$24:$F$123,4,FALSE)),\"-\",VLOOKUP(J390,'Information Page'!$C$24:$F$123,4,FALSE))","v":"-"},null,"0"]
[null,null,371,null,null,null,null,null,null,null,{"$f":"IF(ISERROR(VLOOKUP(J391,'Information Page'!$C$24:$F$123,2,FALSE)),\"-\",VLOOKUP(J391,'Information Page'!$C$24:$F$123,2,FALSE))","v":"-"},{"$f":"IF(ISERROR(VLOOKUP(J391,'Information Page'!$C$24:$F$123,3,FALSE)),\"-\",VLOOKUP(J391,'Information Page'!$C$24:$F$123,3,FALSE))","v":"-"},{"$f":"IF(ISERROR(VLOOKUP(J391,'Information Page'!$C$24:$F$123,4,FALSE)),\"-\",VLOOKUP(J391,'Information Page'!$C$24:$F$123,4,FALSE))","v":"-"},null,"0"]
[null,null,372,null,null,null,null,null,null,null,{"$f":"IF(ISERROR(VLOOKUP(J392,'Information Page'!$C$24:$F$123,2,FALSE)),\"-\",VLOOKUP(J392,'Information Page'!$C$24:$F$123,2,FALSE))","v":"-"},{"$f":"IF(ISERROR(VLOOKUP(J392,'Information Page'!$C$24:$F$123,3,FALSE)),\"-\",VLOOKUP(J392,'Information Page'!$C$24:$F$123,3,FALSE))","v":"-"},{"$f":"IF(ISERROR(VLOOKUP(J392,'Information Page'!$C$24:$F$123,4,FALSE)),\"-\",VLOOKUP(J392,'Information Page'!$C$24:$F$123,4,FALSE))","v":"-"},null,"0"]
[null,null,373,null,null,null,null,null,null,null,{"$f":"IF(ISERROR(VLOOKUP(J393,'Information Page'!$C$24:$F$123,2,FALSE)),\"-\",VLOOKUP(J393,'Information Page'!$C$24:$F$123,2,FALSE))","v":"-"},{"$f":"IF(ISERROR(VLOOKUP(J393,'Information Page'!$C$24:$F$123,3,FALSE)),\"-\",VLOOKUP(J393,'Information Page'!$C$24:$F$123,3,FALSE))","v":"-"},{"$f":"IF(ISERROR(VLOOKUP(J393,'Information Page'!$C$24:$F$123,4,FALSE)),\"-\",VLOOKUP(J393,'Information Page'!$C$24:$F$123,4,FALSE))","v":"-"},null,"0"]
[null,null,374,null,null,null,null,null,null,null,{"$f":"IF(ISERROR(VLOOKUP(J394,'Information Page'!$C$24:$F$123,2,FALSE)),\"-\",VLOOKUP(J394,'Information Page'!$C$24:$F$123,2,FALSE))","v":"-"},{"$f":"IF(ISERROR(VLOOKUP(J394,'Information Page'!$C$24:$F$123,3,FALSE)),\"-\",VLOOKUP(J394,'Information Page'!$C$24:$F$123,3,FALSE))","v":"-"},{"$f":"IF(ISERROR(VLOOKUP(J394,'Information Page'!$C$24:$F$123,4,FALSE)),\"-\",VLOOKUP(J394,'Information Page'!$C$24:$F$123,4,FALSE))","v":"-"},null,"0"]
[null,null,375,null,null,null,null,null,null,null,{"$f":"IF(ISERROR(VLOOKUP(J395,'Information Page'!$C$24:$F$123,2,FALSE)),\"-\",VLOOKUP(J395,'Information Page'!$C$24:$F$123,2,FALSE))","v":"-"},{"$f":"IF(ISERROR(VLOOKUP(J395,'Information Page'!$C$24:$F$123,3,FALSE)),\"-\",VLOOKUP(J395,'Information Page'!$C$24:$F$123,3,FALSE))","v":"-"},{"$f":"IF(ISERROR(VLOOKUP(J395,'Information Page'!$C$24:$F$123,4,FALSE)),\"-\",VLOOKUP(J395,'Information Page'!$C$24:$F$123,4,FALSE))","v":"-"},null,"0"]
[null,null,376,null,null,null,null,null,null,null,{"$f":"IF(ISERROR(VLOOKUP(J396,'Information Page'!$C$24:$F$123,2,FALSE)),\"-\",VLOOKUP(J396,'Information Page'!$C$24:$F$123,2,FALSE))","v":"-"},{"$f":"IF(ISERROR(VLOOKUP(J396,'Information Page'!$C$24:$F$123,3,FALSE)),\"-\",VLOOKUP(J396,'Information Page'!$C$24:$F$123,3,FALSE))","v":"-"},{"$f":"IF(ISERROR(VLOOKUP(J396,'Information Page'!$C$24:$F$123,4,FALSE)),\"-\",VLOOKUP(J396,'Information Page'!$C$24:$F$123,4,FALSE))","v":"-"},null,"0"]
[null,null,377,null,null,null,null,null,null,null,{"$f":"IF(ISERROR(VLOOKUP(J397,'Information Page'!$C$24:$F$123,2,FALSE)),\"-\",VLOOKUP(J397,'Information Page'!$C$24:$F$123,2,FALSE))","v":"-"},{"$f":"IF(ISERROR(VLOOKUP(J397,'Information Page'!$C$24:$F$123,3,FALSE)),\"-\",VLOOKUP(J397,'Information Page'!$C$24:$F$123,3,FALSE))","v":"-"},{"$f":"IF(ISERROR(VLOOKUP(J397,'Information Page'!$C$24:$F$123,4,FALSE)),\"-\",VLOOKUP(J397,'Information Page'!$C$24:$F$123,4,FALSE))","v":"-"},null,"0"]
[null,null,378,null,null,null,null,null,null,null,{"$f":"IF(ISERROR(VLOOKUP(J398,'Information Page'!$C$24:$F$123,2,FALSE)),\"-\",VLOOKUP(J398,'Information Page'!$C$24:$F$123,2,FALSE))","v":"-"},{"$f":"IF(ISERROR(VLOOKUP(J398,'Information Page'!$C$24:$F$123,3,FALSE)),\"-\",VLOOKUP(J398,'Information Page'!$C$24:$F$123,3,FALSE))","v":"-"},{"$f":"IF(ISERROR(VLOOKUP(J398,'Information Page'!$C$24:$F$123,4,FALSE)),\"-\",VLOOKUP(J398,'Information Page'!$C$24:$F$123,4,FALSE))","v":"-"},null,"0"]
[null,null,379,null,null,null,null,null,null,null,{"$f":"IF(ISERROR(VLOOKUP(J399,'Information Page'!$C$24:$F$123,2,FALSE)),\"-\",VLOOKUP(J399,'Information Page'!$C$24:$F$123,2,FALSE))","v":"-"},{"$f":"IF(ISERROR(VLOOKUP(J399,'Information Page'!$C$24:$F$123,3,FALSE)),\"-\",VLOOKUP(J399,'Information Page'!$C$24:$F$123,3,FALSE))","v":"-"},{"$f":"IF(ISERROR(VLOOKUP(J399,'Information Page'!$C$24:$F$123,4,FALSE)),\"-\",VLOOKUP(J399,'Information Page'!$C$24:$F$123,4,FALSE))","v":"-"},null,"0"]
[null,null,380,null,null,null,null,null,null,null,{"$f":"IF(ISERROR(VLOOKUP(J400,'Information Page'!$C$24:$F$123,2,FALSE)),\"-\",VLOOKUP(J400,'Information Page'!$C$24:$F$123,2,FALSE))","v":"-"},{"$f":"IF(ISERROR(VLOOKUP(J400,'Information Page'!$C$24:$F$123,3,FALSE)),\"-\",VLOOKUP(J400,'Information Page'!$C$24:$F$123,3,FALSE))","v":"-"},{"$f":"IF(ISERROR(VLOOKUP(J400,'Information Page'!$C$24:$F$123,4,FALSE)),\"-\",VLOOKUP(J400,'Information Page'!$C$24:$F$123,4,FALSE))","v":"-"},null,"0"]
[null,null,381,null,null,null,null,null,null,null,{"$f":"IF(ISERROR(VLOOKUP(J401,'Information Page'!$C$24:$F$123,2,FALSE)),\"-\",VLOOKUP(J401,'Information Page'!$C$24:$F$123,2,FALSE))","v":"-"},{"$f":"IF(ISERROR(VLOOKUP(J401,'Information Page'!$C$24:$F$123,3,FALSE)),\"-\",VLOOKUP(J401,'Information Page'!$C$24:$F$123,3,FALSE))","v":"-"},{"$f":"IF(ISERROR(VLOOKUP(J401,'Information Page'!$C$24:$F$123,4,FALSE)),\"-\",VLOOKUP(J401,'Information Page'!$C$24:$F$123,4,FALSE))","v":"-"},null,"0"]
[null,null,382,null,null,null,null,null,null,null,{"$f":"IF(ISERROR(VLOOKUP(J402,'Information Page'!$C$24:$F$123,2,FALSE)),\"-\",VLOOKUP(J402,'Information Page'!$C$24:$F$123,2,FALSE))","v":"-"},{"$f":"IF(ISERROR(VLOOKUP(J402,'Information Page'!$C$24:$F$123,3,FALSE)),\"-\",VLOOKUP(J402,'Information Page'!$C$24:$F$123,3,FALSE))","v":"-"},{"$f":"IF(ISERROR(VLOOKUP(J402,'Information Page'!$C$24:$F$123,4,FALSE)),\"-\",VLOOKUP(J402,'Information Page'!$C$24:$F$123,4,FALSE))","v":"-"},null,"0"]
[null,null,383,null,null,null,null,null,null,null,{"$f":"IF(ISERROR(VLOOKUP(J403,'Information Page'!$C$24:$F$123,2,FALSE)),\"-\",VLOOKUP(J403,'Information Page'!$C$24:$F$123,2,FALSE))","v":"-"},{"$f":"IF(ISERROR(VLOOKUP(J403,'Information Page'!$C$24:$F$123,3,FALSE)),\"-\",VLOOKUP(J403,'Information Page'!$C$24:$F$123,3,FALSE))","v":"-"},{"$f":"IF(ISERROR(VLOOKUP(J403,'Information Page'!$C$24:$F$123,4,FALSE)),\"-\",VLOOKUP(J403,'Information Page'!$C$24:$F$123,4,FALSE))","v":"-"},null,"0"]
[null,null,384,null,null,null,null,null,null,null,{"$f":"IF(ISERROR(VLOOKUP(J404,'Information Page'!$C$24:$F$123,2,FALSE)),\"-\",VLOOKUP(J404,'Information Page'!$C$24:$F$123,2,FALSE))","v":"-"},{"$f":"IF(ISERROR(VLOOKUP(J404,'Information Page'!$C$24:$F$123,3,FALSE)),\"-\",VLOOKUP(J404,'Information Page'!$C$24:$F$123,3,FALSE))","v":"-"},{"$f":"IF(ISERROR(VLOOKUP(J404,'Information Page'!$C$24:$F$123,4,FALSE)),\"-\",VLOOKUP(J404,'Information Page'!$C$24:$F$123,4,FALSE))","v":"-"},null,"0"]
[null,null,385,null,null,null,null,null,null,null,{"$f":"IF(ISERROR(VLOOKUP(J405,'Information Page'!$C$24:$F$123,2,FALSE)),\"-\",VLOOKUP(J405,'Information Page'!$C$24:$F$123,2,FALSE))","v":"-"},{"$f":"IF(ISERROR(VLOOKUP(J405,'Information Page'!$C$24:$F$123,3,FALSE)),\"-\",VLOOKUP(J405,'Information Page'!$C$24:$F$123,3,FALSE))","v":"-"},{"$f":"IF(ISERROR(VLOOKUP(J405,'Information Page'!$C$24:$F$123,4,FALSE)),\"-\",VLOOKUP(J405,'Information Page'!$C$24:$F$123,4,FALSE))","v":"-"},null,"0"]
[null,null,386,null,null,null,null,null,null,null,{"$f":"IF(ISERROR(VLOOKUP(J406,'Information Page'!$C$24:$F$123,2,FALSE)),\"-\",VLOOKUP(J406,'Information Page'!$C$24:$F$123,2,FALSE))","v":"-"},{"$f":"IF(ISERROR(VLOOKUP(J406,'Information Page'!$C$24:$F$123,3,FALSE)),\"-\",VLOOKUP(J406,'Information Page'!$C$24:$F$123,3,FALSE))","v":"-"},{"$f":"IF(ISERROR(VLOOKUP(J406,'Information Page'!$C$24:$F$123,4,FALSE)),\"-\",VLOOKUP(J406,'Information Page'!$C$24:$F$123,4,FALSE))","v":"-"},null,{"$f":"IF(M406=\"-\",\"0\",M406*N406)","v":"0"}]
[null,null,387,null,null,null,null,null,null,null,{"$f":"IF(ISERROR(VLOOKUP(J407,'Information Page'!$C$24:$F$123,2,FALSE)),\"-\",VLOOKUP(J407,'Information Page'!$C$24:$F$123,2,FALSE))","v":"-"},{"$f":"IF(ISERROR(VLOOKUP(J407,'Information Page'!$C$24:$F$123,3,FALSE)),\"-\",VLOOKUP(J407,'Information Page'!$C$24:$F$123,3,FALSE))","v":"-"},{"$f":"IF(ISERROR(VLOOKUP(J407,'Information Page'!$C$24:$F$123,4,FALSE)),\"-\",VLOOKUP(J407,'Information Page'!$C$24:$F$123,4,FALSE))","v":"-"},null,"0"]
[null,null,388,null,null,null,null,null,null,null,{"$f":"IF(ISERROR(VLOOKUP(J408,'Information Page'!$C$24:$F$123,2,FALSE)),\"-\",VLOOKUP(J408,'Information Page'!$C$24:$F$123,2,FALSE))","v":"-"},{"$f":"IF(ISERROR(VLOOKUP(J408,'Information Page'!$C$24:$F$123,3,FALSE)),\"-\",VLOOKUP(J408,'Information Page'!$C$24:$F$123,3,FALSE))","v":"-"},{"$f":"IF(ISERROR(VLOOKUP(J408,'Information Page'!$C$24:$F$123,4,FALSE)),\"-\",VLOOKUP(J408,'Information Page'!$C$24:$F$123,4,FALSE))","v":"-"},null,"0"]
[null,null,389,null,null,null,null,null,null,null,{"$f":"IF(ISERROR(VLOOKUP(J409,'Information Page'!$C$24:$F$123,2,FALSE)),\"-\",VLOOKUP(J409,'Information Page'!$C$24:$F$123,2,FALSE))","v":"-"},{"$f":"IF(ISERROR(VLOOKUP(J409,'Information Page'!$C$24:$F$123,3,FALSE)),\"-\",VLOOKUP(J409,'Information Page'!$C$24:$F$123,3,FALSE))","v":"-"},{"$f":"IF(ISERROR(VLOOKUP(J409,'Information Page'!$C$24:$F$123,4,FALSE)),\"-\",VLOOKUP(J409,'Information Page'!$C$24:$F$123,4,FALSE))","v":"-"},null,"0"]
[null,null,390,null,null,null,null,null,null,null,{"$f":"IF(ISERROR(VLOOKUP(J410,'Information Page'!$C$24:$F$123,2,FALSE)),\"-\",VLOOKUP(J410,'Information Page'!$C$24:$F$123,2,FALSE))","v":"-"},{"$f":"IF(ISERROR(VLOOKUP(J410,'Information Page'!$C$24:$F$123,3,FALSE)),\"-\",VLOOKUP(J410,'Information Page'!$C$24:$F$123,3,FALSE))","v":"-"},{"$f":"IF(ISERROR(VLOOKUP(J410,'Information Page'!$C$24:$F$123,4,FALSE)),\"-\",VLOOKUP(J410,'Information Page'!$C$24:$F$123,4,FALSE))","v":"-"},null,"0"]
[null,null,391,null,null,null,null,null,null,null,{"$f":"IF(ISERROR(VLOOKUP(J411,'Information Page'!$C$24:$F$123,2,FALSE)),\"-\",VLOOKUP(J411,'Information Page'!$C$24:$F$123,2,FALSE))","v":"-"},{"$f":"IF(ISERROR(VLOOKUP(J411,'Information Page'!$C$24:$F$123,3,FALSE)),\"-\",VLOOKUP(J411,'Information Page'!$C$24:$F$123,3,FALSE))","v":"-"},{"$f":"IF(ISERROR(VLOOKUP(J411,'Information Page'!$C$24:$F$123,4,FALSE)),\"-\",VLOOKUP(J411,'Information Page'!$C$24:$F$123,4,FALSE))","v":"-"},null,"0"]
[null,null,392,null,null,null,null,null,null,null,{"$f":"IF(ISERROR(VLOOKUP(J412,'Information Page'!$C$24:$F$123,2,FALSE)),\"-\",VLOOKUP(J412,'Information Page'!$C$24:$F$123,2,FALSE))","v":"-"},{"$f":"IF(ISERROR(VLOOKUP(J412,'Information Page'!$C$24:$F$123,3,FALSE)),\"-\",VLOOKUP(J412,'Information Page'!$C$24:$F$123,3,FALSE))","v":"-"},{"$f":"IF(ISERROR(VLOOKUP(J412,'Information Page'!$C$24:$F$123,4,FALSE)),\"-\",VLOOKUP(J412,'Information Page'!$C$24:$F$123,4,FALSE))","v":"-"},null,"0"]
[null,null,393,null,null,null,null,null,null,null,{"$f":"IF(ISERROR(VLOOKUP(J413,'Information Page'!$C$24:$F$123,2,FALSE)),\"-\",VLOOKUP(J413,'Information Page'!$C$24:$F$123,2,FALSE))","v":"-"},{"$f":"IF(ISERROR(VLOOKUP(J413,'Information Page'!$C$24:$F$123,3,FALSE)),\"-\",VLOOKUP(J413,'Information Page'!$C$24:$F$123,3,FALSE))","v":"-"},{"$f":"IF(ISERROR(VLOOKUP(J413,'Information Page'!$C$24:$F$123,4,FALSE)),\"-\",VLOOKUP(J413,'Information Page'!$C$24:$F$123,4,FALSE))","v":"-"},null,"0"]
[null,null,394,null,null,null,null,null,null,null,{"$f":"IF(ISERROR(VLOOKUP(J414,'Information Page'!$C$24:$F$123,2,FALSE)),\"-\",VLOOKUP(J414,'Information Page'!$C$24:$F$123,2,FALSE))","v":"-"},{"$f":"IF(ISERROR(VLOOKUP(J414,'Information Page'!$C$24:$F$123,3,FALSE)),\"-\",VLOOKUP(J414,'Information Page'!$C$24:$F$123,3,FALSE))","v":"-"},{"$f":"IF(ISERROR(VLOOKUP(J414,'Information Page'!$C$24:$F$123,4,FALSE)),\"-\",VLOOKUP(J414,'Information Page'!$C$24:$F$123,4,FALSE))","v":"-"},null,"0"]
[null,null,395,null,null,null,null,null,null,null,{"$f":"IF(ISERROR(VLOOKUP(J415,'Information Page'!$C$24:$F$123,2,FALSE)),\"-\",VLOOKUP(J415,'Information Page'!$C$24:$F$123,2,FALSE))","v":"-"},{"$f":"IF(ISERROR(VLOOKUP(J415,'Information Page'!$C$24:$F$123,3,FALSE)),\"-\",VLOOKUP(J415,'Information Page'!$C$24:$F$123,3,FALSE))","v":"-"},{"$f":"IF(ISERROR(VLOOKUP(J415,'Information Page'!$C$24:$F$123,4,FALSE)),\"-\",VLOOKUP(J415,'Information Page'!$C$24:$F$123,4,FALSE))","v":"-"},null,"0"]
[null,null,396,null,null,null,null,null,null,null,{"$f":"IF(ISERROR(VLOOKUP(J416,'Information Page'!$C$24:$F$123,2,FALSE)),\"-\",VLOOKUP(J416,'Information Page'!$C$24:$F$123,2,FALSE))","v":"-"},{"$f":"IF(ISERROR(VLOOKUP(J416,'Information Page'!$C$24:$F$123,3,FALSE)),\"-\",VLOOKUP(J416,'Information Page'!$C$24:$F$123,3,FALSE))","v":"-"},{"$f":"IF(ISERROR(VLOOKUP(J416,'Information Page'!$C$24:$F$123,4,FALSE)),\"-\",VLOOKUP(J416,'Information Page'!$C$24:$F$123,4,FALSE))","v":"-"},null,"0"]
[null,null,397,null,null,null,null,null,null,null,{"$f":"IF(ISERROR(VLOOKUP(J417,'Information Page'!$C$24:$F$123,2,FALSE)),\"-\",VLOOKUP(J417,'Information Page'!$C$24:$F$123,2,FALSE))","v":"-"},{"$f":"IF(ISERROR(VLOOKUP(J417,'Information Page'!$C$24:$F$123,3,FALSE)),\"-\",VLOOKUP(J417,'Information Page'!$C$24:$F$123,3,FALSE))","v":"-"},{"$f":"IF(ISERROR(VLOOKUP(J417,'Information Page'!$C$24:$F$123,4,FALSE)),\"-\",VLOOKUP(J417,'Information Page'!$C$24:$F$123,4,FALSE))","v":"-"},null,"0"]
[null,null,398,null,null,null,null,null,null,null,{"$f":"IF(ISERROR(VLOOKUP(J418,'Information Page'!$C$24:$F$123,2,FALSE)),\"-\",VLOOKUP(J418,'Information Page'!$C$24:$F$123,2,FALSE))","v":"-"},{"$f":"IF(ISERROR(VLOOKUP(J418,'Information Page'!$C$24:$F$123,3,FALSE)),\"-\",VLOOKUP(J418,'Information Page'!$C$24:$F$123,3,FALSE))","v":"-"},{"$f":"IF(ISERROR(VLOOKUP(J418,'Information Page'!$C$24:$F$123,4,FALSE)),\"-\",VLOOKUP(J418,'Information Page'!$C$24:$F$123,4,FALSE))","v":"-"},null,"0"]
[null,null,399,null,null,null,null,null,null,null,{"$f":"IF(ISERROR(VLOOKUP(J419,'Information Page'!$C$24:$F$123,2,FALSE)),\"-\",VLOOKUP(J419,'Information Page'!$C$24:$F$123,2,FALSE))","v":"-"},{"$f":"IF(ISERROR(VLOOKUP(J419,'Information Page'!$C$24:$F$123,3,FALSE)),\"-\",VLOOKUP(J419,'Information Page'!$C$24:$F$123,3,FALSE))","v":"-"},{"$f":"IF(ISERROR(VLOOKUP(J419,'Information Page'!$C$24:$F$123,4,FALSE)),\"-\",VLOOKUP(J419,'Information Page'!$C$24:$F$123,4,FALSE))","v":"-"},null,"0"]
[null,null,400,null,null,null,null,null,null,null,{"$f":"IF(ISERROR(VLOOKUP(J420,'Information Page'!$C$24:$F$123,2,FALSE)),\"-\",VLOOKUP(J420,'Information Page'!$C$24:$F$123,2,FALSE))","v":"-"},{"$f":"IF(ISERROR(VLOOKUP(J420,'Information Page'!$C$24:$F$123,3,FALSE)),\"-\",VLOOKUP(J420,'Information Page'!$C$24:$F$123,3,FALSE))","v":"-"},{"$f":"IF(ISERROR(VLOOKUP(J420,'Information Page'!$C$24:$F$123,4,FALSE)),\"-\",VLOOKUP(J420,'Information Page'!$C$24:$F$123,4,FALSE))","v":"-"},null,"0"]
[null,null,401,null,null,null,null,null,null,null,{"$f":"IF(ISERROR(VLOOKUP(J421,'Information Page'!$C$24:$F$123,2,FALSE)),\"-\",VLOOKUP(J421,'Information Page'!$C$24:$F$123,2,FALSE))","v":"-"},{"$f":"IF(ISERROR(VLOOKUP(J421,'Information Page'!$C$24:$F$123,3,FALSE)),\"-\",VLOOKUP(J421,'Information Page'!$C$24:$F$123,3,FALSE))","v":"-"},{"$f":"IF(ISERROR(VLOOKUP(J421,'Information Page'!$C$24:$F$123,4,FALSE)),\"-\",VLOOKUP(J421,'Information Page'!$C$24:$F$123,4,FALSE))","v":"-"},null,"0"]
[null,null,402,null,null,null,null,null,null,null,{"$f":"IF(ISERROR(VLOOKUP(J422,'Information Page'!$C$24:$F$123,2,FALSE)),\"-\",VLOOKUP(J422,'Information Page'!$C$24:$F$123,2,FALSE))","v":"-"},{"$f":"IF(ISERROR(VLOOKUP(J422,'Information Page'!$C$24:$F$123,3,FALSE)),\"-\",VLOOKUP(J422,'Information Page'!$C$24:$F$123,3,FALSE))","v":"-"},{"$f":"IF(ISERROR(VLOOKUP(J422,'Information Page'!$C$24:$F$123,4,FALSE)),\"-\",VLOOKUP(J422,'Information Page'!$C$24:$F$123,4,FALSE))","v":"-"},null,"0"]
[null,null,403,null,null,null,null,null,null,null,{"$f":"IF(ISERROR(VLOOKUP(J423,'Information Page'!$C$24:$F$123,2,FALSE)),\"-\",VLOOKUP(J423,'Information Page'!$C$24:$F$123,2,FALSE))","v":"-"},{"$f":"IF(ISERROR(VLOOKUP(J423,'Information Page'!$C$24:$F$123,3,FALSE)),\"-\",VLOOKUP(J423,'Information Page'!$C$24:$F$123,3,FALSE))","v":"-"},{"$f":"IF(ISERROR(VLOOKUP(J423,'Information Page'!$C$24:$F$123,4,FALSE)),\"-\",VLOOKUP(J423,'Information Page'!$C$24:$F$123,4,FALSE))","v":"-"},null,"0"]
[null,null,404,null,null,null,null,null,null,null,{"$f":"IF(ISERROR(VLOOKUP(J424,'Information Page'!$C$24:$F$123,2,FALSE)),\"-\",VLOOKUP(J424,'Information Page'!$C$24:$F$123,2,FALSE))","v":"-"},{"$f":"IF(ISERROR(VLOOKUP(J424,'Information Page'!$C$24:$F$123,3,FALSE)),\"-\",VLOOKUP(J424,'Information Page'!$C$24:$F$123,3,FALSE))","v":"-"},{"$f":"IF(ISERROR(VLOOKUP(J424,'Information Page'!$C$24:$F$123,4,FALSE)),\"-\",VLOOKUP(J424,'Information Page'!$C$24:$F$123,4,FALSE))","v":"-"},null,"0"]
[null,null,405,null,null,null,null,null,null,null,{"$f":"IF(ISERROR(VLOOKUP(J425,'Information Page'!$C$24:$F$123,2,FALSE)),\"-\",VLOOKUP(J425,'Information Page'!$C$24:$F$123,2,FALSE))","v":"-"},{"$f":"IF(ISERROR(VLOOKUP(J425,'Information Page'!$C$24:$F$123,3,FALSE)),\"-\",VLOOKUP(J425,'Information Page'!$C$24:$F$123,3,FALSE))","v":"-"},{"$f":"IF(ISERROR(VLOOKUP(J425,'Information Page'!$C$24:$F$123,4,FALSE)),\"-\",VLOOKUP(J425,'Information Page'!$C$24:$F$123,4,FALSE))","v":"-"},null,"0"]
[null,null,406,null,null,null,null,null,null,null,{"$f":"IF(ISERROR(VLOOKUP(J426,'Information Page'!$C$24:$F$123,2,FALSE)),\"-\",VLOOKUP(J426,'Information Page'!$C$24:$F$123,2,FALSE))","v":"-"},{"$f":"IF(ISERROR(VLOOKUP(J426,'Information Page'!$C$24:$F$123,3,FALSE)),\"-\",VLOOKUP(J426,'Information Page'!$C$24:$F$123,3,FALSE))","v":"-"},{"$f":"IF(ISERROR(VLOOKUP(J426,'Information Page'!$C$24:$F$123,4,FALSE)),\"-\",VLOOKUP(J426,'Information Page'!$C$24:$F$123,4,FALSE))","v":"-"},null,"0"]
[null,null,407,null,null,null,null,null,null,null,{"$f":"IF(ISERROR(VLOOKUP(J427,'Information Page'!$C$24:$F$123,2,FALSE)),\"-\",VLOOKUP(J427,'Information Page'!$C$24:$F$123,2,FALSE))","v":"-"},{"$f":"IF(ISERROR(VLOOKUP(J427,'Information Page'!$C$24:$F$123,3,FALSE)),\"-\",VLOOKUP(J427,'Information Page'!$C$24:$F$123,3,FALSE))","v":"-"},{"$f":"IF(ISERROR(VLOOKUP(J427,'Information Page'!$C$24:$F$123,4,FALSE)),\"-\",VLOOKUP(J427,'Information Page'!$C$24:$F$123,4,FALSE))","v":"-"},null,"0"]
[null,null,408,null,null,null,null,null,null,null,{"$f":"IF(ISERROR(VLOOKUP(J428,'Information Page'!$C$24:$F$123,2,FALSE)),\"-\",VLOOKUP(J428,'Information Page'!$C$24:$F$123,2,FALSE))","v":"-"},{"$f":"IF(ISERROR(VLOOKUP(J428,'Information Page'!$C$24:$F$123,3,FALSE)),\"-\",VLOOKUP(J428,'Information Page'!$C$24:$F$123,3,FALSE))","v":"-"},{"$f":"IF(ISERROR(VLOOKUP(J428,'Information Page'!$C$24:$F$123,4,FALSE)),\"-\",VLOOKUP(J428,'Information Page'!$C$24:$F$123,4,FALSE))","v":"-"},null,"0"]
[null,null,409,null,null,null,null,null,null,null,{"$f":"IF(ISERROR(VLOOKUP(J429,'Information Page'!$C$24:$F$123,2,FALSE)),\"-\",VLOOKUP(J429,'Information Page'!$C$24:$F$123,2,FALSE))","v":"-"},{"$f":"IF(ISERROR(VLOOKUP(J429,'Information Page'!$C$24:$F$123,3,FALSE)),\"-\",VLOOKUP(J429,'Information Page'!$C$24:$F$123,3,FALSE))","v":"-"},{"$f":"IF(ISERROR(VLOOKUP(J429,'Information Page'!$C$24:$F$123,4,FALSE)),\"-\",VLOOKUP(J429,'Information Page'!$C$24:$F$123,4,FALSE))","v":"-"},null,"0"]
[null,null,410,null,null,null,null,null,null,null,{"$f":"IF(ISERROR(VLOOKUP(J430,'Information Page'!$C$24:$F$123,2,FALSE)),\"-\",VLOOKUP(J430,'Information Page'!$C$24:$F$123,2,FALSE))","v":"-"},{"$f":"IF(ISERROR(VLOOKUP(J430,'Information Page'!$C$24:$F$123,3,FALSE)),\"-\",VLOOKUP(J430,'Information Page'!$C$24:$F$123,3,FALSE))","v":"-"},{"$f":"IF(ISERROR(VLOOKUP(J430,'Information Page'!$C$24:$F$123,4,FALSE)),\"-\",VLOOKUP(J430,'Information Page'!$C$24:$F$123,4,FALSE))","v":"-"},null,"0"]
[null,null,411,null,null,null,null,null,null,null,{"$f":"IF(ISERROR(VLOOKUP(J431,'Information Page'!$C$24:$F$123,2,FALSE)),\"-\",VLOOKUP(J431,'Information Page'!$C$24:$F$123,2,FALSE))","v":"-"},{"$f":"IF(ISERROR(VLOOKUP(J431,'Information Page'!$C$24:$F$123,3,FALSE)),\"-\",VLOOKUP(J431,'Information Page'!$C$24:$F$123,3,FALSE))","v":"-"},{"$f":"IF(ISERROR(VLOOKUP(J431,'Information Page'!$C$24:$F$123,4,FALSE)),\"-\",VLOOKUP(J431,'Information Page'!$C$24:$F$123,4,FALSE))","v":"-"},null,"0"]
[null,null,412,null,null,null,null,null,null,null,{"$f":"IF(ISERROR(VLOOKUP(J432,'Information Page'!$C$24:$F$123,2,FALSE)),\"-\",VLOOKUP(J432,'Information Page'!$C$24:$F$123,2,FALSE))","v":"-"},{"$f":"IF(ISERROR(VLOOKUP(J432,'Information Page'!$C$24:$F$123,3,FALSE)),\"-\",VLOOKUP(J432,'Information Page'!$C$24:$F$123,3,FALSE))","v":"-"},{"$f":"IF(ISERROR(VLOOKUP(J432,'Information Page'!$C$24:$F$123,4,FALSE)),\"-\",VLOOKUP(J432,'Information Page'!$C$24:$F$123,4,FALSE))","v":"-"},null,"0"]
[null,null,413,null,null,null,null,null,null,null,{"$f":"IF(ISERROR(VLOOKUP(J433,'Information Page'!$C$24:$F$123,2,FALSE)),\"-\",VLOOKUP(J433,'Information Page'!$C$24:$F$123,2,FALSE))","v":"-"},{"$f":"IF(ISERROR(VLOOKUP(J433,'Information Page'!$C$24:$F$123,3,FALSE)),\"-\",VLOOKUP(J433,'Information Page'!$C$24:$F$123,3,FALSE))","v":"-"},{"$f":"IF(ISERROR(VLOOKUP(J433,'Information Page'!$C$24:$F$123,4,FALSE)),\"-\",VLOOKUP(J433,'Information Page'!$C$24:$F$123,4,FALSE))","v":"-"},null,"0"]
[null,null,414,null,null,null,null,null,null,null,{"$f":"IF(ISERROR(VLOOKUP(J434,'Information Page'!$C$24:$F$123,2,FALSE)),\"-\",VLOOKUP(J434,'Information Page'!$C$24:$F$123,2,FALSE))","v":"-"},{"$f":"IF(ISERROR(VLOOKUP(J434,'Information Page'!$C$24:$F$123,3,FALSE)),\"-\",VLOOKUP(J434,'Information Page'!$C$24:$F$123,3,FALSE))","v":"-"},{"$f":"IF(ISERROR(VLOOKUP(J434,'Information Page'!$C$24:$F$123,4,FALSE)),\"-\",VLOOKUP(J434,'Information Page'!$C$24:$F$123,4,FALSE))","v":"-"},null,"0"]
[null,null,415,null,null,null,null,null,null,null,{"$f":"IF(ISERROR(VLOOKUP(J435,'Information Page'!$C$24:$F$123,2,FALSE)),\"-\",VLOOKUP(J435,'Information Page'!$C$24:$F$123,2,FALSE))","v":"-"},{"$f":"IF(ISERROR(VLOOKUP(J435,'Information Page'!$C$24:$F$123,3,FALSE)),\"-\",VLOOKUP(J435,'Information Page'!$C$24:$F$123,3,FALSE))","v":"-"},{"$f":"IF(ISERROR(VLOOKUP(J435,'Information Page'!$C$24:$F$123,4,FALSE)),\"-\",VLOOKUP(J435,'Information Page'!$C$24:$F$123,4,FALSE))","v":"-"},null,"0"]
[null,null,416,null,null,null,null,null,null,null,{"$f":"IF(ISERROR(VLOOKUP(J436,'Information Page'!$C$24:$F$123,2,FALSE)),\"-\",VLOOKUP(J436,'Information Page'!$C$24:$F$123,2,FALSE))","v":"-"},{"$f":"IF(ISERROR(VLOOKUP(J436,'Information Page'!$C$24:$F$123,3,FALSE)),\"-\",VLOOKUP(J436,'Information Page'!$C$24:$F$123,3,FALSE))","v":"-"},{"$f":"IF(ISERROR(VLOOKUP(J436,'Information Page'!$C$24:$F$123,4,FALSE)),\"-\",VLOOKUP(J436,'Information Page'!$C$24:$F$123,4,FALSE))","v":"-"},null,"0"]
[null,null,417,null,null,null,null,null,null,null,{"$f":"IF(ISERROR(VLOOKUP(J437,'Information Page'!$C$24:$F$123,2,FALSE)),\"-\",VLOOKUP(J437,'Information Page'!$C$24:$F$123,2,FALSE))","v":"-"},{"$f":"IF(ISERROR(VLOOKUP(J437,'Information Page'!$C$24:$F$123,3,FALSE)),\"-\",VLOOKUP(J437,'Information Page'!$C$24:$F$123,3,FALSE))","v":"-"},{"$f":"IF(ISERROR(VLOOKUP(J437,'Information Page'!$C$24:$F$123,4,FALSE)),\"-\",VLOOKUP(J437,'Information Page'!$C$24:$F$123,4,FALSE))","v":"-"},null,"0"]
[null,null,418,null,null,null,null,null,null,null,{"$f":"IF(ISERROR(VLOOKUP(J438,'Information Page'!$C$24:$F$123,2,FALSE)),\"-\",VLOOKUP(J438,'Information Page'!$C$24:$F$123,2,FALSE))","v":"-"},{"$f":"IF(ISERROR(VLOOKUP(J438,'Information Page'!$C$24:$F$123,3,FALSE)),\"-\",VLOOKUP(J438,'Information Page'!$C$24:$F$123,3,FALSE))","v":"-"},{"$f":"IF(ISERROR(VLOOKUP(J438,'Information Page'!$C$24:$F$123,4,FALSE)),\"-\",VLOOKUP(J438,'Information Page'!$C$24:$F$123,4,FALSE))","v":"-"},null,"0"]
[null,null,419,null,null,null,null,null,null,null,{"$f":"IF(ISERROR(VLOOKUP(J439,'Information Page'!$C$24:$F$123,2,FALSE)),\"-\",VLOOKUP(J439,'Information Page'!$C$24:$F$123,2,FALSE))","v":"-"},{"$f":"IF(ISERROR(VLOOKUP(J439,'Information Page'!$C$24:$F$123,3,FALSE)),\"-\",VLOOKUP(J439,'Information Page'!$C$24:$F$123,3,FALSE))","v":"-"},{"$f":"IF(ISERROR(VLOOKUP(J439,'Information Page'!$C$24:$F$123,4,FALSE)),\"-\",VLOOKUP(J439,'Information Page'!$C$24:$F$123,4,FALSE))","v":"-"},null,"0"]
[null,null,420,null,null,null,null,null,null,null,{"$f":"IF(ISERROR(VLOOKUP(J440,'Information Page'!$C$24:$F$123,2,FALSE)),\"-\",VLOOKUP(J440,'Information Page'!$C$24:$F$123,2,FALSE))","v":"-"},{"$f":"IF(ISERROR(VLOOKUP(J440,'Information Page'!$C$24:$F$123,3,FALSE)),\"-\",VLOOKUP(J440,'Information Page'!$C$24:$F$123,3,FALSE))","v":"-"},{"$f":"IF(ISERROR(VLOOKUP(J440,'Information Page'!$C$24:$F$123,4,FALSE)),\"-\",VLOOKUP(J440,'Information Page'!$C$24:$F$123,4,FALSE))","v":"-"},null,"0"]
[null,null,421,null,null,null,null,null,null,null,{"$f":"IF(ISERROR(VLOOKUP(J441,'Information Page'!$C$24:$F$123,2,FALSE)),\"-\",VLOOKUP(J441,'Information Page'!$C$24:$F$123,2,FALSE))","v":"-"},{"$f":"IF(ISERROR(VLOOKUP(J441,'Information Page'!$C$24:$F$123,3,FALSE)),\"-\",VLOOKUP(J441,'Information Page'!$C$24:$F$123,3,FALSE))","v":"-"},{"$f":"IF(ISERROR(VLOOKUP(J441,'Information Page'!$C$24:$F$123,4,FALSE)),\"-\",VLOOKUP(J441,'Information Page'!$C$24:$F$123,4,FALSE))","v":"-"},null,"0"]
[null,null,422,null,null,null,null,null,null,null,{"$f":"IF(ISERROR(VLOOKUP(J442,'Information Page'!$C$24:$F$123,2,FALSE)),\"-\",VLOOKUP(J442,'Information Page'!$C$24:$F$123,2,FALSE))","v":"-"},{"$f":"IF(ISERROR(VLOOKUP(J442,'Information Page'!$C$24:$F$123,3,FALSE)),\"-\",VLOOKUP(J442,'Information Page'!$C$24:$F$123,3,FALSE))","v":"-"},{"$f":"IF(ISERROR(VLOOKUP(J442,'Information Page'!$C$24:$F$123,4,FALSE)),\"-\",VLOOKUP(J442,'Information Page'!$C$24:$F$123,4,FALSE))","v":"-"},null,"0"]
[null,null,423,null,null,null,null,null,null,null,{"$f":"IF(ISERROR(VLOOKUP(J443,'Information Page'!$C$24:$F$123,2,FALSE)),\"-\",VLOOKUP(J443,'Information Page'!$C$24:$F$123,2,FALSE))","v":"-"},{"$f":"IF(ISERROR(VLOOKUP(J443,'Information Page'!$C$24:$F$123,3,FALSE)),\"-\",VLOOKUP(J443,'Information Page'!$C$24:$F$123,3,FALSE))","v":"-"},{"$f":"IF(ISERROR(VLOOKUP(J443,'Information Page'!$C$24:$F$123,4,FALSE)),\"-\",VLOOKUP(J443,'Information Page'!$C$24:$F$123,4,FALSE))","v":"-"},null,"0"]
[null,null,424,null,null,null,null,null,null,null,{"$f":"IF(ISERROR(VLOOKUP(J444,'Information Page'!$C$24:$F$123,2,FALSE)),\"-\",VLOOKUP(J444,'Information Page'!$C$24:$F$123,2,FALSE))","v":"-"},{"$f":"IF(ISERROR(VLOOKUP(J444,'Information Page'!$C$24:$F$123,3,FALSE)),\"-\",VLOOKUP(J444,'Information Page'!$C$24:$F$123,3,FALSE))","v":"-"},{"$f":"IF(ISERROR(VLOOKUP(J444,'Information Page'!$C$24:$F$123,4,FALSE)),\"-\",VLOOKUP(J444,'Information Page'!$C$24:$F$123,4,FALSE))","v":"-"},null,"0"]
[null,null,425,null,null,null,null,null,null,null,{"$f":"IF(ISERROR(VLOOKUP(J445,'Information Page'!$C$24:$F$123,2,FALSE)),\"-\",VLOOKUP(J445,'Information Page'!$C$24:$F$123,2,FALSE))","v":"-"},{"$f":"IF(ISERROR(VLOOKUP(J445,'Information Page'!$C$24:$F$123,3,FALSE)),\"-\",VLOOKUP(J445,'Information Page'!$C$24:$F$123,3,FALSE))","v":"-"},{"$f":"IF(ISERROR(VLOOKUP(J445,'Information Page'!$C$24:$F$123,4,FALSE)),\"-\",VLOOKUP(J445,'Information Page'!$C$24:$F$123,4,FALSE))","v":"-"},null,"0"]
[null,null,426,null,null,null,null,null,null,null,{"$f":"IF(ISERROR(VLOOKUP(J446,'Information Page'!$C$24:$F$123,2,FALSE)),\"-\",VLOOKUP(J446,'Information Page'!$C$24:$F$123,2,FALSE))","v":"-"},{"$f":"IF(ISERROR(VLOOKUP(J446,'Information Page'!$C$24:$F$123,3,FALSE)),\"-\",VLOOKUP(J446,'Information Page'!$C$24:$F$123,3,FALSE))","v":"-"},{"$f":"IF(ISERROR(VLOOKUP(J446,'Information Page'!$C$24:$F$123,4,FALSE)),\"-\",VLOOKUP(J446,'Information Page'!$C$24:$F$123,4,FALSE))","v":"-"},null,"0"]
[null,null,427,null,null,null,null,null,null,null,{"$f":"IF(ISERROR(VLOOKUP(J447,'Information Page'!$C$24:$F$123,2,FALSE)),\"-\",VLOOKUP(J447,'Information Page'!$C$24:$F$123,2,FALSE))","v":"-"},{"$f":"IF(ISERROR(VLOOKUP(J447,'Information Page'!$C$24:$F$123,3,FALSE)),\"-\",VLOOKUP(J447,'Information Page'!$C$24:$F$123,3,FALSE))","v":"-"},{"$f":"IF(ISERROR(VLOOKUP(J447,'Information Page'!$C$24:$F$123,4,FALSE)),\"-\",VLOOKUP(J447,'Information Page'!$C$24:$F$123,4,FALSE))","v":"-"},null,"0"]
[null,null,428,null,null,null,null,null,null,null,{"$f":"IF(ISERROR(VLOOKUP(J448,'Information Page'!$C$24:$F$123,2,FALSE)),\"-\",VLOOKUP(J448,'Information Page'!$C$24:$F$123,2,FALSE))","v":"-"},{"$f":"IF(ISERROR(VLOOKUP(J448,'Information Page'!$C$24:$F$123,3,FALSE)),\"-\",VLOOKUP(J448,'Information Page'!$C$24:$F$123,3,FALSE))","v":"-"},{"$f":"IF(ISERROR(VLOOKUP(J448,'Information Page'!$C$24:$F$123,4,FALSE)),\"-\",VLOOKUP(J448,'Information Page'!$C$24:$F$123,4,FALSE))","v":"-"},null,"0"]
[null,null,429,null,null,null,null,null,null,null,{"$f":"IF(ISERROR(VLOOKUP(J449,'Information Page'!$C$24:$F$123,2,FALSE)),\"-\",VLOOKUP(J449,'Information Page'!$C$24:$F$123,2,FALSE))","v":"-"},{"$f":"IF(ISERROR(VLOOKUP(J449,'Information Page'!$C$24:$F$123,3,FALSE)),\"-\",VLOOKUP(J449,'Information Page'!$C$24:$F$123,3,FALSE))","v":"-"},{"$f":"IF(ISERROR(VLOOKUP(J449,'Information Page'!$C$24:$F$123,4,FALSE)),\"-\",VLOOKUP(J449,'Information Page'!$C$24:$F$123,4,FALSE))","v":"-"},null,"0"]
[null,null,430,null,null,null,null,null,null,null,{"$f":"IF(ISERROR(VLOOKUP(J450,'Information Page'!$C$24:$F$123,2,FALSE)),\"-\",VLOOKUP(J450,'Information Page'!$C$24:$F$123,2,FALSE))","v":"-"},{"$f":"IF(ISERROR(VLOOKUP(J450,'Information Page'!$C$24:$F$123,3,FALSE)),\"-\",VLOOKUP(J450,'Information Page'!$C$24:$F$123,3,FALSE))","v":"-"},{"$f":"IF(ISERROR(VLOOKUP(J450,'Information Page'!$C$24:$F$123,4,FALSE)),\"-\",VLOOKUP(J450,'Information Page'!$C$24:$F$123,4,FALSE))","v":"-"},null,"0"]
[null,null,431,null,null,null,null,null,null,null,{"$f":"IF(ISERROR(VLOOKUP(J451,'Information Page'!$C$24:$F$123,2,FALSE)),\"-\",VLOOKUP(J451,'Information Page'!$C$24:$F$123,2,FALSE))","v":"-"},{"$f":"IF(ISERROR(VLOOKUP(J451,'Information Page'!$C$24:$F$123,3,FALSE)),\"-\",VLOOKUP(J451,'Information Page'!$C$24:$F$123,3,FALSE))","v":"-"},{"$f":"IF(ISERROR(VLOOKUP(J451,'Information Page'!$C$24:$F$123,4,FALSE)),\"-\",VLOOKUP(J451,'Information Page'!$C$24:$F$123,4,FALSE))","v":"-"},null,"0"]
[null,null,432,null,null,null,null,null,null,null,{"$f":"IF(ISERROR(VLOOKUP(J452,'Information Page'!$C$24:$F$123,2,FALSE)),\"-\",VLOOKUP(J452,'Information Page'!$C$24:$F$123,2,FALSE))","v":"-"},{"$f":"IF(ISERROR(VLOOKUP(J452,'Information Page'!$C$24:$F$123,3,FALSE)),\"-\",VLOOKUP(J452,'Information Page'!$C$24:$F$123,3,FALSE))","v":"-"},{"$f":"IF(ISERROR(VLOOKUP(J452,'Information Page'!$C$24:$F$123,4,FALSE)),\"-\",VLOOKUP(J452,'Information Page'!$C$24:$F$123,4,FALSE))","v":"-"},null,"0"]
[null,null,433,null,null,null,null,null,null,null,{"$f":"IF(ISERROR(VLOOKUP(J453,'Information Page'!$C$24:$F$123,2,FALSE)),\"-\",VLOOKUP(J453,'Information Page'!$C$24:$F$123,2,FALSE))","v":"-"},{"$f":"IF(ISERROR(VLOOKUP(J453,'Information Page'!$C$24:$F$123,3,FALSE)),\"-\",VLOOKUP(J453,'Information Page'!$C$24:$F$123,3,FALSE))","v":"-"},{"$f":"IF(ISERROR(VLOOKUP(J453,'Information Page'!$C$24:$F$123,4,FALSE)),\"-\",VLOOKUP(J453,'Information Page'!$C$24:$F$123,4,FALSE))","v":"-"},null,"0"]
[null,null,434,null,null,null,null,null,null,null,{"$f":"IF(ISERROR(VLOOKUP(J454,'Information Page'!$C$24:$F$123,2,FALSE)),\"-\",VLOOKUP(J454,'Information Page'!$C$24:$F$123,2,FALSE))","v":"-"},{"$f":"IF(ISERROR(VLOOKUP(J454,'Information Page'!$C$24:$F$123,3,FALSE)),\"-\",VLOOKUP(J454,'Information Page'!$C$24:$F$123,3,FALSE))","v":"-"},{"$f":"IF(ISERROR(VLOOKUP(J454,'Information Page'!$C$24:$F$123,4,FALSE)),\"-\",VLOOKUP(J454,'Information Page'!$C$24:$F$123,4,FALSE))","v":"-"},null,"0"]
[null,null,435,null,null,null,null,null,null,null,{"$f":"IF(ISERROR(VLOOKUP(J455,'Information Page'!$C$24:$F$123,2,FALSE)),\"-\",VLOOKUP(J455,'Information Page'!$C$24:$F$123,2,FALSE))","v":"-"},{"$f":"IF(ISERROR(VLOOKUP(J455,'Information Page'!$C$24:$F$123,3,FALSE)),\"-\",VLOOKUP(J455,'Information Page'!$C$24:$F$123,3,FALSE))","v":"-"},{"$f":"IF(ISERROR(VLOOKUP(J455,'Information Page'!$C$24:$F$123,4,FALSE)),\"-\",VLOOKUP(J455,'Information Page'!$C$24:$F$123,4,FALSE))","v":"-"},null,"0"]
[null,null,436,null,null,null,null,null,null,null,{"$f":"IF(ISERROR(VLOOKUP(J456,'Information Page'!$C$24:$F$123,2,FALSE)),\"-\",VLOOKUP(J456,'Information Page'!$C$24:$F$123,2,FALSE))","v":"-"},{"$f":"IF(ISERROR(VLOOKUP(J456,'Information Page'!$C$24:$F$123,3,FALSE)),\"-\",VLOOKUP(J456,'Information Page'!$C$24:$F$123,3,FALSE))","v":"-"},{"$f":"IF(ISERROR(VLOOKUP(J456,'Information Page'!$C$24:$F$123,4,FALSE)),\"-\",VLOOKUP(J456,'Information Page'!$C$24:$F$123,4,FALSE))","v":"-"},null,"0"]
[null,null,437,null,null,null,null,null,null,null,{"$f":"IF(ISERROR(VLOOKUP(J457,'Information Page'!$C$24:$F$123,2,FALSE)),\"-\",VLOOKUP(J457,'Information Page'!$C$24:$F$123,2,FALSE))","v":"-"},{"$f":"IF(ISERROR(VLOOKUP(J457,'Information Page'!$C$24:$F$123,3,FALSE)),\"-\",VLOOKUP(J457,'Information Page'!$C$24:$F$123,3,FALSE))","v":"-"},{"$f":"IF(ISERROR(VLOOKUP(J457,'Information Page'!$C$24:$F$123,4,FALSE)),\"-\",VLOOKUP(J457,'Information Page'!$C$24:$F$123,4,FALSE))","v":"-"},null,"0"]
[null,null,438,null,null,null,null,null,null,null,{"$f":"IF(ISERROR(VLOOKUP(J458,'Information Page'!$C$24:$F$123,2,FALSE)),\"-\",VLOOKUP(J458,'Information Page'!$C$24:$F$123,2,FALSE))","v":"-"},{"$f":"IF(ISERROR(VLOOKUP(J458,'Information Page'!$C$24:$F$123,3,FALSE)),\"-\",VLOOKUP(J458,'Information Page'!$C$24:$F$123,3,FALSE))","v":"-"},{"$f":"IF(ISERROR(VLOOKUP(J458,'Information Page'!$C$24:$F$123,4,FALSE)),\"-\",VLOOKUP(J458,'Information Page'!$C$24:$F$123,4,FALSE))","v":"-"},null,"0"]
[null,null,439,null,null,null,null,null,null,null,{"$f":"IF(ISERROR(VLOOKUP(J459,'Information Page'!$C$24:$F$123,2,FALSE)),\"-\",VLOOKUP(J459,'Information Page'!$C$24:$F$123,2,FALSE))","v":"-"},{"$f":"IF(ISERROR(VLOOKUP(J459,'Information Page'!$C$24:$F$123,3,FALSE)),\"-\",VLOOKUP(J459,'Information Page'!$C$24:$F$123,3,FALSE))","v":"-"},{"$f":"IF(ISERROR(VLOOKUP(J459,'Information Page'!$C$24:$F$123,4,FALSE)),\"-\",VLOOKUP(J459,'Information Page'!$C$24:$F$123,4,FALSE))","v":"-"},null,"0"]
[null,null,440,null,null,null,null,null,null,null,{"$f":"IF(ISERROR(VLOOKUP(J460,'Information Page'!$C$24:$F$123,2,FALSE)),\"-\",VLOOKUP(J460,'Information Page'!$C$24:$F$123,2,FALSE))","v":"-"},{"$f":"IF(ISERROR(VLOOKUP(J460,'Information Page'!$C$24:$F$123,3,FALSE)),\"-\",VLOOKUP(J460,'Information Page'!$C$24:$F$123,3,FALSE))","v":"-"},{"$f":"IF(ISERROR(VLOOKUP(J460,'Information Page'!$C$24:$F$123,4,FALSE)),\"-\",VLOOKUP(J460,'Information Page'!$C$24:$F$123,4,FALSE))","v":"-"},null,"0"]
[null,null,441,null,null,null,null,null,null,null,{"$f":"IF(ISERROR(VLOOKUP(J461,'Information Page'!$C$24:$F$123,2,FALSE)),\"-\",VLOOKUP(J461,'Information Page'!$C$24:$F$123,2,FALSE))","v":"-"},{"$f":"IF(ISERROR(VLOOKUP(J461,'Information Page'!$C$24:$F$123,3,FALSE)),\"-\",VLOOKUP(J461,'Information Page'!$C$24:$F$123,3,FALSE))","v":"-"},{"$f":"IF(ISERROR(VLOOKUP(J461,'Information Page'!$C$24:$F$123,4,FALSE)),\"-\",VLOOKUP(J461,'Information Page'!$C$24:$F$123,4,FALSE))","v":"-"},null,"0"]
[null,null,442,null,null,null,null,null,null,null,{"$f":"IF(ISERROR(VLOOKUP(J462,'Information Page'!$C$24:$F$123,2,FALSE)),\"-\",VLOOKUP(J462,'Information Page'!$C$24:$F$123,2,FALSE))","v":"-"},{"$f":"IF(ISERROR(VLOOKUP(J462,'Information Page'!$C$24:$F$123,3,FALSE)),\"-\",VLOOKUP(J462,'Information Page'!$C$24:$F$123,3,FALSE))","v":"-"},{"$f":"IF(ISERROR(VLOOKUP(J462,'Information Page'!$C$24:$F$123,4,FALSE)),\"-\",VLOOKUP(J462,'Information Page'!$C$24:$F$123,4,FALSE))","v":"-"},null,"0"]
[null,null,443,null,null,null,null,null,null,null,{"$f":"IF(ISERROR(VLOOKUP(J463,'Information Page'!$C$24:$F$123,2,FALSE)),\"-\",VLOOKUP(J463,'Information Page'!$C$24:$F$123,2,FALSE))","v":"-"},{"$f":"IF(ISERROR(VLOOKUP(J463,'Information Page'!$C$24:$F$123,3,FALSE)),\"-\",VLOOKUP(J463,'Information Page'!$C$24:$F$123,3,FALSE))","v":"-"},{"$f":"IF(ISERROR(VLOOKUP(J463,'Information Page'!$C$24:$F$123,4,FALSE)),\"-\",VLOOKUP(J463,'Information Page'!$C$24:$F$123,4,FALSE))","v":"-"},null,"0"]
[null,null,444,null,null,null,null,null,null,null,{"$f":"IF(ISERROR(VLOOKUP(J464,'Information Page'!$C$24:$F$123,2,FALSE)),\"-\",VLOOKUP(J464,'Information Page'!$C$24:$F$123,2,FALSE))","v":"-"},{"$f":"IF(ISERROR(VLOOKUP(J464,'Information Page'!$C$24:$F$123,3,FALSE)),\"-\",VLOOKUP(J464,'Information Page'!$C$24:$F$123,3,FALSE))","v":"-"},{"$f":"IF(ISERROR(VLOOKUP(J464,'Information Page'!$C$24:$F$123,4,FALSE)),\"-\",VLOOKUP(J464,'Information Page'!$C$24:$F$123,4,FALSE))","v":"-"},null,"0"]
[null,null,445,null,null,null,null,null,null,null,{"$f":"IF(ISERROR(VLOOKUP(J465,'Information Page'!$C$24:$F$123,2,FALSE)),\"-\",VLOOKUP(J465,'Information Page'!$C$24:$F$123,2,FALSE))","v":"-"},{"$f":"IF(ISERROR(VLOOKUP(J465,'Information Page'!$C$24:$F$123,3,FALSE)),\"-\",VLOOKUP(J465,'Information Page'!$C$24:$F$123,3,FALSE))","v":"-"},{"$f":"IF(ISERROR(VLOOKUP(J465,'Information Page'!$C$24:$F$123,4,FALSE)),\"-\",VLOOKUP(J465,'Information Page'!$C$24:$F$123,4,FALSE))","v":"-"},null,"0"]
[null,null,446,null,null,null,null,null,null,null,{"$f":"IF(ISERROR(VLOOKUP(J466,'Information Page'!$C$24:$F$123,2,FALSE)),\"-\",VLOOKUP(J466,'Information Page'!$C$24:$F$123,2,FALSE))","v":"-"},{"$f":"IF(ISERROR(VLOOKUP(J466,'Information Page'!$C$24:$F$123,3,FALSE)),\"-\",VLOOKUP(J466,'Information Page'!$C$24:$F$123,3,FALSE))","v":"-"},{"$f":"IF(ISERROR(VLOOKUP(J466,'Information Page'!$C$24:$F$123,4,FALSE)),\"-\",VLOOKUP(J466,'Information Page'!$C$24:$F$123,4,FALSE))","v":"-"},null,"0"]
[null,null,447,null,null,null,null,null,null,null,{"$f":"IF(ISERROR(VLOOKUP(J467,'Information Page'!$C$24:$F$123,2,FALSE)),\"-\",VLOOKUP(J467,'Information Page'!$C$24:$F$123,2,FALSE))","v":"-"},{"$f":"IF(ISERROR(VLOOKUP(J467,'Information Page'!$C$24:$F$123,3,FALSE)),\"-\",VLOOKUP(J467,'Information Page'!$C$24:$F$123,3,FALSE))","v":"-"},{"$f":"IF(ISERROR(VLOOKUP(J467,'Information Page'!$C$24:$F$123,4,FALSE)),\"-\",VLOOKUP(J467,'Information Page'!$C$24:$F$123,4,FALSE))","v":"-"},null,"0"]
[null,null,448,null,null,null,null,null,null,null,{"$f":"IF(ISERROR(VLOOKUP(J468,'Information Page'!$C$24:$F$123,2,FALSE)),\"-\",VLOOKUP(J468,'Information Page'!$C$24:$F$123,2,FALSE))","v":"-"},{"$f":"IF(ISERROR(VLOOKUP(J468,'Information Page'!$C$24:$F$123,3,FALSE)),\"-\",VLOOKUP(J468,'Information Page'!$C$24:$F$123,3,FALSE))","v":"-"},{"$f":"IF(ISERROR(VLOOKUP(J468,'Information Page'!$C$24:$F$123,4,FALSE)),\"-\",VLOOKUP(J468,'Information Page'!$C$24:$F$123,4,FALSE))","v":"-"},null,"0"]
[null,null,449,null,null,null,null,null,null,null,{"$f":"IF(ISERROR(VLOOKUP(J469,'Information Page'!$C$24:$F$123,2,FALSE)),\"-\",VLOOKUP(J469,'Information Page'!$C$24:$F$123,2,FALSE))","v":"-"},{"$f":"IF(ISERROR(VLOOKUP(J469,'Information Page'!$C$24:$F$123,3,FALSE)),\"-\",VLOOKUP(J469,'Information Page'!$C$24:$F$123,3,FALSE))","v":"-"},{"$f":"IF(ISERROR(VLOOKUP(J469,'Information Page'!$C$24:$F$123,4,FALSE)),\"-\",VLOOKUP(J469,'Information Page'!$C$24:$F$123,4,FALSE))","v":"-"},null,"0"]
[null,null,450,null,null,null,null,null,null,null,{"$f":"IF(ISERROR(VLOOKUP(J470,'Information Page'!$C$24:$F$123,2,FALSE)),\"-\",VLOOKUP(J470,'Information Page'!$C$24:$F$123,2,FALSE))","v":"-"},{"$f":"IF(ISERROR(VLOOKUP(J470,'Information Page'!$C$24:$F$123,3,FALSE)),\"-\",VLOOKUP(J470,'Information Page'!$C$24:$F$123,3,FALSE))","v":"-"},{"$f":"IF(ISERROR(VLOOKUP(J470,'Information Page'!$C$24:$F$123,4,FALSE)),\"-\",VLOOKUP(J470,'Information Page'!$C$24:$F$123,4,FALSE))","v":"-"},null,{"$f":"IF(M470=\"-\",\"0\",M470*N470)","v":"0"}]
[null,null,451,null,null,null,null,null,null,null,{"$f":"IF(ISERROR(VLOOKUP(J471,'Information Page'!$C$24:$F$123,2,FALSE)),\"-\",VLOOKUP(J471,'Information Page'!$C$24:$F$123,2,FALSE))","v":"-"},{"$f":"IF(ISERROR(VLOOKUP(J471,'Information Page'!$C$24:$F$123,3,FALSE)),\"-\",VLOOKUP(J471,'Information Page'!$C$24:$F$123,3,FALSE))","v":"-"},{"$f":"IF(ISERROR(VLOOKUP(J471,'Information Page'!$C$24:$F$123,4,FALSE)),\"-\",VLOOKUP(J471,'Information Page'!$C$24:$F$123,4,FALSE))","v":"-"},null,"0"]
[null,null,452,null,null,null,null,null,null,null,{"$f":"IF(ISERROR(VLOOKUP(J472,'Information Page'!$C$24:$F$123,2,FALSE)),\"-\",VLOOKUP(J472,'Information Page'!$C$24:$F$123,2,FALSE))","v":"-"},{"$f":"IF(ISERROR(VLOOKUP(J472,'Information Page'!$C$24:$F$123,3,FALSE)),\"-\",VLOOKUP(J472,'Information Page'!$C$24:$F$123,3,FALSE))","v":"-"},{"$f":"IF(ISERROR(VLOOKUP(J472,'Information Page'!$C$24:$F$123,4,FALSE)),\"-\",VLOOKUP(J472,'Information Page'!$C$24:$F$123,4,FALSE))","v":"-"},null,"0"]
[null,null,453,null,null,null,null,null,null,null,{"$f":"IF(ISERROR(VLOOKUP(J473,'Information Page'!$C$24:$F$123,2,FALSE)),\"-\",VLOOKUP(J473,'Information Page'!$C$24:$F$123,2,FALSE))","v":"-"},{"$f":"IF(ISERROR(VLOOKUP(J473,'Information Page'!$C$24:$F$123,3,FALSE)),\"-\",VLOOKUP(J473,'Information Page'!$C$24:$F$123,3,FALSE))","v":"-"},{"$f":"IF(ISERROR(VLOOKUP(J473,'Information Page'!$C$24:$F$123,4,FALSE)),\"-\",VLOOKUP(J473,'Information Page'!$C$24:$F$123,4,FALSE))","v":"-"},null,"0"]
[null,null,454,null,null,null,null,null,null,null,{"$f":"IF(ISERROR(VLOOKUP(J474,'Information Page'!$C$24:$F$123,2,FALSE)),\"-\",VLOOKUP(J474,'Information Page'!$C$24:$F$123,2,FALSE))","v":"-"},{"$f":"IF(ISERROR(VLOOKUP(J474,'Information Page'!$C$24:$F$123,3,FALSE)),\"-\",VLOOKUP(J474,'Information Page'!$C$24:$F$123,3,FALSE))","v":"-"},{"$f":"IF(ISERROR(VLOOKUP(J474,'Information Page'!$C$24:$F$123,4,FALSE)),\"-\",VLOOKUP(J474,'Information Page'!$C$24:$F$123,4,FALSE))","v":"-"},null,"0"]
[null,null,455,null,null,null,null,null,null,null,{"$f":"IF(ISERROR(VLOOKUP(J475,'Information Page'!$C$24:$F$123,2,FALSE)),\"-\",VLOOKUP(J475,'Information Page'!$C$24:$F$123,2,FALSE))","v":"-"},{"$f":"IF(ISERROR(VLOOKUP(J475,'Information Page'!$C$24:$F$123,3,FALSE)),\"-\",VLOOKUP(J475,'Information Page'!$C$24:$F$123,3,FALSE))","v":"-"},{"$f":"IF(ISERROR(VLOOKUP(J475,'Information Page'!$C$24:$F$123,4,FALSE)),\"-\",VLOOKUP(J475,'Information Page'!$C$24:$F$123,4,FALSE))","v":"-"},null,"0"]
[null,null,456,null,null,null,null,null,null,null,{"$f":"IF(ISERROR(VLOOKUP(J476,'Information Page'!$C$24:$F$123,2,FALSE)),\"-\",VLOOKUP(J476,'Information Page'!$C$24:$F$123,2,FALSE))","v":"-"},{"$f":"IF(ISERROR(VLOOKUP(J476,'Information Page'!$C$24:$F$123,3,FALSE)),\"-\",VLOOKUP(J476,'Information Page'!$C$24:$F$123,3,FALSE))","v":"-"},{"$f":"IF(ISERROR(VLOOKUP(J476,'Information Page'!$C$24:$F$123,4,FALSE)),\"-\",VLOOKUP(J476,'Information Page'!$C$24:$F$123,4,FALSE))","v":"-"},null,"0"]
[null,null,457,null,null,null,null,null,null,null,{"$f":"IF(ISERROR(VLOOKUP(J477,'Information Page'!$C$24:$F$123,2,FALSE)),\"-\",VLOOKUP(J477,'Information Page'!$C$24:$F$123,2,FALSE))","v":"-"},{"$f":"IF(ISERROR(VLOOKUP(J477,'Information Page'!$C$24:$F$123,3,FALSE)),\"-\",VLOOKUP(J477,'Information Page'!$C$24:$F$123,3,FALSE))","v":"-"},{"$f":"IF(ISERROR(VLOOKUP(J477,'Information Page'!$C$24:$F$123,4,FALSE)),\"-\",VLOOKUP(J477,'Information Page'!$C$24:$F$123,4,FALSE))","v":"-"},null,"0"]
[null,null,458,null,null,null,null,null,null,null,{"$f":"IF(ISERROR(VLOOKUP(J478,'Information Page'!$C$24:$F$123,2,FALSE)),\"-\",VLOOKUP(J478,'Information Page'!$C$24:$F$123,2,FALSE))","v":"-"},{"$f":"IF(ISERROR(VLOOKUP(J478,'Information Page'!$C$24:$F$123,3,FALSE)),\"-\",VLOOKUP(J478,'Information Page'!$C$24:$F$123,3,FALSE))","v":"-"},{"$f":"IF(ISERROR(VLOOKUP(J478,'Information Page'!$C$24:$F$123,4,FALSE)),\"-\",VLOOKUP(J478,'Information Page'!$C$24:$F$123,4,FALSE))","v":"-"},null,"0"]
[null,null,459,null,null,null,null,null,null,null,{"$f":"IF(ISERROR(VLOOKUP(J479,'Information Page'!$C$24:$F$123,2,FALSE)),\"-\",VLOOKUP(J479,'Information Page'!$C$24:$F$123,2,FALSE))","v":"-"},{"$f":"IF(ISERROR(VLOOKUP(J479,'Information Page'!$C$24:$F$123,3,FALSE)),\"-\",VLOOKUP(J479,'Information Page'!$C$24:$F$123,3,FALSE))","v":"-"},{"$f":"IF(ISERROR(VLOOKUP(J479,'Information Page'!$C$24:$F$123,4,FALSE)),\"-\",VLOOKUP(J479,'Information Page'!$C$24:$F$123,4,FALSE))","v":"-"},null,"0"]
[null,null,460,null,null,null,null,null,null,null,{"$f":"IF(ISERROR(VLOOKUP(J480,'Information Page'!$C$24:$F$123,2,FALSE)),\"-\",VLOOKUP(J480,'Information Page'!$C$24:$F$123,2,FALSE))","v":"-"},{"$f":"IF(ISERROR(VLOOKUP(J480,'Information Page'!$C$24:$F$123,3,FALSE)),\"-\",VLOOKUP(J480,'Information Page'!$C$24:$F$123,3,FALSE))","v":"-"},{"$f":"IF(ISERROR(VLOOKUP(J480,'Information Page'!$C$24:$F$123,4,FALSE)),\"-\",VLOOKUP(J480,'Information Page'!$C$24:$F$123,4,FALSE))","v":"-"},null,"0"]
[null,null,461,null,null,null,null,null,null,null,{"$f":"IF(ISERROR(VLOOKUP(J481,'Information Page'!$C$24:$F$123,2,FALSE)),\"-\",VLOOKUP(J481,'Information Page'!$C$24:$F$123,2,FALSE))","v":"-"},{"$f":"IF(ISERROR(VLOOKUP(J481,'Information Page'!$C$24:$F$123,3,FALSE)),\"-\",VLOOKUP(J481,'Information Page'!$C$24:$F$123,3,FALSE))","v":"-"},{"$f":"IF(ISERROR(VLOOKUP(J481,'Information Page'!$C$24:$F$123,4,FALSE)),\"-\",VLOOKUP(J481,'Information Page'!$C$24:$F$123,4,FALSE))","v":"-"},null,"0"]
[null,null,462,null,null,null,null,null,null,null,{"$f":"IF(ISERROR(VLOOKUP(J482,'Information Page'!$C$24:$F$123,2,FALSE)),\"-\",VLOOKUP(J482,'Information Page'!$C$24:$F$123,2,FALSE))","v":"-"},{"$f":"IF(ISERROR(VLOOKUP(J482,'Information Page'!$C$24:$F$123,3,FALSE)),\"-\",VLOOKUP(J482,'Information Page'!$C$24:$F$123,3,FALSE))","v":"-"},{"$f":"IF(ISERROR(VLOOKUP(J482,'Information Page'!$C$24:$F$123,4,FALSE)),\"-\",VLOOKUP(J482,'Information Page'!$C$24:$F$123,4,FALSE))","v":"-"},null,"0"]
[null,null,463,null,null,null,null,null,null,null,{"$f":"IF(ISERROR(VLOOKUP(J483,'Information Page'!$C$24:$F$123,2,FALSE)),\"-\",VLOOKUP(J483,'Information Page'!$C$24:$F$123,2,FALSE))","v":"-"},{"$f":"IF(ISERROR(VLOOKUP(J483,'Information Page'!$C$24:$F$123,3,FALSE)),\"-\",VLOOKUP(J483,'Information Page'!$C$24:$F$123,3,FALSE))","v":"-"},{"$f":"IF(ISERROR(VLOOKUP(J483,'Information Page'!$C$24:$F$123,4,FALSE)),\"-\",VLOOKUP(J483,'Information Page'!$C$24:$F$123,4,FALSE))","v":"-"},null,"0"]
[null,null,464,null,null,null,null,null,null,null,{"$f":"IF(ISERROR(VLOOKUP(J484,'Information Page'!$C$24:$F$123,2,FALSE)),\"-\",VLOOKUP(J484,'Information Page'!$C$24:$F$123,2,FALSE))","v":"-"},{"$f":"IF(ISERROR(VLOOKUP(J484,'Information Page'!$C$24:$F$123,3,FALSE)),\"-\",VLOOKUP(J484,'Information Page'!$C$24:$F$123,3,FALSE))","v":"-"},{"$f":"IF(ISERROR(VLOOKUP(J484,'Information Page'!$C$24:$F$123,4,FALSE)),\"-\",VLOOKUP(J484,'Information Page'!$C$24:$F$123,4,FALSE))","v":"-"},null,"0"]
[null,null,465,null,null,null,null,null,null,null,{"$f":"IF(ISERROR(VLOOKUP(J485,'Information Page'!$C$24:$F$123,2,FALSE)),\"-\",VLOOKUP(J485,'Information Page'!$C$24:$F$123,2,FALSE))","v":"-"},{"$f":"IF(ISERROR(VLOOKUP(J485,'Information Page'!$C$24:$F$123,3,FALSE)),\"-\",VLOOKUP(J485,'Information Page'!$C$24:$F$123,3,FALSE))","v":"-"},{"$f":"IF(ISERROR(VLOOKUP(J485,'Information Page'!$C$24:$F$123,4,FALSE)),\"-\",VLOOKUP(J485,'Information Page'!$C$24:$F$123,4,FALSE))","v":"-"},null,"0"]
[null,null,466,null,null,null,null,null,null,null,{"$f":"IF(ISERROR(VLOOKUP(J486,'Information Page'!$C$24:$F$123,2,FALSE)),\"-\",VLOOKUP(J486,'Information Page'!$C$24:$F$123,2,FALSE))","v":"-"},{"$f":"IF(ISERROR(VLOOKUP(J486,'Information Page'!$C$24:$F$123,3,FALSE)),\"-\",VLOOKUP(J486,'Information Page'!$C$24:$F$123,3,FALSE))","v":"-"},{"$f":"IF(ISERROR(VLOOKUP(J486,'Information Page'!$C$24:$F$123,4,FALSE)),\"-\",VLOOKUP(J486,'Information Page'!$C$24:$F$123,4,FALSE))","v":"-"},null,"0"]
[null,null,467,null,null,null,null,null,null,null,{"$f":"IF(ISERROR(VLOOKUP(J487,'Information Page'!$C$24:$F$123,2,FALSE)),\"-\",VLOOKUP(J487,'Information Page'!$C$24:$F$123,2,FALSE))","v":"-"},{"$f":"IF(ISERROR(VLOOKUP(J487,'Information Page'!$C$24:$F$123,3,FALSE)),\"-\",VLOOKUP(J487,'Information Page'!$C$24:$F$123,3,FALSE))","v":"-"},{"$f":"IF(ISERROR(VLOOKUP(J487,'Information Page'!$C$24:$F$123,4,FALSE)),\"-\",VLOOKUP(J487,'Information Page'!$C$24:$F$123,4,FALSE))","v":"-"},null,"0"]
[null,null,468,null,null,null,null,null,null,null,{"$f":"IF(ISERROR(VLOOKUP(J488,'Information Page'!$C$24:$F$123,2,FALSE)),\"-\",VLOOKUP(J488,'Information Page'!$C$24:$F$123,2,FALSE))","v":"-"},{"$f":"IF(ISERROR(VLOOKUP(J488,'Information Page'!$C$24:$F$123,3,FALSE)),\"-\",VLOOKUP(J488,'Information Page'!$C$24:$F$123,3,FALSE))","v":"-"},{"$f":"IF(ISERROR(VLOOKUP(J488,'Information Page'!$C$24:$F$123,4,FALSE)),\"-\",VLOOKUP(J488,'Information Page'!$C$24:$F$123,4,FALSE))","v":"-"},null,"0"]
[null,null,469,null,null,null,null,null,null,null,{"$f":"IF(ISERROR(VLOOKUP(J489,'Information Page'!$C$24:$F$123,2,FALSE)),\"-\",VLOOKUP(J489,'Information Page'!$C$24:$F$123,2,FALSE))","v":"-"},{"$f":"IF(ISERROR(VLOOKUP(J489,'Information Page'!$C$24:$F$123,3,FALSE)),\"-\",VLOOKUP(J489,'Information Page'!$C$24:$F$123,3,FALSE))","v":"-"},{"$f":"IF(ISERROR(VLOOKUP(J489,'Information Page'!$C$24:$F$123,4,FALSE)),\"-\",VLOOKUP(J489,'Information Page'!$C$24:$F$123,4,FALSE))","v":"-"},null,"0"]
[null,null,470,null,null,null,null,null,null,null,{"$f":"IF(ISERROR(VLOOKUP(J490,'Information Page'!$C$24:$F$123,2,FALSE)),\"-\",VLOOKUP(J490,'Information Page'!$C$24:$F$123,2,FALSE))","v":"-"},{"$f":"IF(ISERROR(VLOOKUP(J490,'Information Page'!$C$24:$F$123,3,FALSE)),\"-\",VLOOKUP(J490,'Information Page'!$C$24:$F$123,3,FALSE))","v":"-"},{"$f":"IF(ISERROR(VLOOKUP(J490,'Information Page'!$C$24:$F$123,4,FALSE)),\"-\",VLOOKUP(J490,'Information Page'!$C$24:$F$123,4,FALSE))","v":"-"},null,"0"]
[null,null,471,null,null,null,null,null,null,null,{"$f":"IF(ISERROR(VLOOKUP(J491,'Information Page'!$C$24:$F$123,2,FALSE)),\"-\",VLOOKUP(J491,'Information Page'!$C$24:$F$123,2,FALSE))","v":"-"},{"$f":"IF(ISERROR(VLOOKUP(J491,'Information Page'!$C$24:$F$123,3,FALSE)),\"-\",VLOOKUP(J491,'Information Page'!$C$24:$F$123,3,FALSE))","v":"-"},{"$f":"IF(ISERROR(VLOOKUP(J491,'Information Page'!$C$24:$F$123,4,FALSE)),\"-\",VLOOKUP(J491,'Information Page'!$C$24:$F$123,4,FALSE))","v":"-"},null,"0"]
[null,null,472,null,null,null,null,null,null,null,{"$f":"IF(ISERROR(VLOOKUP(J492,'Information Page'!$C$24:$F$123,2,FALSE)),\"-\",VLOOKUP(J492,'Information Page'!$C$24:$F$123,2,FALSE))","v":"-"},{"$f":"IF(ISERROR(VLOOKUP(J492,'Information Page'!$C$24:$F$123,3,FALSE)),\"-\",VLOOKUP(J492,'Information Page'!$C$24:$F$123,3,FALSE))","v":"-"},{"$f":"IF(ISERROR(VLOOKUP(J492,'Information Page'!$C$24:$F$123,4,FALSE)),\"-\",VLOOKUP(J492,'Information Page'!$C$24:$F$123,4,FALSE))","v":"-"},null,"0"]
[null,null,473,null,null,null,null,null,null,null,{"$f":"IF(ISERROR(VLOOKUP(J493,'Information Page'!$C$24:$F$123,2,FALSE)),\"-\",VLOOKUP(J493,'Information Page'!$C$24:$F$123,2,FALSE))","v":"-"},{"$f":"IF(ISERROR(VLOOKUP(J493,'Information Page'!$C$24:$F$123,3,FALSE)),\"-\",VLOOKUP(J493,'Information Page'!$C$24:$F$123,3,FALSE))","v":"-"},{"$f":"IF(ISERROR(VLOOKUP(J493,'Information Page'!$C$24:$F$123,4,FALSE)),\"-\",VLOOKUP(J493,'Information Page'!$C$24:$F$123,4,FALSE))","v":"-"},null,"0"]
[null,null,474,null,null,null,null,null,null,null,{"$f":"IF(ISERROR(VLOOKUP(J494,'Information Page'!$C$24:$F$123,2,FALSE)),\"-\",VLOOKUP(J494,'Information Page'!$C$24:$F$123,2,FALSE))","v":"-"},{"$f":"IF(ISERROR(VLOOKUP(J494,'Information Page'!$C$24:$F$123,3,FALSE)),\"-\",VLOOKUP(J494,'Information Page'!$C$24:$F$123,3,FALSE))","v":"-"},{"$f":"IF(ISERROR(VLOOKUP(J494,'Information Page'!$C$24:$F$123,4,FALSE)),\"-\",VLOOKUP(J494,'Information Page'!$C$24:$F$123,4,FALSE))","v":"-"},null,"0"]
[null,null,475,null,null,null,null,null,null,null,{"$f":"IF(ISERROR(VLOOKUP(J495,'Information Page'!$C$24:$F$123,2,FALSE)),\"-\",VLOOKUP(J495,'Information Page'!$C$24:$F$123,2,FALSE))","v":"-"},{"$f":"IF(ISERROR(VLOOKUP(J495,'Information Page'!$C$24:$F$123,3,FALSE)),\"-\",VLOOKUP(J495,'Information Page'!$C$24:$F$123,3,FALSE))","v":"-"},{"$f":"IF(ISERROR(VLOOKUP(J495,'Information Page'!$C$24:$F$123,4,FALSE)),\"-\",VLOOKUP(J495,'Information Page'!$C$24:$F$123,4,FALSE))","v":"-"},null,"0"]
[null,null,476,null,null,null,null,null,null,null,{"$f":"IF(ISERROR(VLOOKUP(J496,'Information Page'!$C$24:$F$123,2,FALSE)),\"-\",VLOOKUP(J496,'Information Page'!$C$24:$F$123,2,FALSE))","v":"-"},{"$f":"IF(ISERROR(VLOOKUP(J496,'Information Page'!$C$24:$F$123,3,FALSE)),\"-\",VLOOKUP(J496,'Information Page'!$C$24:$F$123,3,FALSE))","v":"-"},{"$f":"IF(ISERROR(VLOOKUP(J496,'Information Page'!$C$24:$F$123,4,FALSE)),\"-\",VLOOKUP(J496,'Information Page'!$C$24:$F$123,4,FALSE))","v":"-"},null,"0"]
[null,null,477,null,null,null,null,null,null,null,{"$f":"IF(ISERROR(VLOOKUP(J497,'Information Page'!$C$24:$F$123,2,FALSE)),\"-\",VLOOKUP(J497,'Information Page'!$C$24:$F$123,2,FALSE))","v":"-"},{"$f":"IF(ISERROR(VLOOKUP(J497,'Information Page'!$C$24:$F$123,3,FALSE)),\"-\",VLOOKUP(J497,'Information Page'!$C$24:$F$123,3,FALSE))","v":"-"},{"$f":"IF(ISERROR(VLOOKUP(J497,'Information Page'!$C$24:$F$123,4,FALSE)),\"-\",VLOOKUP(J497,'Information Page'!$C$24:$F$123,4,FALSE))","v":"-"},null,"0"]
[null,null,478,null,null,null,null,null,null,null,{"$f":"IF(ISERROR(VLOOKUP(J498,'Information Page'!$C$24:$F$123,2,FALSE)),\"-\",VLOOKUP(J498,'Information Page'!$C$24:$F$123,2,FALSE))","v":"-"},{"$f":"IF(ISERROR(VLOOKUP(J498,'Information Page'!$C$24:$F$123,3,FALSE)),\"-\",VLOOKUP(J498,'Information Page'!$C$24:$F$123,3,FALSE))","v":"-"},{"$f":"IF(ISERROR(VLOOKUP(J498,'Information Page'!$C$24:$F$123,4,FALSE)),\"-\",VLOOKUP(J498,'Information Page'!$C$24:$F$123,4,FALSE))","v":"-"},null,"0"]
[null,null,479,null,null,null,null,null,null,null,{"$f":"IF(ISERROR(VLOOKUP(J499,'Information Page'!$C$24:$F$123,2,FALSE)),\"-\",VLOOKUP(J499,'Information Page'!$C$24:$F$123,2,FALSE))","v":"-"},{"$f":"IF(ISERROR(VLOOKUP(J499,'Information Page'!$C$24:$F$123,3,FALSE)),\"-\",VLOOKUP(J499,'Information Page'!$C$24:$F$123,3,FALSE))","v":"-"},{"$f":"IF(ISERROR(VLOOKUP(J499,'Information Page'!$C$24:$F$123,4,FALSE)),\"-\",VLOOKUP(J499,'Information Page'!$C$24:$F$123,4,FALSE))","v":"-"},null,"0"]
[null,null,480,null,null,null,null,null,null,null,{"$f":"IF(ISERROR(VLOOKUP(J500,'Information Page'!$C$24:$F$123,2,FALSE)),\"-\",VLOOKUP(J500,'Information Page'!$C$24:$F$123,2,FALSE))","v":"-"},{"$f":"IF(ISERROR(VLOOKUP(J500,'Information Page'!$C$24:$F$123,3,FALSE)),\"-\",VLOOKUP(J500,'Information Page'!$C$24:$F$123,3,FALSE))","v":"-"},{"$f":"IF(ISERROR(VLOOKUP(J500,'Information Page'!$C$24:$F$123,4,FALSE)),\"-\",VLOOKUP(J500,'Information Page'!$C$24:$F$123,4,FALSE))","v":"-"},null,"0"]
[null,null,481,null,null,null,null,null,null,null,{"$f":"IF(ISERROR(VLOOKUP(J501,'Information Page'!$C$24:$F$123,2,FALSE)),\"-\",VLOOKUP(J501,'Information Page'!$C$24:$F$123,2,FALSE))","v":"-"},{"$f":"IF(ISERROR(VLOOKUP(J501,'Information Page'!$C$24:$F$123,3,FALSE)),\"-\",VLOOKUP(J501,'Information Page'!$C$24:$F$123,3,FALSE))","v":"-"},{"$f":"IF(ISERROR(VLOOKUP(J501,'Information Page'!$C$24:$F$123,4,FALSE)),\"-\",VLOOKUP(J501,'Information Page'!$C$24:$F$123,4,FALSE))","v":"-"},null,"0"]
[null,null,482,null,null,null,null,null,null,null,{"$f":"IF(ISERROR(VLOOKUP(J502,'Information Page'!$C$24:$F$123,2,FALSE)),\"-\",VLOOKUP(J502,'Information Page'!$C$24:$F$123,2,FALSE))","v":"-"},{"$f":"IF(ISERROR(VLOOKUP(J502,'Information Page'!$C$24:$F$123,3,FALSE)),\"-\",VLOOKUP(J502,'Information Page'!$C$24:$F$123,3,FALSE))","v":"-"},{"$f":"IF(ISERROR(VLOOKUP(J502,'Information Page'!$C$24:$F$123,4,FALSE)),\"-\",VLOOKUP(J502,'Information Page'!$C$24:$F$123,4,FALSE))","v":"-"},null,"0"]
[null,null,483,null,null,null,null,null,null,null,{"$f":"IF(ISERROR(VLOOKUP(J503,'Information Page'!$C$24:$F$123,2,FALSE)),\"-\",VLOOKUP(J503,'Information Page'!$C$24:$F$123,2,FALSE))","v":"-"},{"$f":"IF(ISERROR(VLOOKUP(J503,'Information Page'!$C$24:$F$123,3,FALSE)),\"-\",VLOOKUP(J503,'Information Page'!$C$24:$F$123,3,FALSE))","v":"-"},{"$f":"IF(ISERROR(VLOOKUP(J503,'Information Page'!$C$24:$F$123,4,FALSE)),\"-\",VLOOKUP(J503,'Information Page'!$C$24:$F$123,4,FALSE))","v":"-"},null,"0"]
[null,null,484,null,null,null,null,null,null,null,{"$f":"IF(ISERROR(VLOOKUP(J504,'Information Page'!$C$24:$F$123,2,FALSE)),\"-\",VLOOKUP(J504,'Information Page'!$C$24:$F$123,2,FALSE))","v":"-"},{"$f":"IF(ISERROR(VLOOKUP(J504,'Information Page'!$C$24:$F$123,3,FALSE)),\"-\",VLOOKUP(J504,'Information Page'!$C$24:$F$123,3,FALSE))","v":"-"},{"$f":"IF(ISERROR(VLOOKUP(J504,'Information Page'!$C$24:$F$123,4,FALSE)),\"-\",VLOOKUP(J504,'Information Page'!$C$24:$F$123,4,FALSE))","v":"-"},null,"0"]
[null,null,485,null,null,null,null,null,null,null,{"$f":"IF(ISERROR(VLOOKUP(J505,'Information Page'!$C$24:$F$123,2,FALSE)),\"-\",VLOOKUP(J505,'Information Page'!$C$24:$F$123,2,FALSE))","v":"-"},{"$f":"IF(ISERROR(VLOOKUP(J505,'Information Page'!$C$24:$F$123,3,FALSE)),\"-\",VLOOKUP(J505,'Information Page'!$C$24:$F$123,3,FALSE))","v":"-"},{"$f":"IF(ISERROR(VLOOKUP(J505,'Information Page'!$C$24:$F$123,4,FALSE)),\"-\",VLOOKUP(J505,'Information Page'!$C$24:$F$123,4,FALSE))","v":"-"},null,"0"]
[null,null,486,null,null,null,null,null,null,null,{"$f":"IF(ISERROR(VLOOKUP(J506,'Information Page'!$C$24:$F$123,2,FALSE)),\"-\",VLOOKUP(J506,'Information Page'!$C$24:$F$123,2,FALSE))","v":"-"},{"$f":"IF(ISERROR(VLOOKUP(J506,'Information Page'!$C$24:$F$123,3,FALSE)),\"-\",VLOOKUP(J506,'Information Page'!$C$24:$F$123,3,FALSE))","v":"-"},{"$f":"IF(ISERROR(VLOOKUP(J506,'Information Page'!$C$24:$F$123,4,FALSE)),\"-\",VLOOKUP(J506,'Information Page'!$C$24:$F$123,4,FALSE))","v":"-"},null,"0"]
[null,null,487,null,null,null,null,null,null,null,{"$f":"IF(ISERROR(VLOOKUP(J507,'Information Page'!$C$24:$F$123,2,FALSE)),\"-\",VLOOKUP(J507,'Information Page'!$C$24:$F$123,2,FALSE))","v":"-"},{"$f":"IF(ISERROR(VLOOKUP(J507,'Information Page'!$C$24:$F$123,3,FALSE)),\"-\",VLOOKUP(J507,'Information Page'!$C$24:$F$123,3,FALSE))","v":"-"},{"$f":"IF(ISERROR(VLOOKUP(J507,'Information Page'!$C$24:$F$123,4,FALSE)),\"-\",VLOOKUP(J507,'Information Page'!$C$24:$F$123,4,FALSE))","v":"-"},null,"0"]
[null,null,488,null,null,null,null,null,null,null,{"$f":"IF(ISERROR(VLOOKUP(J508,'Information Page'!$C$24:$F$123,2,FALSE)),\"-\",VLOOKUP(J508,'Information Page'!$C$24:$F$123,2,FALSE))","v":"-"},{"$f":"IF(ISERROR(VLOOKUP(J508,'Information Page'!$C$24:$F$123,3,FALSE)),\"-\",VLOOKUP(J508,'Information Page'!$C$24:$F$123,3,FALSE))","v":"-"},{"$f":"IF(ISERROR(VLOOKUP(J508,'Information Page'!$C$24:$F$123,4,FALSE)),\"-\",VLOOKUP(J508,'Information Page'!$C$24:$F$123,4,FALSE))","v":"-"},null,"0"]
[null,null,489,null,null,null,null,null,null,null,{"$f":"IF(ISERROR(VLOOKUP(J509,'Information Page'!$C$24:$F$123,2,FALSE)),\"-\",VLOOKUP(J509,'Information Page'!$C$24:$F$123,2,FALSE))","v":"-"},{"$f":"IF(ISERROR(VLOOKUP(J509,'Information Page'!$C$24:$F$123,3,FALSE)),\"-\",VLOOKUP(J509,'Information Page'!$C$24:$F$123,3,FALSE))","v":"-"},{"$f":"IF(ISERROR(VLOOKUP(J509,'Information Page'!$C$24:$F$123,4,FALSE)),\"-\",VLOOKUP(J509,'Information Page'!$C$24:$F$123,4,FALSE))","v":"-"},null,"0"]
[null,null,490,null,null,null,null,null,null,null,{"$f":"IF(ISERROR(VLOOKUP(J510,'Information Page'!$C$24:$F$123,2,FALSE)),\"-\",VLOOKUP(J510,'Information Page'!$C$24:$F$123,2,FALSE))","v":"-"},{"$f":"IF(ISERROR(VLOOKUP(J510,'Information Page'!$C$24:$F$123,3,FALSE)),\"-\",VLOOKUP(J510,'Information Page'!$C$24:$F$123,3,FALSE))","v":"-"},{"$f":"IF(ISERROR(VLOOKUP(J510,'Information Page'!$C$24:$F$123,4,FALSE)),\"-\",VLOOKUP(J510,'Information Page'!$C$24:$F$123,4,FALSE))","v":"-"},null,"0"]
[null,null,491,null,null,null,null,null,null,null,{"$f":"IF(ISERROR(VLOOKUP(J511,'Information Page'!$C$24:$F$123,2,FALSE)),\"-\",VLOOKUP(J511,'Information Page'!$C$24:$F$123,2,FALSE))","v":"-"},{"$f":"IF(ISERROR(VLOOKUP(J511,'Information Page'!$C$24:$F$123,3,FALSE)),\"-\",VLOOKUP(J511,'Information Page'!$C$24:$F$123,3,FALSE))","v":"-"},{"$f":"IF(ISERROR(VLOOKUP(J511,'Information Page'!$C$24:$F$123,4,FALSE)),\"-\",VLOOKUP(J511,'Information Page'!$C$24:$F$123,4,FALSE))","v":"-"},null,"0"]
[null,null,492,null,null,null,null,null,null,null,{"$f":"IF(ISERROR(VLOOKUP(J512,'Information Page'!$C$24:$F$123,2,FALSE)),\"-\",VLOOKUP(J512,'Information Page'!$C$24:$F$123,2,FALSE))","v":"-"},{"$f":"IF(ISERROR(VLOOKUP(J512,'Information Page'!$C$24:$F$123,3,FALSE)),\"-\",VLOOKUP(J512,'Information Page'!$C$24:$F$123,3,FALSE))","v":"-"},{"$f":"IF(ISERROR(VLOOKUP(J512,'Information Page'!$C$24:$F$123,4,FALSE)),\"-\",VLOOKUP(J512,'Information Page'!$C$24:$F$123,4,FALSE))","v":"-"},null,"0"]
[null,null,493,null,null,null,null,null,null,null,{"$f":"IF(ISERROR(VLOOKUP(J513,'Information Page'!$C$24:$F$123,2,FALSE)),\"-\",VLOOKUP(J513,'Information Page'!$C$24:$F$123,2,FALSE))","v":"-"},{"$f":"IF(ISERROR(VLOOKUP(J513,'Information Page'!$C$24:$F$123,3,FALSE)),\"-\",VLOOKUP(J513,'Information Page'!$C$24:$F$123,3,FALSE))","v":"-"},{"$f":"IF(ISERROR(VLOOKUP(J513,'Information Page'!$C$24:$F$123,4,FALSE)),\"-\",VLOOKUP(J513,'Information Page'!$C$24:$F$123,4,FALSE))","v":"-"},null,"0"]
[null,null,494,null,null,null,null,null,null,null,{"$f":"IF(ISERROR(VLOOKUP(J514,'Information Page'!$C$24:$F$123,2,FALSE)),\"-\",VLOOKUP(J514,'Information Page'!$C$24:$F$123,2,FALSE))","v":"-"},{"$f":"IF(ISERROR(VLOOKUP(J514,'Information Page'!$C$24:$F$123,3,FALSE)),\"-\",VLOOKUP(J514,'Information Page'!$C$24:$F$123,3,FALSE))","v":"-"},{"$f":"IF(ISERROR(VLOOKUP(J514,'Information Page'!$C$24:$F$123,4,FALSE)),\"-\",VLOOKUP(J514,'Information Page'!$C$24:$F$123,4,FALSE))","v":"-"},null,"0"]
[null,null,495,null,null,null,null,null,null,null,{"$f":"IF(ISERROR(VLOOKUP(J515,'Information Page'!$C$24:$F$123,2,FALSE)),\"-\",VLOOKUP(J515,'Information Page'!$C$24:$F$123,2,FALSE))","v":"-"},{"$f":"IF(ISERROR(VLOOKUP(J515,'Information Page'!$C$24:$F$123,3,FALSE)),\"-\",VLOOKUP(J515,'Information Page'!$C$24:$F$123,3,FALSE))","v":"-"},{"$f":"IF(ISERROR(VLOOKUP(J515,'Information Page'!$C$24:$F$123,4,FALSE)),\"-\",VLOOKUP(J515,'Information Page'!$C$24:$F$123,4,FALSE))","v":"-"},null,"0"]
[null,null,496,null,null,null,null,null,null,null,{"$f":"IF(ISERROR(VLOOKUP(J516,'Information Page'!$C$24:$F$123,2,FALSE)),\"-\",VLOOKUP(J516,'Information Page'!$C$24:$F$123,2,FALSE))","v":"-"},{"$f":"IF(ISERROR(VLOOKUP(J516,'Information Page'!$C$24:$F$123,3,FALSE)),\"-\",VLOOKUP(J516,'Information Page'!$C$24:$F$123,3,FALSE))","v":"-"},{"$f":"IF(ISERROR(VLOOKUP(J516,'Information Page'!$C$24:$F$123,4,FALSE)),\"-\",VLOOKUP(J516,'Information Page'!$C$24:$F$123,4,FALSE))","v":"-"},null,"0"]
[null,null,497,null,null,null,null,null,null,null,{"$f":"IF(ISERROR(VLOOKUP(J517,'Information Page'!$C$24:$F$123,2,FALSE)),\"-\",VLOOKUP(J517,'Information Page'!$C$24:$F$123,2,FALSE))","v":"-"},{"$f":"IF(ISERROR(VLOOKUP(J517,'Information Page'!$C$24:$F$123,3,FALSE)),\"-\",VLOOKUP(J517,'Information Page'!$C$24:$F$123,3,FALSE))","v":"-"},{"$f":"IF(ISERROR(VLOOKUP(J517,'Information Page'!$C$24:$F$123,4,FALSE)),\"-\",VLOOKUP(J517,'Information Page'!$C$24:$F$123,4,FALSE))","v":"-"},null,"0"]
[null,null,498,null,null,null,null,null,null,null,{"$f":"IF(ISERROR(VLOOKUP(J518,'Information Page'!$C$24:$F$123,2,FALSE)),\"-\",VLOOKUP(J518,'Information Page'!$C$24:$F$123,2,FALSE))","v":"-"},{"$f":"IF(ISERROR(VLOOKUP(J518,'Information Page'!$C$24:$F$123,3,FALSE)),\"-\",VLOOKUP(J518,'Information Page'!$C$24:$F$123,3,FALSE))","v":"-"},{"$f":"IF(ISERROR(VLOOKUP(J518,'Information Page'!$C$24:$F$123,4,FALSE)),\"-\",VLOOKUP(J518,'Information Page'!$C$24:$F$123,4,FALSE))","v":"-"},null,"0"]
[null,null,499,null,null,null,null,null,null,null,{"$f":"IF(ISERROR(VLOOKUP(J519,'Information Page'!$C$24:$F$123,2,FALSE)),\"-\",VLOOKUP(J519,'Information Page'!$C$24:$F$123,2,FALSE))","v":"-"},{"$f":"IF(ISERROR(VLOOKUP(J519,'Information Page'!$C$24:$F$123,3,FALSE)),\"-\",VLOOKUP(J519,'Information Page'!$C$24:$F$123,3,FALSE))","v":"-"},{"$f":"IF(ISERROR(VLOOKUP(J519,'Information Page'!$C$24:$F$123,4,FALSE)),\"-\",VLOOKUP(J519,'Information Page'!$C$24:$F$123,4,FALSE))","v":"-"},null,"0"]
[null,null,500,null,null,null,null,null,null,null,{"$f":"IF(ISERROR(VLOOKUP(J520,'Information Page'!$C$24:$F$123,2,FALSE)),\"-\",VLOOKUP(J520,'Information Page'!$C$24:$F$123,2,FALSE))","v":"-"},{"$f":"IF(ISERROR(VLOOKUP(J520,'Information Page'!$C$24:$F$123,3,FALSE)),\"-\",VLOOKUP(J520,'Information Page'!$C$24:$F$123,3,FALSE))","v":"-"},{"$f":"IF(ISERROR(VLOOKUP(J520,'Information Page'!$C$24:$F$123,4,FALSE)),\"-\",VLOOKUP(J520,'Information Page'!$C$24:$F$123,4,FALSE))","v":"-"},null,"0",null,null,null,null,null,null,null,null,null,null,null,null,null,null,null,null,null,null,null,null,null,null,null,null,null,null,null,null,null,null,null,null,null,null,null,null,null,null,null,null,null,null,null,null,null,null,null,null,null,null,null,null,null,null,null,null,null,null,null,null,null,null,null,null,null,null,null,null,null,null,null,null,null,null,null,null,null,null,null,null,null,null,null,null,null,null,null,null,null,null,null,null,null,null,null,null,null,null,null,null,null,null,null,null,null,null,null,null,null,null,null,null,null,null,null,null,null,null,null,null,null,null,null,null,null,null,null,null,null,null,null,null,null,null,null,null,null,null,null,null,null,null,null,null,null,null,null,null,null,null,null,null,null,null,null,null,null,null,null,null,null,null,null,null,null,null,null,null,null,null,null,null,null,null,null,null,null,null,null,null,null,null,null,null,null,null,null,null,null,null,null,null,null,null,null,null,null,null,null,null,null,null,null,null,null,null,null,null,null,null,null,null,null,null,null,null,null,null,null,null,null,null,null,null,null,null,null,null,null,null,null,null,null,null,null,{"$f":"#REF!","v":{"$error":"#REF!"}}]
[null,null,"TOTAL",null,null,null,null,{"$f":"SUM(H21:H520)","v":0},null,null,null,null,null,{"$f":"SUM(N21:N520)","v":0},{"$f":"SUM(O21:O520)","v":0}]

{"sheet":"Input Summary","index":4,"n_rows":501,"n_cols":21,"rows_kept":501,"cut":false,"hidden":true,"merged":[]}
[{"$f":"'Interior Lighting Inventory'!C19","v":"Line item"},{"$f":"'Interior Lighting Inventory'!D19","v":"Fixture location "},{"$f":"'Interior Lighting Inventory'!E19","v":"Is the space conditioned?"},{"$f":"'Interior Lighting Inventory'!G19","v":"Space type"},{"$f":"'Interior Lighting Inventory'!H19","v":"Area of space / sqft."},{"$f":"'Interior Lighting Inventory'!I19","v":"Annual hours of operation"},{"$f":"'Interior Lighting Inventory'!J19","v":"Fixture Type as shown on lighting plan"},{"$f":"'Interior Lighting Inventory'!K19","v":"Fixture Manufacturer"},{"$f":"'Interior Lighting Inventory'!M19","v":"Wattage / Fixture"},{"$f":"'Interior Lighting Inventory'!N19","v":"Fixture Quantity"},{"$f":"'Interior Lighting Inventory'!O19","v":"Total Wattage"}]
[{"$f":"'Interior Lighting Inventory'!C21","v":1},{"$f":"'Interior Lighting Inventory'!D21","v":0},{"$f":"'Interior Lighting Inventory'!E21","v":0},{"$f":"'Interior Lighting Inventory'!G21","v":0},{"$f":"'Interior Lighting Inventory'!H21","v":0},{"$f":"'Interior Lighting Inventory'!I21","v":0},{"$f":"'Interior Lighting Inventory'!J21","v":0},{"$f":"'Interior Lighting Inventory'!K21","v":"-"},{"$f":"'Interior Lighting Inventory'!M21","v":"-"},{"$f":"'Interior Lighting Inventory'!N21","v":0},{"$f":"'Interior Lighting Inventory'!O21","v":"0"},null,null,null,null,"Row Labels","Sum of Area of space / sqft.","Sum of Wattage / fixture","Average of Annual hours of operation","Sum of Total Wattage","Sum of Fixture Quantity"]
[{"$f":"'Interior Lighting Inventory'!C22","v":2},{"$f":"'Interior Lighting Inventory'!D22","v":0},{"$f":"'Interior Lighting Inventory'!E22","v":0},{"$f":"'Interior Lighting Inventory'!G22","v":0},{"$f":"'Interior Lighting Inventory'!H22","v":0},{"$f":"'Interior Lighting Inventory'!I22","v":0},{"$f":"'Interior Lighting Inventory'!J22","v":0},{"$f":"'Interior Lighting Inventory'!K22","v":"-"},{"$f":"'Interior Lighting Inventory'!M22","v":"-"},{"$f":"'Interior Lighting Inventory'!N22","v":0},{"$f":"'Interior Lighting Inventory'!O22","v":"0"},null,null,null,null,0,0,0,0,0,0]
[{"$f":"'Interior Lighting Inventory'!C23","v":3},{"$f":"'Interior Lighting Inventory'!D23","v":0},{"$f":"'Interior Lighting Inventory'!E23","v":0},{"$f":"'Interior Lighting Inventory'!G23","v":0},{"$f":"'Interior Lighting Inventory'!H23","v":0},{"$f":"'Interior Lighting Inventory'!I23","v":0},{"$f":"'Interior Lighting Inventory'!J23","v":0},{"$f":"'Interior Lighting Inventory'!K23","v":"-"},{"$f":"'Interior Lighting Inventory'!M23","v":"-"},{"$f":"'Interior Lighting Inventory'!N23","v":0},{"$f":"'Interior Lighting Inventory'!O23","v":"0"},null,null,null,null,"Grand Total",0,0,0,0,0]
[{"$f":"'Interior Lighting Inventory'!C24","v":4},{"$f":"'Interior Lighting Inventory'!D24","v":0},{"$f":"'Interior Lighting Inventory'!E24","v":0},{"$f":"'Interior Lighting Inventory'!G24","v":0},{"$f":"'Interior Lighting Inventory'!H24","v":0},{"$f":"'Interior Lighting Inventory'!I24","v":0},{"$f":"'Interior Lighting Inventory'!J24","v":0},{"$f":"'Interior Lighting Inventory'!K24","v":"-"},{"$f":"'Interior Lighting Inventory'!M24","v":"-"},{"$f":"'Interior Lighting Inventory'!N24","v":0},{"$f":"'Interior Lighting Inventory'!O24","v":"0"}]
[{"$f":"'Interior Lighting Inventory'!C25","v":5},{"$f":"'Interior Lighting Inventory'!D25","v":0},{"$f":"'Interior Lighting Inventory'!E25","v":0},{"$f":"'Interior Lighting Inventory'!G25","v":0},{"$f":"'Interior Lighting Inventory'!H25","v":0},{"$f":"'Interior Lighting Inventory'!I25","v":0},{"$f":"'Interior Lighting Inventory'!J25","v":0},{"$f":"'Interior Lighting Inventory'!K25","v":"-"},{"$f":"'Interior Lighting Inventory'!M25","v":"-"},{"$f":"'Interior Lighting Inventory'!N25","v":0},{"$f":"'Interior Lighting Inventory'!O25","v":"0"}]
[{"$f":"'Interior Lighting Inventory'!C26","v":6},{"$f":"'Interior Lighting Inventory'!D26","v":0},{"$f":"'Interior Lighting Inventory'!E26","v":0},{"$f":"'Interior Lighting Inventory'!G26","v":0},{"$f":"'Interior Lighting Inventory'!H26","v":0},{"$f":"'Interior Lighting Inventory'!I26","v":0},{"$f":"'Interior Lighting Inventory'!J26","v":0},{"$f":"'Interior Lighting Inventory'!K26","v":"-"},{"$f":"'Interior Lighting Inventory'!M26","v":"-"},{"$f":"'Interior Lighting Inventory'!N26","v":0},{"$f":"'Interior Lighting Inventory'!O26","v":"0"}]
[{"$f":"'Interior Lighting Inventory'!C27","v":7},{"$f":"'Interior Lighting Inventory'!D27","v":0},{"$f":"'Interior Lighting Inventory'!E27","v":0},{"$f":"'Interior Lighting Inventory'!G27","v":0},{"$f":"'Interior Lighting Inventory'!H27","v":0},{"$f":"'Interior Lighting Inventory'!I27","v":0},{"$f":"'Interior Lighting Inventory'!J27","v":0},{"$f":"'Interior Lighting Inventory'!K27","v":"-"},{"$f":"'Interior Lighting Inventory'!M27","v":"-"},{"$f":"'Interior Lighting Inventory'!N27","v":0},{"$f":"'Interior Lighting Inventory'!O27","v":"0"}]
[{"$f":"'Interior Lighting Inventory'!C28","v":8},{"$f":"'Interior Lighting Inventory'!D28","v":0},{"$f":"'Interior Lighting Inventory'!E28","v":0},{"$f":"'Interior Lighting Inventory'!G28","v":0},{"$f":"'Interior Lighting Inventory'!H28","v":0},{"$f":"'Interior Lighting Inventory'!I28","v":0},{"$f":"'Interior Lighting Inventory'!J28","v":0},{"$f":"'Interior Lighting Inventory'!K28","v":"-"},{"$f":"'Interior Lighting Inventory'!M28","v":"-"},{"$f":"'Interior Lighting Inventory'!N28","v":0},{"$f":"'Interior Lighting Inventory'!O28","v":"0"}]
[{"$f":"'Interior Lighting Inventory'!C29","v":9},{"$f":"'Interior Lighting Inventory'!D29","v":0},{"$f":"'Interior Lighting Inventory'!E29","v":0},{"$f":"'Interior Lighting Inventory'!G29","v":0},{"$f":"'Interior Lighting Inventory'!H29","v":0},{"$f":"'Interior Lighting Inventory'!I29","v":0},{"$f":"'Interior Lighting Inventory'!J29","v":0},{"$f":"'Interior Lighting Inventory'!K29","v":"-"},{"$f":"'Interior Lighting Inventory'!M29","v":"-"},{"$f":"'Interior Lighting Inventory'!N29","v":0},{"$f":"'Interior Lighting Inventory'!O29","v":"0"}]
[{"$f":"'Interior Lighting Inventory'!C30","v":10},{"$f":"'Interior Lighting Inventory'!D30","v":0},{"$f":"'Interior Lighting Inventory'!E30","v":0},{"$f":"'Interior Lighting Inventory'!G30","v":0},{"$f":"'Interior Lighting Inventory'!H30","v":0},{"$f":"'Interior Lighting Inventory'!I30","v":0},{"$f":"'Interior Lighting Inventory'!J30","v":0},{"$f":"'Interior Lighting Inventory'!K30","v":"-"},{"$f":"'Interior Lighting Inventory'!M30","v":"-"},{"$f":"'Interior Lighting Inventory'!N30","v":0},{"$f":"'Interior Lighting Inventory'!O30","v":"0"}]
[{"$f":"'Interior Lighting Inventory'!C31","v":11},{"$f":"'Interior Lighting Inventory'!D31","v":0},{"$f":"'Interior Lighting Inventory'!E31","v":0},{"$f":"'Interior Lighting Inventory'!G31","v":0},{"$f":"'Interior Lighting Inventory'!H31","v":0},{"$f":"'Interior Lighting Inventory'!I31","v":0},{"$f":"'Interior Lighting Inventory'!J31","v":0},{"$f":"'Interior Lighting Inventory'!K31","v":"-"},{"$f":"'Interior Lighting Inventory'!M31","v":"-"},{"$f":"'Interior Lighting Inventory'!N31","v":0},{"$f":"'Interior Lighting Inventory'!O31","v":"0"}]
[{"$f":"'Interior Lighting Inventory'!C32","v":12},{"$f":"'Interior Lighting Inventory'!D32","v":0},{"$f":"'Interior Lighting Inventory'!E32","v":0},{"$f":"'Interior Lighting Inventory'!G32","v":0},{"$f":"'Interior Lighting Inventory'!H32","v":0},{"$f":"'Interior Lighting Inventory'!I32","v":0},{"$f":"'Interior Lighting Inventory'!J32","v":0},{"$f":"'Interior Lighting Inventory'!K32","v":"-"},{"$f":"'Interior Lighting Inventory'!M32","v":"-"},{"$f":"'Interior Lighting Inventory'!N32","v":0},{"$f":"'Interior Lighting Inventory'!O32","v":"0"}]
[{"$f":"'Interior Lighting Inventory'!C33","v":13},{"$f":"'Interior Lighting Inventory'!D33","v":0},{"$f":"'Interior Lighting Inventory'!E33","v":0},{"$f":"'Interior Lighting Inventory'!G33","v":0},{"$f":"'Interior Lighting Inventory'!H33","v":0},{"$f":"'Interior Lighting Inventory'!I33","v":0},{"$f":"'Interior Lighting Inventory'!J33","v":0},{"$f":"'Interior Lighting Inventory'!K33","v":"-"},{"$f":"'Interior Lighting Inventory'!M33","v":"-"},{"$f":"'Interior Lighting Inventory'!N33","v":0},{"$f":"'Interior Lighting Inventory'!O33","v":"0"}]
[{"$f":"'Interior Lighting Inventory'!C34","v":14},{"$f":"'Interior Lighting Inventory'!D34","v":0},{"$f":"'Interior Lighting Inventory'!E34","v":0},{"$f":"'Interior Lighting Inventory'!G34","v":0},{"$f":"'Interior Lighting Inventory'!H34","v":0},{"$f":"'Interior Lighting Inventory'!I34","v":0},{"$f":"'Interior Lighting Inventory'!J34","v":0},{"$f":"'Interior Lighting Inventory'!K34","v":"-"},{"$f":"'Interior Lighting Inventory'!M34","v":"-"},{"$f":"'Interior Lighting Inventory'!N34","v":0},{"$f":"'Interior Lighting Inventory'!O34","v":"0"}]
[{"$f":"'Interior Lighting Inventory'!C35","v":15},{"$f":"'Interior Lighting Inventory'!D35","v":0},{"$f":"'Interior Lighting Inventory'!E35","v":0},{"$f":"'Interior Lighting Inventory'!G35","v":0},{"$f":"'Interior Lighting Inventory'!H35","v":0},{"$f":"'Interior Lighting Inventory'!I35","v":0},{"$f":"'Interior Lighting Inventory'!J35","v":0},{"$f":"'Interior Lighting Inventory'!K35","v":"-"},{"$f":"'Interior Lighting Inventory'!M35","v":"-"},{"$f":"'Interior Lighting Inventory'!N35","v":0},{"$f":"'Interior Lighting Inventory'!O35","v":"0"}]
[{"$f":"'Interior Lighting Inventory'!C36","v":16},{"$f":"'Interior Lighting Inventory'!D36","v":0},{"$f":"'Interior Lighting Inventory'!E36","v":0},{"$f":"'Interior Lighting Inventory'!G36","v":0},{"$f":"'Interior Lighting Inventory'!H36","v":0},{"$f":"'Interior Lighting Inventory'!I36","v":0},{"$f":"'Interior Lighting Inventory'!J36","v":0},{"$f":"'Interior Lighting Inventory'!K36","v":"-"},{"$f":"'Interior Lighting Inventory'!M36","v":"-"},{"$f":"'Interior Lighting Inventory'!N36","v":0},{"$f":"'Interior Lighting Inventory'!O36","v":"0"}]
[{"$f":"'Interior Lighting Inventory'!C37","v":17},{"$f":"'Interior Lighting Inventory'!D37","v":0},{"$f":"'Interior Lighting Inventory'!E37","v":0},{"$f":"'Interior Lighting Inventory'!G37","v":0},{"$f":"'Interior Lighting Inventory'!H37","v":0},{"$f":"'Interior Lighting Inventory'!I37","v":0},{"$f":"'Interior Lighting Inventory'!J37","v":0},{"$f":"'Interior Lighting Inventory'!K37","v":"-"},{"$f":"'Interior Lighting Inventory'!M37","v":"-"},{"$f":"'Interior Lighting Inventory'!N37","v":0},{"$f":"'Interior Lighting Inventory'!O37","v":"0"}]
[{"$f":"'Interior Lighting Inventory'!C38","v":18},{"$f":"'Interior Lighting Inventory'!D38","v":0},{"$f":"'Interior Lighting Inventory'!E38","v":0},{"$f":"'Interior Lighting Inventory'!G38","v":0},{"$f":"'Interior Lighting Inventory'!H38","v":0},{"$f":"'Interior Lighting Inventory'!I38","v":0},{"$f":"'Interior Lighting Inventory'!J38","v":0},{"$f":"'Interior Lighting Inventory'!K38","v":"-"},{"$f":"'Interior Lighting Inventory'!M38","v":"-"},{"$f":"'Interior Lighting Inventory'!N38","v":0},{"$f":"'Interior Lighting Inventory'!O38","v":"0"}]
[{"$f":"'Interior Lighting Inventory'!C39","v":19},{"$f":"'Interior Lighting Inventory'!D39","v":0},{"$f":"'Interior Lighting Inventory'!E39","v":0},{"$f":"'Interior Lighting Inventory'!G39","v":0},{"$f":"'Interior Lighting Inventory'!H39","v":0},{"$f":"'Interior Lighting Inventory'!I39","v":0},{"$f":"'Interior Lighting Inventory'!J39","v":0},{"$f":"'Interior Lighting Inventory'!K39","v":"-"},{"$f":"'Interior Lighting Inventory'!M39","v":"-"},{"$f":"'Interior Lighting Inventory'!N39","v":0},{"$f":"'Interior Lighting Inventory'!O39","v":"0"}]
[{"$f":"'Interior Lighting Inventory'!C40","v":20},{"$f":"'Interior Lighting Inventory'!D40","v":0},{"$f":"'Interior Lighting Inventory'!E40","v":0},{"$f":"'Interior Lighting Inventory'!G40","v":0},{"$f":"'Interior Lighting Inventory'!H40","v":0},{"$f":"'Interior Lighting Inventory'!I40","v":0},{"$f":"'Interior Lighting Inventory'!J40","v":0},{"$f":"'Interior Lighting Inventory'!K40","v":"-"},{"$f":"'Interior Lighting Inventory'!M40","v":"-"},{"$f":"'Interior Lighting Inventory'!N40","v":0},{"$f":"'Interior Lighting Inventory'!O40","v":"0"}]
[{"$f":"'Interior Lighting Inventory'!C41","v":21},{"$f":"'Interior Lighting Inventory'!D41","v":0},{"$f":"'Interior Lighting Inventory'!E41","v":0},{"$f":"'Interior Lighting Inventory'!G41","v":0},{"$f":"'Interior Lighting Inventory'!H41","v":0},{"$f":"'Interior Lighting Inventory'!I41","v":0},{"$f":"'Interior Lighting Inventory'!J41","v":0},{"$f":"'Interior Lighting Inventory'!K41","v":"-"},{"$f":"'Interior Lighting Inventory'!M41","v":"-"},{"$f":"'Interior Lighting Inventory'!N41","v":0},{"$f":"'Interior Lighting Inventory'!O41","v":"0"}]
[{"$f":"'Interior Lighting Inventory'!C42","v":22},{"$f":"'Interior Lighting Inventory'!D42","v":0},{"$f":"'Interior Lighting Inventory'!E42","v":0},{"$f":"'Interior Lighting Inventory'!G42","v":0},{"$f":"'Interior Lighting Inventory'!H42","v":0},{"$f":"'Interior Lighting Inventory'!I42","v":0},{"$f":"'Interior Lighting Inventory'!J42","v":0},{"$f":"'Interior Lighting Inventory'!K42","v":"-"},{"$f":"'Interior Lighting Inventory'!M42","v":"-"},{"$f":"'Interior Lighting Inventory'!N42","v":0},{"$f":"'Interior Lighting Inventory'!O42","v":"0"}]
[{"$f":"'Interior Lighting Inventory'!C43","v":23},{"$f":"'Interior Lighting Inventory'!D43","v":0},{"$f":"'Interior Lighting Inventory'!E43","v":0},{"$f":"'Interior Lighting Inventory'!G43","v":0},{"$f":"'Interior Lighting Inventory'!H43","v":0},{"$f":"'Interior Lighting Inventory'!I43","v":0},{"$f":"'Interior Lighting Inventory'!J43","v":0},{"$f":"'Interior Lighting Inventory'!K43","v":"-"},{"$f":"'Interior Lighting Inventory'!M43","v":"-"},{"$f":"'Interior Lighting Inventory'!N43","v":0},{"$f":"'Interior Lighting Inventory'!O43","v":"0"}]
[{"$f":"'Interior Lighting Inventory'!C44","v":24},{"$f":"'Interior Lighting Inventory'!D44","v":0},{"$f":"'Interior Lighting Inventory'!E44","v":0},{"$f":"'Interior Lighting Inventory'!G44","v":0},{"$f":"'Interior Lighting Inventory'!H44","v":0},{"$f":"'Interior Lighting Inventory'!I44","v":0},{"$f":"'Interior Lighting Inventory'!J44","v":0},{"$f":"'Interior Lighting Inventory'!K44","v":"-"},{"$f":"'Interior Lighting Inventory'!M44","v":"-"},{"$f":"'Interior Lighting Inventory'!N44","v":0},{"$f":"'Interior Lighting Inventory'!O44","v":"0"}]
[{"$f":"'Interior Lighting Inventory'!C45","v":25},{"$f":"'Interior Lighting Inventory'!D45","v":0},{"$f":"'Interior Lighting Inventory'!E45","v":0},{"$f":"'Interior Lighting Inventory'!G45","v":0},{"$f":"'Interior Lighting Inventory'!H45","v":0},{"$f":"'Interior Lighting Inventory'!I45","v":0},{"$f":"'Interior Lighting Inventory'!J45","v":0},{"$f":"'Interior Lighting Inventory'!K45","v":"-"},{"$f":"'Interior Lighting Inventory'!M45","v":"-"},{"$f":"'Interior Lighting Inventory'!N45","v":0},{"$f":"'Interior Lighting Inventory'!O45","v":"0"}]
[{"$f":"'Interior Lighting Inventory'!C46","v":26},{"$f":"'Interior Lighting Inventory'!D46","v":0},{"$f":"'Interior Lighting Inventory'!E46","v":0},{"$f":"'Interior Lighting Inventory'!G46","v":0},{"$f":"'Interior Lighting Inventory'!H46","v":0},{"$f":"'Interior Lighting Inventory'!I46","v":0},{"$f":"'Interior Lighting Inventory'!J46","v":0},{"$f":"'Interior Lighting Inventory'!K46","v":"-"},{"$f":"'Interior Lighting Inventory'!M46","v":"-"},{"$f":"'Interior Lighting Inventory'!N46","v":0},{"$f":"'Interior Lighting Inventory'!O46","v":"0"}]
[{"$f":"'Interior Lighting Inventory'!C47","v":27},{"$f":"'Interior Lighting Inventory'!D47","v":0},{"$f":"'Interior Lighting Inventory'!E47","v":0},{"$f":"'Interior Lighting Inventory'!G47","v":0},{"$f":"'Interior Lighting Inventory'!H47","v":0},{"$f":"'Interior Lighting Inventory'!I47","v":0},{"$f":"'Interior Lighting Inventory'!J47","v":0},{"$f":"'Interior Lighting Inventory'!K47","v":"-"},{"$f":"'Interior Lighting Inventory'!M47","v":"-"},{"$f":"'Interior Lighting Inventory'!N47","v":0},{"$f":"'Interior Lighting Inventory'!O47","v":"0"}]
[{"$f":"'Interior Lighting Inventory'!C48","v":28},{"$f":"'Interior Lighting Inventory'!D48","v":0},{"$f":"'Interior Lighting Inventory'!E48","v":0},{"$f":"'Interior Lighting Inventory'!G48","v":0},{"$f":"'Interior Lighting Inventory'!H48","v":0},{"$f":"'Interior Lighting Inventory'!I48","v":0},{"$f":"'Interior Lighting Inventory'!J48","v":0},{"$f":"'Interior Lighting Inventory'!K48","v":"-"},{"$f":"'Interior Lighting Inventory'!M48","v":"-"},{"$f":"'Interior Lighting Inventory'!N48","v":0},{"$f":"'Interior Lighting Inventory'!O48","v":"0"}]
[{"$f":"'Interior Lighting Inventory'!C49","v":29},{"$f":"'Interior Lighting Inventory'!D49","v":0},{"$f":"'Interior Lighting Inventory'!E49","v":0},{"$f":"'Interior Lighting Inventory'!G49","v":0},{"$f":"'Interior Lighting Inventory'!H49","v":0},{"$f":"'Interior Lighting Inventory'!I49","v":0},{"$f":"'Interior Lighting Inventory'!J49","v":0},{"$f":"'Interior Lighting Inventory'!K49","v":"-"},{"$f":"'Interior Lighting Inventory'!M49","v":"-"},{"$f":"'Interior Lighting Inventory'!N49","v":0},{"$f":"'Interior Lighting Inventory'!O49","v":"0"}]
[{"$f":"'Interior Lighting Inventory'!C50","v":30},{"$f":"'Interior Lighting Inventory'!D50","v":0},{"$f":"'Interior Lighting Inventory'!E50","v":0},{"$f":"'Interior Lighting Inventory'!G50","v":0},{"$f":"'Interior Lighting Inventory'!H50","v":0},{"$f":"'Interior Lighting Inventory'!I50","v":0},{"$f":"'Interior Lighting Inventory'!J50","v":0},{"$f":"'Interior Lighting Inventory'!K50","v":"-"},{"$f":"'Interior Lighting Inventory'!M50","v":"-"},{"$f":"'Interior Lighting Inventory'!N50","v":0},{"$f":"'Interior Lighting Inventory'!O50","v":"0"}]
[{"$f":"'Interior Lighting Inventory'!C51","v":31},{"$f":"'Interior Lighting Inventory'!D51","v":0},{"$f":"'Interior Lighting Inventory'!E51","v":0},{"$f":"'Interior Lighting Inventory'!G51","v":0},{"$f":"'Interior Lighting Inventory'!H51","v":0},{"$f":"'Interior Lighting Inventory'!I51","v":0},{"$f":"'Interior Lighting Inventory'!J51","v":0},{"$f":"'Interior Lighting Inventory'!K51","v":"-"},{"$f":"'Interior Lighting Inventory'!M51","v":"-"},{"$f":"'Interior Lighting Inventory'!N51","v":0},{"$f":"'Interior Lighting Inventory'!O51","v":"0"}]
[{"$f":"'Interior Lighting Inventory'!C52","v":32},{"$f":"'Interior Lighting Inventory'!D52","v":0},{"$f":"'Interior Lighting Inventory'!E52","v":0},{"$f":"'Interior Lighting Inventory'!G52","v":0},{"$f":"'Interior Lighting Inventory'!H52","v":0},{"$f":"'Interior Lighting Inventory'!I52","v":0},{"$f":"'Interior Lighting Inventory'!J52","v":0},{"$f":"'Interior Lighting Inventory'!K52","v":"-"},{"$f":"'Interior Lighting Inventory'!M52","v":"-"},{"$f":"'Interior Lighting Inventory'!N52","v":0},{"$f":"'Interior Lighting Inventory'!O52","v":"0"}]
[{"$f":"'Interior Lighting Inventory'!C53","v":33},{"$f":"'Interior Lighting Inventory'!D53","v":0},{"$f":"'Interior Lighting Inventory'!E53","v":0},{"$f":"'Interior Lighting Inventory'!G53","v":0},{"$f":"'Interior Lighting Inventory'!H53","v":0},{"$f":"'Interior Lighting Inventory'!I53","v":0},{"$f":"'Interior Lighting Inventory'!J53","v":0},{"$f":"'Interior Lighting Inventory'!K53","v":"-"},{"$f":"'Interior Lighting Inventory'!M53","v":"-"},{"$f":"'Interior Lighting Inventory'!N53","v":0},{"$f":"'Interior Lighting Inventory'!O53","v":"0"}]
[{"$f":"'Interior Lighting Inventory'!C54","v":34},{"$f":"'Interior Lighting Inventory'!D54","v":0},{"$f":"'Interior Lighting Inventory'!E54","v":0},{"$f":"'Interior Lighting Inventory'!G54","v":0},{"$f":"'Interior Lighting Inventory'!H54","v":0},{"$f":"'Interior Lighting Inventory'!I54","v":0},{"$f":"'Interior Lighting Inventory'!J54","v":0},{"$f":"'Interior Lighting Inventory'!K54","v":"-"},{"$f":"'Interior Lighting Inventory'!M54","v":"-"},{"$f":"'Interior Lighting Inventory'!N54","v":0},{"$f":"'Interior Lighting Inventory'!O54","v":"0"}]
[{"$f":"'Interior Lighting Inventory'!C55","v":35},{"$f":"'Interior Lighting Inventory'!D55","v":0},{"$f":"'Interior Lighting Inventory'!E55","v":0},{"$f":"'Interior Lighting Inventory'!G55","v":0},{"$f":"'Interior Lighting Inventory'!H55","v":0},{"$f":"'Interior Lighting Inventory'!I55","v":0},{"$f":"'Interior Lighting Inventory'!J55","v":0},{"$f":"'Interior Lighting Inventory'!K55","v":"-"},{"$f":"'Interior Lighting Inventory'!M55","v":"-"},{"$f":"'Interior Lighting Inventory'!N55","v":0},{"$f":"'Interior Lighting Inventory'!O55","v":"0"}]
[{"$f":"'Interior Lighting Inventory'!C56","v":36},{"$f":"'Interior Lighting Inventory'!D56","v":0},{"$f":"'Interior Lighting Inventory'!E56","v":0},{"$f":"'Interior Lighting Inventory'!G56","v":0},{"$f":"'Interior Lighting Inventory'!H56","v":0},{"$f":"'Interior Lighting Inventory'!I56","v":0},{"$f":"'Interior Lighting Inventory'!J56","v":0},{"$f":"'Interior Lighting Inventory'!K56","v":"-"},{"$f":"'Interior Lighting Inventory'!M56","v":"-"},{"$f":"'Interior Lighting Inventory'!N56","v":0},{"$f":"'Interior Lighting Inventory'!O56","v":"0"}]
[{"$f":"'Interior Lighting Inventory'!C57","v":37},{"$f":"'Interior Lighting Inventory'!D57","v":0},{"$f":"'Interior Lighting Inventory'!E57","v":0},{"$f":"'Interior Lighting Inventory'!G57","v":0},{"$f":"'Interior Lighting Inventory'!H57","v":0},{"$f":"'Interior Lighting Inventory'!I57","v":0},{"$f":"'Interior Lighting Inventory'!J57","v":0},{"$f":"'Interior Lighting Inventory'!K57","v":"-"},{"$f":"'Interior Lighting Inventory'!M57","v":"-"},{"$f":"'Interior Lighting Inventory'!N57","v":0},{"$f":"'Interior Lighting Inventory'!O57","v":"0"}]
[{"$f":"'Interior Lighting Inventory'!C58","v":38},{"$f":"'Interior Lighting Inventory'!D58","v":0},{"$f":"'Interior Lighting Inventory'!E58","v":0},{"$f":"'Interior Lighting Inventory'!G58","v":0},{"$f":"'Interior Lighting Inventory'!H58","v":0},{"$f":"'Interior Lighting Inventory'!I58","v":0},{"$f":"'Interior Lighting Inventory'!J58","v":0},{"$f":"'Interior Lighting Inventory'!K58","v":"-"},{"$f":"'Interior Lighting Inventory'!M58","v":"-"},{"$f":"'Interior Lighting Inventory'!N58","v":0},{"$f":"'Interior Lighting Inventory'!O58","v":"0"}]
[{"$f":"'Interior Lighting Inventory'!C59","v":39},{"$f":"'Interior Lighting Inventory'!D59","v":0},{"$f":"'Interior Lighting Inventory'!E59","v":0},{"$f":"'Interior Lighting Inventory'!G59","v":0},{"$f":"'Interior Lighting Inventory'!H59","v":0},{"$f":"'Interior Lighting Inventory'!I59","v":0},{"$f":"'Interior Lighting Inventory'!J59","v":0},{"$f":"'Interior Lighting Inventory'!K59","v":"-"},{"$f":"'Interior Lighting Inventory'!M59","v":"-"},{"$f":"'Interior Lighting Inventory'!N59","v":0},{"$f":"'Interior Lighting Inventory'!O59","v":"0"}]
[{"$f":"'Interior Lighting Inventory'!C60","v":40},{"$f":"'Interior Lighting Inventory'!D60","v":0},{"$f":"'Interior Lighting Inventory'!E60","v":0},{"$f":"'Interior Lighting Inventory'!G60","v":0},{"$f":"'Interior Lighting Inventory'!H60","v":0},{"$f":"'Interior Lighting Inventory'!I60","v":0},{"$f":"'Interior Lighting Inventory'!J60","v":0},{"$f":"'Interior Lighting Inventory'!K60","v":"-"},{"$f":"'Interior Lighting Inventory'!M60","v":"-"},{"$f":"'Interior Lighting Inventory'!N60","v":0},{"$f":"'Interior Lighting Inventory'!O60","v":"0"}]
[{"$f":"'Interior Lighting Inventory'!C61","v":41},{"$f":"'Interior Lighting Inventory'!D61","v":0},{"$f":"'Interior Lighting Inventory'!E61","v":0},{"$f":"'Interior Lighting Inventory'!G61","v":0},{"$f":"'Interior Lighting Inventory'!H61","v":0},{"$f":"'Interior Lighting Inventory'!I61","v":0},{"$f":"'Interior Lighting Inventory'!J61","v":0},{"$f":"'Interior Lighting Inventory'!K61","v":"-"},{"$f":"'Interior Lighting Inventory'!M61","v":"-"},{"$f":"'Interior Lighting Inventory'!N61","v":0},{"$f":"'Interior Lighting Inventory'!O61","v":"0"}]
[{"$f":"'Interior Lighting Inventory'!C62","v":42},{"$f":"'Interior Lighting Inventory'!D62","v":0},{"$f":"'Interior Lighting Inventory'!E62","v":0},{"$f":"'Interior Lighting Inventory'!G62","v":0},{"$f":"'Interior Lighting Inventory'!H62","v":0},{"$f":"'Interior Lighting Inventory'!I62","v":0},{"$f":"'Interior Lighting Inventory'!J62","v":0},{"$f":"'Interior Lighting Inventory'!K62","v":"-"},{"$f":"'Interior Lighting Inventory'!M62","v":"-"},{"$f":"'Interior Lighting Inventory'!N62","v":0},{"$f":"'Interior Lighting Inventory'!O62","v":"0"}]
[{"$f":"'Interior Lighting Inventory'!C63","v":43},{"$f":"'Interior Lighting Inventory'!D63","v":0},{"$f":"'Interior Lighting Inventory'!E63","v":0},{"$f":"'Interior Lighting Inventory'!G63","v":0},{"$f":"'Interior Lighting Inventory'!H63","v":0},{"$f":"'Interior Lighting Inventory'!I63","v":0},{"$f":"'Interior Lighting Inventory'!J63","v":0},{"$f":"'Interior Lighting Inventory'!K63","v":"-"},{"$f":"'Interior Lighting Inventory'!M63","v":"-"},{"$f":"'Interior Lighting Inventory'!N63","v":0},{"$f":"'Interior Lighting Inventory'!O63","v":"0"}]
[{"$f":"'Interior Lighting Inventory'!C64","v":44},{"$f":"'Interior Lighting Inventory'!D64","v":0},{"$f":"'Interior Lighting Inventory'!E64","v":0},{"$f":"'Interior Lighting Inventory'!G64","v":0},{"$f":"'Interior Lighting Inventory'!H64","v":0},{"$f":"'Interior Lighting Inventory'!I64","v":0},{"$f":"'Interior Lighting Inventory'!J64","v":0},{"$f":"'Interior Lighting Inventory'!K64","v":"-"},{"$f":"'Interior Lighting Inventory'!M64","v":"-"},{"$f":"'Interior Lighting Inventory'!N64","v":0},{"$f":"'Interior Lighting Inventory'!O64","v":"0"}]
[{"$f":"'Interior Lighting Inventory'!C65","v":45},{"$f":"'Interior Lighting Inventory'!D65","v":0},{"$f":"'Interior Lighting Inventory'!E65","v":0},{"$f":"'Interior Lighting Inventory'!G65","v":0},{"$f":"'Interior Lighting Inventory'!H65","v":0},{"$f":"'Interior Lighting Inventory'!I65","v":0},{"$f":"'Interior Lighting Inventory'!J65","v":0},{"$f":"'Interior Lighting Inventory'!K65","v":"-"},{"$f":"'Interior Lighting Inventory'!M65","v":"-"},{"$f":"'Interior Lighting Inventory'!N65","v":0},{"$f":"'Interior Lighting Inventory'!O65","v":"0"}]
[{"$f":"'Interior Lighting Inventory'!C66","v":46},{"$f":"'Interior Lighting Inventory'!D66","v":0},{"$f":"'Interior Lighting Inventory'!E66","v":0},{"$f":"'Interior Lighting Inventory'!G66","v":0},{"$f":"'Interior Lighting Inventory'!H66","v":0},{"$f":"'Interior Lighting Inventory'!I66","v":0},{"$f":"'Interior Lighting Inventory'!J66","v":0},{"$f":"'Interior Lighting Inventory'!K66","v":"-"},{"$f":"'Interior Lighting Inventory'!M66","v":"-"},{"$f":"'Interior Lighting Inventory'!N66","v":0},{"$f":"'Interior Lighting Inventory'!O66","v":"0"}]
[{"$f":"'Interior Lighting Inventory'!C67","v":47},{"$f":"'Interior Lighting Inventory'!D67","v":0},{"$f":"'Interior Lighting Inventory'!E67","v":0},{"$f":"'Interior Lighting Inventory'!G67","v":0},{"$f":"'Interior Lighting Inventory'!H67","v":0},{"$f":"'Interior Lighting Inventory'!I67","v":0},{"$f":"'Interior Lighting Inventory'!J67","v":0},{"$f":"'Interior Lighting Inventory'!K67","v":"-"},{"$f":"'Interior Lighting Inventory'!M67","v":"-"},{"$f":"'Interior Lighting Inventory'!N67","v":0},{"$f":"'Interior Lighting Inventory'!O67","v":"0"}]
[{"$f":"'Interior Lighting Inventory'!C68","v":48},{"$f":"'Interior Lighting Inventory'!D68","v":0},{"$f":"'Interior Lighting Inventory'!E68","v":0},{"$f":"'Interior Lighting Inventory'!G68","v":0},{"$f":"'Interior Lighting Inventory'!H68","v":0},{"$f":"'Interior Lighting Inventory'!I68","v":0},{"$f":"'Interior Lighting Inventory'!J68","v":0},{"$f":"'Interior Lighting Inventory'!K68","v":"-"},{"$f":"'Interior Lighting Inventory'!M68","v":"-"},{"$f":"'Interior Lighting Inventory'!N68","v":0},{"$f":"'Interior Lighting Inventory'!O68","v":"0"}]
[{"$f":"'Interior Lighting Inventory'!C69","v":49},{"$f":"'Interior Lighting Inventory'!D69","v":0},{"$f":"'Interior Lighting Inventory'!E69","v":0},{"$f":"'Interior Lighting Inventory'!G69","v":0},{"$f":"'Interior Lighting Inventory'!H69","v":0},{"$f":"'Interior Lighting Inventory'!I69","v":0},{"$f":"'Interior Lighting Inventory'!J69","v":0},{"$f":"'Interior Lighting Inventory'!K69","v":"-"},{"$f":"'Interior Lighting Inventory'!M69","v":"-"},{"$f":"'Interior Lighting Inventory'!N69","v":0},{"$f":"'Interior Lighting Inventory'!O69","v":"0"}]
[{"$f":"'Interior Lighting Inventory'!C70","v":50},{"$f":"'Interior Lighting Inventory'!D70","v":0},{"$f":"'Interior Lighting Inventory'!E70","v":0},{"$f":"'Interior Lighting Inventory'!G70","v":0},{"$f":"'Interior Lighting Inventory'!H70","v":0},{"$f":"'Interior Lighting Inventory'!I70","v":0},{"$f":"'Interior Lighting Inventory'!J70","v":0},{"$f":"'Interior Lighting Inventory'!K70","v":"-"},{"$f":"'Interior Lighting Inventory'!M70","v":"-"},{"$f":"'Interior Lighting Inventory'!N70","v":0},{"$f":"'Interior Lighting Inventory'!O70","v":"0"}]
[{"$f":"'Interior Lighting Inventory'!C71","v":51},{"$f":"'Interior Lighting Inventory'!D71","v":0},{"$f":"'Interior Lighting Inventory'!E71","v":0},{"$f":"'Interior Lighting Inventory'!G71","v":0},{"$f":"'Interior Lighting Inventory'!H71","v":0},{"$f":"'Interior Lighting Inventory'!I71","v":0},{"$f":"'Interior Lighting Inventory'!J71","v":0},{"$f":"'Interior Lighting Inventory'!K71","v":"-"},{"$f":"'Interior Lighting Inventory'!M71","v":"-"},{"$f":"'Interior Lighting Inventory'!N71","v":0},{"$f":"'Interior Lighting Inventory'!O71","v":"0"}]
[{"$f":"'Interior Lighting Inventory'!C72","v":52},{"$f":"'Interior Lighting Inventory'!D72","v":0},{"$f":"'Interior Lighting Inventory'!E72","v":0},{"$f":"'Interior Lighting Inventory'!G72","v":0},{"$f":"'Interior Lighting Inventory'!H72","v":0},{"$f":"'Interior Lighting Inventory'!I72","v":0},{"$f":"'Interior Lighting Inventory'!J72","v":0},{"$f":"'Interior Lighting Inventory'!K72","v":"-"},{"$f":"'Interior Lighting Inventory'!M72","v":"-"},{"$f":"'Interior Lighting Inventory'!N72","v":0},{"$f":"'Interior Lighting Inventory'!O72","v":"0"}]
[{"$f":"'Interior Lighting Inventory'!C73","v":53},{"$f":"'Interior Lighting Inventory'!D73","v":0},{"$f":"'Interior Lighting Inventory'!E73","v":0},{"$f":"'Interior Lighting Inventory'!G73","v":0},{"$f":"'Interior Lighting Inventory'!H73","v":0},{"$f":"'Interior Lighting Inventory'!I73","v":0},{"$f":"'Interior Lighting Inventory'!J73","v":0},{"$f":"'Interior Lighting Inventory'!K73","v":"-"},{"$f":"'Interior Lighting Inventory'!M73","v":"-"},{"$f":"'Interior Lighting Inventory'!N73","v":0},{"$f":"'Interior Lighting Inventory'!O73","v":"0"}]
[{"$f":"'Interior Lighting Inventory'!C74","v":54},{"$f":"'Interior Lighting Inventory'!D74","v":0},{"$f":"'Interior Lighting Inventory'!E74","v":0},{"$f":"'Interior Lighting Inventory'!G74","v":0},{"$f":"'Interior Lighting Inventory'!H74","v":0},{"$f":"'Interior Lighting Inventory'!I74","v":0},{"$f":"'Interior Lighting Inventory'!J74","v":0},{"$f":"'Interior Lighting Inventory'!K74","v":"-"},{"$f":"'Interior Lighting Inventory'!M74","v":"-"},{"$f":"'Interior Lighting Inventory'!N74","v":0},{"$f":"'Interior Lighting Inventory'!O74","v":"0"}]
[{"$f":"'Interior Lighting Inventory'!C75","v":55},{"$f":"'Interior Lighting Inventory'!D75","v":0},{"$f":"'Interior Lighting Inventory'!E75","v":0},{"$f":"'Interior Lighting Inventory'!G75","v":0},{"$f":"'Interior Lighting Inventory'!H75","v":0},{"$f":"'Interior Lighting Inventory'!I75","v":0},{"$f":"'Interior Lighting Inventory'!J75","v":0},{"$f":"'Interior Lighting Inventory'!K75","v":"-"},{"$f":"'Interior Lighting Inventory'!M75","v":"-"},{"$f":"'Interior Lighting Inventory'!N75","v":0},{"$f":"'Interior Lighting Inventory'!O75","v":"0"}]
[{"$f":"'Interior Lighting Inventory'!C76","v":56},{"$f":"'Interior Lighting Inventory'!D76","v":0},{"$f":"'Interior Lighting Inventory'!E76","v":0},{"$f":"'Interior Lighting Inventory'!G76","v":0},{"$f":"'Interior Lighting Inventory'!H76","v":0},{"$f":"'Interior Lighting Inventory'!I76","v":0},{"$f":"'Interior Lighting Inventory'!J76","v":0},{"$f":"'Interior Lighting Inventory'!K76","v":"-"},{"$f":"'Interior Lighting Inventory'!M76","v":"-"},{"$f":"'Interior Lighting Inventory'!N76","v":0},{"$f":"'Interior Lighting Inventory'!O76","v":"0"}]
[{"$f":"'Interior Lighting Inventory'!C77","v":57},{"$f":"'Interior Lighting Inventory'!D77","v":0},{"$f":"'Interior Lighting Inventory'!E77","v":0},{"$f":"'Interior Lighting Inventory'!G77","v":0},{"$f":"'Interior Lighting Inventory'!H77","v":0},{"$f":"'Interior Lighting Inventory'!I77","v":0},{"$f":"'Interior Lighting Inventory'!J77","v":0},{"$f":"'Interior Lighting Inventory'!K77","v":"-"},{"$f":"'Interior Lighting Inventory'!M77","v":"-"},{"$f":"'Interior Lighting Inventory'!N77","v":0},{"$f":"'Interior Lighting Inventory'!O77","v":"0"}]
[{"$f":"'Interior Lighting Inventory'!C78","v":58},{"$f":"'Interior Lighting Inventory'!D78","v":0},{"$f":"'Interior Lighting Inventory'!E78","v":0},{"$f":"'Interior Lighting Inventory'!G78","v":0},{"$f":"'Interior Lighting Inventory'!H78","v":0},{"$f":"'Interior Lighting Inventory'!I78","v":0},{"$f":"'Interior Lighting Inventory'!J78","v":0},{"$f":"'Interior Lighting Inventory'!K78","v":"-"},{"$f":"'Interior Lighting Inventory'!M78","v":"-"},{"$f":"'Interior Lighting Inventory'!N78","v":0},{"$f":"'Interior Lighting Inventory'!O78","v":"0"}]
[{"$f":"'Interior Lighting Inventory'!C79","v":59},{"$f":"'Interior Lighting Inventory'!D79","v":0},{"$f":"'Interior Lighting Inventory'!E79","v":0},{"$f":"'Interior Lighting Inventory'!G79","v":0},{"$f":"'Interior Lighting Inventory'!H79","v":0},{"$f":"'Interior Lighting Inventory'!I79","v":0},{"$f":"'Interior Lighting Inventory'!J79","v":0},{"$f":"'Interior Lighting Inventory'!K79","v":"-"},{"$f":"'Interior Lighting Inventory'!M79","v":"-"},{"$f":"'Interior Lighting Inventory'!N79","v":0},{"$f":"'Interior Lighting Inventory'!O79","v":"0"}]
[{"$f":"'Interior Lighting Inventory'!C80","v":60},{"$f":"'Interior Lighting Inventory'!D80","v":0},{"$f":"'Interior Lighting Inventory'!E80","v":0},{"$f":"'Interior Lighting Inventory'!G80","v":0},{"$f":"'Interior Lighting Inventory'!H80","v":0},{"$f":"'Interior Lighting Inventory'!I80","v":0},{"$f":"'Interior Lighting Inventory'!J80","v":0},{"$f":"'Interior Lighting Inventory'!K80","v":"-"},{"$f":"'Interior Lighting Inventory'!M80","v":"-"},{"$f":"'Interior Lighting Inventory'!N80","v":0},{"$f":"'Interior Lighting Inventory'!O80","v":"0"}]
[{"$f":"'Interior Lighting Inventory'!C81","v":61},{"$f":"'Interior Lighting Inventory'!D81","v":0},{"$f":"'Interior Lighting Inventory'!E81","v":0},{"$f":"'Interior Lighting Inventory'!G81","v":0},{"$f":"'Interior Lighting Inventory'!H81","v":0},{"$f":"'Interior Lighting Inventory'!I81","v":0},{"$f":"'Interior Lighting Inventory'!J81","v":0},{"$f":"'Interior Lighting Inventory'!K81","v":"-"},{"$f":"'Interior Lighting Inventory'!M81","v":"-"},{"$f":"'Interior Lighting Inventory'!N81","v":0},{"$f":"'Interior Lighting Inventory'!O81","v":"0"}]
[{"$f":"'Interior Lighting Inventory'!C82","v":62},{"$f":"'Interior Lighting Inventory'!D82","v":0},{"$f":"'Interior Lighting Inventory'!E82","v":0},{"$f":"'Interior Lighting Inventory'!G82","v":0},{"$f":"'Interior Lighting Inventory'!H82","v":0},{"$f":"'Interior Lighting Inventory'!I82","v":0},{"$f":"'Interior Lighting Inventory'!J82","v":0},{"$f":"'Interior Lighting Inventory'!K82","v":"-"},{"$f":"'Interior Lighting Inventory'!M82","v":"-"},{"$f":"'Interior Lighting Inventory'!N82","v":0},{"$f":"'Interior Lighting Inventory'!O82","v":"0"}]
[{"$f":"'Interior Lighting Inventory'!C83","v":63},{"$f":"'Interior Lighting Inventory'!D83","v":0},{"$f":"'Interior Lighting Inventory'!E83","v":0},{"$f":"'Interior Lighting Inventory'!G83","v":0},{"$f":"'Interior Lighting Inventory'!H83","v":0},{"$f":"'Interior Lighting Inventory'!I83","v":0},{"$f":"'Interior Lighting Inventory'!J83","v":0},{"$f":"'Interior Lighting Inventory'!K83","v":"-"},{"$f":"'Interior Lighting Inventory'!M83","v":"-"},{"$f":"'Interior Lighting Inventory'!N83","v":0},{"$f":"'Interior Lighting Inventory'!O83","v":"0"}]
[{"$f":"'Interior Lighting Inventory'!C84","v":64},{"$f":"'Interior Lighting Inventory'!D84","v":0},{"$f":"'Interior Lighting Inventory'!E84","v":0},{"$f":"'Interior Lighting Inventory'!G84","v":0},{"$f":"'Interior Lighting Inventory'!H84","v":0},{"$f":"'Interior Lighting Inventory'!I84","v":0},{"$f":"'Interior Lighting Inventory'!J84","v":0},{"$f":"'Interior Lighting Inventory'!K84","v":"-"},{"$f":"'Interior Lighting Inventory'!M84","v":"-"},{"$f":"'Interior Lighting Inventory'!N84","v":0},{"$f":"'Interior Lighting Inventory'!O84","v":"0"}]
[{"$f":"'Interior Lighting Inventory'!C85","v":65},{"$f":"'Interior Lighting Inventory'!D85","v":0},{"$f":"'Interior Lighting Inventory'!E85","v":0},{"$f":"'Interior Lighting Inventory'!G85","v":0},{"$f":"'Interior Lighting Inventory'!H85","v":0},{"$f":"'Interior Lighting Inventory'!I85","v":0},{"$f":"'Interior Lighting Inventory'!J85","v":0},{"$f":"'Interior Lighting Inventory'!K85","v":"-"},{"$f":"'Interior Lighting Inventory'!M85","v":"-"},{"$f":"'Interior Lighting Inventory'!N85","v":0},{"$f":"'Interior Lighting Inventory'!O85","v":"0"}]
[{"$f":"'Interior Lighting Inventory'!C86","v":66},{"$f":"'Interior Lighting Inventory'!D86","v":0},{"$f":"'Interior Lighting Inventory'!E86","v":0},{"$f":"'Interior Lighting Inventory'!G86","v":0},{"$f":"'Interior Lighting Inventory'!H86","v":0},{"$f":"'Interior Lighting Inventory'!I86","v":0},{"$f":"'Interior Lighting Inventory'!J86","v":0},{"$f":"'Interior Lighting Inventory'!K86","v":"-"},{"$f":"'Interior Lighting Inventory'!M86","v":"-"},{"$f":"'Interior Lighting Inventory'!N86","v":0},{"$f":"'Interior Lighting Inventory'!O86","v":"0"}]
[{"$f":"'Interior Lighting Inventory'!C87","v":67},{"$f":"'Interior Lighting Inventory'!D87","v":0},{"$f":"'Interior Lighting Inventory'!E87","v":0},{"$f":"'Interior Lighting Inventory'!G87","v":0},{"$f":"'Interior Lighting Inventory'!H87","v":0},{"$f":"'Interior Lighting Inventory'!I87","v":0},{"$f":"'Interior Lighting Inventory'!J87","v":0},{"$f":"'Interior Lighting Inventory'!K87","v":"-"},{"$f":"'Interior Lighting Inventory'!M87","v":"-"},{"$f":"'Interior Lighting Inventory'!N87","v":0},{"$f":"'Interior Lighting Inventory'!O87","v":"0"}]
[{"$f":"'Interior Lighting Inventory'!C88","v":68},{"$f":"'Interior Lighting Inventory'!D88","v":0},{"$f":"'Interior Lighting Inventory'!E88","v":0},{"$f":"'Interior Lighting Inventory'!G88","v":0},{"$f":"'Interior Lighting Inventory'!H88","v":0},{"$f":"'Interior Lighting Inventory'!I88","v":0},{"$f":"'Interior Lighting Inventory'!J88","v":0},{"$f":"'Interior Lighting Inventory'!K88","v":"-"},{"$f":"'Interior Lighting Inventory'!M88","v":"-"},{"$f":"'Interior Lighting Inventory'!N88","v":0},{"$f":"'Interior Lighting Inventory'!O88","v":"0"}]
[{"$f":"'Interior Lighting Inventory'!C89","v":69},{"$f":"'Interior Lighting Inventory'!D89","v":0},{"$f":"'Interior Lighting Inventory'!E89","v":0},{"$f":"'Interior Lighting Inventory'!G89","v":0},{"$f":"'Interior Lighting Inventory'!H89","v":0},{"$f":"'Interior Lighting Inventory'!I89","v":0},{"$f":"'Interior Lighting Inventory'!J89","v":0},{"$f":"'Interior Lighting Inventory'!K89","v":"-"},{"$f":"'Interior Lighting Inventory'!M89","v":"-"},{"$f":"'Interior Lighting Inventory'!N89","v":0},{"$f":"'Interior Lighting Inventory'!O89","v":"0"}]
[{"$f":"'Interior Lighting Inventory'!C90","v":70},{"$f":"'Interior Lighting Inventory'!D90","v":0},{"$f":"'Interior Lighting Inventory'!E90","v":0},{"$f":"'Interior Lighting Inventory'!G90","v":0},{"$f":"'Interior Lighting Inventory'!H90","v":0},{"$f":"'Interior Lighting Inventory'!I90","v":0},{"$f":"'Interior Lighting Inventory'!J90","v":0},{"$f":"'Interior Lighting Inventory'!K90","v":"-"},{"$f":"'Interior Lighting Inventory'!M90","v":"-"},{"$f":"'Interior Lighting Inventory'!N90","v":0},{"$f":"'Interior Lighting Inventory'!O90","v":"0"}]
[{"$f":"'Interior Lighting Inventory'!C91","v":71},{"$f":"'Interior Lighting Inventory'!D91","v":0},{"$f":"'Interior Lighting Inventory'!E91","v":0},{"$f":"'Interior Lighting Inventory'!G91","v":0},{"$f":"'Interior Lighting Inventory'!H91","v":0},{"$f":"'Interior Lighting Inventory'!I91","v":0},{"$f":"'Interior Lighting Inventory'!J91","v":0},{"$f":"'Interior Lighting Inventory'!K91","v":"-"},{"$f":"'Interior Lighting Inventory'!M91","v":"-"},{"$f":"'Interior Lighting Inventory'!N91","v":0},{"$f":"'Interior Lighting Inventory'!O91","v":"0"}]
[{"$f":"'Interior Lighting Inventory'!C92","v":72},{"$f":"'Interior Lighting Inventory'!D92","v":0},{"$f":"'Interior Lighting Inventory'!E92","v":0},{"$f":"'Interior Lighting Inventory'!G92","v":0},{"$f":"'Interior Lighting Inventory'!H92","v":0},{"$f":"'Interior Lighting Inventory'!I92","v":0},{"$f":"'Interior Lighting Inventory'!J92","v":0},{"$f":"'Interior Lighting Inventory'!K92","v":"-"},{"$f":"'Interior Lighting Inventory'!M92","v":"-"},{"$f":"'Interior Lighting Inventory'!N92","v":0},{"$f":"'Interior Lighting Inventory'!O92","v":"0"}]
[{"$f":"'Interior Lighting Inventory'!C93","v":73},{"$f":"'Interior Lighting Inventory'!D93","v":0},{"$f":"'Interior Lighting Inventory'!E93","v":0},{"$f":"'Interior Lighting Inventory'!G93","v":0},{"$f":"'Interior Lighting Inventory'!H93","v":0},{"$f":"'Interior Lighting Inventory'!I93","v":0},{"$f":"'Interior Lighting Inventory'!J93","v":0},{"$f":"'Interior Lighting Inventory'!K93","v":"-"},{"$f":"'Interior Lighting Inventory'!M93","v":"-"},{"$f":"'Interior Lighting Inventory'!N93","v":0},{"$f":"'Interior Lighting Inventory'!O93","v":"0"}]
[{"$f":"'Interior Lighting Inventory'!C94","v":74},{"$f":"'Interior Lighting Inventory'!D94","v":0},{"$f":"'Interior Lighting Inventory'!E94","v":0},{"$f":"'Interior Lighting Inventory'!G94","v":0},{"$f":"'Interior Lighting Inventory'!H94","v":0},{"$f":"'Interior Lighting Inventory'!I94","v":0},{"$f":"'Interior Lighting Inventory'!J94","v":0},{"$f":"'Interior Lighting Inventory'!K94","v":"-"},{"$f":"'Interior Lighting Inventory'!M94","v":"-"},{"$f":"'Interior Lighting Inventory'!N94","v":0},{"$f":"'Interior Lighting Inventory'!O94","v":"0"}]
[{"$f":"'Interior Lighting Inventory'!C95","v":75},{"$f":"'Interior Lighting Inventory'!D95","v":0},{"$f":"'Interior Lighting Inventory'!E95","v":0},{"$f":"'Interior Lighting Inventory'!G95","v":0},{"$f":"'Interior Lighting Inventory'!H95","v":0},{"$f":"'Interior Lighting Inventory'!I95","v":0},{"$f":"'Interior Lighting Inventory'!J95","v":0},{"$f":"'Interior Lighting Inventory'!K95","v":"-"},{"$f":"'Interior Lighting Inventory'!M95","v":"-"},{"$f":"'Interior Lighting Inventory'!N95","v":0},{"$f":"'Interior Lighting Inventory'!O95","v":"0"}]
[{"$f":"'Interior Lighting Inventory'!C96","v":76},{"$f":"'Interior Lighting Inventory'!D96","v":0},{"$f":"'Interior Lighting Inventory'!E96","v":0},{"$f":"'Interior Lighting Inventory'!G96","v":0},{"$f":"'Interior Lighting Inventory'!H96","v":0},{"$f":"'Interior Lighting Inventory'!I96","v":0},{"$f":"'Interior Lighting Inventory'!J96","v":0},{"$f":"'Interior Lighting Inventory'!K96","v":"-"},{"$f":"'Interior Lighting Inventory'!M96","v":"-"},{"$f":"'Interior Lighting Inventory'!N96","v":0},{"$f":"'Interior Lighting Inventory'!O96","v":"0"}]
[{"$f":"'Interior Lighting Inventory'!C97","v":77},{"$f":"'Interior Lighting Inventory'!D97","v":0},{"$f":"'Interior Lighting Inventory'!E97","v":0},{"$f":"'Interior Lighting Inventory'!G97","v":0},{"$f":"'Interior Lighting Inventory'!H97","v":0},{"$f":"'Interior Lighting Inventory'!I97","v":0},{"$f":"'Interior Lighting Inventory'!J97","v":0},{"$f":"'Interior Lighting Inventory'!K97","v":"-"},{"$f":"'Interior Lighting Inventory'!M97","v":"-"},{"$f":"'Interior Lighting Inventory'!N97","v":0},{"$f":"'Interior Lighting Inventory'!O97","v":"0"}]
[{"$f":"'Interior Lighting Inventory'!C98","v":78},{"$f":"'Interior Lighting Inventory'!D98","v":0},{"$f":"'Interior Lighting Inventory'!E98","v":0},{"$f":"'Interior Lighting Inventory'!G98","v":0},{"$f":"'Interior Lighting Inventory'!H98","v":0},{"$f":"'Interior Lighting Inventory'!I98","v":0},{"$f":"'Interior Lighting Inventory'!J98","v":0},{"$f":"'Interior Lighting Inventory'!K98","v":"-"},{"$f":"'Interior Lighting Inventory'!M98","v":"-"},{"$f":"'Interior Lighting Inventory'!N98","v":0},{"$f":"'Interior Lighting Inventory'!O98","v":"0"}]
[{"$f":"'Interior Lighting Inventory'!C99","v":79},{"$f":"'Interior Lighting Inventory'!D99","v":0},{"$f":"'Interior Lighting Inventory'!E99","v":0},{"$f":"'Interior Lighting Inventory'!G99","v":0},{"$f":"'Interior Lighting Inventory'!H99","v":0},{"$f":"'Interior Lighting Inventory'!I99","v":0},{"$f":"'Interior Lighting Inventory'!J99","v":0},{"$f":"'Interior Lighting Inventory'!K99","v":"-"},{"$f":"'Interior Lighting Inventory'!M99","v":"-"},{"$f":"'Interior Lighting Inventory'!N99","v":0},{"$f":"'Interior Lighting Inventory'!O99","v":"0"}]
[{"$f":"'Interior Lighting Inventory'!C100","v":80},{"$f":"'Interior Lighting Inventory'!D100","v":0},{"$f":"'Interior Lighting Inventory'!E100","v":0},{"$f":"'Interior Lighting Inventory'!G100","v":0},{"$f":"'Interior Lighting Inventory'!H100","v":0},{"$f":"'Interior Lighting Inventory'!I100","v":0},{"$f":"'Interior Lighting Inventory'!J100","v":0},{"$f":"'Interior Lighting Inventory'!K100","v":"-"},{"$f":"'Interior Lighting Inventory'!M100","v":"-"},{"$f":"'Interior Lighting Inventory'!N100","v":0},{"$f":"'Interior Lighting Inventory'!O100","v":"0"}]
[{"$f":"'Interior Lighting Inventory'!C101","v":81},{"$f":"'Interior Lighting Inventory'!D101","v":0},{"$f":"'Interior Lighting Inventory'!E101","v":0},{"$f":"'Interior Lighting Inventory'!G101","v":0},{"$f":"'Interior Lighting Inventory'!H101","v":0},{"$f":"'Interior Lighting Inventory'!I101","v":0},{"$f":"'Interior Lighting Inventory'!J101","v":0},{"$f":"'Interior Lighting Inventory'!K101","v":"-"},{"$f":"'Interior Lighting Inventory'!M101","v":"-"},{"$f":"'Interior Lighting Inventory'!N101","v":0},{"$f":"'Interior Lighting Inventory'!O101","v":"0"}]
[{"$f":"'Interior Lighting Inventory'!C102","v":82},{"$f":"'Interior Lighting Inventory'!D102","v":0},{"$f":"'Interior Lighting Inventory'!E102","v":0},{"$f":"'Interior Lighting Inventory'!G102","v":0},{"$f":"'Interior Lighting Inventory'!H102","v":0},{"$f":"'Interior Lighting Inventory'!I102","v":0},{"$f":"'Interior Lighting Inventory'!J102","v":0},{"$f":"'Interior Lighting Inventory'!K102","v":"-"},{"$f":"'Interior Lighting Inventory'!M102","v":"-"},{"$f":"'Interior Lighting Inventory'!N102","v":0},{"$f":"'Interior Lighting Inventory'!O102","v":"0"}]
[{"$f":"'Interior Lighting Inventory'!C103","v":83},{"$f":"'Interior Lighting Inventory'!D103","v":0},{"$f":"'Interior Lighting Inventory'!E103","v":0},{"$f":"'Interior Lighting Inventory'!G103","v":0},{"$f":"'Interior Lighting Inventory'!H103","v":0},{"$f":"'Interior Lighting Inventory'!I103","v":0},{"$f":"'Interior Lighting Inventory'!J103","v":0},{"$f":"'Interior Lighting Inventory'!K103","v":"-"},{"$f":"'Interior Lighting Inventory'!M103","v":"-"},{"$f":"'Interior Lighting Inventory'!N103","v":0},{"$f":"'Interior Lighting Inventory'!O103","v":"0"}]
[{"$f":"'Interior Lighting Inventory'!C104","v":84},{"$f":"'Interior Lighting Inventory'!D104","v":0},{"$f":"'Interior Lighting Inventory'!E104","v":0},{"$f":"'Interior Lighting Inventory'!G104","v":0},{"$f":"'Interior Lighting Inventory'!H104","v":0},{"$f":"'Interior Lighting Inventory'!I104","v":0},{"$f":"'Interior Lighting Inventory'!J104","v":0},{"$f":"'Interior Lighting Inventory'!K104","v":"-"},{"$f":"'Interior Lighting Inventory'!M104","v":"-"},{"$f":"'Interior Lighting Inventory'!N104","v":0},{"$f":"'Interior Lighting Inventory'!O104","v":"0"}]
[{"$f":"'Interior Lighting Inventory'!C105","v":85},{"$f":"'Interior Lighting Inventory'!D105","v":0},{"$f":"'Interior Lighting Inventory'!E105","v":0},{"$f":"'Interior Lighting Inventory'!G105","v":0},{"$f":"'Interior Lighting Inventory'!H105","v":0},{"$f":"'Interior Lighting Inventory'!I105","v":0},{"$f":"'Interior Lighting Inventory'!J105","v":0},{"$f":"'Interior Lighting Inventory'!K105","v":"-"},{"$f":"'Interior Lighting Inventory'!M105","v":"-"},{"$f":"'Interior Lighting Inventory'!N105","v":0},{"$f":"'Interior Lighting Inventory'!O105","v":"0"}]
[{"$f":"'Interior Lighting Inventory'!C106","v":86},{"$f":"'Interior Lighting Inventory'!D106","v":0},{"$f":"'Interior Lighting Inventory'!E106","v":0},{"$f":"'Interior Lighting Inventory'!G106","v":0},{"$f":"'Interior Lighting Inventory'!H106","v":0},{"$f":"'Interior Lighting Inventory'!I106","v":0},{"$f":"'Interior Lighting Inventory'!J106","v":0},{"$f":"'Interior Lighting Inventory'!K106","v":"-"},{"$f":"'Interior Lighting Inventory'!M106","v":"-"},{"$f":"'Interior Lighting Inventory'!N106","v":0},{"$f":"'Interior Lighting Inventory'!O106","v":"0"}]
[{"$f":"'Interior Lighting Inventory'!C107","v":87},{"$f":"'Interior Lighting Inventory'!D107","v":0},{"$f":"'Interior Lighting Inventory'!E107","v":0},{"$f":"'Interior Lighting Inventory'!G107","v":0},{"$f":"'Interior Lighting Inventory'!H107","v":0},{"$f":"'Interior Lighting Inventory'!I107","v":0},{"$f":"'Interior Lighting Inventory'!J107","v":0},{"$f":"'Interior Lighting Inventory'!K107","v":"-"},{"$f":"'Interior Lighting Inventory'!M107","v":"-"},{"$f":"'Interior Lighting Inventory'!N107","v":0},{"$f":"'Interior Lighting Inventory'!O107","v":"0"}]
[{"$f":"'Interior Lighting Inventory'!C108","v":88},{"$f":"'Interior Lighting Inventory'!D108","v":0},{"$f":"'Interior Lighting Inventory'!E108","v":0},{"$f":"'Interior Lighting Inventory'!G108","v":0},{"$f":"'Interior Lighting Inventory'!H108","v":0},{"$f":"'Interior Lighting Inventory'!I108","v":0},{"$f":"'Interior Lighting Inventory'!J108","v":0},{"$f":"'Interior Lighting Inventory'!K108","v":"-"},{"$f":"'Interior Lighting Inventory'!M108","v":"-"},{"$f":"'Interior Lighting Inventory'!N108","v":0},{"$f":"'Interior Lighting Inventory'!O108","v":"0"}]
[{"$f":"'Interior Lighting Inventory'!C109","v":89},{"$f":"'Interior Lighting Inventory'!D109","v":0},{"$f":"'Interior Lighting Inventory'!E109","v":0},{"$f":"'Interior Lighting Inventory'!G109","v":0},{"$f":"'Interior Lighting Inventory'!H109","v":0},{"$f":"'Interior Lighting Inventory'!I109","v":0},{"$f":"'Interior Lighting Inventory'!J109","v":0},{"$f":"'Interior Lighting Inventory'!K109","v":"-"},{"$f":"'Interior Lighting Inventory'!M109","v":"-"},{"$f":"'Interior Lighting Inventory'!N109","v":0},{"$f":"'Interior Lighting Inventory'!O109","v":"0"}]
[{"$f":"'Interior Lighting Inventory'!C110","v":90},{"$f":"'Interior Lighting Inventory'!D110","v":0},{"$f":"'Interior Lighting Inventory'!E110","v":0},{"$f":"'Interior Lighting Inventory'!G110","v":0},{"$f":"'Interior Lighting Inventory'!H110","v":0},{"$f":"'Interior Lighting Inventory'!I110","v":0},{"$f":"'Interior Lighting Inventory'!J110","v":0},{"$f":"'Interior Lighting Inventory'!K110","v":"-"},{"$f":"'Interior Lighting Inventory'!M110","v":"-"},{"$f":"'Interior Lighting Inventory'!N110","v":0},{"$f":"'Interior Lighting Inventory'!O110","v":"0"}]
[{"$f":"'Interior Lighting Inventory'!C111","v":91},{"$f":"'Interior Lighting Inventory'!D111","v":0},{"$f":"'Interior Lighting Inventory'!E111","v":0},{"$f":"'Interior Lighting Inventory'!G111","v":0},{"$f":"'Interior Lighting Inventory'!H111","v":0},{"$f":"'Interior Lighting Inventory'!I111","v":0},{"$f":"'Interior Lighting Inventory'!J111","v":0},{"$f":"'Interior Lighting Inventory'!K111","v":"-"},{"$f":"'Interior Lighting Inventory'!M111","v":"-"},{"$f":"'Interior Lighting Inventory'!N111","v":0},{"$f":"'Interior Lighting Inventory'!O111","v":"0"}]
[{"$f":"'Interior Lighting Inventory'!C112","v":92},{"$f":"'Interior Lighting Inventory'!D112","v":0},{"$f":"'Interior Lighting Inventory'!E112","v":0},{"$f":"'Interior Lighting Inventory'!G112","v":0},{"$f":"'Interior Lighting Inventory'!H112","v":0},{"$f":"'Interior Lighting Inventory'!I112","v":0},{"$f":"'Interior Lighting Inventory'!J112","v":0},{"$f":"'Interior Lighting Inventory'!K112","v":"-"},{"$f":"'Interior Lighting Inventory'!M112","v":"-"},{"$f":"'Interior Lighting Inventory'!N112","v":0},{"$f":"'Interior Lighting Inventory'!O112","v":"0"}]
[{"$f":"'Interior Lighting Inventory'!C113","v":93},{"$f":"'Interior Lighting Inventory'!D113","v":0},{"$f":"'Interior Lighting Inventory'!E113","v":0},{"$f":"'Interior Lighting Inventory'!G113","v":0},{"$f":"'Interior Lighting Inventory'!H113","v":0},{"$f":"'Interior Lighting Inventory'!I113","v":0},{"$f":"'Interior Lighting Inventory'!J113","v":0},{"$f":"'Interior Lighting Inventory'!K113","v":"-"},{"$f":"'Interior Lighting Inventory'!M113","v":"-"},{"$f":"'Interior Lighting Inventory'!N113","v":0},{"$f":"'Interior Lighting Inventory'!O113","v":"0"}]
[{"$f":"'Interior Lighting Inventory'!C114","v":94},{"$f":"'Interior Lighting Inventory'!D114","v":0},{"$f":"'Interior Lighting Inventory'!E114","v":0},{"$f":"'Interior Lighting Inventory'!G114","v":0},{"$f":"'Interior Lighting Inventory'!H114","v":0},{"$f":"'Interior Lighting Inventory'!I114","v":0},{"$f":"'Interior Lighting Inventory'!J114","v":0},{"$f":"'Interior Lighting Inventory'!K114","v":"-"},{"$f":"'Interior Lighting Inventory'!M114","v":"-"},{"$f":"'Interior Lighting Inventory'!N114","v":0},{"$f":"'Interior Lighting Inventory'!O114","v":"0"}]
[{"$f":"'Interior Lighting Inventory'!C115","v":95},{"$f":"'Interior Lighting Inventory'!D115","v":0},{"$f":"'Interior Lighting Inventory'!E115","v":0},{"$f":"'Interior Lighting Inventory'!G115","v":0},{"$f":"'Interior Lighting Inventory'!H115","v":0},{"$f":"'Interior Lighting Inventory'!I115","v":0},{"$f":"'Interior Lighting Inventory'!J115","v":0},{"$f":"'Interior Lighting Inventory'!K115","v":"-"},{"$f":"'Interior Lighting Inventory'!M115","v":"-"},{"$f":"'Interior Lighting Inventory'!N115","v":0},{"$f":"'Interior Lighting Inventory'!O115","v":"0"}]
[{"$f":"'Interior Lighting Inventory'!C116","v":96},{"$f":"'Interior Lighting Inventory'!D116","v":0},{"$f":"'Interior Lighting Inventory'!E116","v":0},{"$f":"'Interior Lighting Inventory'!G116","v":0},{"$f":"'Interior Lighting Inventory'!H116","v":0},{"$f":"'Interior Lighting Inventory'!I116","v":0},{"$f":"'Interior Lighting Inventory'!J116","v":0},{"$f":"'Interior Lighting Inventory'!K116","v":"-"},{"$f":"'Interior Lighting Inventory'!M116","v":"-"},{"$f":"'Interior Lighting Inventory'!N116","v":0},{"$f":"'Interior Lighting Inventory'!O116","v":"0"}]
[{"$f":"'Interior Lighting Inventory'!C117","v":97},{"$f":"'Interior Lighting Inventory'!D117","v":0},{"$f":"'Interior Lighting Inventory'!E117","v":0},{"$f":"'Interior Lighting Inventory'!G117","v":0},{"$f":"'Interior Lighting Inventory'!H117","v":0},{"$f":"'Interior Lighting Inventory'!I117","v":0},{"$f":"'Interior Lighting Inventory'!J117","v":0},{"$f":"'Interior Lighting Inventory'!K117","v":"-"},{"$f":"'Interior Lighting Inventory'!M117","v":"-"},{"$f":"'Interior Lighting Inventory'!N117","v":0},{"$f":"'Interior Lighting Inventory'!O117","v":"0"}]
[{"$f":"'Interior Lighting Inventory'!C118","v":98},{"$f":"'Interior Lighting Inventory'!D118","v":0},{"$f":"'Interior Lighting Inventory'!E118","v":0},{"$f":"'Interior Lighting Inventory'!G118","v":0},{"$f":"'Interior Lighting Inventory'!H118","v":0},{"$f":"'Interior Lighting Inventory'!I118","v":0},{"$f":"'Interior Lighting Inventory'!J118","v":0},{"$f":"'Interior Lighting Inventory'!K118","v":"-"},{"$f":"'Interior Lighting Inventory'!M118","v":"-"},{"$f":"'Interior Lighting Inventory'!N118","v":0},{"$f":"'Interior Lighting Inventory'!O118","v":"0"}]
[{"$f":"'Interior Lighting Inventory'!C119","v":99},{"$f":"'Interior Lighting Inventory'!D119","v":0},{"$f":"'Interior Lighting Inventory'!E119","v":0},{"$f":"'Interior Lighting Inventory'!G119","v":0},{"$f":"'Interior Lighting Inventory'!H119","v":0},{"$f":"'Interior Lighting Inventory'!I119","v":0},{"$f":"'Interior Lighting Inventory'!J119","v":0},{"$f":"'Interior Lighting Inventory'!K119","v":"-"},{"$f":"'Interior Lighting Inventory'!M119","v":"-"},{"$f":"'Interior Lighting Inventory'!N119","v":0},{"$f":"'Interior Lighting Inventory'!O119","v":"0"}]
[{"$f":"'Interior Lighting Inventory'!C120","v":100},{"$f":"'Interior Lighting Inventory'!D120","v":0},{"$f":"'Interior Lighting Inventory'!E120","v":0},{"$f":"'Interior Lighting Inventory'!G120","v":0},{"$f":"'Interior Lighting Inventory'!H120","v":0},{"$f":"'Interior Lighting Inventory'!I120","v":0},{"$f":"'Interior Lighting Inventory'!J120","v":0},{"$f":"'Interior Lighting Inventory'!K120","v":"-"},{"$f":"'Interior Lighting Inventory'!M120","v":"-"},{"$f":"'Interior Lighting Inventory'!N120","v":0},{"$f":"'Interior Lighting Inventory'!O120","v":"0"}]
[{"$f":"'Interior Lighting Inventory'!C121","v":101},{"$f":"'Interior Lighting Inventory'!D121","v":0},{"$f":"'Interior Lighting Inventory'!E121","v":0},{"$f":"'Interior Lighting Inventory'!G121","v":0},{"$f":"'Interior Lighting Inventory'!H121","v":0},{"$f":"'Interior Lighting Inventory'!I121","v":0},{"$f":"'Interior Lighting Inventory'!J121","v":0},{"$f":"'Interior Lighting Inventory'!K121","v":"-"},{"$f":"'Interior Lighting Inventory'!M121","v":"-"},{"$f":"'Interior Lighting Inventory'!N121","v":0},{"$f":"'Interior Lighting Inventory'!O121","v":"0"}]
[{"$f":"'Interior Lighting Inventory'!C122","v":102},{"$f":"'Interior Lighting Inventory'!D122","v":0},{"$f":"'Interior Lighting Inventory'!E122","v":0},{"$f":"'Interior Lighting Inventory'!G122","v":0},{"$f":"'Interior Lighting Inventory'!H122","v":0},{"$f":"'Interior Lighting Inventory'!I122","v":0},{"$f":"'Interior Lighting Inventory'!J122","v":0},{"$f":"'Interior Lighting Inventory'!K122","v":"-"},{"$f":"'Interior Lighting Inventory'!M122","v":"-"},{"$f":"'Interior Lighting Inventory'!N122","v":0},{"$f":"'Interior Lighting Inventory'!O122","v":"0"}]
[{"$f":"'Interior Lighting Inventory'!C123","v":103},{"$f":"'Interior Lighting Inventory'!D123","v":0},{"$f":"'Interior Lighting Inventory'!E123","v":0},{"$f":"'Interior Lighting Inventory'!G123","v":0},{"$f":"'Interior Lighting Inventory'!H123","v":0},{"$f":"'Interior Lighting Inventory'!I123","v":0},{"$f":"'Interior Lighting Inventory'!J123","v":0},{"$f":"'Interior Lighting Inventory'!K123","v":"-"},{"$f":"'Interior Lighting Inventory'!M123","v":"-"},{"$f":"'Interior Lighting Inventory'!N123","v":0},{"$f":"'Interior Lighting Inventory'!O123","v":"0"}]
[{"$f":"'Interior Lighting Inventory'!C124","v":104},{"$f":"'Interior Lighting Inventory'!D124","v":0},{"$f":"'Interior Lighting Inventory'!E124","v":0},{"$f":"'Interior Lighting Inventory'!G124","v":0},{"$f":"'Interior Lighting Inventory'!H124","v":0},{"$f":"'Interior Lighting Inventory'!I124","v":0},{"$f":"'Interior Lighting Inventory'!J124","v":0},{"$f":"'Interior Lighting Inventory'!K124","v":"-"},{"$f":"'Interior Lighting Inventory'!M124","v":"-"},{"$f":"'Interior Lighting Inventory'!N124","v":0},{"$f":"'Interior Lighting Inventory'!O124","v":"0"}]
[{"$f":"'Interior Lighting Inventory'!C125","v":105},{"$f":"'Interior Lighting Inventory'!D125","v":0},{"$f":"'Interior Lighting Inventory'!E125","v":0},{"$f":"'Interior Lighting Inventory'!G125","v":0},{"$f":"'Interior Lighting Inventory'!H125","v":0},{"$f":"'Interior Lighting Inventory'!I125","v":0},{"$f":"'Interior Lighting Inventory'!J125","v":0},{"$f":"'Interior Lighting Inventory'!K125","v":"-"},{"$f":"'Interior Lighting Inventory'!M125","v":"-"},{"$f":"'Interior Lighting Inventory'!N125","v":0},{"$f":"'Interior Lighting Inventory'!O125","v":"0"}]
[{"$f":"'Interior Lighting Inventory'!C126","v":106},{"$f":"'Interior Lighting Inventory'!D126","v":0},{"$f":"'Interior Lighting Inventory'!E126","v":0},{"$f":"'Interior Lighting Inventory'!G126","v":0},{"$f":"'Interior Lighting Inventory'!H126","v":0},{"$f":"'Interior Lighting Inventory'!I126","v":0},{"$f":"'Interior Lighting Inventory'!J126","v":0},{"$f":"'Interior Lighting Inventory'!K126","v":"-"},{"$f":"'Interior Lighting Inventory'!M126","v":"-"},{"$f":"'Interior Lighting Inventory'!N126","v":0},{"$f":"'Interior Lighting Inventory'!O126","v":"0"}]
[{"$f":"'Interior Lighting Inventory'!C127","v":107},{"$f":"'Interior Lighting Inventory'!D127","v":0},{"$f":"'Interior Lighting Inventory'!E127","v":0},{"$f":"'Interior Lighting Inventory'!G127","v":0},{"$f":"'Interior Lighting Inventory'!H127","v":0},{"$f":"'Interior Lighting Inventory'!I127","v":0},{"$f":"'Interior Lighting Inventory'!J127","v":0},{"$f":"'Interior Lighting Inventory'!K127","v":"-"},{"$f":"'Interior Lighting Inventory'!M127","v":"-"},{"$f":"'Interior Lighting Inventory'!N127","v":0},{"$f":"'Interior Lighting Inventory'!O127","v":"0"}]
[{"$f":"'Interior Lighting Inventory'!C128","v":108},{"$f":"'Interior Lighting Inventory'!D128","v":0},{"$f":"'Interior Lighting Inventory'!E128","v":0},{"$f":"'Interior Lighting Inventory'!G128","v":0},{"$f":"'Interior Lighting Inventory'!H128","v":0},{"$f":"'Interior Lighting Inventory'!I128","v":0},{"$f":"'Interior Lighting Inventory'!J128","v":0},{"$f":"'Interior Lighting Inventory'!K128","v":"-"},{"$f":"'Interior Lighting Inventory'!M128","v":"-"},{"$f":"'Interior Lighting Inventory'!N128","v":0},{"$f":"'Interior Lighting Inventory'!O128","v":"0"}]
[{"$f":"'Interior Lighting Inventory'!C129","v":109},{"$f":"'Interior Lighting Inventory'!D129","v":0},{"$f":"'Interior Lighting Inventory'!E129","v":0},{"$f":"'Interior Lighting Inventory'!G129","v":0},{"$f":"'Interior Lighting Inventory'!H129","v":0},{"$f":"'Interior Lighting Inventory'!I129","v":0},{"$f":"'Interior Lighting Inventory'!J129","v":0},{"$f":"'Interior Lighting Inventory'!K129","v":"-"},{"$f":"'Interior Lighting Inventory'!M129","v":"-"},{"$f":"'Interior Lighting Inventory'!N129","v":0},{"$f":"'Interior Lighting Inventory'!O129","v":"0"}]
[{"$f":"'Interior Lighting Inventory'!C130","v":110},{"$f":"'Interior Lighting Inventory'!D130","v":0},{"$f":"'Interior Lighting Inventory'!E130","v":0},{"$f":"'Interior Lighting Inventory'!G130","v":0},{"$f":"'Interior Lighting Inventory'!H130","v":0},{"$f":"'Interior Lighting Inventory'!I130","v":0},{"$f":"'Interior Lighting Inventory'!J130","v":0},{"$f":"'Interior Lighting Inventory'!K130","v":"-"},{"$f":"'Interior Lighting Inventory'!M130","v":"-"},{"$f":"'Interior Lighting Inventory'!N130","v":0},{"$f":"'Interior Lighting Inventory'!O130","v":"0"}]
[{"$f":"'Interior Lighting Inventory'!C131","v":111},{"$f":"'Interior Lighting Inventory'!D131","v":0},{"$f":"'Interior Lighting Inventory'!E131","v":0},{"$f":"'Interior Lighting Inventory'!G131","v":0},{"$f":"'Interior Lighting Inventory'!H131","v":0},{"$f":"'Interior Lighting Inventory'!I131","v":0},{"$f":"'Interior Lighting Inventory'!J131","v":0},{"$f":"'Interior Lighting Inventory'!K131","v":"-"},{"$f":"'Interior Lighting Inventory'!M131","v":"-"},{"$f":"'Interior Lighting Inventory'!N131","v":0},{"$f":"'Interior Lighting Inventory'!O131","v":"0"}]
[{"$f":"'Interior Lighting Inventory'!C132","v":112},{"$f":"'Interior Lighting Inventory'!D132","v":0},{"$f":"'Interior Lighting Inventory'!E132","v":0},{"$f":"'Interior Lighting Inventory'!G132","v":0},{"$f":"'Interior Lighting Inventory'!H132","v":0},{"$f":"'Interior Lighting Inventory'!I132","v":0},{"$f":"'Interior Lighting Inventory'!J132","v":0},{"$f":"'Interior Lighting Inventory'!K132","v":"-"},{"$f":"'Interior Lighting Inventory'!M132","v":"-"},{"$f":"'Interior Lighting Inventory'!N132","v":0},{"$f":"'Interior Lighting Inventory'!O132","v":"0"}]
[{"$f":"'Interior Lighting Inventory'!C133","v":113},{"$f":"'Interior Lighting Inventory'!D133","v":0},{"$f":"'Interior Lighting Inventory'!E133","v":0},{"$f":"'Interior Lighting Inventory'!G133","v":0},{"$f":"'Interior Lighting Inventory'!H133","v":0},{"$f":"'Interior Lighting Inventory'!I133","v":0},{"$f":"'Interior Lighting Inventory'!J133","v":0},{"$f":"'Interior Lighting Inventory'!K133","v":"-"},{"$f":"'Interior Lighting Inventory'!M133","v":"-"},{"$f":"'Interior Lighting Inventory'!N133","v":0},{"$f":"'Interior Lighting Inventory'!O133","v":"0"}]
[{"$f":"'Interior Lighting Inventory'!C134","v":114},{"$f":"'Interior Lighting Inventory'!D134","v":0},{"$f":"'Interior Lighting Inventory'!E134","v":0},{"$f":"'Interior Lighting Inventory'!G134","v":0},{"$f":"'Interior Lighting Inventory'!H134","v":0},{"$f":"'Interior Lighting Inventory'!I134","v":0},{"$f":"'Interior Lighting Inventory'!J134","v":0},{"$f":"'Interior Lighting Inventory'!K134","v":"-"},{"$f":"'Interior Lighting Inventory'!M134","v":"-"},{"$f":"'Interior Lighting Inventory'!N134","v":0},{"$f":"'Interior Lighting Inventory'!O134","v":"0"}]
[{"$f":"'Interior Lighting Inventory'!C135","v":115},{"$f":"'Interior Lighting Inventory'!D135","v":0},{"$f":"'Interior Lighting Inventory'!E135","v":0},{"$f":"'Interior Lighting Inventory'!G135","v":0},{"$f":"'Interior Lighting Inventory'!H135","v":0},{"$f":"'Interior Lighting Inventory'!I135","v":0},{"$f":"'Interior Lighting Inventory'!J135","v":0},{"$f":"'Interior Lighting Inventory'!K135","v":"-"},{"$f":"'Interior Lighting Inventory'!M135","v":"-"},{"$f":"'Interior Lighting Inventory'!N135","v":0},{"$f":"'Interior Lighting Inventory'!O135","v":"0"}]
[{"$f":"'Interior Lighting Inventory'!C136","v":116},{"$f":"'Interior Lighting Inventory'!D136","v":0},{"$f":"'Interior Lighting Inventory'!E136","v":0},{"$f":"'Interior Lighting Inventory'!G136","v":0},{"$f":"'Interior Lighting Inventory'!H136","v":0},{"$f":"'Interior Lighting Inventory'!I136","v":0},{"$f":"'Interior Lighting Inventory'!J136","v":0},{"$f":"'Interior Lighting Inventory'!K136","v":"-"},{"$f":"'Interior Lighting Inventory'!M136","v":"-"},{"$f":"'Interior Lighting Inventory'!N136","v":0},{"$f":"'Interior Lighting Inventory'!O136","v":"0"}]
[{"$f":"'Interior Lighting Inventory'!C137","v":117},{"$f":"'Interior Lighting Inventory'!D137","v":0},{"$f":"'Interior Lighting Inventory'!E137","v":0},{"$f":"'Interior Lighting Inventory'!G137","v":0},{"$f":"'Interior Lighting Inventory'!H137","v":0},{"$f":"'Interior Lighting Inventory'!I137","v":0},{"$f":"'Interior Lighting Inventory'!J137","v":0},{"$f":"'Interior Lighting Inventory'!K137","v":"-"},{"$f":"'Interior Lighting Inventory'!M137","v":"-"},{"$f":"'Interior Lighting Inventory'!N137","v":0},{"$f":"'Interior Lighting Inventory'!O137","v":"0"}]
[{"$f":"'Interior Lighting Inventory'!C138","v":118},{"$f":"'Interior Lighting Inventory'!D138","v":0},{"$f":"'Interior Lighting Inventory'!E138","v":0},{"$f":"'Interior Lighting Inventory'!G138","v":0},{"$f":"'Interior Lighting Inventory'!H138","v":0},{"$f":"'Interior Lighting Inventory'!I138","v":0},{"$f":"'Interior Lighting Inventory'!J138","v":0},{"$f":"'Interior Lighting Inventory'!K138","v":"-"},{"$f":"'Interior Lighting Inventory'!M138","v":"-"},{"$f":"'Interior Lighting Inventory'!N138","v":0},{"$f":"'Interior Lighting Inventory'!O138","v":"0"}]
[{"$f":"'Interior Lighting Inventory'!C139","v":119},{"$f":"'Interior Lighting Inventory'!D139","v":0},{"$f":"'Interior Lighting Inventory'!E139","v":0},{"$f":"'Interior Lighting Inventory'!G139","v":0},{"$f":"'Interior Lighting Inventory'!H139","v":0},{"$f":"'Interior Lighting Inventory'!I139","v":0},{"$f":"'Interior Lighting Inventory'!J139","v":0},{"$f":"'Interior Lighting Inventory'!K139","v":"-"},{"$f":"'Interior Lighting Inventory'!M139","v":"-"},{"$f":"'Interior Lighting Inventory'!N139","v":0},{"$f":"'Interior Lighting Inventory'!O139","v":"0"}]
[{"$f":"'Interior Lighting Inventory'!C140","v":120},{"$f":"'Interior Lighting Inventory'!D140","v":0},{"$f":"'Interior Lighting Inventory'!E140","v":0},{"$f":"'Interior Lighting Inventory'!G140","v":0},{"$f":"'Interior Lighting Inventory'!H140","v":0},{"$f":"'Interior Lighting Inventory'!I140","v":0},{"$f":"'Interior Lighting Inventory'!J140","v":0},{"$f":"'Interior Lighting Inventory'!K140","v":"-"},{"$f":"'Interior Lighting Inventory'!M140","v":"-"},{"$f":"'Interior Lighting Inventory'!N140","v":0},{"$f":"'Interior Lighting Inventory'!O140","v":"0"}]
[{"$f":"'Interior Lighting Inventory'!C141","v":121},{"$f":"'Interior Lighting Inventory'!D141","v":0},{"$f":"'Interior Lighting Inventory'!E141","v":0},{"$f":"'Interior Lighting Inventory'!G141","v":0},{"$f":"'Interior Lighting Inventory'!H141","v":0},{"$f":"'Interior Lighting Inventory'!I141","v":0},{"$f":"'Interior Lighting Inventory'!J141","v":0},{"$f":"'Interior Lighting Inventory'!K141","v":"-"},{"$f":"'Interior Lighting Inventory'!M141","v":"-"},{"$f":"'Interior Lighting Inventory'!N141","v":0},{"$f":"'Interior Lighting Inventory'!O141","v":"0"}]
[{"$f":"'Interior Lighting Inventory'!C142","v":122},{"$f":"'Interior Lighting Inventory'!D142","v":0},{"$f":"'Interior Lighting Inventory'!E142","v":0},{"$f":"'Interior Lighting Inventory'!G142","v":0},{"$f":"'Interior Lighting Inventory'!H142","v":0},{"$f":"'Interior Lighting Inventory'!I142","v":0},{"$f":"'Interior Lighting Inventory'!J142","v":0},{"$f":"'Interior Lighting Inventory'!K142","v":"-"},{"$f":"'Interior Lighting Inventory'!M142","v":"-"},{"$f":"'Interior Lighting Inventory'!N142","v":0},{"$f":"'Interior Lighting Inventory'!O142","v":"0"}]
[{"$f":"'Interior Lighting Inventory'!C143","v":123},{"$f":"'Interior Lighting Inventory'!D143","v":0},{"$f":"'Interior Lighting Inventory'!E143","v":0},{"$f":"'Interior Lighting Inventory'!G143","v":0},{"$f":"'Interior Lighting Inventory'!H143","v":0},{"$f":"'Interior Lighting Inventory'!I143","v":0},{"$f":"'Interior Lighting Inventory'!J143","v":0},{"$f":"'Interior Lighting Inventory'!K143","v":"-"},{"$f":"'Interior Lighting Inventory'!M143","v":"-"},{"$f":"'Interior Lighting Inventory'!N143","v":0},{"$f":"'Interior Lighting Inventory'!O143","v":"0"}]
[{"$f":"'Interior Lighting Inventory'!C144","v":124},{"$f":"'Interior Lighting Inventory'!D144","v":0},{"$f":"'Interior Lighting Inventory'!E144","v":0},{"$f":"'Interior Lighting Inventory'!G144","v":0},{"$f":"'Interior Lighting Inventory'!H144","v":0},{"$f":"'Interior Lighting Inventory'!I144","v":0},{"$f":"'Interior Lighting Inventory'!J144","v":0},{"$f":"'Interior Lighting Inventory'!K144","v":"-"},{"$f":"'Interior Lighting Inventory'!M144","v":"-"},{"$f":"'Interior Lighting Inventory'!N144","v":0},{"$f":"'Interior Lighting Inventory'!O144","v":"0"}]
[{"$f":"'Interior Lighting Inventory'!C145","v":125},{"$f":"'Interior Lighting Inventory'!D145","v":0},{"$f":"'Interior Lighting Inventory'!E145","v":0},{"$f":"'Interior Lighting Inventory'!G145","v":0},{"$f":"'Interior Lighting Inventory'!H145","v":0},{"$f":"'Interior Lighting Inventory'!I145","v":0},{"$f":"'Interior Lighting Inventory'!J145","v":0},{"$f":"'Interior Lighting Inventory'!K145","v":"-"},{"$f":"'Interior Lighting Inventory'!M145","v":"-"},{"$f":"'Interior Lighting Inventory'!N145","v":0},{"$f":"'Interior Lighting Inventory'!O145","v":"0"}]
[{"$f":"'Interior Lighting Inventory'!C146","v":126},{"$f":"'Interior Lighting Inventory'!D146","v":0},{"$f":"'Interior Lighting Inventory'!E146","v":0},{"$f":"'Interior Lighting Inventory'!G146","v":0},{"$f":"'Interior Lighting Inventory'!H146","v":0},{"$f":"'Interior Lighting Inventory'!I146","v":0},{"$f":"'Interior Lighting Inventory'!J146","v":0},{"$f":"'Interior Lighting Inventory'!K146","v":"-"},{"$f":"'Interior Lighting Inventory'!M146","v":"-"},{"$f":"'Interior Lighting Inventory'!N146","v":0},{"$f":"'Interior Lighting Inventory'!O146","v":"0"}]
[{"$f":"'Interior Lighting Inventory'!C147","v":127},{"$f":"'Interior Lighting Inventory'!D147","v":0},{"$f":"'Interior Lighting Inventory'!E147","v":0},{"$f":"'Interior Lighting Inventory'!G147","v":0},{"$f":"'Interior Lighting Inventory'!H147","v":0},{"$f":"'Interior Lighting Inventory'!I147","v":0},{"$f":"'Interior Lighting Inventory'!J147","v":0},{"$f":"'Interior Lighting Inventory'!K147","v":"-"},{"$f":"'Interior Lighting Inventory'!M147","v":"-"},{"$f":"'Interior Lighting Inventory'!N147","v":0},{"$f":"'Interior Lighting Inventory'!O147","v":"0"}]
[{"$f":"'Interior Lighting Inventory'!C148","v":128},{"$f":"'Interior Lighting Inventory'!D148","v":0},{"$f":"'Interior Lighting Inventory'!E148","v":0},{"$f":"'Interior Lighting Inventory'!G148","v":0},{"$f":"'Interior Lighting Inventory'!H148","v":0},{"$f":"'Interior Lighting Inventory'!I148","v":0},{"$f":"'Interior Lighting Inventory'!J148","v":0},{"$f":"'Interior Lighting Inventory'!K148","v":"-"},{"$f":"'Interior Lighting Inventory'!M148","v":"-"},{"$f":"'Interior Lighting Inventory'!N148","v":0},{"$f":"'Interior Lighting Inventory'!O148","v":"0"}]
[{"$f":"'Interior Lighting Inventory'!C149","v":129},{"$f":"'Interior Lighting Inventory'!D149","v":0},{"$f":"'Interior Lighting Inventory'!E149","v":0},{"$f":"'Interior Lighting Inventory'!G149","v":0},{"$f":"'Interior Lighting Inventory'!H149","v":0},{"$f":"'Interior Lighting Inventory'!I149","v":0},{"$f":"'Interior Lighting Inventory'!J149","v":0},{"$f":"'Interior Lighting Inventory'!K149","v":"-"},{"$f":"'Interior Lighting Inventory'!M149","v":"-"},{"$f":"'Interior Lighting Inventory'!N149","v":0},{"$f":"'Interior Lighting Inventory'!O149","v":"0"}]
[{"$f":"'Interior Lighting Inventory'!C150","v":130},{"$f":"'Interior Lighting Inventory'!D150","v":0},{"$f":"'Interior Lighting Inventory'!E150","v":0},{"$f":"'Interior Lighting Inventory'!G150","v":0},{"$f":"'Interior Lighting Inventory'!H150","v":0},{"$f":"'Interior Lighting Inventory'!I150","v":0},{"$f":"'Interior Lighting Inventory'!J150","v":0},{"$f":"'Interior Lighting Inventory'!K150","v":"-"},{"$f":"'Interior Lighting Inventory'!M150","v":"-"},{"$f":"'Interior Lighting Inventory'!N150","v":0},{"$f":"'Interior Lighting Inventory'!O150","v":"0"}]
[{"$f":"'Interior Lighting Inventory'!C151","v":131},{"$f":"'Interior Lighting Inventory'!D151","v":0},{"$f":"'Interior Lighting Inventory'!E151","v":0},{"$f":"'Interior Lighting Inventory'!G151","v":0},{"$f":"'Interior Lighting Inventory'!H151","v":0},{"$f":"'Interior Lighting Inventory'!I151","v":0},{"$f":"'Interior Lighting Inventory'!J151","v":0},{"$f":"'Interior Lighting Inventory'!K151","v":"-"},{"$f":"'Interior Lighting Inventory'!M151","v":"-"},{"$f":"'Interior Lighting Inventory'!N151","v":0},{"$f":"'Interior Lighting Inventory'!O151","v":"0"}]
[{"$f":"'Interior Lighting Inventory'!C152","v":132},{"$f":"'Interior Lighting Inventory'!D152","v":0},{"$f":"'Interior Lighting Inventory'!E152","v":0},{"$f":"'Interior Lighting Inventory'!G152","v":0},{"$f":"'Interior Lighting Inventory'!H152","v":0},{"$f":"'Interior Lighting Inventory'!I152","v":0},{"$f":"'Interior Lighting Inventory'!J152","v":0},{"$f":"'Interior Lighting Inventory'!K152","v":"-"},{"$f":"'Interior Lighting Inventory'!M152","v":"-"},{"$f":"'Interior Lighting Inventory'!N152","v":0},{"$f":"'Interior Lighting Inventory'!O152","v":"0"}]
[{"$f":"'Interior Lighting Inventory'!C153","v":133},{"$f":"'Interior Lighting Inventory'!D153","v":0},{"$f":"'Interior Lighting Inventory'!E153","v":0},{"$f":"'Interior Lighting Inventory'!G153","v":0},{"$f":"'Interior Lighting Inventory'!H153","v":0},{"$f":"'Interior Lighting Inventory'!I153","v":0},{"$f":"'Interior Lighting Inventory'!J153","v":0},{"$f":"'Interior Lighting Inventory'!K153","v":"-"},{"$f":"'Interior Lighting Inventory'!M153","v":"-"},{"$f":"'Interior Lighting Inventory'!N153","v":0},{"$f":"'Interior Lighting Inventory'!O153","v":"0"}]
[{"$f":"'Interior Lighting Inventory'!C154","v":134},{"$f":"'Interior Lighting Inventory'!D154","v":0},{"$f":"'Interior Lighting Inventory'!E154","v":0},{"$f":"'Interior Lighting Inventory'!G154","v":0},{"$f":"'Interior Lighting Inventory'!H154","v":0},{"$f":"'Interior Lighting Inventory'!I154","v":0},{"$f":"'Interior Lighting Inventory'!J154","v":0},{"$f":"'Interior Lighting Inventory'!K154","v":"-"},{"$f":"'Interior Lighting Inventory'!M154","v":"-"},{"$f":"'Interior Lighting Inventory'!N154","v":0},{"$f":"'Interior Lighting Inventory'!O154","v":"0"}]
[{"$f":"'Interior Lighting Inventory'!C155","v":135},{"$f":"'Interior Lighting Inventory'!D155","v":0},{"$f":"'Interior Lighting Inventory'!E155","v":0},{"$f":"'Interior Lighting Inventory'!G155","v":0},{"$f":"'Interior Lighting Inventory'!H155","v":0},{"$f":"'Interior Lighting Inventory'!I155","v":0},{"$f":"'Interior Lighting Inventory'!J155","v":0},{"$f":"'Interior Lighting Inventory'!K155","v":"-"},{"$f":"'Interior Lighting Inventory'!M155","v":"-"},{"$f":"'Interior Lighting Inventory'!N155","v":0},{"$f":"'Interior Lighting Inventory'!O155","v":"0"}]
[{"$f":"'Interior Lighting Inventory'!C156","v":136},{"$f":"'Interior Lighting Inventory'!D156","v":0},{"$f":"'Interior Lighting Inventory'!E156","v":0},{"$f":"'Interior Lighting Inventory'!G156","v":0},{"$f":"'Interior Lighting Inventory'!H156","v":0},{"$f":"'Interior Lighting Inventory'!I156","v":0},{"$f":"'Interior Lighting Inventory'!J156","v":0},{"$f":"'Interior Lighting Inventory'!K156","v":"-"},{"$f":"'Interior Lighting Inventory'!M156","v":"-"},{"$f":"'Interior Lighting Inventory'!N156","v":0},{"$f":"'Interior Lighting Inventory'!O156","v":"0"}]
[{"$f":"'Interior Lighting Inventory'!C157","v":137},{"$f":"'Interior Lighting Inventory'!D157","v":0},{"$f":"'Interior Lighting Inventory'!E157","v":0},{"$f":"'Interior Lighting Inventory'!G157","v":0},{"$f":"'Interior Lighting Inventory'!H157","v":0},{"$f":"'Interior Lighting Inventory'!I157","v":0},{"$f":"'Interior Lighting Inventory'!J157","v":0},{"$f":"'Interior Lighting Inventory'!K157","v":"-"},{"$f":"'Interior Lighting Inventory'!M157","v":"-"},{"$f":"'Interior Lighting Inventory'!N157","v":0},{"$f":"'Interior Lighting Inventory'!O157","v":"0"}]
[{"$f":"'Interior Lighting Inventory'!C158","v":138},{"$f":"'Interior Lighting Inventory'!D158","v":0},{"$f":"'Interior Lighting Inventory'!E158","v":0},{"$f":"'Interior Lighting Inventory'!G158","v":0},{"$f":"'Interior Lighting Inventory'!H158","v":0},{"$f":"'Interior Lighting Inventory'!I158","v":0},{"$f":"'Interior Lighting Inventory'!J158","v":0},{"$f":"'Interior Lighting Inventory'!K158","v":"-"},{"$f":"'Interior Lighting Inventory'!M158","v":"-"},{"$f":"'Interior Lighting Inventory'!N158","v":0},{"$f":"'Interior Lighting Inventory'!O158","v":"0"}]
[{"$f":"'Interior Lighting Inventory'!C159","v":139},{"$f":"'Interior Lighting Inventory'!D159","v":0},{"$f":"'Interior Lighting Inventory'!E159","v":0},{"$f":"'Interior Lighting Inventory'!G159","v":0},{"$f":"'Interior Lighting Inventory'!H159","v":0},{"$f":"'Interior Lighting Inventory'!I159","v":0},{"$f":"'Interior Lighting Inventory'!J159","v":0},{"$f":"'Interior Lighting Inventory'!K159","v":"-"},{"$f":"'Interior Lighting Inventory'!M159","v":"-"},{"$f":"'Interior Lighting Inventory'!N159","v":0},{"$f":"'Interior Lighting Inventory'!O159","v":"0"}]
[{"$f":"'Interior Lighting Inventory'!C160","v":140},{"$f":"'Interior Lighting Inventory'!D160","v":0},{"$f":"'Interior Lighting Inventory'!E160","v":0},{"$f":"'Interior Lighting Inventory'!G160","v":0},{"$f":"'Interior Lighting Inventory'!H160","v":0},{"$f":"'Interior Lighting Inventory'!I160","v":0},{"$f":"'Interior Lighting Inventory'!J160","v":0},{"$f":"'Interior Lighting Inventory'!K160","v":"-"},{"$f":"'Interior Lighting Inventory'!M160","v":"-"},{"$f":"'Interior Lighting Inventory'!N160","v":0},{"$f":"'Interior Lighting Inventory'!O160","v":"0"}]
[{"$f":"'Interior Lighting Inventory'!C161","v":141},{"$f":"'Interior Lighting Inventory'!D161","v":0},{"$f":"'Interior Lighting Inventory'!E161","v":0},{"$f":"'Interior Lighting Inventory'!G161","v":0},{"$f":"'Interior Lighting Inventory'!H161","v":0},{"$f":"'Interior Lighting Inventory'!I161","v":0},{"$f":"'Interior Lighting Inventory'!J161","v":0},{"$f":"'Interior Lighting Inventory'!K161","v":"-"},{"$f":"'Interior Lighting Inventory'!M161","v":"-"},{"$f":"'Interior Lighting Inventory'!N161","v":0},{"$f":"'Interior Lighting Inventory'!O161","v":"0"}]
[{"$f":"'Interior Lighting Inventory'!C162","v":142},{"$f":"'Interior Lighting Inventory'!D162","v":0},{"$f":"'Interior Lighting Inventory'!E162","v":0},{"$f":"'Interior Lighting Inventory'!G162","v":0},{"$f":"'Interior Lighting Inventory'!H162","v":0},{"$f":"'Interior Lighting Inventory'!I162","v":0},{"$f":"'Interior Lighting Inventory'!J162","v":0},{"$f":"'Interior Lighting Inventory'!K162","v":"-"},{"$f":"'Interior Lighting Inventory'!M162","v":"-"},{"$f":"'Interior Lighting Inventory'!N162","v":0},{"$f":"'Interior Lighting Inventory'!O162","v":"0"}]
[{"$f":"'Interior Lighting Inventory'!C163","v":143},{"$f":"'Interior Lighting Inventory'!D163","v":0},{"$f":"'Interior Lighting Inventory'!E163","v":0},{"$f":"'Interior Lighting Inventory'!G163","v":0},{"$f":"'Interior Lighting Inventory'!H163","v":0},{"$f":"'Interior Lighting Inventory'!I163","v":0},{"$f":"'Interior Lighting Inventory'!J163","v":0},{"$f":"'Interior Lighting Inventory'!K163","v":"-"},{"$f":"'Interior Lighting Inventory'!M163","v":"-"},{"$f":"'Interior Lighting Inventory'!N163","v":0},{"$f":"'Interior Lighting Inventory'!O163","v":"0"}]
[{"$f":"'Interior Lighting Inventory'!C164","v":144},{"$f":"'Interior Lighting Inventory'!D164","v":0},{"$f":"'Interior Lighting Inventory'!E164","v":0},{"$f":"'Interior Lighting Inventory'!G164","v":0},{"$f":"'Interior Lighting Inventory'!H164","v":0},{"$f":"'Interior Lighting Inventory'!I164","v":0},{"$f":"'Interior Lighting Inventory'!J164","v":0},{"$f":"'Interior Lighting Inventory'!K164","v":"-"},{"$f":"'Interior Lighting Inventory'!M164","v":"-"},{"$f":"'Interior Lighting Inventory'!N164","v":0},{"$f":"'Interior Lighting Inventory'!O164","v":"0"}]
[{"$f":"'Interior Lighting Inventory'!C165","v":145},{"$f":"'Interior Lighting Inventory'!D165","v":0},{"$f":"'Interior Lighting Inventory'!E165","v":0},{"$f":"'Interior Lighting Inventory'!G165","v":0},{"$f":"'Interior Lighting Inventory'!H165","v":0},{"$f":"'Interior Lighting Inventory'!I165","v":0},{"$f":"'Interior Lighting Inventory'!J165","v":0},{"$f":"'Interior Lighting Inventory'!K165","v":"-"},{"$f":"'Interior Lighting Inventory'!M165","v":"-"},{"$f":"'Interior Lighting Inventory'!N165","v":0},{"$f":"'Interior Lighting Inventory'!O165","v":"0"}]
[{"$f":"'Interior Lighting Inventory'!C166","v":146},{"$f":"'Interior Lighting Inventory'!D166","v":0},{"$f":"'Interior Lighting Inventory'!E166","v":0},{"$f":"'Interior Lighting Inventory'!G166","v":0},{"$f":"'Interior Lighting Inventory'!H166","v":0},{"$f":"'Interior Lighting Inventory'!I166","v":0},{"$f":"'Interior Lighting Inventory'!J166","v":0},{"$f":"'Interior Lighting Inventory'!K166","v":"-"},{"$f":"'Interior Lighting Inventory'!M166","v":"-"},{"$f":"'Interior Lighting Inventory'!N166","v":0},{"$f":"'Interior Lighting Inventory'!O166","v":"0"}]
[{"$f":"'Interior Lighting Inventory'!C167","v":147},{"$f":"'Interior Lighting Inventory'!D167","v":0},{"$f":"'Interior Lighting Inventory'!E167","v":0},{"$f":"'Interior Lighting Inventory'!G167","v":0},{"$f":"'Interior Lighting Inventory'!H167","v":0},{"$f":"'Interior Lighting Inventory'!I167","v":0},{"$f":"'Interior Lighting Inventory'!J167","v":0},{"$f":"'Interior Lighting Inventory'!K167","v":"-"},{"$f":"'Interior Lighting Inventory'!M167","v":"-"},{"$f":"'Interior Lighting Inventory'!N167","v":0},{"$f":"'Interior Lighting Inventory'!O167","v":"0"}]
[{"$f":"'Interior Lighting Inventory'!C168","v":148},{"$f":"'Interior Lighting Inventory'!D168","v":0},{"$f":"'Interior Lighting Inventory'!E168","v":0},{"$f":"'Interior Lighting Inventory'!G168","v":0},{"$f":"'Interior Lighting Inventory'!H168","v":0},{"$f":"'Interior Lighting Inventory'!I168","v":0},{"$f":"'Interior Lighting Inventory'!J168","v":0},{"$f":"'Interior Lighting Inventory'!K168","v":"-"},{"$f":"'Interior Lighting Inventory'!M168","v":"-"},{"$f":"'Interior Lighting Inventory'!N168","v":0},{"$f":"'Interior Lighting Inventory'!O168","v":"0"}]
[{"$f":"'Interior Lighting Inventory'!C169","v":149},{"$f":"'Interior Lighting Inventory'!D169","v":0},{"$f":"'Interior Lighting Inventory'!E169","v":0},{"$f":"'Interior Lighting Inventory'!G169","v":0},{"$f":"'Interior Lighting Inventory'!H169","v":0},{"$f":"'Interior Lighting Inventory'!I169","v":0},{"$f":"'Interior Lighting Inventory'!J169","v":0},{"$f":"'Interior Lighting Inventory'!K169","v":"-"},{"$f":"'Interior Lighting Inventory'!M169","v":"-"},{"$f":"'Interior Lighting Inventory'!N169","v":0},{"$f":"'Interior Lighting Inventory'!O169","v":"0"}]
[{"$f":"'Interior Lighting Inventory'!C170","v":150},{"$f":"'Interior Lighting Inventory'!D170","v":0},{"$f":"'Interior Lighting Inventory'!E170","v":0},{"$f":"'Interior Lighting Inventory'!G170","v":0},{"$f":"'Interior Lighting Inventory'!H170","v":0},{"$f":"'Interior Lighting Inventory'!I170","v":0},{"$f":"'Interior Lighting Inventory'!J170","v":0},{"$f":"'Interior Lighting Inventory'!K170","v":"-"},{"$f":"'Interior Lighting Inventory'!M170","v":"-"},{"$f":"'Interior Lighting Inventory'!N170","v":0},{"$f":"'Interior Lighting Inventory'!O170","v":"0"}]
[{"$f":"'Interior Lighting Inventory'!C171","v":151},{"$f":"'Interior Lighting Inventory'!D171","v":0},{"$f":"'Interior Lighting Inventory'!E171","v":0},{"$f":"'Interior Lighting Inventory'!G171","v":0},{"$f":"'Interior Lighting Inventory'!H171","v":0},{"$f":"'Interior Lighting Inventory'!I171","v":0},{"$f":"'Interior Lighting Inventory'!J171","v":0},{"$f":"'Interior Lighting Inventory'!K171","v":"-"},{"$f":"'Interior Lighting Inventory'!M171","v":"-"},{"$f":"'Interior Lighting Inventory'!N171","v":0},{"$f":"'Interior Lighting Inventory'!O171","v":"0"}]
[{"$f":"'Interior Lighting Inventory'!C172","v":152},{"$f":"'Interior Lighting Inventory'!D172","v":0},{"$f":"'Interior Lighting Inventory'!E172","v":0},{"$f":"'Interior Lighting Inventory'!G172","v":0},{"$f":"'Interior Lighting Inventory'!H172","v":0},{"$f":"'Interior Lighting Inventory'!I172","v":0},{"$f":"'Interior Lighting Inventory'!J172","v":0},{"$f":"'Interior Lighting Inventory'!K172","v":"-"},{"$f":"'Interior Lighting Inventory'!M172","v":"-"},{"$f":"'Interior Lighting Inventory'!N172","v":0},{"$f":"'Interior Lighting Inventory'!O172","v":"0"}]
[{"$f":"'Interior Lighting Inventory'!C173","v":153},{"$f":"'Interior Lighting Inventory'!D173","v":0},{"$f":"'Interior Lighting Inventory'!E173","v":0},{"$f":"'Interior Lighting Inventory'!G173","v":0},{"$f":"'Interior Lighting Inventory'!H173","v":0},{"$f":"'Interior Lighting Inventory'!I173","v":0},{"$f":"'Interior Lighting Inventory'!J173","v":0},{"$f":"'Interior Lighting Inventory'!K173","v":"-"},{"$f":"'Interior Lighting Inventory'!M173","v":"-"},{"$f":"'Interior Lighting Inventory'!N173","v":0},{"$f":"'Interior Lighting Inventory'!O173","v":"0"}]
[{"$f":"'Interior Lighting Inventory'!C174","v":154},{"$f":"'Interior Lighting Inventory'!D174","v":0},{"$f":"'Interior Lighting Inventory'!E174","v":0},{"$f":"'Interior Lighting Inventory'!G174","v":0},{"$f":"'Interior Lighting Inventory'!H174","v":0},{"$f":"'Interior Lighting Inventory'!I174","v":0},{"$f":"'Interior Lighting Inventory'!J174","v":0},{"$f":"'Interior Lighting Inventory'!K174","v":"-"},{"$f":"'Interior Lighting Inventory'!M174","v":"-"},{"$f":"'Interior Lighting Inventory'!N174","v":0},{"$f":"'Interior Lighting Inventory'!O174","v":"0"}]
[{"$f":"'Interior Lighting Inventory'!C175","v":155},{"$f":"'Interior Lighting Inventory'!D175","v":0},{"$f":"'Interior Lighting Inventory'!E175","v":0},{"$f":"'Interior Lighting Inventory'!G175","v":0},{"$f":"'Interior Lighting Inventory'!H175","v":0},{"$f":"'Interior Lighting Inventory'!I175","v":0},{"$f":"'Interior Lighting Inventory'!J175","v":0},{"$f":"'Interior Lighting Inventory'!K175","v":"-"},{"$f":"'Interior Lighting Inventory'!M175","v":"-"},{"$f":"'Interior Lighting Inventory'!N175","v":0},{"$f":"'Interior Lighting Inventory'!O175","v":"0"}]
[{"$f":"'Interior Lighting Inventory'!C176","v":156},{"$f":"'Interior Lighting Inventory'!D176","v":0},{"$f":"'Interior Lighting Inventory'!E176","v":0},{"$f":"'Interior Lighting Inventory'!G176","v":0},{"$f":"'Interior Lighting Inventory'!H176","v":0},{"$f":"'Interior Lighting Inventory'!I176","v":0},{"$f":"'Interior Lighting Inventory'!J176","v":0},{"$f":"'Interior Lighting Inventory'!K176","v":"-"},{"$f":"'Interior Lighting Inventory'!M176","v":"-"},{"$f":"'Interior Lighting Inventory'!N176","v":0},{"$f":"'Interior Lighting Inventory'!O176","v":"0"}]
[{"$f":"'Interior Lighting Inventory'!C177","v":157},{"$f":"'Interior Lighting Inventory'!D177","v":0},{"$f":"'Interior Lighting Inventory'!E177","v":0},{"$f":"'Interior Lighting Inventory'!G177","v":0},{"$f":"'Interior Lighting Inventory'!H177","v":0},{"$f":"'Interior Lighting Inventory'!I177","v":0},{"$f":"'Interior Lighting Inventory'!J177","v":0},{"$f":"'Interior Lighting Inventory'!K177","v":"-"},{"$f":"'Interior Lighting Inventory'!M177","v":"-"},{"$f":"'Interior Lighting Inventory'!N177","v":0},{"$f":"'Interior Lighting Inventory'!O177","v":"0"}]
[{"$f":"'Interior Lighting Inventory'!C178","v":158},{"$f":"'Interior Lighting Inventory'!D178","v":0},{"$f":"'Interior Lighting Inventory'!E178","v":0},{"$f":"'Interior Lighting Inventory'!G178","v":0},{"$f":"'Interior Lighting Inventory'!H178","v":0},{"$f":"'Interior Lighting Inventory'!I178","v":0},{"$f":"'Interior Lighting Inventory'!J178","v":0},{"$f":"'Interior Lighting Inventory'!K178","v":"-"},{"$f":"'Interior Lighting Inventory'!M178","v":"-"},{"$f":"'Interior Lighting Inventory'!N178","v":0},{"$f":"'Interior Lighting Inventory'!O178","v":"0"}]
[{"$f":"'Interior Lighting Inventory'!C179","v":159},{"$f":"'Interior Lighting Inventory'!D179","v":0},{"$f":"'Interior Lighting Inventory'!E179","v":0},{"$f":"'Interior Lighting Inventory'!G179","v":0},{"$f":"'Interior Lighting Inventory'!H179","v":0},{"$f":"'Interior Lighting Inventory'!I179","v":0},{"$f":"'Interior Lighting Inventory'!J179","v":0},{"$f":"'Interior Lighting Inventory'!K179","v":"-"},{"$f":"'Interior Lighting Inventory'!M179","v":"-"},{"$f":"'Interior Lighting Inventory'!N179","v":0},{"$f":"'Interior Lighting Inventory'!O179","v":"0"}]
[{"$f":"'Interior Lighting Inventory'!C180","v":160},{"$f":"'Interior Lighting Inventory'!D180","v":0},{"$f":"'Interior Lighting Inventory'!E180","v":0},{"$f":"'Interior Lighting Inventory'!G180","v":0},{"$f":"'Interior Lighting Inventory'!H180","v":0},{"$f":"'Interior Lighting Inventory'!I180","v":0},{"$f":"'Interior Lighting Inventory'!J180","v":0},{"$f":"'Interior Lighting Inventory'!K180","v":"-"},{"$f":"'Interior Lighting Inventory'!M180","v":"-"},{"$f":"'Interior Lighting Inventory'!N180","v":0},{"$f":"'Interior Lighting Inventory'!O180","v":"0"}]
[{"$f":"'Interior Lighting Inventory'!C181","v":161},{"$f":"'Interior Lighting Inventory'!D181","v":0},{"$f":"'Interior Lighting Inventory'!E181","v":0},{"$f":"'Interior Lighting Inventory'!G181","v":0},{"$f":"'Interior Lighting Inventory'!H181","v":0},{"$f":"'Interior Lighting Inventory'!I181","v":0},{"$f":"'Interior Lighting Inventory'!J181","v":0},{"$f":"'Interior Lighting Inventory'!K181","v":"-"},{"$f":"'Interior Lighting Inventory'!M181","v":"-"},{"$f":"'Interior Lighting Inventory'!N181","v":0},{"$f":"'Interior Lighting Inventory'!O181","v":"0"}]
[{"$f":"'Interior Lighting Inventory'!C182","v":162},{"$f":"'Interior Lighting Inventory'!D182","v":0},{"$f":"'Interior Lighting Inventory'!E182","v":0},{"$f":"'Interior Lighting Inventory'!G182","v":0},{"$f":"'Interior Lighting Inventory'!H182","v":0},{"$f":"'Interior Lighting Inventory'!I182","v":0},{"$f":"'Interior Lighting Inventory'!J182","v":0},{"$f":"'Interior Lighting Inventory'!K182","v":"-"},{"$f":"'Interior Lighting Inventory'!M182","v":"-"},{"$f":"'Interior Lighting Inventory'!N182","v":0},{"$f":"'Interior Lighting Inventory'!O182","v":"0"}]
[{"$f":"'Interior Lighting Inventory'!C183","v":163},{"$f":"'Interior Lighting Inventory'!D183","v":0},{"$f":"'Interior Lighting Inventory'!E183","v":0},{"$f":"'Interior Lighting Inventory'!G183","v":0},{"$f":"'Interior Lighting Inventory'!H183","v":0},{"$f":"'Interior Lighting Inventory'!I183","v":0},{"$f":"'Interior Lighting Inventory'!J183","v":0},{"$f":"'Interior Lighting Inventory'!K183","v":"-"},{"$f":"'Interior Lighting Inventory'!M183","v":"-"},{"$f":"'Interior Lighting Inventory'!N183","v":0},{"$f":"'Interior Lighting Inventory'!O183","v":"0"}]
[{"$f":"'Interior Lighting Inventory'!C184","v":164},{"$f":"'Interior Lighting Inventory'!D184","v":0},{"$f":"'Interior Lighting Inventory'!E184","v":0},{"$f":"'Interior Lighting Inventory'!G184","v":0},{"$f":"'Interior Lighting Inventory'!H184","v":0},{"$f":"'Interior Lighting Inventory'!I184","v":0},{"$f":"'Interior Lighting Inventory'!J184","v":0},{"$f":"'Interior Lighting Inventory'!K184","v":"-"},{"$f":"'Interior Lighting Inventory'!M184","v":"-"},{"$f":"'Interior Lighting Inventory'!N184","v":0},{"$f":"'Interior Lighting Inventory'!O184","v":"0"}]
[{"$f":"'Interior Lighting Inventory'!C185","v":165},{"$f":"'Interior Lighting Inventory'!D185","v":0},{"$f":"'Interior Lighting Inventory'!E185","v":0},{"$f":"'Interior Lighting Inventory'!G185","v":0},{"$f":"'Interior Lighting Inventory'!H185","v":0},{"$f":"'Interior Lighting Inventory'!I185","v":0},{"$f":"'Interior Lighting Inventory'!J185","v":0},{"$f":"'Interior Lighting Inventory'!K185","v":"-"},{"$f":"'Interior Lighting Inventory'!M185","v":"-"},{"$f":"'Interior Lighting Inventory'!N185","v":0},{"$f":"'Interior Lighting Inventory'!O185","v":"0"}]
[{"$f":"'Interior Lighting Inventory'!C186","v":166},{"$f":"'Interior Lighting Inventory'!D186","v":0},{"$f":"'Interior Lighting Inventory'!E186","v":0},{"$f":"'Interior Lighting Inventory'!G186","v":0},{"$f":"'Interior Lighting Inventory'!H186","v":0},{"$f":"'Interior Lighting Inventory'!I186","v":0},{"$f":"'Interior Lighting Inventory'!J186","v":0},{"$f":"'Interior Lighting Inventory'!K186","v":"-"},{"$f":"'Interior Lighting Inventory'!M186","v":"-"},{"$f":"'Interior Lighting Inventory'!N186","v":0},{"$f":"'Interior Lighting Inventory'!O186","v":"0"}]
[{"$f":"'Interior Lighting Inventory'!C187","v":167},{"$f":"'Interior Lighting Inventory'!D187","v":0},{"$f":"'Interior Lighting Inventory'!E187","v":0},{"$f":"'Interior Lighting Inventory'!G187","v":0},{"$f":"'Interior Lighting Inventory'!H187","v":0},{"$f":"'Interior Lighting Inventory'!I187","v":0},{"$f":"'Interior Lighting Inventory'!J187","v":0},{"$f":"'Interior Lighting Inventory'!K187","v":"-"},{"$f":"'Interior Lighting Inventory'!M187","v":"-"},{"$f":"'Interior Lighting Inventory'!N187","v":0},{"$f":"'Interior Lighting Inventory'!O187","v":"0"}]
[{"$f":"'Interior Lighting Inventory'!C188","v":168},{"$f":"'Interior Lighting Inventory'!D188","v":0},{"$f":"'Interior Lighting Inventory'!E188","v":0},{"$f":"'Interior Lighting Inventory'!G188","v":0},{"$f":"'Interior Lighting Inventory'!H188","v":0},{"$f":"'Interior Lighting Inventory'!I188","v":0},{"$f":"'Interior Lighting Inventory'!J188","v":0},{"$f":"'Interior Lighting Inventory'!K188","v":"-"},{"$f":"'Interior Lighting Inventory'!M188","v":"-"},{"$f":"'Interior Lighting Inventory'!N188","v":0},{"$f":"'Interior Lighting Inventory'!O188","v":"0"}]
[{"$f":"'Interior Lighting Inventory'!C189","v":169},{"$f":"'Interior Lighting Inventory'!D189","v":0},{"$f":"'Interior Lighting Inventory'!E189","v":0},{"$f":"'Interior Lighting Inventory'!G189","v":0},{"$f":"'Interior Lighting Inventory'!H189","v":0},{"$f":"'Interior Lighting Inventory'!I189","v":0},{"$f":"'Interior Lighting Inventory'!J189","v":0},{"$f":"'Interior Lighting Inventory'!K189","v":"-"},{"$f":"'Interior Lighting Inventory'!M189","v":"-"},{"$f":"'Interior Lighting Inventory'!N189","v":0},{"$f":"'Interior Lighting Inventory'!O189","v":"0"}]
[{"$f":"'Interior Lighting Inventory'!C190","v":170},{"$f":"'Interior Lighting Inventory'!D190","v":0},{"$f":"'Interior Lighting Inventory'!E190","v":0},{"$f":"'Interior Lighting Inventory'!G190","v":0},{"$f":"'Interior Lighting Inventory'!H190","v":0},{"$f":"'Interior Lighting Inventory'!I190","v":0},{"$f":"'Interior Lighting Inventory'!J190","v":0},{"$f":"'Interior Lighting Inventory'!K190","v":"-"},{"$f":"'Interior Lighting Inventory'!M190","v":"-"},{"$f":"'Interior Lighting Inventory'!N190","v":0},{"$f":"'Interior Lighting Inventory'!O190","v":"0"}]
[{"$f":"'Interior Lighting Inventory'!C191","v":171},{"$f":"'Interior Lighting Inventory'!D191","v":0},{"$f":"'Interior Lighting Inventory'!E191","v":0},{"$f":"'Interior Lighting Inventory'!G191","v":0},{"$f":"'Interior Lighting Inventory'!H191","v":0},{"$f":"'Interior Lighting Inventory'!I191","v":0},{"$f":"'Interior Lighting Inventory'!J191","v":0},{"$f":"'Interior Lighting Inventory'!K191","v":"-"},{"$f":"'Interior Lighting Inventory'!M191","v":"-"},{"$f":"'Interior Lighting Inventory'!N191","v":0},{"$f":"'Interior Lighting Inventory'!O191","v":"0"}]
[{"$f":"'Interior Lighting Inventory'!C192","v":172},{"$f":"'Interior Lighting Inventory'!D192","v":0},{"$f":"'Interior Lighting Inventory'!E192","v":0},{"$f":"'Interior Lighting Inventory'!G192","v":0},{"$f":"'Interior Lighting Inventory'!H192","v":0},{"$f":"'Interior Lighting Inventory'!I192","v":0},{"$f":"'Interior Lighting Inventory'!J192","v":0},{"$f":"'Interior Lighting Inventory'!K192","v":"-"},{"$f":"'Interior Lighting Inventory'!M192","v":"-"},{"$f":"'Interior Lighting Inventory'!N192","v":0},{"$f":"'Interior Lighting Inventory'!O192","v":"0"}]
[{"$f":"'Interior Lighting Inventory'!C193","v":173},{"$f":"'Interior Lighting Inventory'!D193","v":0},{"$f":"'Interior Lighting Inventory'!E193","v":0},{"$f":"'Interior Lighting Inventory'!G193","v":0},{"$f":"'Interior Lighting Inventory'!H193","v":0},{"$f":"'Interior Lighting Inventory'!I193","v":0},{"$f":"'Interior Lighting Inventory'!J193","v":0},{"$f":"'Interior Lighting Inventory'!K193","v":"-"},{"$f":"'Interior Lighting Inventory'!M193","v":"-"},{"$f":"'Interior Lighting Inventory'!N193","v":0},{"$f":"'Interior Lighting Inventory'!O193","v":"0"}]
[{"$f":"'Interior Lighting Inventory'!C194","v":174},{"$f":"'Interior Lighting Inventory'!D194","v":0},{"$f":"'Interior Lighting Inventory'!E194","v":0},{"$f":"'Interior Lighting Inventory'!G194","v":0},{"$f":"'Interior Lighting Inventory'!H194","v":0},{"$f":"'Interior Lighting Inventory'!I194","v":0},{"$f":"'Interior Lighting Inventory'!J194","v":0},{"$f":"'Interior Lighting Inventory'!K194","v":"-"},{"$f":"'Interior Lighting Inventory'!M194","v":"-"},{"$f":"'Interior Lighting Inventory'!N194","v":0},{"$f":"'Interior Lighting Inventory'!O194","v":"0"}]
[{"$f":"'Interior Lighting Inventory'!C195","v":175},{"$f":"'Interior Lighting Inventory'!D195","v":0},{"$f":"'Interior Lighting Inventory'!E195","v":0},{"$f":"'Interior Lighting Inventory'!G195","v":0},{"$f":"'Interior Lighting Inventory'!H195","v":0},{"$f":"'Interior Lighting Inventory'!I195","v":0},{"$f":"'Interior Lighting Inventory'!J195","v":0},{"$f":"'Interior Lighting Inventory'!K195","v":"-"},{"$f":"'Interior Lighting Inventory'!M195","v":"-"},{"$f":"'Interior Lighting Inventory'!N195","v":0},{"$f":"'Interior Lighting Inventory'!O195","v":"0"}]
[{"$f":"'Interior Lighting Inventory'!C196","v":176},{"$f":"'Interior Lighting Inventory'!D196","v":0},{"$f":"'Interior Lighting Inventory'!E196","v":0},{"$f":"'Interior Lighting Inventory'!G196","v":0},{"$f":"'Interior Lighting Inventory'!H196","v":0},{"$f":"'Interior Lighting Inventory'!I196","v":0},{"$f":"'Interior Lighting Inventory'!J196","v":0},{"$f":"'Interior Lighting Inventory'!K196","v":"-"},{"$f":"'Interior Lighting Inventory'!M196","v":"-"},{"$f":"'Interior Lighting Inventory'!N196","v":0},{"$f":"'Interior Lighting Inventory'!O196","v":"0"}]
[{"$f":"'Interior Lighting Inventory'!C197","v":177},{"$f":"'Interior Lighting Inventory'!D197","v":0},{"$f":"'Interior Lighting Inventory'!E197","v":0},{"$f":"'Interior Lighting Inventory'!G197","v":0},{"$f":"'Interior Lighting Inventory'!H197","v":0},{"$f":"'Interior Lighting Inventory'!I197","v":0},{"$f":"'Interior Lighting Inventory'!J197","v":0},{"$f":"'Interior Lighting Inventory'!K197","v":"-"},{"$f":"'Interior Lighting Inventory'!M197","v":"-"},{"$f":"'Interior Lighting Inventory'!N197","v":0},{"$f":"'Interior Lighting Inventory'!O197","v":"0"}]
[{"$f":"'Interior Lighting Inventory'!C198","v":178},{"$f":"'Interior Lighting Inventory'!D198","v":0},{"$f":"'Interior Lighting Inventory'!E198","v":0},{"$f":"'Interior Lighting Inventory'!G198","v":0},{"$f":"'Interior Lighting Inventory'!H198","v":0},{"$f":"'Interior Lighting Inventory'!I198","v":0},{"$f":"'Interior Lighting Inventory'!J198","v":0},{"$f":"'Interior Lighting Inventory'!K198","v":"-"},{"$f":"'Interior Lighting Inventory'!M198","v":"-"},{"$f":"'Interior Lighting Inventory'!N198","v":0},{"$f":"'Interior Lighting Inventory'!O198","v":"0"}]
[{"$f":"'Interior Lighting Inventory'!C199","v":179},{"$f":"'Interior Lighting Inventory'!D199","v":0},{"$f":"'Interior Lighting Inventory'!E199","v":0},{"$f":"'Interior Lighting Inventory'!G199","v":0},{"$f":"'Interior Lighting Inventory'!H199","v":0},{"$f":"'Interior Lighting Inventory'!I199","v":0},{"$f":"'Interior Lighting Inventory'!J199","v":0},{"$f":"'Interior Lighting Inventory'!K199","v":"-"},{"$f":"'Interior Lighting Inventory'!M199","v":"-"},{"$f":"'Interior Lighting Inventory'!N199","v":0},{"$f":"'Interior Lighting Inventory'!O199","v":"0"}]
[{"$f":"'Interior Lighting Inventory'!C200","v":180},{"$f":"'Interior Lighting Inventory'!D200","v":0},{"$f":"'Interior Lighting Inventory'!E200","v":0},{"$f":"'Interior Lighting Inventory'!G200","v":0},{"$f":"'Interior Lighting Inventory'!H200","v":0},{"$f":"'Interior Lighting Inventory'!I200","v":0},{"$f":"'Interior Lighting Inventory'!J200","v":0},{"$f":"'Interior Lighting Inventory'!K200","v":"-"},{"$f":"'Interior Lighting Inventory'!M200","v":"-"},{"$f":"'Interior Lighting Inventory'!N200","v":0},{"$f":"'Interior Lighting Inventory'!O200","v":"0"}]
[{"$f":"'Interior Lighting Inventory'!C201","v":181},{"$f":"'Interior Lighting Inventory'!D201","v":0},{"$f":"'Interior Lighting Inventory'!E201","v":0},{"$f":"'Interior Lighting Inventory'!G201","v":0},{"$f":"'Interior Lighting Inventory'!H201","v":0},{"$f":"'Interior Lighting Inventory'!I201","v":0},{"$f":"'Interior Lighting Inventory'!J201","v":0},{"$f":"'Interior Lighting Inventory'!K201","v":"-"},{"$f":"'Interior Lighting Inventory'!M201","v":"-"},{"$f":"'Interior Lighting Inventory'!N201","v":0},{"$f":"'Interior Lighting Inventory'!O201","v":"0"}]
[{"$f":"'Interior Lighting Inventory'!C202","v":182},{"$f":"'Interior Lighting Inventory'!D202","v":0},{"$f":"'Interior Lighting Inventory'!E202","v":0},{"$f":"'Interior Lighting Inventory'!G202","v":0},{"$f":"'Interior Lighting Inventory'!H202","v":0},{"$f":"'Interior Lighting Inventory'!I202","v":0},{"$f":"'Interior Lighting Inventory'!J202","v":0},{"$f":"'Interior Lighting Inventory'!K202","v":"-"},{"$f":"'Interior Lighting Inventory'!M202","v":"-"},{"$f":"'Interior Lighting Inventory'!N202","v":0},{"$f":"'Interior Lighting Inventory'!O202","v":"0"}]
[{"$f":"'Interior Lighting Inventory'!C203","v":183},{"$f":"'Interior Lighting Inventory'!D203","v":0},{"$f":"'Interior Lighting Inventory'!E203","v":0},{"$f":"'Interior Lighting Inventory'!G203","v":0},{"$f":"'Interior Lighting Inventory'!H203","v":0},{"$f":"'Interior Lighting Inventory'!I203","v":0},{"$f":"'Interior Lighting Inventory'!J203","v":0},{"$f":"'Interior Lighting Inventory'!K203","v":"-"},{"$f":"'Interior Lighting Inventory'!M203","v":"-"},{"$f":"'Interior Lighting Inventory'!N203","v":0},{"$f":"'Interior Lighting Inventory'!O203","v":"0"}]
[{"$f":"'Interior Lighting Inventory'!C204","v":184},{"$f":"'Interior Lighting Inventory'!D204","v":0},{"$f":"'Interior Lighting Inventory'!E204","v":0},{"$f":"'Interior Lighting Inventory'!G204","v":0},{"$f":"'Interior Lighting Inventory'!H204","v":0},{"$f":"'Interior Lighting Inventory'!I204","v":0},{"$f":"'Interior Lighting Inventory'!J204","v":0},{"$f":"'Interior Lighting Inventory'!K204","v":"-"},{"$f":"'Interior Lighting Inventory'!M204","v":"-"},{"$f":"'Interior Lighting Inventory'!N204","v":0},{"$f":"'Interior Lighting Inventory'!O204","v":"0"}]
[{"$f":"'Interior Lighting Inventory'!C205","v":185},{"$f":"'Interior Lighting Inventory'!D205","v":0},{"$f":"'Interior Lighting Inventory'!E205","v":0},{"$f":"'Interior Lighting Inventory'!G205","v":0},{"$f":"'Interior Lighting Inventory'!H205","v":0},{"$f":"'Interior Lighting Inventory'!I205","v":0},{"$f":"'Interior Lighting Inventory'!J205","v":0},{"$f":"'Interior Lighting Inventory'!K205","v":"-"},{"$f":"'Interior Lighting Inventory'!M205","v":"-"},{"$f":"'Interior Lighting Inventory'!N205","v":0},{"$f":"'Interior Lighting Inventory'!O205","v":"0"}]
[{"$f":"'Interior Lighting Inventory'!C206","v":186},{"$f":"'Interior Lighting Inventory'!D206","v":0},{"$f":"'Interior Lighting Inventory'!E206","v":0},{"$f":"'Interior Lighting Inventory'!G206","v":0},{"$f":"'Interior Lighting Inventory'!H206","v":0},{"$f":"'Interior Lighting Inventory'!I206","v":0},{"$f":"'Interior Lighting Inventory'!J206","v":0},{"$f":"'Interior Lighting Inventory'!K206","v":"-"},{"$f":"'Interior Lighting Inventory'!M206","v":"-"},{"$f":"'Interior Lighting Inventory'!N206","v":0},{"$f":"'Interior Lighting Inventory'!O206","v":"0"}]
[{"$f":"'Interior Lighting Inventory'!C207","v":187},{"$f":"'Interior Lighting Inventory'!D207","v":0},{"$f":"'Interior Lighting Inventory'!E207","v":0},{"$f":"'Interior Lighting Inventory'!G207","v":0},{"$f":"'Interior Lighting Inventory'!H207","v":0},{"$f":"'Interior Lighting Inventory'!I207","v":0},{"$f":"'Interior Lighting Inventory'!J207","v":0},{"$f":"'Interior Lighting Inventory'!K207","v":"-"},{"$f":"'Interior Lighting Inventory'!M207","v":"-"},{"$f":"'Interior Lighting Inventory'!N207","v":0},{"$f":"'Interior Lighting Inventory'!O207","v":"0"}]
[{"$f":"'Interior Lighting Inventory'!C208","v":188},{"$f":"'Interior Lighting Inventory'!D208","v":0},{"$f":"'Interior Lighting Inventory'!E208","v":0},{"$f":"'Interior Lighting Inventory'!G208","v":0},{"$f":"'Interior Lighting Inventory'!H208","v":0},{"$f":"'Interior Lighting Inventory'!I208","v":0},{"$f":"'Interior Lighting Inventory'!J208","v":0},{"$f":"'Interior Lighting Inventory'!K208","v":"-"},{"$f":"'Interior Lighting Inventory'!M208","v":"-"},{"$f":"'Interior Lighting Inventory'!N208","v":0},{"$f":"'Interior Lighting Inventory'!O208","v":"0"}]
[{"$f":"'Interior Lighting Inventory'!C209","v":189},{"$f":"'Interior Lighting Inventory'!D209","v":0},{"$f":"'Interior Lighting Inventory'!E209","v":0},{"$f":"'Interior Lighting Inventory'!G209","v":0},{"$f":"'Interior Lighting Inventory'!H209","v":0},{"$f":"'Interior Lighting Inventory'!I209","v":0},{"$f":"'Interior Lighting Inventory'!J209","v":0},{"$f":"'Interior Lighting Inventory'!K209","v":"-"},{"$f":"'Interior Lighting Inventory'!M209","v":"-"},{"$f":"'Interior Lighting Inventory'!N209","v":0},{"$f":"'Interior Lighting Inventory'!O209","v":"0"}]
[{"$f":"'Interior Lighting Inventory'!C210","v":190},{"$f":"'Interior Lighting Inventory'!D210","v":0},{"$f":"'Interior Lighting Inventory'!E210","v":0},{"$f":"'Interior Lighting Inventory'!G210","v":0},{"$f":"'Interior Lighting Inventory'!H210","v":0},{"$f":"'Interior Lighting Inventory'!I210","v":0},{"$f":"'Interior Lighting Inventory'!J210","v":0},{"$f":"'Interior Lighting Inventory'!K210","v":"-"},{"$f":"'Interior Lighting Inventory'!M210","v":"-"},{"$f":"'Interior Lighting Inventory'!N210","v":0},{"$f":"'Interior Lighting Inventory'!O210","v":"0"}]
[{"$f":"'Interior Lighting Inventory'!C211","v":191},{"$f":"'Interior Lighting Inventory'!D211","v":0},{"$f":"'Interior Lighting Inventory'!E211","v":0},{"$f":"'Interior Lighting Inventory'!G211","v":0},{"$f":"'Interior Lighting Inventory'!H211","v":0},{"$f":"'Interior Lighting Inventory'!I211","v":0},{"$f":"'Interior Lighting Inventory'!J211","v":0},{"$f":"'Interior Lighting Inventory'!K211","v":"-"},{"$f":"'Interior Lighting Inventory'!M211","v":"-"},{"$f":"'Interior Lighting Inventory'!N211","v":0},{"$f":"'Interior Lighting Inventory'!O211","v":"0"}]
[{"$f":"'Interior Lighting Inventory'!C212","v":192},{"$f":"'Interior Lighting Inventory'!D212","v":0},{"$f":"'Interior Lighting Inventory'!E212","v":0},{"$f":"'Interior Lighting Inventory'!G212","v":0},{"$f":"'Interior Lighting Inventory'!H212","v":0},{"$f":"'Interior Lighting Inventory'!I212","v":0},{"$f":"'Interior Lighting Inventory'!J212","v":0},{"$f":"'Interior Lighting Inventory'!K212","v":"-"},{"$f":"'Interior Lighting Inventory'!M212","v":"-"},{"$f":"'Interior Lighting Inventory'!N212","v":0},{"$f":"'Interior Lighting Inventory'!O212","v":"0"}]
[{"$f":"'Interior Lighting Inventory'!C213","v":193},{"$f":"'Interior Lighting Inventory'!D213","v":0},{"$f":"'Interior Lighting Inventory'!E213","v":0},{"$f":"'Interior Lighting Inventory'!G213","v":0},{"$f":"'Interior Lighting Inventory'!H213","v":0},{"$f":"'Interior Lighting Inventory'!I213","v":0},{"$f":"'Interior Lighting Inventory'!J213","v":0},{"$f":"'Interior Lighting Inventory'!K213","v":"-"},{"$f":"'Interior Lighting Inventory'!M213","v":"-"},{"$f":"'Interior Lighting Inventory'!N213","v":0},{"$f":"'Interior Lighting Inventory'!O213","v":"0"}]
[{"$f":"'Interior Lighting Inventory'!C214","v":194},{"$f":"'Interior Lighting Inventory'!D214","v":0},{"$f":"'Interior Lighting Inventory'!E214","v":0},{"$f":"'Interior Lighting Inventory'!G214","v":0},{"$f":"'Interior Lighting Inventory'!H214","v":0},{"$f":"'Interior Lighting Inventory'!I214","v":0},{"$f":"'Interior Lighting Inventory'!J214","v":0},{"$f":"'Interior Lighting Inventory'!K214","v":"-"},{"$f":"'Interior Lighting Inventory'!M214","v":"-"},{"$f":"'Interior Lighting Inventory'!N214","v":0},{"$f":"'Interior Lighting Inventory'!O214","v":"0"}]
[{"$f":"'Interior Lighting Inventory'!C215","v":195},{"$f":"'Interior Lighting Inventory'!D215","v":0},{"$f":"'Interior Lighting Inventory'!E215","v":0},{"$f":"'Interior Lighting Inventory'!G215","v":0},{"$f":"'Interior Lighting Inventory'!H215","v":0},{"$f":"'Interior Lighting Inventory'!I215","v":0},{"$f":"'Interior Lighting Inventory'!J215","v":0},{"$f":"'Interior Lighting Inventory'!K215","v":"-"},{"$f":"'Interior Lighting Inventory'!M215","v":"-"},{"$f":"'Interior Lighting Inventory'!N215","v":0},{"$f":"'Interior Lighting Inventory'!O215","v":"0"}]
[{"$f":"'Interior Lighting Inventory'!C216","v":196},{"$f":"'Interior Lighting Inventory'!D216","v":0},{"$f":"'Interior Lighting Inventory'!E216","v":0},{"$f":"'Interior Lighting Inventory'!G216","v":0},{"$f":"'Interior Lighting Inventory'!H216","v":0},{"$f":"'Interior Lighting Inventory'!I216","v":0},{"$f":"'Interior Lighting Inventory'!J216","v":0},{"$f":"'Interior Lighting Inventory'!K216","v":"-"},{"$f":"'Interior Lighting Inventory'!M216","v":"-"},{"$f":"'Interior Lighting Inventory'!N216","v":0},{"$f":"'Interior Lighting Inventory'!O216","v":"0"}]
[{"$f":"'Interior Lighting Inventory'!C217","v":197},{"$f":"'Interior Lighting Inventory'!D217","v":0},{"$f":"'Interior Lighting Inventory'!E217","v":0},{"$f":"'Interior Lighting Inventory'!G217","v":0},{"$f":"'Interior Lighting Inventory'!H217","v":0},{"$f":"'Interior Lighting Inventory'!I217","v":0},{"$f":"'Interior Lighting Inventory'!J217","v":0},{"$f":"'Interior Lighting Inventory'!K217","v":"-"},{"$f":"'Interior Lighting Inventory'!M217","v":"-"},{"$f":"'Interior Lighting Inventory'!N217","v":0},{"$f":"'Interior Lighting Inventory'!O217","v":"0"}]
[{"$f":"'Interior Lighting Inventory'!C218","v":198},{"$f":"'Interior Lighting Inventory'!D218","v":0},{"$f":"'Interior Lighting Inventory'!E218","v":0},{"$f":"'Interior Lighting Inventory'!G218","v":0},{"$f":"'Interior Lighting Inventory'!H218","v":0},{"$f":"'Interior Lighting Inventory'!I218","v":0},{"$f":"'Interior Lighting Inventory'!J218","v":0},{"$f":"'Interior Lighting Inventory'!K218","v":"-"},{"$f":"'Interior Lighting Inventory'!M218","v":"-"},{"$f":"'Interior Lighting Inventory'!N218","v":0},{"$f":"'Interior Lighting Inventory'!O218","v":"0"}]
[{"$f":"'Interior Lighting Inventory'!C219","v":199},{"$f":"'Interior Lighting Inventory'!D219","v":0},{"$f":"'Interior Lighting Inventory'!E219","v":0},{"$f":"'Interior Lighting Inventory'!G219","v":0},{"$f":"'Interior Lighting Inventory'!H219","v":0},{"$f":"'Interior Lighting Inventory'!I219","v":0},{"$f":"'Interior Lighting Inventory'!J219","v":0},{"$f":"'Interior Lighting Inventory'!K219","v":"-"},{"$f":"'Interior Lighting Inventory'!M219","v":"-"},{"$f":"'Interior Lighting Inventory'!N219","v":0},{"$f":"'Interior Lighting Inventory'!O219","v":"0"}]
[{"$f":"'Interior Lighting Inventory'!C220","v":200},{"$f":"'Interior Lighting Inventory'!D220","v":0},{"$f":"'Interior Lighting Inventory'!E220","v":0},{"$f":"'Interior Lighting Inventory'!G220","v":0},{"$f":"'Interior Lighting Inventory'!H220","v":0},{"$f":"'Interior Lighting Inventory'!I220","v":0},{"$f":"'Interior Lighting Inventory'!J220","v":0},{"$f":"'Interior Lighting Inventory'!K220","v":"-"},{"$f":"'Interior Lighting Inventory'!M220","v":"-"},{"$f":"'Interior Lighting Inventory'!N220","v":0},{"$f":"'Interior Lighting Inventory'!O220","v":"0"}]
[{"$f":"'Interior Lighting Inventory'!C221","v":201},{"$f":"'Interior Lighting Inventory'!D221","v":0},{"$f":"'Interior Lighting Inventory'!E221","v":0},{"$f":"'Interior Lighting Inventory'!G221","v":0},{"$f":"'Interior Lighting Inventory'!H221","v":0},{"$f":"'Interior Lighting Inventory'!I221","v":0},{"$f":"'Interior Lighting Inventory'!J221","v":0},{"$f":"'Interior Lighting Inventory'!K221","v":"-"},{"$f":"'Interior Lighting Inventory'!M221","v":"-"},{"$f":"'Interior Lighting Inventory'!N221","v":0},{"$f":"'Interior Lighting Inventory'!O221","v":"0"}]
[{"$f":"'Interior Lighting Inventory'!C222","v":202},{"$f":"'Interior Lighting Inventory'!D222","v":0},{"$f":"'Interior Lighting Inventory'!E222","v":0},{"$f":"'Interior Lighting Inventory'!G222","v":0},{"$f":"'Interior Lighting Inventory'!H222","v":0},{"$f":"'Interior Lighting Inventory'!I222","v":0},{"$f":"'Interior Lighting Inventory'!J222","v":0},{"$f":"'Interior Lighting Inventory'!K222","v":"-"},{"$f":"'Interior Lighting Inventory'!M222","v":"-"},{"$f":"'Interior Lighting Inventory'!N222","v":0},{"$f":"'Interior Lighting Inventory'!O222","v":"0"}]
[{"$f":"'Interior Lighting Inventory'!C223","v":203},{"$f":"'Interior Lighting Inventory'!D223","v":0},{"$f":"'Interior Lighting Inventory'!E223","v":0},{"$f":"'Interior Lighting Inventory'!G223","v":0},{"$f":"'Interior Lighting Inventory'!H223","v":0},{"$f":"'Interior Lighting Inventory'!I223","v":0},{"$f":"'Interior Lighting Inventory'!J223","v":0},{"$f":"'Interior Lighting Inventory'!K223","v":"-"},{"$f":"'Interior Lighting Inventory'!M223","v":"-"},{"$f":"'Interior Lighting Inventory'!N223","v":0},{"$f":"'Interior Lighting Inventory'!O223","v":"0"}]
[{"$f":"'Interior Lighting Inventory'!C224","v":204},{"$f":"'Interior Lighting Inventory'!D224","v":0},{"$f":"'Interior Lighting Inventory'!E224","v":0},{"$f":"'Interior Lighting Inventory'!G224","v":0},{"$f":"'Interior Lighting Inventory'!H224","v":0},{"$f":"'Interior Lighting Inventory'!I224","v":0},{"$f":"'Interior Lighting Inventory'!J224","v":0},{"$f":"'Interior Lighting Inventory'!K224","v":"-"},{"$f":"'Interior Lighting Inventory'!M224","v":"-"},{"$f":"'Interior Lighting Inventory'!N224","v":0},{"$f":"'Interior Lighting Inventory'!O224","v":"0"}]
[{"$f":"'Interior Lighting Inventory'!C225","v":205},{"$f":"'Interior Lighting Inventory'!D225","v":0},{"$f":"'Interior Lighting Inventory'!E225","v":0},{"$f":"'Interior Lighting Inventory'!G225","v":0},{"$f":"'Interior Lighting Inventory'!H225","v":0},{"$f":"'Interior Lighting Inventory'!I225","v":0},{"$f":"'Interior Lighting Inventory'!J225","v":0},{"$f":"'Interior Lighting Inventory'!K225","v":"-"},{"$f":"'Interior Lighting Inventory'!M225","v":"-"},{"$f":"'Interior Lighting Inventory'!N225","v":0},{"$f":"'Interior Lighting Inventory'!O225","v":"0"}]
[{"$f":"'Interior Lighting Inventory'!C226","v":206},{"$f":"'Interior Lighting Inventory'!D226","v":0},{"$f":"'Interior Lighting Inventory'!E226","v":0},{"$f":"'Interior Lighting Inventory'!G226","v":0},{"$f":"'Interior Lighting Inventory'!H226","v":0},{"$f":"'Interior Lighting Inventory'!I226","v":0},{"$f":"'Interior Lighting Inventory'!J226","v":0},{"$f":"'Interior Lighting Inventory'!K226","v":"-"},{"$f":"'Interior Lighting Inventory'!M226","v":"-"},{"$f":"'Interior Lighting Inventory'!N226","v":0},{"$f":"'Interior Lighting Inventory'!O226","v":"0"}]
[{"$f":"'Interior Lighting Inventory'!C227","v":207},{"$f":"'Interior Lighting Inventory'!D227","v":0},{"$f":"'Interior Lighting Inventory'!E227","v":0},{"$f":"'Interior Lighting Inventory'!G227","v":0},{"$f":"'Interior Lighting Inventory'!H227","v":0},{"$f":"'Interior Lighting Inventory'!I227","v":0},{"$f":"'Interior Lighting Inventory'!J227","v":0},{"$f":"'Interior Lighting Inventory'!K227","v":"-"},{"$f":"'Interior Lighting Inventory'!M227","v":"-"},{"$f":"'Interior Lighting Inventory'!N227","v":0},{"$f":"'Interior Lighting Inventory'!O227","v":"0"}]
[{"$f":"'Interior Lighting Inventory'!C228","v":208},{"$f":"'Interior Lighting Inventory'!D228","v":0},{"$f":"'Interior Lighting Inventory'!E228","v":0},{"$f":"'Interior Lighting Inventory'!G228","v":0},{"$f":"'Interior Lighting Inventory'!H228","v":0},{"$f":"'Interior Lighting Inventory'!I228","v":0},{"$f":"'Interior Lighting Inventory'!J228","v":0},{"$f":"'Interior Lighting Inventory'!K228","v":"-"},{"$f":"'Interior Lighting Inventory'!M228","v":"-"},{"$f":"'Interior Lighting Inventory'!N228","v":0},{"$f":"'Interior Lighting Inventory'!O228","v":"0"}]
[{"$f":"'Interior Lighting Inventory'!C229","v":209},{"$f":"'Interior Lighting Inventory'!D229","v":0},{"$f":"'Interior Lighting Inventory'!E229","v":0},{"$f":"'Interior Lighting Inventory'!G229","v":0},{"$f":"'Interior Lighting Inventory'!H229","v":0},{"$f":"'Interior Lighting Inventory'!I229","v":0},{"$f":"'Interior Lighting Inventory'!J229","v":0},{"$f":"'Interior Lighting Inventory'!K229","v":"-"},{"$f":"'Interior Lighting Inventory'!M229","v":"-"},{"$f":"'Interior Lighting Inventory'!N229","v":0},{"$f":"'Interior Lighting Inventory'!O229","v":"0"}]
[{"$f":"'Interior Lighting Inventory'!C230","v":210},{"$f":"'Interior Lighting Inventory'!D230","v":0},{"$f":"'Interior Lighting Inventory'!E230","v":0},{"$f":"'Interior Lighting Inventory'!G230","v":0},{"$f":"'Interior Lighting Inventory'!H230","v":0},{"$f":"'Interior Lighting Inventory'!I230","v":0},{"$f":"'Interior Lighting Inventory'!J230","v":0},{"$f":"'Interior Lighting Inventory'!K230","v":"-"},{"$f":"'Interior Lighting Inventory'!M230","v":"-"},{"$f":"'Interior Lighting Inventory'!N230","v":0},{"$f":"'Interior Lighting Inventory'!O230","v":"0"}]
[{"$f":"'Interior Lighting Inventory'!C231","v":211},{"$f":"'Interior Lighting Inventory'!D231","v":0},{"$f":"'Interior Lighting Inventory'!E231","v":0},{"$f":"'Interior Lighting Inventory'!G231","v":0},{"$f":"'Interior Lighting Inventory'!H231","v":0},{"$f":"'Interior Lighting Inventory'!I231","v":0},{"$f":"'Interior Lighting Inventory'!J231","v":0},{"$f":"'Interior Lighting Inventory'!K231","v":"-"},{"$f":"'Interior Lighting Inventory'!M231","v":"-"},{"$f":"'Interior Lighting Inventory'!N231","v":0},{"$f":"'Interior Lighting Inventory'!O231","v":"0"}]
[{"$f":"'Interior Lighting Inventory'!C232","v":212},{"$f":"'Interior Lighting Inventory'!D232","v":0},{"$f":"'Interior Lighting Inventory'!E232","v":0},{"$f":"'Interior Lighting Inventory'!G232","v":0},{"$f":"'Interior Lighting Inventory'!H232","v":0},{"$f":"'Interior Lighting Inventory'!I232","v":0},{"$f":"'Interior Lighting Inventory'!J232","v":0},{"$f":"'Interior Lighting Inventory'!K232","v":"-"},{"$f":"'Interior Lighting Inventory'!M232","v":"-"},{"$f":"'Interior Lighting Inventory'!N232","v":0},{"$f":"'Interior Lighting Inventory'!O232","v":"0"}]
[{"$f":"'Interior Lighting Inventory'!C233","v":213},{"$f":"'Interior Lighting Inventory'!D233","v":0},{"$f":"'Interior Lighting Inventory'!E233","v":0},{"$f":"'Interior Lighting Inventory'!G233","v":0},{"$f":"'Interior Lighting Inventory'!H233","v":0},{"$f":"'Interior Lighting Inventory'!I233","v":0},{"$f":"'Interior Lighting Inventory'!J233","v":0},{"$f":"'Interior Lighting Inventory'!K233","v":"-"},{"$f":"'Interior Lighting Inventory'!M233","v":"-"},{"$f":"'Interior Lighting Inventory'!N233","v":0},{"$f":"'Interior Lighting Inventory'!O233","v":"0"}]
[{"$f":"'Interior Lighting Inventory'!C234","v":214},{"$f":"'Interior Lighting Inventory'!D234","v":0},{"$f":"'Interior Lighting Inventory'!E234","v":0},{"$f":"'Interior Lighting Inventory'!G234","v":0},{"$f":"'Interior Lighting Inventory'!H234","v":0},{"$f":"'Interior Lighting Inventory'!I234","v":0},{"$f":"'Interior Lighting Inventory'!J234","v":0},{"$f":"'Interior Lighting Inventory'!K234","v":"-"},{"$f":"'Interior Lighting Inventory'!M234","v":"-"},{"$f":"'Interior Lighting Inventory'!N234","v":0},{"$f":"'Interior Lighting Inventory'!O234","v":"0"}]
[{"$f":"'Interior Lighting Inventory'!C235","v":215},{"$f":"'Interior Lighting Inventory'!D235","v":0},{"$f":"'Interior Lighting Inventory'!E235","v":0},{"$f":"'Interior Lighting Inventory'!G235","v":0},{"$f":"'Interior Lighting Inventory'!H235","v":0},{"$f":"'Interior Lighting Inventory'!I235","v":0},{"$f":"'Interior Lighting Inventory'!J235","v":0},{"$f":"'Interior Lighting Inventory'!K235","v":"-"},{"$f":"'Interior Lighting Inventory'!M235","v":"-"},{"$f":"'Interior Lighting Inventory'!N235","v":0},{"$f":"'Interior Lighting Inventory'!O235","v":"0"}]
[{"$f":"'Interior Lighting Inventory'!C236","v":216},{"$f":"'Interior Lighting Inventory'!D236","v":0},{"$f":"'Interior Lighting Inventory'!E236","v":0},{"$f":"'Interior Lighting Inventory'!G236","v":0},{"$f":"'Interior Lighting Inventory'!H236","v":0},{"$f":"'Interior Lighting Inventory'!I236","v":0},{"$f":"'Interior Lighting Inventory'!J236","v":0},{"$f":"'Interior Lighting Inventory'!K236","v":"-"},{"$f":"'Interior Lighting Inventory'!M236","v":"-"},{"$f":"'Interior Lighting Inventory'!N236","v":0},{"$f":"'Interior Lighting Inventory'!O236","v":"0"}]
[{"$f":"'Interior Lighting Inventory'!C237","v":217},{"$f":"'Interior Lighting Inventory'!D237","v":0},{"$f":"'Interior Lighting Inventory'!E237","v":0},{"$f":"'Interior Lighting Inventory'!G237","v":0},{"$f":"'Interior Lighting Inventory'!H237","v":0},{"$f":"'Interior Lighting Inventory'!I237","v":0},{"$f":"'Interior Lighting Inventory'!J237","v":0},{"$f":"'Interior Lighting Inventory'!K237","v":"-"},{"$f":"'Interior Lighting Inventory'!M237","v":"-"},{"$f":"'Interior Lighting Inventory'!N237","v":0},{"$f":"'Interior Lighting Inventory'!O237","v":"0"}]
[{"$f":"'Interior Lighting Inventory'!C238","v":218},{"$f":"'Interior Lighting Inventory'!D238","v":0},{"$f":"'Interior Lighting Inventory'!E238","v":0},{"$f":"'Interior Lighting Inventory'!G238","v":0},{"$f":"'Interior Lighting Inventory'!H238","v":0},{"$f":"'Interior Lighting Inventory'!I238","v":0},{"$f":"'Interior Lighting Inventory'!J238","v":0},{"$f":"'Interior Lighting Inventory'!K238","v":"-"},{"$f":"'Interior Lighting Inventory'!M238","v":"-"},{"$f":"'Interior Lighting Inventory'!N238","v":0},{"$f":"'Interior Lighting Inventory'!O238","v":"0"}]
[{"$f":"'Interior Lighting Inventory'!C239","v":219},{"$f":"'Interior Lighting Inventory'!D239","v":0},{"$f":"'Interior Lighting Inventory'!E239","v":0},{"$f":"'Interior Lighting Inventory'!G239","v":0},{"$f":"'Interior Lighting Inventory'!H239","v":0},{"$f":"'Interior Lighting Inventory'!I239","v":0},{"$f":"'Interior Lighting Inventory'!J239","v":0},{"$f":"'Interior Lighting Inventory'!K239","v":"-"},{"$f":"'Interior Lighting Inventory'!M239","v":"-"},{"$f":"'Interior Lighting Inventory'!N239","v":0},{"$f":"'Interior Lighting Inventory'!O239","v":"0"}]
[{"$f":"'Interior Lighting Inventory'!C240","v":220},{"$f":"'Interior Lighting Inventory'!D240","v":0},{"$f":"'Interior Lighting Inventory'!E240","v":0},{"$f":"'Interior Lighting Inventory'!G240","v":0},{"$f":"'Interior Lighting Inventory'!H240","v":0},{"$f":"'Interior Lighting Inventory'!I240","v":0},{"$f":"'Interior Lighting Inventory'!J240","v":0},{"$f":"'Interior Lighting Inventory'!K240","v":"-"},{"$f":"'Interior Lighting Inventory'!M240","v":"-"},{"$f":"'Interior Lighting Inventory'!N240","v":0},{"$f":"'Interior Lighting Inventory'!O240","v":"0"}]
[{"$f":"'Interior Lighting Inventory'!C241","v":221},{"$f":"'Interior Lighting Inventory'!D241","v":0},{"$f":"'Interior Lighting Inventory'!E241","v":0},{"$f":"'Interior Lighting Inventory'!G241","v":0},{"$f":"'Interior Lighting Inventory'!H241","v":0},{"$f":"'Interior Lighting Inventory'!I241","v":0},{"$f":"'Interior Lighting Inventory'!J241","v":0},{"$f":"'Interior Lighting Inventory'!K241","v":"-"},{"$f":"'Interior Lighting Inventory'!M241","v":"-"},{"$f":"'Interior Lighting Inventory'!N241","v":0},{"$f":"'Interior Lighting Inventory'!O241","v":"0"}]
[{"$f":"'Interior Lighting Inventory'!C242","v":222},{"$f":"'Interior Lighting Inventory'!D242","v":0},{"$f":"'Interior Lighting Inventory'!E242","v":0},{"$f":"'Interior Lighting Inventory'!G242","v":0},{"$f":"'Interior Lighting Inventory'!H242","v":0},{"$f":"'Interior Lighting Inventory'!I242","v":0},{"$f":"'Interior Lighting Inventory'!J242","v":0},{"$f":"'Interior Lighting Inventory'!K242","v":"-"},{"$f":"'Interior Lighting Inventory'!M242","v":"-"},{"$f":"'Interior Lighting Inventory'!N242","v":0},{"$f":"'Interior Lighting Inventory'!O242","v":"0"}]
[{"$f":"'Interior Lighting Inventory'!C243","v":223},{"$f":"'Interior Lighting Inventory'!D243","v":0},{"$f":"'Interior Lighting Inventory'!E243","v":0},{"$f":"'Interior Lighting Inventory'!G243","v":0},{"$f":"'Interior Lighting Inventory'!H243","v":0},{"$f":"'Interior Lighting Inventory'!I243","v":0},{"$f":"'Interior Lighting Inventory'!J243","v":0},{"$f":"'Interior Lighting Inventory'!K243","v":"-"},{"$f":"'Interior Lighting Inventory'!M243","v":"-"},{"$f":"'Interior Lighting Inventory'!N243","v":0},{"$f":"'Interior Lighting Inventory'!O243","v":"0"}]
[{"$f":"'Interior Lighting Inventory'!C244","v":224},{"$f":"'Interior Lighting Inventory'!D244","v":0},{"$f":"'Interior Lighting Inventory'!E244","v":0},{"$f":"'Interior Lighting Inventory'!G244","v":0},{"$f":"'Interior Lighting Inventory'!H244","v":0},{"$f":"'Interior Lighting Inventory'!I244","v":0},{"$f":"'Interior Lighting Inventory'!J244","v":0},{"$f":"'Interior Lighting Inventory'!K244","v":"-"},{"$f":"'Interior Lighting Inventory'!M244","v":"-"},{"$f":"'Interior Lighting Inventory'!N244","v":0},{"$f":"'Interior Lighting Inventory'!O244","v":"0"}]
[{"$f":"'Interior Lighting Inventory'!C245","v":225},{"$f":"'Interior Lighting Inventory'!D245","v":0},{"$f":"'Interior Lighting Inventory'!E245","v":0},{"$f":"'Interior Lighting Inventory'!G245","v":0},{"$f":"'Interior Lighting Inventory'!H245","v":0},{"$f":"'Interior Lighting Inventory'!I245","v":0},{"$f":"'Interior Lighting Inventory'!J245","v":0},{"$f":"'Interior Lighting Inventory'!K245","v":"-"},{"$f":"'Interior Lighting Inventory'!M245","v":"-"},{"$f":"'Interior Lighting Inventory'!N245","v":0},{"$f":"'Interior Lighting Inventory'!O245","v":"0"}]
[{"$f":"'Interior Lighting Inventory'!C246","v":226},{"$f":"'Interior Lighting Inventory'!D246","v":0},{"$f":"'Interior Lighting Inventory'!E246","v":0},{"$f":"'Interior Lighting Inventory'!G246","v":0},{"$f":"'Interior Lighting Inventory'!H246","v":0},{"$f":"'Interior Lighting Inventory'!I246","v":0},{"$f":"'Interior Lighting Inventory'!J246","v":0},{"$f":"'Interior Lighting Inventory'!K246","v":"-"},{"$f":"'Interior Lighting Inventory'!M246","v":"-"},{"$f":"'Interior Lighting Inventory'!N246","v":0},{"$f":"'Interior Lighting Inventory'!O246","v":"0"}]
[{"$f":"'Interior Lighting Inventory'!C247","v":227},{"$f":"'Interior Lighting Inventory'!D247","v":0},{"$f":"'Interior Lighting Inventory'!E247","v":0},{"$f":"'Interior Lighting Inventory'!G247","v":0},{"$f":"'Interior Lighting Inventory'!H247","v":0},{"$f":"'Interior Lighting Inventory'!I247","v":0},{"$f":"'Interior Lighting Inventory'!J247","v":0},{"$f":"'Interior Lighting Inventory'!K247","v":"-"},{"$f":"'Interior Lighting Inventory'!M247","v":"-"},{"$f":"'Interior Lighting Inventory'!N247","v":0},{"$f":"'Interior Lighting Inventory'!O247","v":"0"}]
[{"$f":"'Interior Lighting Inventory'!C248","v":228},{"$f":"'Interior Lighting Inventory'!D248","v":0},{"$f":"'Interior Lighting Inventory'!E248","v":0},{"$f":"'Interior Lighting Inventory'!G248","v":0},{"$f":"'Interior Lighting Inventory'!H248","v":0},{"$f":"'Interior Lighting Inventory'!I248","v":0},{"$f":"'Interior Lighting Inventory'!J248","v":0},{"$f":"'Interior Lighting Inventory'!K248","v":"-"},{"$f":"'Interior Lighting Inventory'!M248","v":"-"},{"$f":"'Interior Lighting Inventory'!N248","v":0},{"$f":"'Interior Lighting Inventory'!O248","v":"0"}]
[{"$f":"'Interior Lighting Inventory'!C249","v":229},{"$f":"'Interior Lighting Inventory'!D249","v":0},{"$f":"'Interior Lighting Inventory'!E249","v":0},{"$f":"'Interior Lighting Inventory'!G249","v":0},{"$f":"'Interior Lighting Inventory'!H249","v":0},{"$f":"'Interior Lighting Inventory'!I249","v":0},{"$f":"'Interior Lighting Inventory'!J249","v":0},{"$f":"'Interior Lighting Inventory'!K249","v":"-"},{"$f":"'Interior Lighting Inventory'!M249","v":"-"},{"$f":"'Interior Lighting Inventory'!N249","v":0},{"$f":"'Interior Lighting Inventory'!O249","v":"0"}]
[{"$f":"'Interior Lighting Inventory'!C250","v":230},{"$f":"'Interior Lighting Inventory'!D250","v":0},{"$f":"'Interior Lighting Inventory'!E250","v":0},{"$f":"'Interior Lighting Inventory'!G250","v":0},{"$f":"'Interior Lighting Inventory'!H250","v":0},{"$f":"'Interior Lighting Inventory'!I250","v":0},{"$f":"'Interior Lighting Inventory'!J250","v":0},{"$f":"'Interior Lighting Inventory'!K250","v":"-"},{"$f":"'Interior Lighting Inventory'!M250","v":"-"},{"$f":"'Interior Lighting Inventory'!N250","v":0},{"$f":"'Interior Lighting Inventory'!O250","v":"0"}]
[{"$f":"'Interior Lighting Inventory'!C251","v":231},{"$f":"'Interior Lighting Inventory'!D251","v":0},{"$f":"'Interior Lighting Inventory'!E251","v":0},{"$f":"'Interior Lighting Inventory'!G251","v":0},{"$f":"'Interior Lighting Inventory'!H251","v":0},{"$f":"'Interior Lighting Inventory'!I251","v":0},{"$f":"'Interior Lighting Inventory'!J251","v":0},{"$f":"'Interior Lighting Inventory'!K251","v":"-"},{"$f":"'Interior Lighting Inventory'!M251","v":"-"},{"$f":"'Interior Lighting Inventory'!N251","v":0},{"$f":"'Interior Lighting Inventory'!O251","v":"0"}]
[{"$f":"'Interior Lighting Inventory'!C252","v":232},{"$f":"'Interior Lighting Inventory'!D252","v":0},{"$f":"'Interior Lighting Inventory'!E252","v":0},{"$f":"'Interior Lighting Inventory'!G252","v":0},{"$f":"'Interior Lighting Inventory'!H252","v":0},{"$f":"'Interior Lighting Inventory'!I252","v":0},{"$f":"'Interior Lighting Inventory'!J252","v":0},{"$f":"'Interior Lighting Inventory'!K252","v":"-"},{"$f":"'Interior Lighting Inventory'!M252","v":"-"},{"$f":"'Interior Lighting Inventory'!N252","v":0},{"$f":"'Interior Lighting Inventory'!O252","v":"0"}]
[{"$f":"'Interior Lighting Inventory'!C253","v":233},{"$f":"'Interior Lighting Inventory'!D253","v":0},{"$f":"'Interior Lighting Inventory'!E253","v":0},{"$f":"'Interior Lighting Inventory'!G253","v":0},{"$f":"'Interior Lighting Inventory'!H253","v":0},{"$f":"'Interior Lighting Inventory'!I253","v":0},{"$f":"'Interior Lighting Inventory'!J253","v":0},{"$f":"'Interior Lighting Inventory'!K253","v":"-"},{"$f":"'Interior Lighting Inventory'!M253","v":"-"},{"$f":"'Interior Lighting Inventory'!N253","v":0},{"$f":"'Interior Lighting Inventory'!O253","v":"0"}]
[{"$f":"'Interior Lighting Inventory'!C254","v":234},{"$f":"'Interior Lighting Inventory'!D254","v":0},{"$f":"'Interior Lighting Inventory'!E254","v":0},{"$f":"'Interior Lighting Inventory'!G254","v":0},{"$f":"'Interior Lighting Inventory'!H254","v":0},{"$f":"'Interior Lighting Inventory'!I254","v":0},{"$f":"'Interior Lighting Inventory'!J254","v":0},{"$f":"'Interior Lighting Inventory'!K254","v":"-"},{"$f":"'Interior Lighting Inventory'!M254","v":"-"},{"$f":"'Interior Lighting Inventory'!N254","v":0},{"$f":"'Interior Lighting Inventory'!O254","v":"0"}]
[{"$f":"'Interior Lighting Inventory'!C255","v":235},{"$f":"'Interior Lighting Inventory'!D255","v":0},{"$f":"'Interior Lighting Inventory'!E255","v":0},{"$f":"'Interior Lighting Inventory'!G255","v":0},{"$f":"'Interior Lighting Inventory'!H255","v":0},{"$f":"'Interior Lighting Inventory'!I255","v":0},{"$f":"'Interior Lighting Inventory'!J255","v":0},{"$f":"'Interior Lighting Inventory'!K255","v":"-"},{"$f":"'Interior Lighting Inventory'!M255","v":"-"},{"$f":"'Interior Lighting Inventory'!N255","v":0},{"$f":"'Interior Lighting Inventory'!O255","v":"0"}]
[{"$f":"'Interior Lighting Inventory'!C256","v":236},{"$f":"'Interior Lighting Inventory'!D256","v":0},{"$f":"'Interior Lighting Inventory'!E256","v":0},{"$f":"'Interior Lighting Inventory'!G256","v":0},{"$f":"'Interior Lighting Inventory'!H256","v":0},{"$f":"'Interior Lighting Inventory'!I256","v":0},{"$f":"'Interior Lighting Inventory'!J256","v":0},{"$f":"'Interior Lighting Inventory'!K256","v":"-"},{"$f":"'Interior Lighting Inventory'!M256","v":"-"},{"$f":"'Interior Lighting Inventory'!N256","v":0},{"$f":"'Interior Lighting Inventory'!O256","v":"0"}]
[{"$f":"'Interior Lighting Inventory'!C257","v":237},{"$f":"'Interior Lighting Inventory'!D257","v":0},{"$f":"'Interior Lighting Inventory'!E257","v":0},{"$f":"'Interior Lighting Inventory'!G257","v":0},{"$f":"'Interior Lighting Inventory'!H257","v":0},{"$f":"'Interior Lighting Inventory'!I257","v":0},{"$f":"'Interior Lighting Inventory'!J257","v":0},{"$f":"'Interior Lighting Inventory'!K257","v":"-"},{"$f":"'Interior Lighting Inventory'!M257","v":"-"},{"$f":"'Interior Lighting Inventory'!N257","v":0},{"$f":"'Interior Lighting Inventory'!O257","v":"0"}]
[{"$f":"'Interior Lighting Inventory'!C258","v":238},{"$f":"'Interior Lighting Inventory'!D258","v":0},{"$f":"'Interior Lighting Inventory'!E258","v":0},{"$f":"'Interior Lighting Inventory'!G258","v":0},{"$f":"'Interior Lighting Inventory'!H258","v":0},{"$f":"'Interior Lighting Inventory'!I258","v":0},{"$f":"'Interior Lighting Inventory'!J258","v":0},{"$f":"'Interior Lighting Inventory'!K258","v":"-"},{"$f":"'Interior Lighting Inventory'!M258","v":"-"},{"$f":"'Interior Lighting Inventory'!N258","v":0},{"$f":"'Interior Lighting Inventory'!O258","v":"0"}]
[{"$f":"'Interior Lighting Inventory'!C259","v":239},{"$f":"'Interior Lighting Inventory'!D259","v":0},{"$f":"'Interior Lighting Inventory'!E259","v":0},{"$f":"'Interior Lighting Inventory'!G259","v":0},{"$f":"'Interior Lighting Inventory'!H259","v":0},{"$f":"'Interior Lighting Inventory'!I259","v":0},{"$f":"'Interior Lighting Inventory'!J259","v":0},{"$f":"'Interior Lighting Inventory'!K259","v":"-"},{"$f":"'Interior Lighting Inventory'!M259","v":"-"},{"$f":"'Interior Lighting Inventory'!N259","v":0},{"$f":"'Interior Lighting Inventory'!O259","v":"0"}]
[{"$f":"'Interior Lighting Inventory'!C260","v":240},{"$f":"'Interior Lighting Inventory'!D260","v":0},{"$f":"'Interior Lighting Inventory'!E260","v":0},{"$f":"'Interior Lighting Inventory'!G260","v":0},{"$f":"'Interior Lighting Inventory'!H260","v":0},{"$f":"'Interior Lighting Inventory'!I260","v":0},{"$f":"'Interior Lighting Inventory'!J260","v":0},{"$f":"'Interior Lighting Inventory'!K260","v":"-"},{"$f":"'Interior Lighting Inventory'!M260","v":"-"},{"$f":"'Interior Lighting Inventory'!N260","v":0},{"$f":"'Interior Lighting Inventory'!O260","v":"0"}]
[{"$f":"'Interior Lighting Inventory'!C261","v":241},{"$f":"'Interior Lighting Inventory'!D261","v":0},{"$f":"'Interior Lighting Inventory'!E261","v":0},{"$f":"'Interior Lighting Inventory'!G261","v":0},{"$f":"'Interior Lighting Inventory'!H261","v":0},{"$f":"'Interior Lighting Inventory'!I261","v":0},{"$f":"'Interior Lighting Inventory'!J261","v":0},{"$f":"'Interior Lighting Inventory'!K261","v":"-"},{"$f":"'Interior Lighting Inventory'!M261","v":"-"},{"$f":"'Interior Lighting Inventory'!N261","v":0},{"$f":"'Interior Lighting Inventory'!O261","v":"0"}]
[{"$f":"'Interior Lighting Inventory'!C262","v":242},{"$f":"'Interior Lighting Inventory'!D262","v":0},{"$f":"'Interior Lighting Inventory'!E262","v":0},{"$f":"'Interior Lighting Inventory'!G262","v":0},{"$f":"'Interior Lighting Inventory'!H262","v":0},{"$f":"'Interior Lighting Inventory'!I262","v":0},{"$f":"'Interior Lighting Inventory'!J262","v":0},{"$f":"'Interior Lighting Inventory'!K262","v":"-"},{"$f":"'Interior Lighting Inventory'!M262","v":"-"},{"$f":"'Interior Lighting Inventory'!N262","v":0},{"$f":"'Interior Lighting Inventory'!O262","v":"0"}]
[{"$f":"'Interior Lighting Inventory'!C263","v":243},{"$f":"'Interior Lighting Inventory'!D263","v":0},{"$f":"'Interior Lighting Inventory'!E263","v":0},{"$f":"'Interior Lighting Inventory'!G263","v":0},{"$f":"'Interior Lighting Inventory'!H263","v":0},{"$f":"'Interior Lighting Inventory'!I263","v":0},{"$f":"'Interior Lighting Inventory'!J263","v":0},{"$f":"'Interior Lighting Inventory'!K263","v":"-"},{"$f":"'Interior Lighting Inventory'!M263","v":"-"},{"$f":"'Interior Lighting Inventory'!N263","v":0},{"$f":"'Interior Lighting Inventory'!O263","v":"0"}]
[{"$f":"'Interior Lighting Inventory'!C264","v":244},{"$f":"'Interior Lighting Inventory'!D264","v":0},{"$f":"'Interior Lighting Inventory'!E264","v":0},{"$f":"'Interior Lighting Inventory'!G264","v":0},{"$f":"'Interior Lighting Inventory'!H264","v":0},{"$f":"'Interior Lighting Inventory'!I264","v":0},{"$f":"'Interior Lighting Inventory'!J264","v":0},{"$f":"'Interior Lighting Inventory'!K264","v":"-"},{"$f":"'Interior Lighting Inventory'!M264","v":"-"},{"$f":"'Interior Lighting Inventory'!N264","v":0},{"$f":"'Interior Lighting Inventory'!O264","v":"0"}]
[{"$f":"'Interior Lighting Inventory'!C265","v":245},{"$f":"'Interior Lighting Inventory'!D265","v":0},{"$f":"'Interior Lighting Inventory'!E265","v":0},{"$f":"'Interior Lighting Inventory'!G265","v":0},{"$f":"'Interior Lighting Inventory'!H265","v":0},{"$f":"'Interior Lighting Inventory'!I265","v":0},{"$f":"'Interior Lighting Inventory'!J265","v":0},{"$f":"'Interior Lighting Inventory'!K265","v":"-"},{"$f":"'Interior Lighting Inventory'!M265","v":"-"},{"$f":"'Interior Lighting Inventory'!N265","v":0},{"$f":"'Interior Lighting Inventory'!O265","v":"0"}]
[{"$f":"'Interior Lighting Inventory'!C266","v":246},{"$f":"'Interior Lighting Inventory'!D266","v":0},{"$f":"'Interior Lighting Inventory'!E266","v":0},{"$f":"'Interior Lighting Inventory'!G266","v":0},{"$f":"'Interior Lighting Inventory'!H266","v":0},{"$f":"'Interior Lighting Inventory'!I266","v":0},{"$f":"'Interior Lighting Inventory'!J266","v":0},{"$f":"'Interior Lighting Inventory'!K266","v":"-"},{"$f":"'Interior Lighting Inventory'!M266","v":"-"},{"$f":"'Interior Lighting Inventory'!N266","v":0},{"$f":"'Interior Lighting Inventory'!O266","v":"0"}]
[{"$f":"'Interior Lighting Inventory'!C267","v":247},{"$f":"'Interior Lighting Inventory'!D267","v":0},{"$f":"'Interior Lighting Inventory'!E267","v":0},{"$f":"'Interior Lighting Inventory'!G267","v":0},{"$f":"'Interior Lighting Inventory'!H267","v":0},{"$f":"'Interior Lighting Inventory'!I267","v":0},{"$f":"'Interior Lighting Inventory'!J267","v":0},{"$f":"'Interior Lighting Inventory'!K267","v":"-"},{"$f":"'Interior Lighting Inventory'!M267","v":"-"},{"$f":"'Interior Lighting Inventory'!N267","v":0},{"$f":"'Interior Lighting Inventory'!O267","v":"0"}]
[{"$f":"'Interior Lighting Inventory'!C268","v":248},{"$f":"'Interior Lighting Inventory'!D268","v":0},{"$f":"'Interior Lighting Inventory'!E268","v":0},{"$f":"'Interior Lighting Inventory'!G268","v":0},{"$f":"'Interior Lighting Inventory'!H268","v":0},{"$f":"'Interior Lighting Inventory'!I268","v":0},{"$f":"'Interior Lighting Inventory'!J268","v":0},{"$f":"'Interior Lighting Inventory'!K268","v":"-"},{"$f":"'Interior Lighting Inventory'!M268","v":"-"},{"$f":"'Interior Lighting Inventory'!N268","v":0},{"$f":"'Interior Lighting Inventory'!O268","v":"0"}]
[{"$f":"'Interior Lighting Inventory'!C269","v":249},{"$f":"'Interior Lighting Inventory'!D269","v":0},{"$f":"'Interior Lighting Inventory'!E269","v":0},{"$f":"'Interior Lighting Inventory'!G269","v":0},{"$f":"'Interior Lighting Inventory'!H269","v":0},{"$f":"'Interior Lighting Inventory'!I269","v":0},{"$f":"'Interior Lighting Inventory'!J269","v":0},{"$f":"'Interior Lighting Inventory'!K269","v":"-"},{"$f":"'Interior Lighting Inventory'!M269","v":"-"},{"$f":"'Interior Lighting Inventory'!N269","v":0},{"$f":"'Interior Lighting Inventory'!O269","v":"0"}]
[{"$f":"'Interior Lighting Inventory'!C270","v":250},{"$f":"'Interior Lighting Inventory'!D270","v":0},{"$f":"'Interior Lighting Inventory'!E270","v":0},{"$f":"'Interior Lighting Inventory'!G270","v":0},{"$f":"'Interior Lighting Inventory'!H270","v":0},{"$f":"'Interior Lighting Inventory'!I270","v":0},{"$f":"'Interior Lighting Inventory'!J270","v":0},{"$f":"'Interior Lighting Inventory'!K270","v":"-"},{"$f":"'Interior Lighting Inventory'!M270","v":"-"},{"$f":"'Interior Lighting Inventory'!N270","v":0},{"$f":"'Interior Lighting Inventory'!O270","v":"0"}]
[{"$f":"'Interior Lighting Inventory'!C271","v":251},{"$f":"'Interior Lighting Inventory'!D271","v":0},{"$f":"'Interior Lighting Inventory'!E271","v":0},{"$f":"'Interior Lighting Inventory'!G271","v":0},{"$f":"'Interior Lighting Inventory'!H271","v":0},{"$f":"'Interior Lighting Inventory'!I271","v":0},{"$f":"'Interior Lighting Inventory'!J271","v":0},{"$f":"'Interior Lighting Inventory'!K271","v":"-"},{"$f":"'Interior Lighting Inventory'!M271","v":"-"},{"$f":"'Interior Lighting Inventory'!N271","v":0},{"$f":"'Interior Lighting Inventory'!O271","v":"0"}]
[{"$f":"'Interior Lighting Inventory'!C272","v":252},{"$f":"'Interior Lighting Inventory'!D272","v":0},{"$f":"'Interior Lighting Inventory'!E272","v":0},{"$f":"'Interior Lighting Inventory'!G272","v":0},{"$f":"'Interior Lighting Inventory'!H272","v":0},{"$f":"'Interior Lighting Inventory'!I272","v":0},{"$f":"'Interior Lighting Inventory'!J272","v":0},{"$f":"'Interior Lighting Inventory'!K272","v":"-"},{"$f":"'Interior Lighting Inventory'!M272","v":"-"},{"$f":"'Interior Lighting Inventory'!N272","v":0},{"$f":"'Interior Lighting Inventory'!O272","v":"0"}]
[{"$f":"'Interior Lighting Inventory'!C273","v":253},{"$f":"'Interior Lighting Inventory'!D273","v":0},{"$f":"'Interior Lighting Inventory'!E273","v":0},{"$f":"'Interior Lighting Inventory'!G273","v":0},{"$f":"'Interior Lighting Inventory'!H273","v":0},{"$f":"'Interior Lighting Inventory'!I273","v":0},{"$f":"'Interior Lighting Inventory'!J273","v":0},{"$f":"'Interior Lighting Inventory'!K273","v":"-"},{"$f":"'Interior Lighting Inventory'!M273","v":"-"},{"$f":"'Interior Lighting Inventory'!N273","v":0},{"$f":"'Interior Lighting Inventory'!O273","v":"0"}]
[{"$f":"'Interior Lighting Inventory'!C274","v":254},{"$f":"'Interior Lighting Inventory'!D274","v":0},{"$f":"'Interior Lighting Inventory'!E274","v":0},{"$f":"'Interior Lighting Inventory'!G274","v":0},{"$f":"'Interior Lighting Inventory'!H274","v":0},{"$f":"'Interior Lighting Inventory'!I274","v":0},{"$f":"'Interior Lighting Inventory'!J274","v":0},{"$f":"'Interior Lighting Inventory'!K274","v":"-"},{"$f":"'Interior Lighting Inventory'!M274","v":"-"},{"$f":"'Interior Lighting Inventory'!N274","v":0},{"$f":"'Interior Lighting Inventory'!O274","v":"0"}]
[{"$f":"'Interior Lighting Inventory'!C275","v":255},{"$f":"'Interior Lighting Inventory'!D275","v":0},{"$f":"'Interior Lighting Inventory'!E275","v":0},{"$f":"'Interior Lighting Inventory'!G275","v":0},{"$f":"'Interior Lighting Inventory'!H275","v":0},{"$f":"'Interior Lighting Inventory'!I275","v":0},{"$f":"'Interior Lighting Inventory'!J275","v":0},{"$f":"'Interior Lighting Inventory'!K275","v":"-"},{"$f":"'Interior Lighting Inventory'!M275","v":"-"},{"$f":"'Interior Lighting Inventory'!N275","v":0},{"$f":"'Interior Lighting Inventory'!O275","v":"0"}]
[{"$f":"'Interior Lighting Inventory'!C276","v":256},{"$f":"'Interior Lighting Inventory'!D276","v":0},{"$f":"'Interior Lighting Inventory'!E276","v":0},{"$f":"'Interior Lighting Inventory'!G276","v":0},{"$f":"'Interior Lighting Inventory'!H276","v":0},{"$f":"'Interior Lighting Inventory'!I276","v":0},{"$f":"'Interior Lighting Inventory'!J276","v":0},{"$f":"'Interior Lighting Inventory'!K276","v":"-"},{"$f":"'Interior Lighting Inventory'!M276","v":"-"},{"$f":"'Interior Lighting Inventory'!N276","v":0},{"$f":"'Interior Lighting Inventory'!O276","v":"0"}]
[{"$f":"'Interior Lighting Inventory'!C277","v":257},{"$f":"'Interior Lighting Inventory'!D277","v":0},{"$f":"'Interior Lighting Inventory'!E277","v":0},{"$f":"'Interior Lighting Inventory'!G277","v":0},{"$f":"'Interior Lighting Inventory'!H277","v":0},{"$f":"'Interior Lighting Inventory'!I277","v":0},{"$f":"'Interior Lighting Inventory'!J277","v":0},{"$f":"'Interior Lighting Inventory'!K277","v":"-"},{"$f":"'Interior Lighting Inventory'!M277","v":"-"},{"$f":"'Interior Lighting Inventory'!N277","v":0},{"$f":"'Interior Lighting Inventory'!O277","v":"0"}]
[{"$f":"'Interior Lighting Inventory'!C278","v":258},{"$f":"'Interior Lighting Inventory'!D278","v":0},{"$f":"'Interior Lighting Inventory'!E278","v":0},{"$f":"'Interior Lighting Inventory'!G278","v":0},{"$f":"'Interior Lighting Inventory'!H278","v":0},{"$f":"'Interior Lighting Inventory'!I278","v":0},{"$f":"'Interior Lighting Inventory'!J278","v":0},{"$f":"'Interior Lighting Inventory'!K278","v":"-"},{"$f":"'Interior Lighting Inventory'!M278","v":"-"},{"$f":"'Interior Lighting Inventory'!N278","v":0},{"$f":"'Interior Lighting Inventory'!O278","v":"0"}]
[{"$f":"'Interior Lighting Inventory'!C279","v":259},{"$f":"'Interior Lighting Inventory'!D279","v":0},{"$f":"'Interior Lighting Inventory'!E279","v":0},{"$f":"'Interior Lighting Inventory'!G279","v":0},{"$f":"'Interior Lighting Inventory'!H279","v":0},{"$f":"'Interior Lighting Inventory'!I279","v":0},{"$f":"'Interior Lighting Inventory'!J279","v":0},{"$f":"'Interior Lighting Inventory'!K279","v":"-"},{"$f":"'Interior Lighting Inventory'!M279","v":"-"},{"$f":"'Interior Lighting Inventory'!N279","v":0},{"$f":"'Interior Lighting Inventory'!O279","v":"0"}]
[{"$f":"'Interior Lighting Inventory'!C280","v":260},{"$f":"'Interior Lighting Inventory'!D280","v":0},{"$f":"'Interior Lighting Inventory'!E280","v":0},{"$f":"'Interior Lighting Inventory'!G280","v":0},{"$f":"'Interior Lighting Inventory'!H280","v":0},{"$f":"'Interior Lighting Inventory'!I280","v":0},{"$f":"'Interior Lighting Inventory'!J280","v":0},{"$f":"'Interior Lighting Inventory'!K280","v":"-"},{"$f":"'Interior Lighting Inventory'!M280","v":"-"},{"$f":"'Interior Lighting Inventory'!N280","v":0},{"$f":"'Interior Lighting Inventory'!O280","v":"0"}]
[{"$f":"'Interior Lighting Inventory'!C281","v":261},{"$f":"'Interior Lighting Inventory'!D281","v":0},{"$f":"'Interior Lighting Inventory'!E281","v":0},{"$f":"'Interior Lighting Inventory'!G281","v":0},{"$f":"'Interior Lighting Inventory'!H281","v":0},{"$f":"'Interior Lighting Inventory'!I281","v":0},{"$f":"'Interior Lighting Inventory'!J281","v":0},{"$f":"'Interior Lighting Inventory'!K281","v":"-"},{"$f":"'Interior Lighting Inventory'!M281","v":"-"},{"$f":"'Interior Lighting Inventory'!N281","v":0},{"$f":"'Interior Lighting Inventory'!O281","v":"0"}]
[{"$f":"'Interior Lighting Inventory'!C282","v":262},{"$f":"'Interior Lighting Inventory'!D282","v":0},{"$f":"'Interior Lighting Inventory'!E282","v":0},{"$f":"'Interior Lighting Inventory'!G282","v":0},{"$f":"'Interior Lighting Inventory'!H282","v":0},{"$f":"'Interior Lighting Inventory'!I282","v":0},{"$f":"'Interior Lighting Inventory'!J282","v":0},{"$f":"'Interior Lighting Inventory'!K282","v":"-"},{"$f":"'Interior Lighting Inventory'!M282","v":"-"},{"$f":"'Interior Lighting Inventory'!N282","v":0},{"$f":"'Interior Lighting Inventory'!O282","v":"0"}]
[{"$f":"'Interior Lighting Inventory'!C283","v":263},{"$f":"'Interior Lighting Inventory'!D283","v":0},{"$f":"'Interior Lighting Inventory'!E283","v":0},{"$f":"'Interior Lighting Inventory'!G283","v":0},{"$f":"'Interior Lighting Inventory'!H283","v":0},{"$f":"'Interior Lighting Inventory'!I283","v":0},{"$f":"'Interior Lighting Inventory'!J283","v":0},{"$f":"'Interior Lighting Inventory'!K283","v":"-"},{"$f":"'Interior Lighting Inventory'!M283","v":"-"},{"$f":"'Interior Lighting Inventory'!N283","v":0},{"$f":"'Interior Lighting Inventory'!O283","v":"0"}]
[{"$f":"'Interior Lighting Inventory'!C284","v":264},{"$f":"'Interior Lighting Inventory'!D284","v":0},{"$f":"'Interior Lighting Inventory'!E284","v":0},{"$f":"'Interior Lighting Inventory'!G284","v":0},{"$f":"'Interior Lighting Inventory'!H284","v":0},{"$f":"'Interior Lighting Inventory'!I284","v":0},{"$f":"'Interior Lighting Inventory'!J284","v":0},{"$f":"'Interior Lighting Inventory'!K284","v":"-"},{"$f":"'Interior Lighting Inventory'!M284","v":"-"},{"$f":"'Interior Lighting Inventory'!N284","v":0},{"$f":"'Interior Lighting Inventory'!O284","v":"0"}]
[{"$f":"'Interior Lighting Inventory'!C285","v":265},{"$f":"'Interior Lighting Inventory'!D285","v":0},{"$f":"'Interior Lighting Inventory'!E285","v":0},{"$f":"'Interior Lighting Inventory'!G285","v":0},{"$f":"'Interior Lighting Inventory'!H285","v":0},{"$f":"'Interior Lighting Inventory'!I285","v":0},{"$f":"'Interior Lighting Inventory'!J285","v":0},{"$f":"'Interior Lighting Inventory'!K285","v":"-"},{"$f":"'Interior Lighting Inventory'!M285","v":"-"},{"$f":"'Interior Lighting Inventory'!N285","v":0},{"$f":"'Interior Lighting Inventory'!O285","v":"0"}]
[{"$f":"'Interior Lighting Inventory'!C286","v":266},{"$f":"'Interior Lighting Inventory'!D286","v":0},{"$f":"'Interior Lighting Inventory'!E286","v":0},{"$f":"'Interior Lighting Inventory'!G286","v":0},{"$f":"'Interior Lighting Inventory'!H286","v":0},{"$f":"'Interior Lighting Inventory'!I286","v":0},{"$f":"'Interior Lighting Inventory'!J286","v":0},{"$f":"'Interior Lighting Inventory'!K286","v":"-"},{"$f":"'Interior Lighting Inventory'!M286","v":"-"},{"$f":"'Interior Lighting Inventory'!N286","v":0},{"$f":"'Interior Lighting Inventory'!O286","v":"0"}]
[{"$f":"'Interior Lighting Inventory'!C287","v":267},{"$f":"'Interior Lighting Inventory'!D287","v":0},{"$f":"'Interior Lighting Inventory'!E287","v":0},{"$f":"'Interior Lighting Inventory'!G287","v":0},{"$f":"'Interior Lighting Inventory'!H287","v":0},{"$f":"'Interior Lighting Inventory'!I287","v":0},{"$f":"'Interior Lighting Inventory'!J287","v":0},{"$f":"'Interior Lighting Inventory'!K287","v":"-"},{"$f":"'Interior Lighting Inventory'!M287","v":"-"},{"$f":"'Interior Lighting Inventory'!N287","v":0},{"$f":"'Interior Lighting Inventory'!O287","v":"0"}]
[{"$f":"'Interior Lighting Inventory'!C288","v":268},{"$f":"'Interior Lighting Inventory'!D288","v":0},{"$f":"'Interior Lighting Inventory'!E288","v":0},{"$f":"'Interior Lighting Inventory'!G288","v":0},{"$f":"'Interior Lighting Inventory'!H288","v":0},{"$f":"'Interior Lighting Inventory'!I288","v":0},{"$f":"'Interior Lighting Inventory'!J288","v":0},{"$f":"'Interior Lighting Inventory'!K288","v":"-"},{"$f":"'Interior Lighting Inventory'!M288","v":"-"},{"$f":"'Interior Lighting Inventory'!N288","v":0},{"$f":"'Interior Lighting Inventory'!O288","v":"0"}]
[{"$f":"'Interior Lighting Inventory'!C289","v":269},{"$f":"'Interior Lighting Inventory'!D289","v":0},{"$f":"'Interior Lighting Inventory'!E289","v":0},{"$f":"'Interior Lighting Inventory'!G289","v":0},{"$f":"'Interior Lighting Inventory'!H289","v":0},{"$f":"'Interior Lighting Inventory'!I289","v":0},{"$f":"'Interior Lighting Inventory'!J289","v":0},{"$f":"'Interior Lighting Inventory'!K289","v":"-"},{"$f":"'Interior Lighting Inventory'!M289","v":"-"},{"$f":"'Interior Lighting Inventory'!N289","v":0},{"$f":"'Interior Lighting Inventory'!O289","v":"0"}]
[{"$f":"'Interior Lighting Inventory'!C290","v":270},{"$f":"'Interior Lighting Inventory'!D290","v":0},{"$f":"'Interior Lighting Inventory'!E290","v":0},{"$f":"'Interior Lighting Inventory'!G290","v":0},{"$f":"'Interior Lighting Inventory'!H290","v":0},{"$f":"'Interior Lighting Inventory'!I290","v":0},{"$f":"'Interior Lighting Inventory'!J290","v":0},{"$f":"'Interior Lighting Inventory'!K290","v":"-"},{"$f":"'Interior Lighting Inventory'!M290","v":"-"},{"$f":"'Interior Lighting Inventory'!N290","v":0},{"$f":"'Interior Lighting Inventory'!O290","v":"0"}]
[{"$f":"'Interior Lighting Inventory'!C291","v":271},{"$f":"'Interior Lighting Inventory'!D291","v":0},{"$f":"'Interior Lighting Inventory'!E291","v":0},{"$f":"'Interior Lighting Inventory'!G291","v":0},{"$f":"'Interior Lighting Inventory'!H291","v":0},{"$f":"'Interior Lighting Inventory'!I291","v":0},{"$f":"'Interior Lighting Inventory'!J291","v":0},{"$f":"'Interior Lighting Inventory'!K291","v":"-"},{"$f":"'Interior Lighting Inventory'!M291","v":"-"},{"$f":"'Interior Lighting Inventory'!N291","v":0},{"$f":"'Interior Lighting Inventory'!O291","v":"0"}]
[{"$f":"'Interior Lighting Inventory'!C292","v":272},{"$f":"'Interior Lighting Inventory'!D292","v":0},{"$f":"'Interior Lighting Inventory'!E292","v":0},{"$f":"'Interior Lighting Inventory'!G292","v":0},{"$f":"'Interior Lighting Inventory'!H292","v":0},{"$f":"'Interior Lighting Inventory'!I292","v":0},{"$f":"'Interior Lighting Inventory'!J292","v":0},{"$f":"'Interior Lighting Inventory'!K292","v":"-"},{"$f":"'Interior Lighting Inventory'!M292","v":"-"},{"$f":"'Interior Lighting Inventory'!N292","v":0},{"$f":"'Interior Lighting Inventory'!O292","v":"0"}]
[{"$f":"'Interior Lighting Inventory'!C293","v":273},{"$f":"'Interior Lighting Inventory'!D293","v":0},{"$f":"'Interior Lighting Inventory'!E293","v":0},{"$f":"'Interior Lighting Inventory'!G293","v":0},{"$f":"'Interior Lighting Inventory'!H293","v":0},{"$f":"'Interior Lighting Inventory'!I293","v":0},{"$f":"'Interior Lighting Inventory'!J293","v":0},{"$f":"'Interior Lighting Inventory'!K293","v":"-"},{"$f":"'Interior Lighting Inventory'!M293","v":"-"},{"$f":"'Interior Lighting Inventory'!N293","v":0},{"$f":"'Interior Lighting Inventory'!O293","v":"0"}]
[{"$f":"'Interior Lighting Inventory'!C294","v":274},{"$f":"'Interior Lighting Inventory'!D294","v":0},{"$f":"'Interior Lighting Inventory'!E294","v":0},{"$f":"'Interior Lighting Inventory'!G294","v":0},{"$f":"'Interior Lighting Inventory'!H294","v":0},{"$f":"'Interior Lighting Inventory'!I294","v":0},{"$f":"'Interior Lighting Inventory'!J294","v":0},{"$f":"'Interior Lighting Inventory'!K294","v":"-"},{"$f":"'Interior Lighting Inventory'!M294","v":"-"},{"$f":"'Interior Lighting Inventory'!N294","v":0},{"$f":"'Interior Lighting Inventory'!O294","v":"0"}]
[{"$f":"'Interior Lighting Inventory'!C295","v":275},{"$f":"'Interior Lighting Inventory'!D295","v":0},{"$f":"'Interior Lighting Inventory'!E295","v":0},{"$f":"'Interior Lighting Inventory'!G295","v":0},{"$f":"'Interior Lighting Inventory'!H295","v":0},{"$f":"'Interior Lighting Inventory'!I295","v":0},{"$f":"'Interior Lighting Inventory'!J295","v":0},{"$f":"'Interior Lighting Inventory'!K295","v":"-"},{"$f":"'Interior Lighting Inventory'!M295","v":"-"},{"$f":"'Interior Lighting Inventory'!N295","v":0},{"$f":"'Interior Lighting Inventory'!O295","v":"0"}]
[{"$f":"'Interior Lighting Inventory'!C296","v":276},{"$f":"'Interior Lighting Inventory'!D296","v":0},{"$f":"'Interior Lighting Inventory'!E296","v":0},{"$f":"'Interior Lighting Inventory'!G296","v":0},{"$f":"'Interior Lighting Inventory'!H296","v":0},{"$f":"'Interior Lighting Inventory'!I296","v":0},{"$f":"'Interior Lighting Inventory'!J296","v":0},{"$f":"'Interior Lighting Inventory'!K296","v":"-"},{"$f":"'Interior Lighting Inventory'!M296","v":"-"},{"$f":"'Interior Lighting Inventory'!N296","v":0},{"$f":"'Interior Lighting Inventory'!O296","v":"0"}]
[{"$f":"'Interior Lighting Inventory'!C297","v":277},{"$f":"'Interior Lighting Inventory'!D297","v":0},{"$f":"'Interior Lighting Inventory'!E297","v":0},{"$f":"'Interior Lighting Inventory'!G297","v":0},{"$f":"'Interior Lighting Inventory'!H297","v":0},{"$f":"'Interior Lighting Inventory'!I297","v":0},{"$f":"'Interior Lighting Inventory'!J297","v":0},{"$f":"'Interior Lighting Inventory'!K297","v":"-"},{"$f":"'Interior Lighting Inventory'!M297","v":"-"},{"$f":"'Interior Lighting Inventory'!N297","v":0},{"$f":"'Interior Lighting Inventory'!O297","v":"0"}]
[{"$f":"'Interior Lighting Inventory'!C298","v":278},{"$f":"'Interior Lighting Inventory'!D298","v":0},{"$f":"'Interior Lighting Inventory'!E298","v":0},{"$f":"'Interior Lighting Inventory'!G298","v":0},{"$f":"'Interior Lighting Inventory'!H298","v":0},{"$f":"'Interior Lighting Inventory'!I298","v":0},{"$f":"'Interior Lighting Inventory'!J298","v":0},{"$f":"'Interior Lighting Inventory'!K298","v":"-"},{"$f":"'Interior Lighting Inventory'!M298","v":"-"},{"$f":"'Interior Lighting Inventory'!N298","v":0},{"$f":"'Interior Lighting Inventory'!O298","v":"0"}]
[{"$f":"'Interior Lighting Inventory'!C299","v":279},{"$f":"'Interior Lighting Inventory'!D299","v":0},{"$f":"'Interior Lighting Inventory'!E299","v":0},{"$f":"'Interior Lighting Inventory'!G299","v":0},{"$f":"'Interior Lighting Inventory'!H299","v":0},{"$f":"'Interior Lighting Inventory'!I299","v":0},{"$f":"'Interior Lighting Inventory'!J299","v":0},{"$f":"'Interior Lighting Inventory'!K299","v":"-"},{"$f":"'Interior Lighting Inventory'!M299","v":"-"},{"$f":"'Interior Lighting Inventory'!N299","v":0},{"$f":"'Interior Lighting Inventory'!O299","v":"0"}]
[{"$f":"'Interior Lighting Inventory'!C300","v":280},{"$f":"'Interior Lighting Inventory'!D300","v":0},{"$f":"'Interior Lighting Inventory'!E300","v":0},{"$f":"'Interior Lighting Inventory'!G300","v":0},{"$f":"'Interior Lighting Inventory'!H300","v":0},{"$f":"'Interior Lighting Inventory'!I300","v":0},{"$f":"'Interior Lighting Inventory'!J300","v":0},{"$f":"'Interior Lighting Inventory'!K300","v":"-"},{"$f":"'Interior Lighting Inventory'!M300","v":"-"},{"$f":"'Interior Lighting Inventory'!N300","v":0},{"$f":"'Interior Lighting Inventory'!O300","v":"0"}]
[{"$f":"'Interior Lighting Inventory'!C301","v":281},{"$f":"'Interior Lighting Inventory'!D301","v":0},{"$f":"'Interior Lighting Inventory'!E301","v":0},{"$f":"'Interior Lighting Inventory'!G301","v":0},{"$f":"'Interior Lighting Inventory'!H301","v":0},{"$f":"'Interior Lighting Inventory'!I301","v":0},{"$f":"'Interior Lighting Inventory'!J301","v":0},{"$f":"'Interior Lighting Inventory'!K301","v":"-"},{"$f":"'Interior Lighting Inventory'!M301","v":"-"},{"$f":"'Interior Lighting Inventory'!N301","v":0},{"$f":"'Interior Lighting Inventory'!O301","v":"0"}]
[{"$f":"'Interior Lighting Inventory'!C302","v":282},{"$f":"'Interior Lighting Inventory'!D302","v":0},{"$f":"'Interior Lighting Inventory'!E302","v":0},{"$f":"'Interior Lighting Inventory'!G302","v":0},{"$f":"'Interior Lighting Inventory'!H302","v":0},{"$f":"'Interior Lighting Inventory'!I302","v":0},{"$f":"'Interior Lighting Inventory'!J302","v":0},{"$f":"'Interior Lighting Inventory'!K302","v":"-"},{"$f":"'Interior Lighting Inventory'!M302","v":"-"},{"$f":"'Interior Lighting Inventory'!N302","v":0},{"$f":"'Interior Lighting Inventory'!O302","v":"0"}]
[{"$f":"'Interior Lighting Inventory'!C303","v":283},{"$f":"'Interior Lighting Inventory'!D303","v":0},{"$f":"'Interior Lighting Inventory'!E303","v":0},{"$f":"'Interior Lighting Inventory'!G303","v":0},{"$f":"'Interior Lighting Inventory'!H303","v":0},{"$f":"'Interior Lighting Inventory'!I303","v":0},{"$f":"'Interior Lighting Inventory'!J303","v":0},{"$f":"'Interior Lighting Inventory'!K303","v":"-"},{"$f":"'Interior Lighting Inventory'!M303","v":"-"},{"$f":"'Interior Lighting Inventory'!N303","v":0},{"$f":"'Interior Lighting Inventory'!O303","v":"0"}]
[{"$f":"'Interior Lighting Inventory'!C304","v":284},{"$f":"'Interior Lighting Inventory'!D304","v":0},{"$f":"'Interior Lighting Inventory'!E304","v":0},{"$f":"'Interior Lighting Inventory'!G304","v":0},{"$f":"'Interior Lighting Inventory'!H304","v":0},{"$f":"'Interior Lighting Inventory'!I304","v":0},{"$f":"'Interior Lighting Inventory'!J304","v":0},{"$f":"'Interior Lighting Inventory'!K304","v":"-"},{"$f":"'Interior Lighting Inventory'!M304","v":"-"},{"$f":"'Interior Lighting Inventory'!N304","v":0},{"$f":"'Interior Lighting Inventory'!O304","v":"0"}]
[{"$f":"'Interior Lighting Inventory'!C305","v":285},{"$f":"'Interior Lighting Inventory'!D305","v":0},{"$f":"'Interior Lighting Inventory'!E305","v":0},{"$f":"'Interior Lighting Inventory'!G305","v":0},{"$f":"'Interior Lighting Inventory'!H305","v":0},{"$f":"'Interior Lighting Inventory'!I305","v":0},{"$f":"'Interior Lighting Inventory'!J305","v":0},{"$f":"'Interior Lighting Inventory'!K305","v":"-"},{"$f":"'Interior Lighting Inventory'!M305","v":"-"},{"$f":"'Interior Lighting Inventory'!N305","v":0},{"$f":"'Interior Lighting Inventory'!O305","v":"0"}]
[{"$f":"'Interior Lighting Inventory'!C306","v":286},{"$f":"'Interior Lighting Inventory'!D306","v":0},{"$f":"'Interior Lighting Inventory'!E306","v":0},{"$f":"'Interior Lighting Inventory'!G306","v":0},{"$f":"'Interior Lighting Inventory'!H306","v":0},{"$f":"'Interior Lighting Inventory'!I306","v":0},{"$f":"'Interior Lighting Inventory'!J306","v":0},{"$f":"'Interior Lighting Inventory'!K306","v":"-"},{"$f":"'Interior Lighting Inventory'!M306","v":"-"},{"$f":"'Interior Lighting Inventory'!N306","v":0},{"$f":"'Interior Lighting Inventory'!O306","v":"0"}]
[{"$f":"'Interior Lighting Inventory'!C307","v":287},{"$f":"'Interior Lighting Inventory'!D307","v":0},{"$f":"'Interior Lighting Inventory'!E307","v":0},{"$f":"'Interior Lighting Inventory'!G307","v":0},{"$f":"'Interior Lighting Inventory'!H307","v":0},{"$f":"'Interior Lighting Inventory'!I307","v":0},{"$f":"'Interior Lighting Inventory'!J307","v":0},{"$f":"'Interior Lighting Inventory'!K307","v":"-"},{"$f":"'Interior Lighting Inventory'!M307","v":"-"},{"$f":"'Interior Lighting Inventory'!N307","v":0},{"$f":"'Interior Lighting Inventory'!O307","v":"0"}]
[{"$f":"'Interior Lighting Inventory'!C308","v":288},{"$f":"'Interior Lighting Inventory'!D308","v":0},{"$f":"'Interior Lighting Inventory'!E308","v":0},{"$f":"'Interior Lighting Inventory'!G308","v":0},{"$f":"'Interior Lighting Inventory'!H308","v":0},{"$f":"'Interior Lighting Inventory'!I308","v":0},{"$f":"'Interior Lighting Inventory'!J308","v":0},{"$f":"'Interior Lighting Inventory'!K308","v":"-"},{"$f":"'Interior Lighting Inventory'!M308","v":"-"},{"$f":"'Interior Lighting Inventory'!N308","v":0},{"$f":"'Interior Lighting Inventory'!O308","v":"0"}]
[{"$f":"'Interior Lighting Inventory'!C309","v":289},{"$f":"'Interior Lighting Inventory'!D309","v":0},{"$f":"'Interior Lighting Inventory'!E309","v":0},{"$f":"'Interior Lighting Inventory'!G309","v":0},{"$f":"'Interior Lighting Inventory'!H309","v":0},{"$f":"'Interior Lighting Inventory'!I309","v":0},{"$f":"'Interior Lighting Inventory'!J309","v":0},{"$f":"'Interior Lighting Inventory'!K309","v":"-"},{"$f":"'Interior Lighting Inventory'!M309","v":"-"},{"$f":"'Interior Lighting Inventory'!N309","v":0},{"$f":"'Interior Lighting Inventory'!O309","v":"0"}]
[{"$f":"'Interior Lighting Inventory'!C310","v":290},{"$f":"'Interior Lighting Inventory'!D310","v":0},{"$f":"'Interior Lighting Inventory'!E310","v":0},{"$f":"'Interior Lighting Inventory'!G310","v":0},{"$f":"'Interior Lighting Inventory'!H310","v":0},{"$f":"'Interior Lighting Inventory'!I310","v":0},{"$f":"'Interior Lighting Inventory'!J310","v":0},{"$f":"'Interior Lighting Inventory'!K310","v":"-"},{"$f":"'Interior Lighting Inventory'!M310","v":"-"},{"$f":"'Interior Lighting Inventory'!N310","v":0},{"$f":"'Interior Lighting Inventory'!O310","v":"0"}]
[{"$f":"'Interior Lighting Inventory'!C311","v":291},{"$f":"'Interior Lighting Inventory'!D311","v":0},{"$f":"'Interior Lighting Inventory'!E311","v":0},{"$f":"'Interior Lighting Inventory'!G311","v":0},{"$f":"'Interior Lighting Inventory'!H311","v":0},{"$f":"'Interior Lighting Inventory'!I311","v":0},{"$f":"'Interior Lighting Inventory'!J311","v":0},{"$f":"'Interior Lighting Inventory'!K311","v":"-"},{"$f":"'Interior Lighting Inventory'!M311","v":"-"},{"$f":"'Interior Lighting Inventory'!N311","v":0},{"$f":"'Interior Lighting Inventory'!O311","v":"0"}]
[{"$f":"'Interior Lighting Inventory'!C312","v":292},{"$f":"'Interior Lighting Inventory'!D312","v":0},{"$f":"'Interior Lighting Inventory'!E312","v":0},{"$f":"'Interior Lighting Inventory'!G312","v":0},{"$f":"'Interior Lighting Inventory'!H312","v":0},{"$f":"'Interior Lighting Inventory'!I312","v":0},{"$f":"'Interior Lighting Inventory'!J312","v":0},{"$f":"'Interior Lighting Inventory'!K312","v":"-"},{"$f":"'Interior Lighting Inventory'!M312","v":"-"},{"$f":"'Interior Lighting Inventory'!N312","v":0},{"$f":"'Interior Lighting Inventory'!O312","v":"0"}]
[{"$f":"'Interior Lighting Inventory'!C313","v":293},{"$f":"'Interior Lighting Inventory'!D313","v":0},{"$f":"'Interior Lighting Inventory'!E313","v":0},{"$f":"'Interior Lighting Inventory'!G313","v":0},{"$f":"'Interior Lighting Inventory'!H313","v":0},{"$f":"'Interior Lighting Inventory'!I313","v":0},{"$f":"'Interior Lighting Inventory'!J313","v":0},{"$f":"'Interior Lighting Inventory'!K313","v":"-"},{"$f":"'Interior Lighting Inventory'!M313","v":"-"},{"$f":"'Interior Lighting Inventory'!N313","v":0},{"$f":"'Interior Lighting Inventory'!O313","v":"0"}]
[{"$f":"'Interior Lighting Inventory'!C314","v":294},{"$f":"'Interior Lighting Inventory'!D314","v":0},{"$f":"'Interior Lighting Inventory'!E314","v":0},{"$f":"'Interior Lighting Inventory'!G314","v":0},{"$f":"'Interior Lighting Inventory'!H314","v":0},{"$f":"'Interior Lighting Inventory'!I314","v":0},{"$f":"'Interior Lighting Inventory'!J314","v":0},{"$f":"'Interior Lighting Inventory'!K314","v":"-"},{"$f":"'Interior Lighting Inventory'!M314","v":"-"},{"$f":"'Interior Lighting Inventory'!N314","v":0},{"$f":"'Interior Lighting Inventory'!O314","v":"0"}]
[{"$f":"'Interior Lighting Inventory'!C315","v":295},{"$f":"'Interior Lighting Inventory'!D315","v":0},{"$f":"'Interior Lighting Inventory'!E315","v":0},{"$f":"'Interior Lighting Inventory'!G315","v":0},{"$f":"'Interior Lighting Inventory'!H315","v":0},{"$f":"'Interior Lighting Inventory'!I315","v":0},{"$f":"'Interior Lighting Inventory'!J315","v":0},{"$f":"'Interior Lighting Inventory'!K315","v":"-"},{"$f":"'Interior Lighting Inventory'!M315","v":"-"},{"$f":"'Interior Lighting Inventory'!N315","v":0},{"$f":"'Interior Lighting Inventory'!O315","v":"0"}]
[{"$f":"'Interior Lighting Inventory'!C316","v":296},{"$f":"'Interior Lighting Inventory'!D316","v":0},{"$f":"'Interior Lighting Inventory'!E316","v":0},{"$f":"'Interior Lighting Inventory'!G316","v":0},{"$f":"'Interior Lighting Inventory'!H316","v":0},{"$f":"'Interior Lighting Inventory'!I316","v":0},{"$f":"'Interior Lighting Inventory'!J316","v":0},{"$f":"'Interior Lighting Inventory'!K316","v":"-"},{"$f":"'Interior Lighting Inventory'!M316","v":"-"},{"$f":"'Interior Lighting Inventory'!N316","v":0},{"$f":"'Interior Lighting Inventory'!O316","v":"0"}]
[{"$f":"'Interior Lighting Inventory'!C317","v":297},{"$f":"'Interior Lighting Inventory'!D317","v":0},{"$f":"'Interior Lighting Inventory'!E317","v":0},{"$f":"'Interior Lighting Inventory'!G317","v":0},{"$f":"'Interior Lighting Inventory'!H317","v":0},{"$f":"'Interior Lighting Inventory'!I317","v":0},{"$f":"'Interior Lighting Inventory'!J317","v":0},{"$f":"'Interior Lighting Inventory'!K317","v":"-"},{"$f":"'Interior Lighting Inventory'!M317","v":"-"},{"$f":"'Interior Lighting Inventory'!N317","v":0},{"$f":"'Interior Lighting Inventory'!O317","v":"0"}]
[{"$f":"'Interior Lighting Inventory'!C318","v":298},{"$f":"'Interior Lighting Inventory'!D318","v":0},{"$f":"'Interior Lighting Inventory'!E318","v":0},{"$f":"'Interior Lighting Inventory'!G318","v":0},{"$f":"'Interior Lighting Inventory'!H318","v":0},{"$f":"'Interior Lighting Inventory'!I318","v":0},{"$f":"'Interior Lighting Inventory'!J318","v":0},{"$f":"'Interior Lighting Inventory'!K318","v":"-"},{"$f":"'Interior Lighting Inventory'!M318","v":"-"},{"$f":"'Interior Lighting Inventory'!N318","v":0},{"$f":"'Interior Lighting Inventory'!O318","v":"0"}]
[{"$f":"'Interior Lighting Inventory'!C319","v":299},{"$f":"'Interior Lighting Inventory'!D319","v":0},{"$f":"'Interior Lighting Inventory'!E319","v":0},{"$f":"'Interior Lighting Inventory'!G319","v":0},{"$f":"'Interior Lighting Inventory'!H319","v":0},{"$f":"'Interior Lighting Inventory'!I319","v":0},{"$f":"'Interior Lighting Inventory'!J319","v":0},{"$f":"'Interior Lighting Inventory'!K319","v":"-"},{"$f":"'Interior Lighting Inventory'!M319","v":"-"},{"$f":"'Interior Lighting Inventory'!N319","v":0},{"$f":"'Interior Lighting Inventory'!O319","v":"0"}]
[{"$f":"'Interior Lighting Inventory'!C320","v":300},{"$f":"'Interior Lighting Inventory'!D320","v":0},{"$f":"'Interior Lighting Inventory'!E320","v":0},{"$f":"'Interior Lighting Inventory'!G320","v":0},{"$f":"'Interior Lighting Inventory'!H320","v":0},{"$f":"'Interior Lighting Inventory'!I320","v":0},{"$f":"'Interior Lighting Inventory'!J320","v":0},{"$f":"'Interior Lighting Inventory'!K320","v":"-"},{"$f":"'Interior Lighting Inventory'!M320","v":"-"},{"$f":"'Interior Lighting Inventory'!N320","v":0},{"$f":"'Interior Lighting Inventory'!O320","v":"0"}]
[{"$f":"'Interior Lighting Inventory'!C321","v":301},{"$f":"'Interior Lighting Inventory'!D321","v":0},{"$f":"'Interior Lighting Inventory'!E321","v":0},{"$f":"'Interior Lighting Inventory'!G321","v":0},{"$f":"'Interior Lighting Inventory'!H321","v":0},{"$f":"'Interior Lighting Inventory'!I321","v":0},{"$f":"'Interior Lighting Inventory'!J321","v":0},{"$f":"'Interior Lighting Inventory'!K321","v":"-"},{"$f":"'Interior Lighting Inventory'!M321","v":"-"},{"$f":"'Interior Lighting Inventory'!N321","v":0},{"$f":"'Interior Lighting Inventory'!O321","v":"0"}]
[{"$f":"'Interior Lighting Inventory'!C322","v":302},{"$f":"'Interior Lighting Inventory'!D322","v":0},{"$f":"'Interior Lighting Inventory'!E322","v":0},{"$f":"'Interior Lighting Inventory'!G322","v":0},{"$f":"'Interior Lighting Inventory'!H322","v":0},{"$f":"'Interior Lighting Inventory'!I322","v":0},{"$f":"'Interior Lighting Inventory'!J322","v":0},{"$f":"'Interior Lighting Inventory'!K322","v":"-"},{"$f":"'Interior Lighting Inventory'!M322","v":"-"},{"$f":"'Interior Lighting Inventory'!N322","v":0},{"$f":"'Interior Lighting Inventory'!O322","v":"0"}]
[{"$f":"'Interior Lighting Inventory'!C323","v":303},{"$f":"'Interior Lighting Inventory'!D323","v":0},{"$f":"'Interior Lighting Inventory'!E323","v":0},{"$f":"'Interior Lighting Inventory'!G323","v":0},{"$f":"'Interior Lighting Inventory'!H323","v":0},{"$f":"'Interior Lighting Inventory'!I323","v":0},{"$f":"'Interior Lighting Inventory'!J323","v":0},{"$f":"'Interior Lighting Inventory'!K323","v":"-"},{"$f":"'Interior Lighting Inventory'!M323","v":"-"},{"$f":"'Interior Lighting Inventory'!N323","v":0},{"$f":"'Interior Lighting Inventory'!O323","v":"0"}]
[{"$f":"'Interior Lighting Inventory'!C324","v":304},{"$f":"'Interior Lighting Inventory'!D324","v":0},{"$f":"'Interior Lighting Inventory'!E324","v":0},{"$f":"'Interior Lighting Inventory'!G324","v":0},{"$f":"'Interior Lighting Inventory'!H324","v":0},{"$f":"'Interior Lighting Inventory'!I324","v":0},{"$f":"'Interior Lighting Inventory'!J324","v":0},{"$f":"'Interior Lighting Inventory'!K324","v":"-"},{"$f":"'Interior Lighting Inventory'!M324","v":"-"},{"$f":"'Interior Lighting Inventory'!N324","v":0},{"$f":"'Interior Lighting Inventory'!O324","v":"0"}]
[{"$f":"'Interior Lighting Inventory'!C325","v":305},{"$f":"'Interior Lighting Inventory'!D325","v":0},{"$f":"'Interior Lighting Inventory'!E325","v":0},{"$f":"'Interior Lighting Inventory'!G325","v":0},{"$f":"'Interior Lighting Inventory'!H325","v":0},{"$f":"'Interior Lighting Inventory'!I325","v":0},{"$f":"'Interior Lighting Inventory'!J325","v":0},{"$f":"'Interior Lighting Inventory'!K325","v":"-"},{"$f":"'Interior Lighting Inventory'!M325","v":"-"},{"$f":"'Interior Lighting Inventory'!N325","v":0},{"$f":"'Interior Lighting Inventory'!O325","v":"0"}]
[{"$f":"'Interior Lighting Inventory'!C326","v":306},{"$f":"'Interior Lighting Inventory'!D326","v":0},{"$f":"'Interior Lighting Inventory'!E326","v":0},{"$f":"'Interior Lighting Inventory'!G326","v":0},{"$f":"'Interior Lighting Inventory'!H326","v":0},{"$f":"'Interior Lighting Inventory'!I326","v":0},{"$f":"'Interior Lighting Inventory'!J326","v":0},{"$f":"'Interior Lighting Inventory'!K326","v":"-"},{"$f":"'Interior Lighting Inventory'!M326","v":"-"},{"$f":"'Interior Lighting Inventory'!N326","v":0},{"$f":"'Interior Lighting Inventory'!O326","v":"0"}]
[{"$f":"'Interior Lighting Inventory'!C327","v":307},{"$f":"'Interior Lighting Inventory'!D327","v":0},{"$f":"'Interior Lighting Inventory'!E327","v":0},{"$f":"'Interior Lighting Inventory'!G327","v":0},{"$f":"'Interior Lighting Inventory'!H327","v":0},{"$f":"'Interior Lighting Inventory'!I327","v":0},{"$f":"'Interior Lighting Inventory'!J327","v":0},{"$f":"'Interior Lighting Inventory'!K327","v":"-"},{"$f":"'Interior Lighting Inventory'!M327","v":"-"},{"$f":"'Interior Lighting Inventory'!N327","v":0},{"$f":"'Interior Lighting Inventory'!O327","v":"0"}]
[{"$f":"'Interior Lighting Inventory'!C328","v":308},{"$f":"'Interior Lighting Inventory'!D328","v":0},{"$f":"'Interior Lighting Inventory'!E328","v":0},{"$f":"'Interior Lighting Inventory'!G328","v":0},{"$f":"'Interior Lighting Inventory'!H328","v":0},{"$f":"'Interior Lighting Inventory'!I328","v":0},{"$f":"'Interior Lighting Inventory'!J328","v":0},{"$f":"'Interior Lighting Inventory'!K328","v":"-"},{"$f":"'Interior Lighting Inventory'!M328","v":"-"},{"$f":"'Interior Lighting Inventory'!N328","v":0},{"$f":"'Interior Lighting Inventory'!O328","v":"0"}]
[{"$f":"'Interior Lighting Inventory'!C329","v":309},{"$f":"'Interior Lighting Inventory'!D329","v":0},{"$f":"'Interior Lighting Inventory'!E329","v":0},{"$f":"'Interior Lighting Inventory'!G329","v":0},{"$f":"'Interior Lighting Inventory'!H329","v":0},{"$f":"'Interior Lighting Inventory'!I329","v":0},{"$f":"'Interior Lighting Inventory'!J329","v":0},{"$f":"'Interior Lighting Inventory'!K329","v":"-"},{"$f":"'Interior Lighting Inventory'!M329","v":"-"},{"$f":"'Interior Lighting Inventory'!N329","v":0},{"$f":"'Interior Lighting Inventory'!O329","v":"0"}]
[{"$f":"'Interior Lighting Inventory'!C330","v":310},{"$f":"'Interior Lighting Inventory'!D330","v":0},{"$f":"'Interior Lighting Inventory'!E330","v":0},{"$f":"'Interior Lighting Inventory'!G330","v":0},{"$f":"'Interior Lighting Inventory'!H330","v":0},{"$f":"'Interior Lighting Inventory'!I330","v":0},{"$f":"'Interior Lighting Inventory'!J330","v":0},{"$f":"'Interior Lighting Inventory'!K330","v":"-"},{"$f":"'Interior Lighting Inventory'!M330","v":"-"},{"$f":"'Interior Lighting Inventory'!N330","v":0},{"$f":"'Interior Lighting Inventory'!O330","v":"0"}]
[{"$f":"'Interior Lighting Inventory'!C331","v":311},{"$f":"'Interior Lighting Inventory'!D331","v":0},{"$f":"'Interior Lighting Inventory'!E331","v":0},{"$f":"'Interior Lighting Inventory'!G331","v":0},{"$f":"'Interior Lighting Inventory'!H331","v":0},{"$f":"'Interior Lighting Inventory'!I331","v":0},{"$f":"'Interior Lighting Inventory'!J331","v":0},{"$f":"'Interior Lighting Inventory'!K331","v":"-"},{"$f":"'Interior Lighting Inventory'!M331","v":"-"},{"$f":"'Interior Lighting Inventory'!N331","v":0},{"$f":"'Interior Lighting Inventory'!O331","v":"0"}]
[{"$f":"'Interior Lighting Inventory'!C332","v":312},{"$f":"'Interior Lighting Inventory'!D332","v":0},{"$f":"'Interior Lighting Inventory'!E332","v":0},{"$f":"'Interior Lighting Inventory'!G332","v":0},{"$f":"'Interior Lighting Inventory'!H332","v":0},{"$f":"'Interior Lighting Inventory'!I332","v":0},{"$f":"'Interior Lighting Inventory'!J332","v":0},{"$f":"'Interior Lighting Inventory'!K332","v":"-"},{"$f":"'Interior Lighting Inventory'!M332","v":"-"},{"$f":"'Interior Lighting Inventory'!N332","v":0},{"$f":"'Interior Lighting Inventory'!O332","v":"0"}]
[{"$f":"'Interior Lighting Inventory'!C333","v":313},{"$f":"'Interior Lighting Inventory'!D333","v":0},{"$f":"'Interior Lighting Inventory'!E333","v":0},{"$f":"'Interior Lighting Inventory'!G333","v":0},{"$f":"'Interior Lighting Inventory'!H333","v":0},{"$f":"'Interior Lighting Inventory'!I333","v":0},{"$f":"'Interior Lighting Inventory'!J333","v":0},{"$f":"'Interior Lighting Inventory'!K333","v":"-"},{"$f":"'Interior Lighting Inventory'!M333","v":"-"},{"$f":"'Interior Lighting Inventory'!N333","v":0},{"$f":"'Interior Lighting Inventory'!O333","v":"0"}]
[{"$f":"'Interior Lighting Inventory'!C334","v":314},{"$f":"'Interior Lighting Inventory'!D334","v":0},{"$f":"'Interior Lighting Inventory'!E334","v":0},{"$f":"'Interior Lighting Inventory'!G334","v":0},{"$f":"'Interior Lighting Inventory'!H334","v":0},{"$f":"'Interior Lighting Inventory'!I334","v":0},{"$f":"'Interior Lighting Inventory'!J334","v":0},{"$f":"'Interior Lighting Inventory'!K334","v":"-"},{"$f":"'Interior Lighting Inventory'!M334","v":"-"},{"$f":"'Interior Lighting Inventory'!N334","v":0},{"$f":"'Interior Lighting Inventory'!O334","v":"0"}]
[{"$f":"'Interior Lighting Inventory'!C335","v":315},{"$f":"'Interior Lighting Inventory'!D335","v":0},{"$f":"'Interior Lighting Inventory'!E335","v":0},{"$f":"'Interior Lighting Inventory'!G335","v":0},{"$f":"'Interior Lighting Inventory'!H335","v":0},{"$f":"'Interior Lighting Inventory'!I335","v":0},{"$f":"'Interior Lighting Inventory'!J335","v":0},{"$f":"'Interior Lighting Inventory'!K335","v":"-"},{"$f":"'Interior Lighting Inventory'!M335","v":"-"},{"$f":"'Interior Lighting Inventory'!N335","v":0},{"$f":"'Interior Lighting Inventory'!O335","v":"0"}]
[{"$f":"'Interior Lighting Inventory'!C336","v":316},{"$f":"'Interior Lighting Inventory'!D336","v":0},{"$f":"'Interior Lighting Inventory'!E336","v":0},{"$f":"'Interior Lighting Inventory'!G336","v":0},{"$f":"'Interior Lighting Inventory'!H336","v":0},{"$f":"'Interior Lighting Inventory'!I336","v":0},{"$f":"'Interior Lighting Inventory'!J336","v":0},{"$f":"'Interior Lighting Inventory'!K336","v":"-"},{"$f":"'Interior Lighting Inventory'!M336","v":"-"},{"$f":"'Interior Lighting Inventory'!N336","v":0},{"$f":"'Interior Lighting Inventory'!O336","v":"0"}]
[{"$f":"'Interior Lighting Inventory'!C337","v":317},{"$f":"'Interior Lighting Inventory'!D337","v":0},{"$f":"'Interior Lighting Inventory'!E337","v":0},{"$f":"'Interior Lighting Inventory'!G337","v":0},{"$f":"'Interior Lighting Inventory'!H337","v":0},{"$f":"'Interior Lighting Inventory'!I337","v":0},{"$f":"'Interior Lighting Inventory'!J337","v":0},{"$f":"'Interior Lighting Inventory'!K337","v":"-"},{"$f":"'Interior Lighting Inventory'!M337","v":"-"},{"$f":"'Interior Lighting Inventory'!N337","v":0},{"$f":"'Interior Lighting Inventory'!O337","v":"0"}]
[{"$f":"'Interior Lighting Inventory'!C338","v":318},{"$f":"'Interior Lighting Inventory'!D338","v":0},{"$f":"'Interior Lighting Inventory'!E338","v":0},{"$f":"'Interior Lighting Inventory'!G338","v":0},{"$f":"'Interior Lighting Inventory'!H338","v":0},{"$f":"'Interior Lighting Inventory'!I338","v":0},{"$f":"'Interior Lighting Inventory'!J338","v":0},{"$f":"'Interior Lighting Inventory'!K338","v":"-"},{"$f":"'Interior Lighting Inventory'!M338","v":"-"},{"$f":"'Interior Lighting Inventory'!N338","v":0},{"$f":"'Interior Lighting Inventory'!O338","v":"0"}]
[{"$f":"'Interior Lighting Inventory'!C339","v":319},{"$f":"'Interior Lighting Inventory'!D339","v":0},{"$f":"'Interior Lighting Inventory'!E339","v":0},{"$f":"'Interior Lighting Inventory'!G339","v":0},{"$f":"'Interior Lighting Inventory'!H339","v":0},{"$f":"'Interior Lighting Inventory'!I339","v":0},{"$f":"'Interior Lighting Inventory'!J339","v":0},{"$f":"'Interior Lighting Inventory'!K339","v":"-"},{"$f":"'Interior Lighting Inventory'!M339","v":"-"},{"$f":"'Interior Lighting Inventory'!N339","v":0},{"$f":"'Interior Lighting Inventory'!O339","v":"0"}]
[{"$f":"'Interior Lighting Inventory'!C340","v":320},{"$f":"'Interior Lighting Inventory'!D340","v":0},{"$f":"'Interior Lighting Inventory'!E340","v":0},{"$f":"'Interior Lighting Inventory'!G340","v":0},{"$f":"'Interior Lighting Inventory'!H340","v":0},{"$f":"'Interior Lighting Inventory'!I340","v":0},{"$f":"'Interior Lighting Inventory'!J340","v":0},{"$f":"'Interior Lighting Inventory'!K340","v":"-"},{"$f":"'Interior Lighting Inventory'!M340","v":"-"},{"$f":"'Interior Lighting Inventory'!N340","v":0},{"$f":"'Interior Lighting Inventory'!O340","v":"0"}]
[{"$f":"'Interior Lighting Inventory'!C341","v":321},{"$f":"'Interior Lighting Inventory'!D341","v":0},{"$f":"'Interior Lighting Inventory'!E341","v":0},{"$f":"'Interior Lighting Inventory'!G341","v":0},{"$f":"'Interior Lighting Inventory'!H341","v":0},{"$f":"'Interior Lighting Inventory'!I341","v":0},{"$f":"'Interior Lighting Inventory'!J341","v":0},{"$f":"'Interior Lighting Inventory'!K341","v":"-"},{"$f":"'Interior Lighting Inventory'!M341","v":"-"},{"$f":"'Interior Lighting Inventory'!N341","v":0},{"$f":"'Interior Lighting Inventory'!O341","v":"0"}]
[{"$f":"'Interior Lighting Inventory'!C342","v":322},{"$f":"'Interior Lighting Inventory'!D342","v":0},{"$f":"'Interior Lighting Inventory'!E342","v":0},{"$f":"'Interior Lighting Inventory'!G342","v":0},{"$f":"'Interior Lighting Inventory'!H342","v":0},{"$f":"'Interior Lighting Inventory'!I342","v":0},{"$f":"'Interior Lighting Inventory'!J342","v":0},{"$f":"'Interior Lighting Inventory'!K342","v":"-"},{"$f":"'Interior Lighting Inventory'!M342","v":"-"},{"$f":"'Interior Lighting Inventory'!N342","v":0},{"$f":"'Interior Lighting Inventory'!O342","v":"0"}]
[{"$f":"'Interior Lighting Inventory'!C343","v":323},{"$f":"'Interior Lighting Inventory'!D343","v":0},{"$f":"'Interior Lighting Inventory'!E343","v":0},{"$f":"'Interior Lighting Inventory'!G343","v":0},{"$f":"'Interior Lighting Inventory'!H343","v":0},{"$f":"'Interior Lighting Inventory'!I343","v":0},{"$f":"'Interior Lighting Inventory'!J343","v":0},{"$f":"'Interior Lighting Inventory'!K343","v":"-"},{"$f":"'Interior Lighting Inventory'!M343","v":"-"},{"$f":"'Interior Lighting Inventory'!N343","v":0},{"$f":"'Interior Lighting Inventory'!O343","v":"0"}]
[{"$f":"'Interior Lighting Inventory'!C344","v":324},{"$f":"'Interior Lighting Inventory'!D344","v":0},{"$f":"'Interior Lighting Inventory'!E344","v":0},{"$f":"'Interior Lighting Inventory'!G344","v":0},{"$f":"'Interior Lighting Inventory'!H344","v":0},{"$f":"'Interior Lighting Inventory'!I344","v":0},{"$f":"'Interior Lighting Inventory'!J344","v":0},{"$f":"'Interior Lighting Inventory'!K344","v":"-"},{"$f":"'Interior Lighting Inventory'!M344","v":"-"},{"$f":"'Interior Lighting Inventory'!N344","v":0},{"$f":"'Interior Lighting Inventory'!O344","v":"0"}]
[{"$f":"'Interior Lighting Inventory'!C345","v":325},{"$f":"'Interior Lighting Inventory'!D345","v":0},{"$f":"'Interior Lighting Inventory'!E345","v":0},{"$f":"'Interior Lighting Inventory'!G345","v":0},{"$f":"'Interior Lighting Inventory'!H345","v":0},{"$f":"'Interior Lighting Inventory'!I345","v":0},{"$f":"'Interior Lighting Inventory'!J345","v":0},{"$f":"'Interior Lighting Inventory'!K345","v":"-"},{"$f":"'Interior Lighting Inventory'!M345","v":"-"},{"$f":"'Interior Lighting Inventory'!N345","v":0},{"$f":"'Interior Lighting Inventory'!O345","v":"0"}]
[{"$f":"'Interior Lighting Inventory'!C346","v":326},{"$f":"'Interior Lighting Inventory'!D346","v":0},{"$f":"'Interior Lighting Inventory'!E346","v":0},{"$f":"'Interior Lighting Inventory'!G346","v":0},{"$f":"'Interior Lighting Inventory'!H346","v":0},{"$f":"'Interior Lighting Inventory'!I346","v":0},{"$f":"'Interior Lighting Inventory'!J346","v":0},{"$f":"'Interior Lighting Inventory'!K346","v":"-"},{"$f":"'Interior Lighting Inventory'!M346","v":"-"},{"$f":"'Interior Lighting Inventory'!N346","v":0},{"$f":"'Interior Lighting Inventory'!O346","v":"0"}]
[{"$f":"'Interior Lighting Inventory'!C347","v":327},{"$f":"'Interior Lighting Inventory'!D347","v":0},{"$f":"'Interior Lighting Inventory'!E347","v":0},{"$f":"'Interior Lighting Inventory'!G347","v":0},{"$f":"'Interior Lighting Inventory'!H347","v":0},{"$f":"'Interior Lighting Inventory'!I347","v":0},{"$f":"'Interior Lighting Inventory'!J347","v":0},{"$f":"'Interior Lighting Inventory'!K347","v":"-"},{"$f":"'Interior Lighting Inventory'!M347","v":"-"},{"$f":"'Interior Lighting Inventory'!N347","v":0},{"$f":"'Interior Lighting Inventory'!O347","v":"0"}]
[{"$f":"'Interior Lighting Inventory'!C348","v":328},{"$f":"'Interior Lighting Inventory'!D348","v":0},{"$f":"'Interior Lighting Inventory'!E348","v":0},{"$f":"'Interior Lighting Inventory'!G348","v":0},{"$f":"'Interior Lighting Inventory'!H348","v":0},{"$f":"'Interior Lighting Inventory'!I348","v":0},{"$f":"'Interior Lighting Inventory'!J348","v":0},{"$f":"'Interior Lighting Inventory'!K348","v":"-"},{"$f":"'Interior Lighting Inventory'!M348","v":"-"},{"$f":"'Interior Lighting Inventory'!N348","v":0},{"$f":"'Interior Lighting Inventory'!O348","v":"0"}]
[{"$f":"'Interior Lighting Inventory'!C349","v":329},{"$f":"'Interior Lighting Inventory'!D349","v":0},{"$f":"'Interior Lighting Inventory'!E349","v":0},{"$f":"'Interior Lighting Inventory'!G349","v":0},{"$f":"'Interior Lighting Inventory'!H349","v":0},{"$f":"'Interior Lighting Inventory'!I349","v":0},{"$f":"'Interior Lighting Inventory'!J349","v":0},{"$f":"'Interior Lighting Inventory'!K349","v":"-"},{"$f":"'Interior Lighting Inventory'!M349","v":"-"},{"$f":"'Interior Lighting Inventory'!N349","v":0},{"$f":"'Interior Lighting Inventory'!O349","v":"0"}]
[{"$f":"'Interior Lighting Inventory'!C350","v":330},{"$f":"'Interior Lighting Inventory'!D350","v":0},{"$f":"'Interior Lighting Inventory'!E350","v":0},{"$f":"'Interior Lighting Inventory'!G350","v":0},{"$f":"'Interior Lighting Inventory'!H350","v":0},{"$f":"'Interior Lighting Inventory'!I350","v":0},{"$f":"'Interior Lighting Inventory'!J350","v":0},{"$f":"'Interior Lighting Inventory'!K350","v":"-"},{"$f":"'Interior Lighting Inventory'!M350","v":"-"},{"$f":"'Interior Lighting Inventory'!N350","v":0},{"$f":"'Interior Lighting Inventory'!O350","v":"0"}]
[{"$f":"'Interior Lighting Inventory'!C351","v":331},{"$f":"'Interior Lighting Inventory'!D351","v":0},{"$f":"'Interior Lighting Inventory'!E351","v":0},{"$f":"'Interior Lighting Inventory'!G351","v":0},{"$f":"'Interior Lighting Inventory'!H351","v":0},{"$f":"'Interior Lighting Inventory'!I351","v":0},{"$f":"'Interior Lighting Inventory'!J351","v":0},{"$f":"'Interior Lighting Inventory'!K351","v":"-"},{"$f":"'Interior Lighting Inventory'!M351","v":"-"},{"$f":"'Interior Lighting Inventory'!N351","v":0},{"$f":"'Interior Lighting Inventory'!O351","v":"0"}]
[{"$f":"'Interior Lighting Inventory'!C352","v":332},{"$f":"'Interior Lighting Inventory'!D352","v":0},{"$f":"'Interior Lighting Inventory'!E352","v":0},{"$f":"'Interior Lighting Inventory'!G352","v":0},{"$f":"'Interior Lighting Inventory'!H352","v":0},{"$f":"'Interior Lighting Inventory'!I352","v":0},{"$f":"'Interior Lighting Inventory'!J352","v":0},{"$f":"'Interior Lighting Inventory'!K352","v":"-"},{"$f":"'Interior Lighting Inventory'!M352","v":"-"},{"$f":"'Interior Lighting Inventory'!N352","v":0},{"$f":"'Interior Lighting Inventory'!O352","v":"0"}]
[{"$f":"'Interior Lighting Inventory'!C353","v":333},{"$f":"'Interior Lighting Inventory'!D353","v":0},{"$f":"'Interior Lighting Inventory'!E353","v":0},{"$f":"'Interior Lighting Inventory'!G353","v":0},{"$f":"'Interior Lighting Inventory'!H353","v":0},{"$f":"'Interior Lighting Inventory'!I353","v":0},{"$f":"'Interior Lighting Inventory'!J353","v":0},{"$f":"'Interior Lighting Inventory'!K353","v":"-"},{"$f":"'Interior Lighting Inventory'!M353","v":"-"},{"$f":"'Interior Lighting Inventory'!N353","v":0},{"$f":"'Interior Lighting Inventory'!O353","v":"0"}]
[{"$f":"'Interior Lighting Inventory'!C354","v":334},{"$f":"'Interior Lighting Inventory'!D354","v":0},{"$f":"'Interior Lighting Inventory'!E354","v":0},{"$f":"'Interior Lighting Inventory'!G354","v":0},{"$f":"'Interior Lighting Inventory'!H354","v":0},{"$f":"'Interior Lighting Inventory'!I354","v":0},{"$f":"'Interior Lighting Inventory'!J354","v":0},{"$f":"'Interior Lighting Inventory'!K354","v":"-"},{"$f":"'Interior Lighting Inventory'!M354","v":"-"},{"$f":"'Interior Lighting Inventory'!N354","v":0},{"$f":"'Interior Lighting Inventory'!O354","v":"0"}]
[{"$f":"'Interior Lighting Inventory'!C355","v":335},{"$f":"'Interior Lighting Inventory'!D355","v":0},{"$f":"'Interior Lighting Inventory'!E355","v":0},{"$f":"'Interior Lighting Inventory'!G355","v":0},{"$f":"'Interior Lighting Inventory'!H355","v":0},{"$f":"'Interior Lighting Inventory'!I355","v":0},{"$f":"'Interior Lighting Inventory'!J355","v":0},{"$f":"'Interior Lighting Inventory'!K355","v":"-"},{"$f":"'Interior Lighting Inventory'!M355","v":"-"},{"$f":"'Interior Lighting Inventory'!N355","v":0},{"$f":"'Interior Lighting Inventory'!O355","v":"0"}]
[{"$f":"'Interior Lighting Inventory'!C356","v":336},{"$f":"'Interior Lighting Inventory'!D356","v":0},{"$f":"'Interior Lighting Inventory'!E356","v":0},{"$f":"'Interior Lighting Inventory'!G356","v":0},{"$f":"'Interior Lighting Inventory'!H356","v":0},{"$f":"'Interior Lighting Inventory'!I356","v":0},{"$f":"'Interior Lighting Inventory'!J356","v":0},{"$f":"'Interior Lighting Inventory'!K356","v":"-"},{"$f":"'Interior Lighting Inventory'!M356","v":"-"},{"$f":"'Interior Lighting Inventory'!N356","v":0},{"$f":"'Interior Lighting Inventory'!O356","v":"0"}]
[{"$f":"'Interior Lighting Inventory'!C357","v":337},{"$f":"'Interior Lighting Inventory'!D357","v":0},{"$f":"'Interior Lighting Inventory'!E357","v":0},{"$f":"'Interior Lighting Inventory'!G357","v":0},{"$f":"'Interior Lighting Inventory'!H357","v":0},{"$f":"'Interior Lighting Inventory'!I357","v":0},{"$f":"'Interior Lighting Inventory'!J357","v":0},{"$f":"'Interior Lighting Inventory'!K357","v":"-"},{"$f":"'Interior Lighting Inventory'!M357","v":"-"},{"$f":"'Interior Lighting Inventory'!N357","v":0},{"$f":"'Interior Lighting Inventory'!O357","v":"0"}]
[{"$f":"'Interior Lighting Inventory'!C358","v":338},{"$f":"'Interior Lighting Inventory'!D358","v":0},{"$f":"'Interior Lighting Inventory'!E358","v":0},{"$f":"'Interior Lighting Inventory'!G358","v":0},{"$f":"'Interior Lighting Inventory'!H358","v":0},{"$f":"'Interior Lighting Inventory'!I358","v":0},{"$f":"'Interior Lighting Inventory'!J358","v":0},{"$f":"'Interior Lighting Inventory'!K358","v":"-"},{"$f":"'Interior Lighting Inventory'!M358","v":"-"},{"$f":"'Interior Lighting Inventory'!N358","v":0},{"$f":"'Interior Lighting Inventory'!O358","v":"0"}]
[{"$f":"'Interior Lighting Inventory'!C359","v":339},{"$f":"'Interior Lighting Inventory'!D359","v":0},{"$f":"'Interior Lighting Inventory'!E359","v":0},{"$f":"'Interior Lighting Inventory'!G359","v":0},{"$f":"'Interior Lighting Inventory'!H359","v":0},{"$f":"'Interior Lighting Inventory'!I359","v":0},{"$f":"'Interior Lighting Inventory'!J359","v":0},{"$f":"'Interior Lighting Inventory'!K359","v":"-"},{"$f":"'Interior Lighting Inventory'!M359","v":"-"},{"$f":"'Interior Lighting Inventory'!N359","v":0},{"$f":"'Interior Lighting Inventory'!O359","v":"0"}]
[{"$f":"'Interior Lighting Inventory'!C360","v":340},{"$f":"'Interior Lighting Inventory'!D360","v":0},{"$f":"'Interior Lighting Inventory'!E360","v":0},{"$f":"'Interior Lighting Inventory'!G360","v":0},{"$f":"'Interior Lighting Inventory'!H360","v":0},{"$f":"'Interior Lighting Inventory'!I360","v":0},{"$f":"'Interior Lighting Inventory'!J360","v":0},{"$f":"'Interior Lighting Inventory'!K360","v":"-"},{"$f":"'Interior Lighting Inventory'!M360","v":"-"},{"$f":"'Interior Lighting Inventory'!N360","v":0},{"$f":"'Interior Lighting Inventory'!O360","v":"0"}]
[{"$f":"'Interior Lighting Inventory'!C361","v":341},{"$f":"'Interior Lighting Inventory'!D361","v":0},{"$f":"'Interior Lighting Inventory'!E361","v":0},{"$f":"'Interior Lighting Inventory'!G361","v":0},{"$f":"'Interior Lighting Inventory'!H361","v":0},{"$f":"'Interior Lighting Inventory'!I361","v":0},{"$f":"'Interior Lighting Inventory'!J361","v":0},{"$f":"'Interior Lighting Inventory'!K361","v":"-"},{"$f":"'Interior Lighting Inventory'!M361","v":"-"},{"$f":"'Interior Lighting Inventory'!N361","v":0},{"$f":"'Interior Lighting Inventory'!O361","v":"0"}]
[{"$f":"'Interior Lighting Inventory'!C362","v":342},{"$f":"'Interior Lighting Inventory'!D362","v":0},{"$f":"'Interior Lighting Inventory'!E362","v":0},{"$f":"'Interior Lighting Inventory'!G362","v":0},{"$f":"'Interior Lighting Inventory'!H362","v":0},{"$f":"'Interior Lighting Inventory'!I362","v":0},{"$f":"'Interior Lighting Inventory'!J362","v":0},{"$f":"'Interior Lighting Inventory'!K362","v":"-"},{"$f":"'Interior Lighting Inventory'!M362","v":"-"},{"$f":"'Interior Lighting Inventory'!N362","v":0},{"$f":"'Interior Lighting Inventory'!O362","v":"0"}]
[{"$f":"'Interior Lighting Inventory'!C363","v":343},{"$f":"'Interior Lighting Inventory'!D363","v":0},{"$f":"'Interior Lighting Inventory'!E363","v":0},{"$f":"'Interior Lighting Inventory'!G363","v":0},{"$f":"'Interior Lighting Inventory'!H363","v":0},{"$f":"'Interior Lighting Inventory'!I363","v":0},{"$f":"'Interior Lighting Inventory'!J363","v":0},{"$f":"'Interior Lighting Inventory'!K363","v":"-"},{"$f":"'Interior Lighting Inventory'!M363","v":"-"},{"$f":"'Interior Lighting Inventory'!N363","v":0},{"$f":"'Interior Lighting Inventory'!O363","v":"0"}]
[{"$f":"'Interior Lighting Inventory'!C364","v":344},{"$f":"'Interior Lighting Inventory'!D364","v":0},{"$f":"'Interior Lighting Inventory'!E364","v":0},{"$f":"'Interior Lighting Inventory'!G364","v":0},{"$f":"'Interior Lighting Inventory'!H364","v":0},{"$f":"'Interior Lighting Inventory'!I364","v":0},{"$f":"'Interior Lighting Inventory'!J364","v":0},{"$f":"'Interior Lighting Inventory'!K364","v":"-"},{"$f":"'Interior Lighting Inventory'!M364","v":"-"},{"$f":"'Interior Lighting Inventory'!N364","v":0},{"$f":"'Interior Lighting Inventory'!O364","v":"0"}]
[{"$f":"'Interior Lighting Inventory'!C365","v":345},{"$f":"'Interior Lighting Inventory'!D365","v":0},{"$f":"'Interior Lighting Inventory'!E365","v":0},{"$f":"'Interior Lighting Inventory'!G365","v":0},{"$f":"'Interior Lighting Inventory'!H365","v":0},{"$f":"'Interior Lighting Inventory'!I365","v":0},{"$f":"'Interior Lighting Inventory'!J365","v":0},{"$f":"'Interior Lighting Inventory'!K365","v":"-"},{"$f":"'Interior Lighting Inventory'!M365","v":"-"},{"$f":"'Interior Lighting Inventory'!N365","v":0},{"$f":"'Interior Lighting Inventory'!O365","v":"0"}]
[{"$f":"'Interior Lighting Inventory'!C366","v":346},{"$f":"'Interior Lighting Inventory'!D366","v":0},{"$f":"'Interior Lighting Inventory'!E366","v":0},{"$f":"'Interior Lighting Inventory'!G366","v":0},{"$f":"'Interior Lighting Inventory'!H366","v":0},{"$f":"'Interior Lighting Inventory'!I366","v":0},{"$f":"'Interior Lighting Inventory'!J366","v":0},{"$f":"'Interior Lighting Inventory'!K366","v":"-"},{"$f":"'Interior Lighting Inventory'!M366","v":"-"},{"$f":"'Interior Lighting Inventory'!N366","v":0},{"$f":"'Interior Lighting Inventory'!O366","v":"0"}]
[{"$f":"'Interior Lighting Inventory'!C367","v":347},{"$f":"'Interior Lighting Inventory'!D367","v":0},{"$f":"'Interior Lighting Inventory'!E367","v":0},{"$f":"'Interior Lighting Inventory'!G367","v":0},{"$f":"'Interior Lighting Inventory'!H367","v":0},{"$f":"'Interior Lighting Inventory'!I367","v":0},{"$f":"'Interior Lighting Inventory'!J367","v":0},{"$f":"'Interior Lighting Inventory'!K367","v":"-"},{"$f":"'Interior Lighting Inventory'!M367","v":"-"},{"$f":"'Interior Lighting Inventory'!N367","v":0},{"$f":"'Interior Lighting Inventory'!O367","v":"0"}]
[{"$f":"'Interior Lighting Inventory'!C368","v":348},{"$f":"'Interior Lighting Inventory'!D368","v":0},{"$f":"'Interior Lighting Inventory'!E368","v":0},{"$f":"'Interior Lighting Inventory'!G368","v":0},{"$f":"'Interior Lighting Inventory'!H368","v":0},{"$f":"'Interior Lighting Inventory'!I368","v":0},{"$f":"'Interior Lighting Inventory'!J368","v":0},{"$f":"'Interior Lighting Inventory'!K368","v":"-"},{"$f":"'Interior Lighting Inventory'!M368","v":"-"},{"$f":"'Interior Lighting Inventory'!N368","v":0},{"$f":"'Interior Lighting Inventory'!O368","v":"0"}]
[{"$f":"'Interior Lighting Inventory'!C369","v":349},{"$f":"'Interior Lighting Inventory'!D369","v":0},{"$f":"'Interior Lighting Inventory'!E369","v":0},{"$f":"'Interior Lighting Inventory'!G369","v":0},{"$f":"'Interior Lighting Inventory'!H369","v":0},{"$f":"'Interior Lighting Inventory'!I369","v":0},{"$f":"'Interior Lighting Inventory'!J369","v":0},{"$f":"'Interior Lighting Inventory'!K369","v":"-"},{"$f":"'Interior Lighting Inventory'!M369","v":"-"},{"$f":"'Interior Lighting Inventory'!N369","v":0},{"$f":"'Interior Lighting Inventory'!O369","v":"0"}]
[{"$f":"'Interior Lighting Inventory'!C370","v":350},{"$f":"'Interior Lighting Inventory'!D370","v":0},{"$f":"'Interior Lighting Inventory'!E370","v":0},{"$f":"'Interior Lighting Inventory'!G370","v":0},{"$f":"'Interior Lighting Inventory'!H370","v":0},{"$f":"'Interior Lighting Inventory'!I370","v":0},{"$f":"'Interior Lighting Inventory'!J370","v":0},{"$f":"'Interior Lighting Inventory'!K370","v":"-"},{"$f":"'Interior Lighting Inventory'!M370","v":"-"},{"$f":"'Interior Lighting Inventory'!N370","v":0},{"$f":"'Interior Lighting Inventory'!O370","v":"0"}]
[{"$f":"'Interior Lighting Inventory'!C371","v":351},{"$f":"'Interior Lighting Inventory'!D371","v":0},{"$f":"'Interior Lighting Inventory'!E371","v":0},{"$f":"'Interior Lighting Inventory'!G371","v":0},{"$f":"'Interior Lighting Inventory'!H371","v":0},{"$f":"'Interior Lighting Inventory'!I371","v":0},{"$f":"'Interior Lighting Inventory'!J371","v":0},{"$f":"'Interior Lighting Inventory'!K371","v":"-"},{"$f":"'Interior Lighting Inventory'!M371","v":"-"},{"$f":"'Interior Lighting Inventory'!N371","v":0},{"$f":"'Interior Lighting Inventory'!O371","v":"0"}]
[{"$f":"'Interior Lighting Inventory'!C372","v":352},{"$f":"'Interior Lighting Inventory'!D372","v":0},{"$f":"'Interior Lighting Inventory'!E372","v":0},{"$f":"'Interior Lighting Inventory'!G372","v":0},{"$f":"'Interior Lighting Inventory'!H372","v":0},{"$f":"'Interior Lighting Inventory'!I372","v":0},{"$f":"'Interior Lighting Inventory'!J372","v":0},{"$f":"'Interior Lighting Inventory'!K372","v":"-"},{"$f":"'Interior Lighting Inventory'!M372","v":"-"},{"$f":"'Interior Lighting Inventory'!N372","v":0},{"$f":"'Interior Lighting Inventory'!O372","v":"0"}]
[{"$f":"'Interior Lighting Inventory'!C373","v":353},{"$f":"'Interior Lighting Inventory'!D373","v":0},{"$f":"'Interior Lighting Inventory'!E373","v":0},{"$f":"'Interior Lighting Inventory'!G373","v":0},{"$f":"'Interior Lighting Inventory'!H373","v":0},{"$f":"'Interior Lighting Inventory'!I373","v":0},{"$f":"'Interior Lighting Inventory'!J373","v":0},{"$f":"'Interior Lighting Inventory'!K373","v":"-"},{"$f":"'Interior Lighting Inventory'!M373","v":"-"},{"$f":"'Interior Lighting Inventory'!N373","v":0},{"$f":"'Interior Lighting Inventory'!O373","v":"0"}]
[{"$f":"'Interior Lighting Inventory'!C374","v":354},{"$f":"'Interior Lighting Inventory'!D374","v":0},{"$f":"'Interior Lighting Inventory'!E374","v":0},{"$f":"'Interior Lighting Inventory'!G374","v":0},{"$f":"'Interior Lighting Inventory'!H374","v":0},{"$f":"'Interior Lighting Inventory'!I374","v":0},{"$f":"'Interior Lighting Inventory'!J374","v":0},{"$f":"'Interior Lighting Inventory'!K374","v":"-"},{"$f":"'Interior Lighting Inventory'!M374","v":"-"},{"$f":"'Interior Lighting Inventory'!N374","v":0},{"$f":"'Interior Lighting Inventory'!O374","v":"0"}]
[{"$f":"'Interior Lighting Inventory'!C375","v":355},{"$f":"'Interior Lighting Inventory'!D375","v":0},{"$f":"'Interior Lighting Inventory'!E375","v":0},{"$f":"'Interior Lighting Inventory'!G375","v":0},{"$f":"'Interior Lighting Inventory'!H375","v":0},{"$f":"'Interior Lighting Inventory'!I375","v":0},{"$f":"'Interior Lighting Inventory'!J375","v":0},{"$f":"'Interior Lighting Inventory'!K375","v":"-"},{"$f":"'Interior Lighting Inventory'!M375","v":"-"},{"$f":"'Interior Lighting Inventory'!N375","v":0},{"$f":"'Interior Lighting Inventory'!O375","v":"0"}]
[{"$f":"'Interior Lighting Inventory'!C376","v":356},{"$f":"'Interior Lighting Inventory'!D376","v":0},{"$f":"'Interior Lighting Inventory'!E376","v":0},{"$f":"'Interior Lighting Inventory'!G376","v":0},{"$f":"'Interior Lighting Inventory'!H376","v":0},{"$f":"'Interior Lighting Inventory'!I376","v":0},{"$f":"'Interior Lighting Inventory'!J376","v":0},{"$f":"'Interior Lighting Inventory'!K376","v":"-"},{"$f":"'Interior Lighting Inventory'!M376","v":"-"},{"$f":"'Interior Lighting Inventory'!N376","v":0},{"$f":"'Interior Lighting Inventory'!O376","v":"0"}]
[{"$f":"'Interior Lighting Inventory'!C377","v":357},{"$f":"'Interior Lighting Inventory'!D377","v":0},{"$f":"'Interior Lighting Inventory'!E377","v":0},{"$f":"'Interior Lighting Inventory'!G377","v":0},{"$f":"'Interior Lighting Inventory'!H377","v":0},{"$f":"'Interior Lighting Inventory'!I377","v":0},{"$f":"'Interior Lighting Inventory'!J377","v":0},{"$f":"'Interior Lighting Inventory'!K377","v":"-"},{"$f":"'Interior Lighting Inventory'!M377","v":"-"},{"$f":"'Interior Lighting Inventory'!N377","v":0},{"$f":"'Interior Lighting Inventory'!O377","v":"0"}]
[{"$f":"'Interior Lighting Inventory'!C378","v":358},{"$f":"'Interior Lighting Inventory'!D378","v":0},{"$f":"'Interior Lighting Inventory'!E378","v":0},{"$f":"'Interior Lighting Inventory'!G378","v":0},{"$f":"'Interior Lighting Inventory'!H378","v":0},{"$f":"'Interior Lighting Inventory'!I378","v":0},{"$f":"'Interior Lighting Inventory'!J378","v":0},{"$f":"'Interior Lighting Inventory'!K378","v":"-"},{"$f":"'Interior Lighting Inventory'!M378","v":"-"},{"$f":"'Interior Lighting Inventory'!N378","v":0},{"$f":"'Interior Lighting Inventory'!O378","v":"0"}]
[{"$f":"'Interior Lighting Inventory'!C379","v":359},{"$f":"'Interior Lighting Inventory'!D379","v":0},{"$f":"'Interior Lighting Inventory'!E379","v":0},{"$f":"'Interior Lighting Inventory'!G379","v":0},{"$f":"'Interior Lighting Inventory'!H379","v":0},{"$f":"'Interior Lighting Inventory'!I379","v":0},{"$f":"'Interior Lighting Inventory'!J379","v":0},{"$f":"'Interior Lighting Inventory'!K379","v":"-"},{"$f":"'Interior Lighting Inventory'!M379","v":"-"},{"$f":"'Interior Lighting Inventory'!N379","v":0},{"$f":"'Interior Lighting Inventory'!O379","v":"0"}]
[{"$f":"'Interior Lighting Inventory'!C380","v":360},{"$f":"'Interior Lighting Inventory'!D380","v":0},{"$f":"'Interior Lighting Inventory'!E380","v":0},{"$f":"'Interior Lighting Inventory'!G380","v":0},{"$f":"'Interior Lighting Inventory'!H380","v":0},{"$f":"'Interior Lighting Inventory'!I380","v":0},{"$f":"'Interior Lighting Inventory'!J380","v":0},{"$f":"'Interior Lighting Inventory'!K380","v":"-"},{"$f":"'Interior Lighting Inventory'!M380","v":"-"},{"$f":"'Interior Lighting Inventory'!N380","v":0},{"$f":"'Interior Lighting Inventory'!O380","v":"0"}]
[{"$f":"'Interior Lighting Inventory'!C381","v":361},{"$f":"'Interior Lighting Inventory'!D381","v":0},{"$f":"'Interior Lighting Inventory'!E381","v":0},{"$f":"'Interior Lighting Inventory'!G381","v":0},{"$f":"'Interior Lighting Inventory'!H381","v":0},{"$f":"'Interior Lighting Inventory'!I381","v":0},{"$f":"'Interior Lighting Inventory'!J381","v":0},{"$f":"'Interior Lighting Inventory'!K381","v":"-"},{"$f":"'Interior Lighting Inventory'!M381","v":"-"},{"$f":"'Interior Lighting Inventory'!N381","v":0},{"$f":"'Interior Lighting Inventory'!O381","v":"0"}]
[{"$f":"'Interior Lighting Inventory'!C382","v":362},{"$f":"'Interior Lighting Inventory'!D382","v":0},{"$f":"'Interior Lighting Inventory'!E382","v":0},{"$f":"'Interior Lighting Inventory'!G382","v":0},{"$f":"'Interior Lighting Inventory'!H382","v":0},{"$f":"'Interior Lighting Inventory'!I382","v":0},{"$f":"'Interior Lighting Inventory'!J382","v":0},{"$f":"'Interior Lighting Inventory'!K382","v":"-"},{"$f":"'Interior Lighting Inventory'!M382","v":"-"},{"$f":"'Interior Lighting Inventory'!N382","v":0},{"$f":"'Interior Lighting Inventory'!O382","v":"0"}]
[{"$f":"'Interior Lighting Inventory'!C383","v":363},{"$f":"'Interior Lighting Inventory'!D383","v":0},{"$f":"'Interior Lighting Inventory'!E383","v":0},{"$f":"'Interior Lighting Inventory'!G383","v":0},{"$f":"'Interior Lighting Inventory'!H383","v":0},{"$f":"'Interior Lighting Inventory'!I383","v":0},{"$f":"'Interior Lighting Inventory'!J383","v":0},{"$f":"'Interior Lighting Inventory'!K383","v":"-"},{"$f":"'Interior Lighting Inventory'!M383","v":"-"},{"$f":"'Interior Lighting Inventory'!N383","v":0},{"$f":"'Interior Lighting Inventory'!O383","v":"0"}]
[{"$f":"'Interior Lighting Inventory'!C384","v":364},{"$f":"'Interior Lighting Inventory'!D384","v":0},{"$f":"'Interior Lighting Inventory'!E384","v":0},{"$f":"'Interior Lighting Inventory'!G384","v":0},{"$f":"'Interior Lighting Inventory'!H384","v":0},{"$f":"'Interior Lighting Inventory'!I384","v":0},{"$f":"'Interior Lighting Inventory'!J384","v":0},{"$f":"'Interior Lighting Inventory'!K384","v":"-"},{"$f":"'Interior Lighting Inventory'!M384","v":"-"},{"$f":"'Interior Lighting Inventory'!N384","v":0},{"$f":"'Interior Lighting Inventory'!O384","v":"0"}]
[{"$f":"'Interior Lighting Inventory'!C385","v":365},{"$f":"'Interior Lighting Inventory'!D385","v":0},{"$f":"'Interior Lighting Inventory'!E385","v":0},{"$f":"'Interior Lighting Inventory'!G385","v":0},{"$f":"'Interior Lighting Inventory'!H385","v":0},{"$f":"'Interior Lighting Inventory'!I385","v":0},{"$f":"'Interior Lighting Inventory'!J385","v":0},{"$f":"'Interior Lighting Inventory'!K385","v":"-"},{"$f":"'Interior Lighting Inventory'!M385","v":"-"},{"$f":"'Interior Lighting Inventory'!N385","v":0},{"$f":"'Interior Lighting Inventory'!O385","v":"0"}]
[{"$f":"'Interior Lighting Inventory'!C386","v":366},{"$f":"'Interior Lighting Inventory'!D386","v":0},{"$f":"'Interior Lighting Inventory'!E386","v":0},{"$f":"'Interior Lighting Inventory'!G386","v":0},{"$f":"'Interior Lighting Inventory'!H386","v":0},{"$f":"'Interior Lighting Inventory'!I386","v":0},{"$f":"'Interior Lighting Inventory'!J386","v":0},{"$f":"'Interior Lighting Inventory'!K386","v":"-"},{"$f":"'Interior Lighting Inventory'!M386","v":"-"},{"$f":"'Interior Lighting Inventory'!N386","v":0},{"$f":"'Interior Lighting Inventory'!O386","v":"0"}]
[{"$f":"'Interior Lighting Inventory'!C387","v":367},{"$f":"'Interior Lighting Inventory'!D387","v":0},{"$f":"'Interior Lighting Inventory'!E387","v":0},{"$f":"'Interior Lighting Inventory'!G387","v":0},{"$f":"'Interior Lighting Inventory'!H387","v":0},{"$f":"'Interior Lighting Inventory'!I387","v":0},{"$f":"'Interior Lighting Inventory'!J387","v":0},{"$f":"'Interior Lighting Inventory'!K387","v":"-"},{"$f":"'Interior Lighting Inventory'!M387","v":"-"},{"$f":"'Interior Lighting Inventory'!N387","v":0},{"$f":"'Interior Lighting Inventory'!O387","v":"0"}]
[{"$f":"'Interior Lighting Inventory'!C388","v":368},{"$f":"'Interior Lighting Inventory'!D388","v":0},{"$f":"'Interior Lighting Inventory'!E388","v":0},{"$f":"'Interior Lighting Inventory'!G388","v":0},{"$f":"'Interior Lighting Inventory'!H388","v":0},{"$f":"'Interior Lighting Inventory'!I388","v":0},{"$f":"'Interior Lighting Inventory'!J388","v":0},{"$f":"'Interior Lighting Inventory'!K388","v":"-"},{"$f":"'Interior Lighting Inventory'!M388","v":"-"},{"$f":"'Interior Lighting Inventory'!N388","v":0},{"$f":"'Interior Lighting Inventory'!O388","v":"0"}]
[{"$f":"'Interior Lighting Inventory'!C389","v":369},{"$f":"'Interior Lighting Inventory'!D389","v":0},{"$f":"'Interior Lighting Inventory'!E389","v":0},{"$f":"'Interior Lighting Inventory'!G389","v":0},{"$f":"'Interior Lighting Inventory'!H389","v":0},{"$f":"'Interior Lighting Inventory'!I389","v":0},{"$f":"'Interior Lighting Inventory'!J389","v":0},{"$f":"'Interior Lighting Inventory'!K389","v":"-"},{"$f":"'Interior Lighting Inventory'!M389","v":"-"},{"$f":"'Interior Lighting Inventory'!N389","v":0},{"$f":"'Interior Lighting Inventory'!O389","v":"0"}]
[{"$f":"'Interior Lighting Inventory'!C390","v":370},{"$f":"'Interior Lighting Inventory'!D390","v":0},{"$f":"'Interior Lighting Inventory'!E390","v":0},{"$f":"'Interior Lighting Inventory'!G390","v":0},{"$f":"'Interior Lighting Inventory'!H390","v":0},{"$f":"'Interior Lighting Inventory'!I390","v":0},{"$f":"'Interior Lighting Inventory'!J390","v":0},{"$f":"'Interior Lighting Inventory'!K390","v":"-"},{"$f":"'Interior Lighting Inventory'!M390","v":"-"},{"$f":"'Interior Lighting Inventory'!N390","v":0},{"$f":"'Interior Lighting Inventory'!O390","v":"0"}]
[{"$f":"'Interior Lighting Inventory'!C391","v":371},{"$f":"'Interior Lighting Inventory'!D391","v":0},{"$f":"'Interior Lighting Inventory'!E391","v":0},{"$f":"'Interior Lighting Inventory'!G391","v":0},{"$f":"'Interior Lighting Inventory'!H391","v":0},{"$f":"'Interior Lighting Inventory'!I391","v":0},{"$f":"'Interior Lighting Inventory'!J391","v":0},{"$f":"'Interior Lighting Inventory'!K391","v":"-"},{"$f":"'Interior Lighting Inventory'!M391","v":"-"},{"$f":"'Interior Lighting Inventory'!N391","v":0},{"$f":"'Interior Lighting Inventory'!O391","v":"0"}]
[{"$f":"'Interior Lighting Inventory'!C392","v":372},{"$f":"'Interior Lighting Inventory'!D392","v":0},{"$f":"'Interior Lighting Inventory'!E392","v":0},{"$f":"'Interior Lighting Inventory'!G392","v":0},{"$f":"'Interior Lighting Inventory'!H392","v":0},{"$f":"'Interior Lighting Inventory'!I392","v":0},{"$f":"'Interior Lighting Inventory'!J392","v":0},{"$f":"'Interior Lighting Inventory'!K392","v":"-"},{"$f":"'Interior Lighting Inventory'!M392","v":"-"},{"$f":"'Interior Lighting Inventory'!N392","v":0},{"$f":"'Interior Lighting Inventory'!O392","v":"0"}]
[{"$f":"'Interior Lighting Inventory'!C393","v":373},{"$f":"'Interior Lighting Inventory'!D393","v":0},{"$f":"'Interior Lighting Inventory'!E393","v":0},{"$f":"'Interior Lighting Inventory'!G393","v":0},{"$f":"'Interior Lighting Inventory'!H393","v":0},{"$f":"'Interior Lighting Inventory'!I393","v":0},{"$f":"'Interior Lighting Inventory'!J393","v":0},{"$f":"'Interior Lighting Inventory'!K393","v":"-"},{"$f":"'Interior Lighting Inventory'!M393","v":"-"},{"$f":"'Interior Lighting Inventory'!N393","v":0},{"$f":"'Interior Lighting Inventory'!O393","v":"0"}]
[{"$f":"'Interior Lighting Inventory'!C394","v":374},{"$f":"'Interior Lighting Inventory'!D394","v":0},{"$f":"'Interior Lighting Inventory'!E394","v":0},{"$f":"'Interior Lighting Inventory'!G394","v":0},{"$f":"'Interior Lighting Inventory'!H394","v":0},{"$f":"'Interior Lighting Inventory'!I394","v":0},{"$f":"'Interior Lighting Inventory'!J394","v":0},{"$f":"'Interior Lighting Inventory'!K394","v":"-"},{"$f":"'Interior Lighting Inventory'!M394","v":"-"},{"$f":"'Interior Lighting Inventory'!N394","v":0},{"$f":"'Interior Lighting Inventory'!O394","v":"0"}]
[{"$f":"'Interior Lighting Inventory'!C395","v":375},{"$f":"'Interior Lighting Inventory'!D395","v":0},{"$f":"'Interior Lighting Inventory'!E395","v":0},{"$f":"'Interior Lighting Inventory'!G395","v":0},{"$f":"'Interior Lighting Inventory'!H395","v":0},{"$f":"'Interior Lighting Inventory'!I395","v":0},{"$f":"'Interior Lighting Inventory'!J395","v":0},{"$f":"'Interior Lighting Inventory'!K395","v":"-"},{"$f":"'Interior Lighting Inventory'!M395","v":"-"},{"$f":"'Interior Lighting Inventory'!N395","v":0},{"$f":"'Interior Lighting Inventory'!O395","v":"0"}]
[{"$f":"'Interior Lighting Inventory'!C396","v":376},{"$f":"'Interior Lighting Inventory'!D396","v":0},{"$f":"'Interior Lighting Inventory'!E396","v":0},{"$f":"'Interior Lighting Inventory'!G396","v":0},{"$f":"'Interior Lighting Inventory'!H396","v":0},{"$f":"'Interior Lighting Inventory'!I396","v":0},{"$f":"'Interior Lighting Inventory'!J396","v":0},{"$f":"'Interior Lighting Inventory'!K396","v":"-"},{"$f":"'Interior Lighting Inventory'!M396","v":"-"},{"$f":"'Interior Lighting Inventory'!N396","v":0},{"$f":"'Interior Lighting Inventory'!O396","v":"0"}]
[{"$f":"'Interior Lighting Inventory'!C397","v":377},{"$f":"'Interior Lighting Inventory'!D397","v":0},{"$f":"'Interior Lighting Inventory'!E397","v":0},{"$f":"'Interior Lighting Inventory'!G397","v":0},{"$f":"'Interior Lighting Inventory'!H397","v":0},{"$f":"'Interior Lighting Inventory'!I397","v":0},{"$f":"'Interior Lighting Inventory'!J397","v":0},{"$f":"'Interior Lighting Inventory'!K397","v":"-"},{"$f":"'Interior Lighting Inventory'!M397","v":"-"},{"$f":"'Interior Lighting Inventory'!N397","v":0},{"$f":"'Interior Lighting Inventory'!O397","v":"0"}]
[{"$f":"'Interior Lighting Inventory'!C398","v":378},{"$f":"'Interior Lighting Inventory'!D398","v":0},{"$f":"'Interior Lighting Inventory'!E398","v":0},{"$f":"'Interior Lighting Inventory'!G398","v":0},{"$f":"'Interior Lighting Inventory'!H398","v":0},{"$f":"'Interior Lighting Inventory'!I398","v":0},{"$f":"'Interior Lighting Inventory'!J398","v":0},{"$f":"'Interior Lighting Inventory'!K398","v":"-"},{"$f":"'Interior Lighting Inventory'!M398","v":"-"},{"$f":"'Interior Lighting Inventory'!N398","v":0},{"$f":"'Interior Lighting Inventory'!O398","v":"0"}]
[{"$f":"'Interior Lighting Inventory'!C399","v":379},{"$f":"'Interior Lighting Inventory'!D399","v":0},{"$f":"'Interior Lighting Inventory'!E399","v":0},{"$f":"'Interior Lighting Inventory'!G399","v":0},{"$f":"'Interior Lighting Inventory'!H399","v":0},{"$f":"'Interior Lighting Inventory'!I399","v":0},{"$f":"'Interior Lighting Inventory'!J399","v":0},{"$f":"'Interior Lighting Inventory'!K399","v":"-"},{"$f":"'Interior Lighting Inventory'!M399","v":"-"},{"$f":"'Interior Lighting Inventory'!N399","v":0},{"$f":"'Interior Lighting Inventory'!O399","v":"0"}]
[{"$f":"'Interior Lighting Inventory'!C400","v":380},{"$f":"'Interior Lighting Inventory'!D400","v":0},{"$f":"'Interior Lighting Inventory'!E400","v":0},{"$f":"'Interior Lighting Inventory'!G400","v":0},{"$f":"'Interior Lighting Inventory'!H400","v":0},{"$f":"'Interior Lighting Inventory'!I400","v":0},{"$f":"'Interior Lighting Inventory'!J400","v":0},{"$f":"'Interior Lighting Inventory'!K400","v":"-"},{"$f":"'Interior Lighting Inventory'!M400","v":"-"},{"$f":"'Interior Lighting Inventory'!N400","v":0},{"$f":"'Interior Lighting Inventory'!O400","v":"0"}]
[{"$f":"'Interior Lighting Inventory'!C401","v":381},{"$f":"'Interior Lighting Inventory'!D401","v":0},{"$f":"'Interior Lighting Inventory'!E401","v":0},{"$f":"'Interior Lighting Inventory'!G401","v":0},{"$f":"'Interior Lighting Inventory'!H401","v":0},{"$f":"'Interior Lighting Inventory'!I401","v":0},{"$f":"'Interior Lighting Inventory'!J401","v":0},{"$f":"'Interior Lighting Inventory'!K401","v":"-"},{"$f":"'Interior Lighting Inventory'!M401","v":"-"},{"$f":"'Interior Lighting Inventory'!N401","v":0},{"$f":"'Interior Lighting Inventory'!O401","v":"0"}]
[{"$f":"'Interior Lighting Inventory'!C402","v":382},{"$f":"'Interior Lighting Inventory'!D402","v":0},{"$f":"'Interior Lighting Inventory'!E402","v":0},{"$f":"'Interior Lighting Inventory'!G402","v":0},{"$f":"'Interior Lighting Inventory'!H402","v":0},{"$f":"'Interior Lighting Inventory'!I402","v":0},{"$f":"'Interior Lighting Inventory'!J402","v":0},{"$f":"'Interior Lighting Inventory'!K402","v":"-"},{"$f":"'Interior Lighting Inventory'!M402","v":"-"},{"$f":"'Interior Lighting Inventory'!N402","v":0},{"$f":"'Interior Lighting Inventory'!O402","v":"0"}]
[{"$f":"'Interior Lighting Inventory'!C403","v":383},{"$f":"'Interior Lighting Inventory'!D403","v":0},{"$f":"'Interior Lighting Inventory'!E403","v":0},{"$f":"'Interior Lighting Inventory'!G403","v":0},{"$f":"'Interior Lighting Inventory'!H403","v":0},{"$f":"'Interior Lighting Inventory'!I403","v":0},{"$f":"'Interior Lighting Inventory'!J403","v":0},{"$f":"'Interior Lighting Inventory'!K403","v":"-"},{"$f":"'Interior Lighting Inventory'!M403","v":"-"},{"$f":"'Interior Lighting Inventory'!N403","v":0},{"$f":"'Interior Lighting Inventory'!O403","v":"0"}]
[{"$f":"'Interior Lighting Inventory'!C404","v":384},{"$f":"'Interior Lighting Inventory'!D404","v":0},{"$f":"'Interior Lighting Inventory'!E404","v":0},{"$f":"'Interior Lighting Inventory'!G404","v":0},{"$f":"'Interior Lighting Inventory'!H404","v":0},{"$f":"'Interior Lighting Inventory'!I404","v":0},{"$f":"'Interior Lighting Inventory'!J404","v":0},{"$f":"'Interior Lighting Inventory'!K404","v":"-"},{"$f":"'Interior Lighting Inventory'!M404","v":"-"},{"$f":"'Interior Lighting Inventory'!N404","v":0},{"$f":"'Interior Lighting Inventory'!O404","v":"0"}]
[{"$f":"'Interior Lighting Inventory'!C405","v":385},{"$f":"'Interior Lighting Inventory'!D405","v":0},{"$f":"'Interior Lighting Inventory'!E405","v":0},{"$f":"'Interior Lighting Inventory'!G405","v":0},{"$f":"'Interior Lighting Inventory'!H405","v":0},{"$f":"'Interior Lighting Inventory'!I405","v":0},{"$f":"'Interior Lighting Inventory'!J405","v":0},{"$f":"'Interior Lighting Inventory'!K405","v":"-"},{"$f":"'Interior Lighting Inventory'!M405","v":"-"},{"$f":"'Interior Lighting Inventory'!N405","v":0},{"$f":"'Interior Lighting Inventory'!O405","v":"0"}]
[{"$f":"'Interior Lighting Inventory'!C406","v":386},{"$f":"'Interior Lighting Inventory'!D406","v":0},{"$f":"'Interior Lighting Inventory'!E406","v":0},{"$f":"'Interior Lighting Inventory'!G406","v":0},{"$f":"'Interior Lighting Inventory'!H406","v":0},{"$f":"'Interior Lighting Inventory'!I406","v":0},{"$f":"'Interior Lighting Inventory'!J406","v":0},{"$f":"'Interior Lighting Inventory'!K406","v":"-"},{"$f":"'Interior Lighting Inventory'!M406","v":"-"},{"$f":"'Interior Lighting Inventory'!N406","v":0},{"$f":"'Interior Lighting Inventory'!O406","v":"0"}]
[{"$f":"'Interior Lighting Inventory'!C407","v":387},{"$f":"'Interior Lighting Inventory'!D407","v":0},{"$f":"'Interior Lighting Inventory'!E407","v":0},{"$f":"'Interior Lighting Inventory'!G407","v":0},{"$f":"'Interior Lighting Inventory'!H407","v":0},{"$f":"'Interior Lighting Inventory'!I407","v":0},{"$f":"'Interior Lighting Inventory'!J407","v":0},{"$f":"'Interior Lighting Inventory'!K407","v":"-"},{"$f":"'Interior Lighting Inventory'!M407","v":"-"},{"$f":"'Interior Lighting Inventory'!N407","v":0},{"$f":"'Interior Lighting Inventory'!O407","v":"0"}]
[{"$f":"'Interior Lighting Inventory'!C408","v":388},{"$f":"'Interior Lighting Inventory'!D408","v":0},{"$f":"'Interior Lighting Inventory'!E408","v":0},{"$f":"'Interior Lighting Inventory'!G408","v":0},{"$f":"'Interior Lighting Inventory'!H408","v":0},{"$f":"'Interior Lighting Inventory'!I408","v":0},{"$f":"'Interior Lighting Inventory'!J408","v":0},{"$f":"'Interior Lighting Inventory'!K408","v":"-"},{"$f":"'Interior Lighting Inventory'!M408","v":"-"},{"$f":"'Interior Lighting Inventory'!N408","v":0},{"$f":"'Interior Lighting Inventory'!O408","v":"0"}]
[{"$f":"'Interior Lighting Inventory'!C409","v":389},{"$f":"'Interior Lighting Inventory'!D409","v":0},{"$f":"'Interior Lighting Inventory'!E409","v":0},{"$f":"'Interior Lighting Inventory'!G409","v":0},{"$f":"'Interior Lighting Inventory'!H409","v":0},{"$f":"'Interior Lighting Inventory'!I409","v":0},{"$f":"'Interior Lighting Inventory'!J409","v":0},{"$f":"'Interior Lighting Inventory'!K409","v":"-"},{"$f":"'Interior Lighting Inventory'!M409","v":"-"},{"$f":"'Interior Lighting Inventory'!N409","v":0},{"$f":"'Interior Lighting Inventory'!O409","v":"0"}]
[{"$f":"'Interior Lighting Inventory'!C410","v":390},{"$f":"'Interior Lighting Inventory'!D410","v":0},{"$f":"'Interior Lighting Inventory'!E410","v":0},{"$f":"'Interior Lighting Inventory'!G410","v":0},{"$f":"'Interior Lighting Inventory'!H410","v":0},{"$f":"'Interior Lighting Inventory'!I410","v":0},{"$f":"'Interior Lighting Inventory'!J410","v":0},{"$f":"'Interior Lighting Inventory'!K410","v":"-"},{"$f":"'Interior Lighting Inventory'!M410","v":"-"},{"$f":"'Interior Lighting Inventory'!N410","v":0},{"$f":"'Interior Lighting Inventory'!O410","v":"0"}]
[{"$f":"'Interior Lighting Inventory'!C411","v":391},{"$f":"'Interior Lighting Inventory'!D411","v":0},{"$f":"'Interior Lighting Inventory'!E411","v":0},{"$f":"'Interior Lighting Inventory'!G411","v":0},{"$f":"'Interior Lighting Inventory'!H411","v":0},{"$f":"'Interior Lighting Inventory'!I411","v":0},{"$f":"'Interior Lighting Inventory'!J411","v":0},{"$f":"'Interior Lighting Inventory'!K411","v":"-"},{"$f":"'Interior Lighting Inventory'!M411","v":"-"},{"$f":"'Interior Lighting Inventory'!N411","v":0},{"$f":"'Interior Lighting Inventory'!O411","v":"0"}]
[{"$f":"'Interior Lighting Inventory'!C412","v":392},{"$f":"'Interior Lighting Inventory'!D412","v":0},{"$f":"'Interior Lighting Inventory'!E412","v":0},{"$f":"'Interior Lighting Inventory'!G412","v":0},{"$f":"'Interior Lighting Inventory'!H412","v":0},{"$f":"'Interior Lighting Inventory'!I412","v":0},{"$f":"'Interior Lighting Inventory'!J412","v":0},{"$f":"'Interior Lighting Inventory'!K412","v":"-"},{"$f":"'Interior Lighting Inventory'!M412","v":"-"},{"$f":"'Interior Lighting Inventory'!N412","v":0},{"$f":"'Interior Lighting Inventory'!O412","v":"0"}]
[{"$f":"'Interior Lighting Inventory'!C413","v":393},{"$f":"'Interior Lighting Inventory'!D413","v":0},{"$f":"'Interior Lighting Inventory'!E413","v":0},{"$f":"'Interior Lighting Inventory'!G413","v":0},{"$f":"'Interior Lighting Inventory'!H413","v":0},{"$f":"'Interior Lighting Inventory'!I413","v":0},{"$f":"'Interior Lighting Inventory'!J413","v":0},{"$f":"'Interior Lighting Inventory'!K413","v":"-"},{"$f":"'Interior Lighting Inventory'!M413","v":"-"},{"$f":"'Interior Lighting Inventory'!N413","v":0},{"$f":"'Interior Lighting Inventory'!O413","v":"0"}]
[{"$f":"'Interior Lighting Inventory'!C414","v":394},{"$f":"'Interior Lighting Inventory'!D414","v":0},{"$f":"'Interior Lighting Inventory'!E414","v":0},{"$f":"'Interior Lighting Inventory'!G414","v":0},{"$f":"'Interior Lighting Inventory'!H414","v":0},{"$f":"'Interior Lighting Inventory'!I414","v":0},{"$f":"'Interior Lighting Inventory'!J414","v":0},{"$f":"'Interior Lighting Inventory'!K414","v":"-"},{"$f":"'Interior Lighting Inventory'!M414","v":"-"},{"$f":"'Interior Lighting Inventory'!N414","v":0},{"$f":"'Interior Lighting Inventory'!O414","v":"0"}]
[{"$f":"'Interior Lighting Inventory'!C415","v":395},{"$f":"'Interior Lighting Inventory'!D415","v":0},{"$f":"'Interior Lighting Inventory'!E415","v":0},{"$f":"'Interior Lighting Inventory'!G415","v":0},{"$f":"'Interior Lighting Inventory'!H415","v":0},{"$f":"'Interior Lighting Inventory'!I415","v":0},{"$f":"'Interior Lighting Inventory'!J415","v":0},{"$f":"'Interior Lighting Inventory'!K415","v":"-"},{"$f":"'Interior Lighting Inventory'!M415","v":"-"},{"$f":"'Interior Lighting Inventory'!N415","v":0},{"$f":"'Interior Lighting Inventory'!O415","v":"0"}]
[{"$f":"'Interior Lighting Inventory'!C416","v":396},{"$f":"'Interior Lighting Inventory'!D416","v":0},{"$f":"'Interior Lighting Inventory'!E416","v":0},{"$f":"'Interior Lighting Inventory'!G416","v":0},{"$f":"'Interior Lighting Inventory'!H416","v":0},{"$f":"'Interior Lighting Inventory'!I416","v":0},{"$f":"'Interior Lighting Inventory'!J416","v":0},{"$f":"'Interior Lighting Inventory'!K416","v":"-"},{"$f":"'Interior Lighting Inventory'!M416","v":"-"},{"$f":"'Interior Lighting Inventory'!N416","v":0},{"$f":"'Interior Lighting Inventory'!O416","v":"0"}]
[{"$f":"'Interior Lighting Inventory'!C417","v":397},{"$f":"'Interior Lighting Inventory'!D417","v":0},{"$f":"'Interior Lighting Inventory'!E417","v":0},{"$f":"'Interior Lighting Inventory'!G417","v":0},{"$f":"'Interior Lighting Inventory'!H417","v":0},{"$f":"'Interior Lighting Inventory'!I417","v":0},{"$f":"'Interior Lighting Inventory'!J417","v":0},{"$f":"'Interior Lighting Inventory'!K417","v":"-"},{"$f":"'Interior Lighting Inventory'!M417","v":"-"},{"$f":"'Interior Lighting Inventory'!N417","v":0},{"$f":"'Interior Lighting Inventory'!O417","v":"0"}]
[{"$f":"'Interior Lighting Inventory'!C418","v":398},{"$f":"'Interior Lighting Inventory'!D418","v":0},{"$f":"'Interior Lighting Inventory'!E418","v":0},{"$f":"'Interior Lighting Inventory'!G418","v":0},{"$f":"'Interior Lighting Inventory'!H418","v":0},{"$f":"'Interior Lighting Inventory'!I418","v":0},{"$f":"'Interior Lighting Inventory'!J418","v":0},{"$f":"'Interior Lighting Inventory'!K418","v":"-"},{"$f":"'Interior Lighting Inventory'!M418","v":"-"},{"$f":"'Interior Lighting Inventory'!N418","v":0},{"$f":"'Interior Lighting Inventory'!O418","v":"0"}]
[{"$f":"'Interior Lighting Inventory'!C419","v":399},{"$f":"'Interior Lighting Inventory'!D419","v":0},{"$f":"'Interior Lighting Inventory'!E419","v":0},{"$f":"'Interior Lighting Inventory'!G419","v":0},{"$f":"'Interior Lighting Inventory'!H419","v":0},{"$f":"'Interior Lighting Inventory'!I419","v":0},{"$f":"'Interior Lighting Inventory'!J419","v":0},{"$f":"'Interior Lighting Inventory'!K419","v":"-"},{"$f":"'Interior Lighting Inventory'!M419","v":"-"},{"$f":"'Interior Lighting Inventory'!N419","v":0},{"$f":"'Interior Lighting Inventory'!O419","v":"0"}]
[{"$f":"'Interior Lighting Inventory'!C420","v":400},{"$f":"'Interior Lighting Inventory'!D420","v":0},{"$f":"'Interior Lighting Inventory'!E420","v":0},{"$f":"'Interior Lighting Inventory'!G420","v":0},{"$f":"'Interior Lighting Inventory'!H420","v":0},{"$f":"'Interior Lighting Inventory'!I420","v":0},{"$f":"'Interior Lighting Inventory'!J420","v":0},{"$f":"'Interior Lighting Inventory'!K420","v":"-"},{"$f":"'Interior Lighting Inventory'!M420","v":"-"},{"$f":"'Interior Lighting Inventory'!N420","v":0},{"$f":"'Interior Lighting Inventory'!O420","v":"0"}]
[{"$f":"'Interior Lighting Inventory'!C421","v":401},{"$f":"'Interior Lighting Inventory'!D421","v":0},{"$f":"'Interior Lighting Inventory'!E421","v":0},{"$f":"'Interior Lighting Inventory'!G421","v":0},{"$f":"'Interior Lighting Inventory'!H421","v":0},{"$f":"'Interior Lighting Inventory'!I421","v":0},{"$f":"'Interior Lighting Inventory'!J421","v":0},{"$f":"'Interior Lighting Inventory'!K421","v":"-"},{"$f":"'Interior Lighting Inventory'!M421","v":"-"},{"$f":"'Interior Lighting Inventory'!N421","v":0},{"$f":"'Interior Lighting Inventory'!O421","v":"0"}]
[{"$f":"'Interior Lighting Inventory'!C422","v":402},{"$f":"'Interior Lighting Inventory'!D422","v":0},{"$f":"'Interior Lighting Inventory'!E422","v":0},{"$f":"'Interior Lighting Inventory'!G422","v":0},{"$f":"'Interior Lighting Inventory'!H422","v":0},{"$f":"'Interior Lighting Inventory'!I422","v":0},{"$f":"'Interior Lighting Inventory'!J422","v":0},{"$f":"'Interior Lighting Inventory'!K422","v":"-"},{"$f":"'Interior Lighting Inventory'!M422","v":"-"},{"$f":"'Interior Lighting Inventory'!N422","v":0},{"$f":"'Interior Lighting Inventory'!O422","v":"0"}]
[{"$f":"'Interior Lighting Inventory'!C423","v":403},{"$f":"'Interior Lighting Inventory'!D423","v":0},{"$f":"'Interior Lighting Inventory'!E423","v":0},{"$f":"'Interior Lighting Inventory'!G423","v":0},{"$f":"'Interior Lighting Inventory'!H423","v":0},{"$f":"'Interior Lighting Inventory'!I423","v":0},{"$f":"'Interior Lighting Inventory'!J423","v":0},{"$f":"'Interior Lighting Inventory'!K423","v":"-"},{"$f":"'Interior Lighting Inventory'!M423","v":"-"},{"$f":"'Interior Lighting Inventory'!N423","v":0},{"$f":"'Interior Lighting Inventory'!O423","v":"0"}]
[{"$f":"'Interior Lighting Inventory'!C424","v":404},{"$f":"'Interior Lighting Inventory'!D424","v":0},{"$f":"'Interior Lighting Inventory'!E424","v":0},{"$f":"'Interior Lighting Inventory'!G424","v":0},{"$f":"'Interior Lighting Inventory'!H424","v":0},{"$f":"'Interior Lighting Inventory'!I424","v":0},{"$f":"'Interior Lighting Inventory'!J424","v":0},{"$f":"'Interior Lighting Inventory'!K424","v":"-"},{"$f":"'Interior Lighting Inventory'!M424","v":"-"},{"$f":"'Interior Lighting Inventory'!N424","v":0},{"$f":"'Interior Lighting Inventory'!O424","v":"0"}]
[{"$f":"'Interior Lighting Inventory'!C425","v":405},{"$f":"'Interior Lighting Inventory'!D425","v":0},{"$f":"'Interior Lighting Inventory'!E425","v":0},{"$f":"'Interior Lighting Inventory'!G425","v":0},{"$f":"'Interior Lighting Inventory'!H425","v":0},{"$f":"'Interior Lighting Inventory'!I425","v":0},{"$f":"'Interior Lighting Inventory'!J425","v":0},{"$f":"'Interior Lighting Inventory'!K425","v":"-"},{"$f":"'Interior Lighting Inventory'!M425","v":"-"},{"$f":"'Interior Lighting Inventory'!N425","v":0},{"$f":"'Interior Lighting Inventory'!O425","v":"0"}]
[{"$f":"'Interior Lighting Inventory'!C426","v":406},{"$f":"'Interior Lighting Inventory'!D426","v":0},{"$f":"'Interior Lighting Inventory'!E426","v":0},{"$f":"'Interior Lighting Inventory'!G426","v":0},{"$f":"'Interior Lighting Inventory'!H426","v":0},{"$f":"'Interior Lighting Inventory'!I426","v":0},{"$f":"'Interior Lighting Inventory'!J426","v":0},{"$f":"'Interior Lighting Inventory'!K426","v":"-"},{"$f":"'Interior Lighting Inventory'!M426","v":"-"},{"$f":"'Interior Lighting Inventory'!N426","v":0},{"$f":"'Interior Lighting Inventory'!O426","v":"0"}]
[{"$f":"'Interior Lighting Inventory'!C427","v":407},{"$f":"'Interior Lighting Inventory'!D427","v":0},{"$f":"'Interior Lighting Inventory'!E427","v":0},{"$f":"'Interior Lighting Inventory'!G427","v":0},{"$f":"'Interior Lighting Inventory'!H427","v":0},{"$f":"'Interior Lighting Inventory'!I427","v":0},{"$f":"'Interior Lighting Inventory'!J427","v":0},{"$f":"'Interior Lighting Inventory'!K427","v":"-"},{"$f":"'Interior Lighting Inventory'!M427","v":"-"},{"$f":"'Interior Lighting Inventory'!N427","v":0},{"$f":"'Interior Lighting Inventory'!O427","v":"0"}]
[{"$f":"'Interior Lighting Inventory'!C428","v":408},{"$f":"'Interior Lighting Inventory'!D428","v":0},{"$f":"'Interior Lighting Inventory'!E428","v":0},{"$f":"'Interior Lighting Inventory'!G428","v":0},{"$f":"'Interior Lighting Inventory'!H428","v":0},{"$f":"'Interior Lighting Inventory'!I428","v":0},{"$f":"'Interior Lighting Inventory'!J428","v":0},{"$f":"'Interior Lighting Inventory'!K428","v":"-"},{"$f":"'Interior Lighting Inventory'!M428","v":"-"},{"$f":"'Interior Lighting Inventory'!N428","v":0},{"$f":"'Interior Lighting Inventory'!O428","v":"0"}]
[{"$f":"'Interior Lighting Inventory'!C429","v":409},{"$f":"'Interior Lighting Inventory'!D429","v":0},{"$f":"'Interior Lighting Inventory'!E429","v":0},{"$f":"'Interior Lighting Inventory'!G429","v":0},{"$f":"'Interior Lighting Inventory'!H429","v":0},{"$f":"'Interior Lighting Inventory'!I429","v":0},{"$f":"'Interior Lighting Inventory'!J429","v":0},{"$f":"'Interior Lighting Inventory'!K429","v":"-"},{"$f":"'Interior Lighting Inventory'!M429","v":"-"},{"$f":"'Interior Lighting Inventory'!N429","v":0},{"$f":"'Interior Lighting Inventory'!O429","v":"0"}]
[{"$f":"'Interior Lighting Inventory'!C430","v":410},{"$f":"'Interior Lighting Inventory'!D430","v":0},{"$f":"'Interior Lighting Inventory'!E430","v":0},{"$f":"'Interior Lighting Inventory'!G430","v":0},{"$f":"'Interior Lighting Inventory'!H430","v":0},{"$f":"'Interior Lighting Inventory'!I430","v":0},{"$f":"'Interior Lighting Inventory'!J430","v":0},{"$f":"'Interior Lighting Inventory'!K430","v":"-"},{"$f":"'Interior Lighting Inventory'!M430","v":"-"},{"$f":"'Interior Lighting Inventory'!N430","v":0},{"$f":"'Interior Lighting Inventory'!O430","v":"0"}]
[{"$f":"'Interior Lighting Inventory'!C431","v":411},{"$f":"'Interior Lighting Inventory'!D431","v":0},{"$f":"'Interior Lighting Inventory'!E431","v":0},{"$f":"'Interior Lighting Inventory'!G431","v":0},{"$f":"'Interior Lighting Inventory'!H431","v":0},{"$f":"'Interior Lighting Inventory'!I431","v":0},{"$f":"'Interior Lighting Inventory'!J431","v":0},{"$f":"'Interior Lighting Inventory'!K431","v":"-"},{"$f":"'Interior Lighting Inventory'!M431","v":"-"},{"$f":"'Interior Lighting Inventory'!N431","v":0},{"$f":"'Interior Lighting Inventory'!O431","v":"0"}]
[{"$f":"'Interior Lighting Inventory'!C432","v":412},{"$f":"'Interior Lighting Inventory'!D432","v":0},{"$f":"'Interior Lighting Inventory'!E432","v":0},{"$f":"'Interior Lighting Inventory'!G432","v":0},{"$f":"'Interior Lighting Inventory'!H432","v":0},{"$f":"'Interior Lighting Inventory'!I432","v":0},{"$f":"'Interior Lighting Inventory'!J432","v":0},{"$f":"'Interior Lighting Inventory'!K432","v":"-"},{"$f":"'Interior Lighting Inventory'!M432","v":"-"},{"$f":"'Interior Lighting Inventory'!N432","v":0},{"$f":"'Interior Lighting Inventory'!O432","v":"0"}]
[{"$f":"'Interior Lighting Inventory'!C433","v":413},{"$f":"'Interior Lighting Inventory'!D433","v":0},{"$f":"'Interior Lighting Inventory'!E433","v":0},{"$f":"'Interior Lighting Inventory'!G433","v":0},{"$f":"'Interior Lighting Inventory'!H433","v":0},{"$f":"'Interior Lighting Inventory'!I433","v":0},{"$f":"'Interior Lighting Inventory'!J433","v":0},{"$f":"'Interior Lighting Inventory'!K433","v":"-"},{"$f":"'Interior Lighting Inventory'!M433","v":"-"},{"$f":"'Interior Lighting Inventory'!N433","v":0},{"$f":"'Interior Lighting Inventory'!O433","v":"0"}]
[{"$f":"'Interior Lighting Inventory'!C434","v":414},{"$f":"'Interior Lighting Inventory'!D434","v":0},{"$f":"'Interior Lighting Inventory'!E434","v":0},{"$f":"'Interior Lighting Inventory'!G434","v":0},{"$f":"'Interior Lighting Inventory'!H434","v":0},{"$f":"'Interior Lighting Inventory'!I434","v":0},{"$f":"'Interior Lighting Inventory'!J434","v":0},{"$f":"'Interior Lighting Inventory'!K434","v":"-"},{"$f":"'Interior Lighting Inventory'!M434","v":"-"},{"$f":"'Interior Lighting Inventory'!N434","v":0},{"$f":"'Interior Lighting Inventory'!O434","v":"0"}]
[{"$f":"'Interior Lighting Inventory'!C435","v":415},{"$f":"'Interior Lighting Inventory'!D435","v":0},{"$f":"'Interior Lighting Inventory'!E435","v":0},{"$f":"'Interior Lighting Inventory'!G435","v":0},{"$f":"'Interior Lighting Inventory'!H435","v":0},{"$f":"'Interior Lighting Inventory'!I435","v":0},{"$f":"'Interior Lighting Inventory'!J435","v":0},{"$f":"'Interior Lighting Inventory'!K435","v":"-"},{"$f":"'Interior Lighting Inventory'!M435","v":"-"},{"$f":"'Interior Lighting Inventory'!N435","v":0},{"$f":"'Interior Lighting Inventory'!O435","v":"0"}]
[{"$f":"'Interior Lighting Inventory'!C436","v":416},{"$f":"'Interior Lighting Inventory'!D436","v":0},{"$f":"'Interior Lighting Inventory'!E436","v":0},{"$f":"'Interior Lighting Inventory'!G436","v":0},{"$f":"'Interior Lighting Inventory'!H436","v":0},{"$f":"'Interior Lighting Inventory'!I436","v":0},{"$f":"'Interior Lighting Inventory'!J436","v":0},{"$f":"'Interior Lighting Inventory'!K436","v":"-"},{"$f":"'Interior Lighting Inventory'!M436","v":"-"},{"$f":"'Interior Lighting Inventory'!N436","v":0},{"$f":"'Interior Lighting Inventory'!O436","v":"0"}]
[{"$f":"'Interior Lighting Inventory'!C437","v":417},{"$f":"'Interior Lighting Inventory'!D437","v":0},{"$f":"'Interior Lighting Inventory'!E437","v":0},{"$f":"'Interior Lighting Inventory'!G437","v":0},{"$f":"'Interior Lighting Inventory'!H437","v":0},{"$f":"'Interior Lighting Inventory'!I437","v":0},{"$f":"'Interior Lighting Inventory'!J437","v":0},{"$f":"'Interior Lighting Inventory'!K437","v":"-"},{"$f":"'Interior Lighting Inventory'!M437","v":"-"},{"$f":"'Interior Lighting Inventory'!N437","v":0},{"$f":"'Interior Lighting Inventory'!O437","v":"0"}]
[{"$f":"'Interior Lighting Inventory'!C438","v":418},{"$f":"'Interior Lighting Inventory'!D438","v":0},{"$f":"'Interior Lighting Inventory'!E438","v":0},{"$f":"'Interior Lighting Inventory'!G438","v":0},{"$f":"'Interior Lighting Inventory'!H438","v":0},{"$f":"'Interior Lighting Inventory'!I438","v":0},{"$f":"'Interior Lighting Inventory'!J438","v":0},{"$f":"'Interior Lighting Inventory'!K438","v":"-"},{"$f":"'Interior Lighting Inventory'!M438","v":"-"},{"$f":"'Interior Lighting Inventory'!N438","v":0},{"$f":"'Interior Lighting Inventory'!O438","v":"0"}]
[{"$f":"'Interior Lighting Inventory'!C439","v":419},{"$f":"'Interior Lighting Inventory'!D439","v":0},{"$f":"'Interior Lighting Inventory'!E439","v":0},{"$f":"'Interior Lighting Inventory'!G439","v":0},{"$f":"'Interior Lighting Inventory'!H439","v":0},{"$f":"'Interior Lighting Inventory'!I439","v":0},{"$f":"'Interior Lighting Inventory'!J439","v":0},{"$f":"'Interior Lighting Inventory'!K439","v":"-"},{"$f":"'Interior Lighting Inventory'!M439","v":"-"},{"$f":"'Interior Lighting Inventory'!N439","v":0},{"$f":"'Interior Lighting Inventory'!O439","v":"0"}]
[{"$f":"'Interior Lighting Inventory'!C440","v":420},{"$f":"'Interior Lighting Inventory'!D440","v":0},{"$f":"'Interior Lighting Inventory'!E440","v":0},{"$f":"'Interior Lighting Inventory'!G440","v":0},{"$f":"'Interior Lighting Inventory'!H440","v":0},{"$f":"'Interior Lighting Inventory'!I440","v":0},{"$f":"'Interior Lighting Inventory'!J440","v":0},{"$f":"'Interior Lighting Inventory'!K440","v":"-"},{"$f":"'Interior Lighting Inventory'!M440","v":"-"},{"$f":"'Interior Lighting Inventory'!N440","v":0},{"$f":"'Interior Lighting Inventory'!O440","v":"0"}]
[{"$f":"'Interior Lighting Inventory'!C441","v":421},{"$f":"'Interior Lighting Inventory'!D441","v":0},{"$f":"'Interior Lighting Inventory'!E441","v":0},{"$f":"'Interior Lighting Inventory'!G441","v":0},{"$f":"'Interior Lighting Inventory'!H441","v":0},{"$f":"'Interior Lighting Inventory'!I441","v":0},{"$f":"'Interior Lighting Inventory'!J441","v":0},{"$f":"'Interior Lighting Inventory'!K441","v":"-"},{"$f":"'Interior Lighting Inventory'!M441","v":"-"},{"$f":"'Interior Lighting Inventory'!N441","v":0},{"$f":"'Interior Lighting Inventory'!O441","v":"0"}]
[{"$f":"'Interior Lighting Inventory'!C442","v":422},{"$f":"'Interior Lighting Inventory'!D442","v":0},{"$f":"'Interior Lighting Inventory'!E442","v":0},{"$f":"'Interior Lighting Inventory'!G442","v":0},{"$f":"'Interior Lighting Inventory'!H442","v":0},{"$f":"'Interior Lighting Inventory'!I442","v":0},{"$f":"'Interior Lighting Inventory'!J442","v":0},{"$f":"'Interior Lighting Inventory'!K442","v":"-"},{"$f":"'Interior Lighting Inventory'!M442","v":"-"},{"$f":"'Interior Lighting Inventory'!N442","v":0},{"$f":"'Interior Lighting Inventory'!O442","v":"0"}]
[{"$f":"'Interior Lighting Inventory'!C443","v":423},{"$f":"'Interior Lighting Inventory'!D443","v":0},{"$f":"'Interior Lighting Inventory'!E443","v":0},{"$f":"'Interior Lighting Inventory'!G443","v":0},{"$f":"'Interior Lighting Inventory'!H443","v":0},{"$f":"'Interior Lighting Inventory'!I443","v":0},{"$f":"'Interior Lighting Inventory'!J443","v":0},{"$f":"'Interior Lighting Inventory'!K443","v":"-"},{"$f":"'Interior Lighting Inventory'!M443","v":"-"},{"$f":"'Interior Lighting Inventory'!N443","v":0},{"$f":"'Interior Lighting Inventory'!O443","v":"0"}]
[{"$f":"'Interior Lighting Inventory'!C444","v":424},{"$f":"'Interior Lighting Inventory'!D444","v":0},{"$f":"'Interior Lighting Inventory'!E444","v":0},{"$f":"'Interior Lighting Inventory'!G444","v":0},{"$f":"'Interior Lighting Inventory'!H444","v":0},{"$f":"'Interior Lighting Inventory'!I444","v":0},{"$f":"'Interior Lighting Inventory'!J444","v":0},{"$f":"'Interior Lighting Inventory'!K444","v":"-"},{"$f":"'Interior Lighting Inventory'!M444","v":"-"},{"$f":"'Interior Lighting Inventory'!N444","v":0},{"$f":"'Interior Lighting Inventory'!O444","v":"0"}]
[{"$f":"'Interior Lighting Inventory'!C445","v":425},{"$f":"'Interior Lighting Inventory'!D445","v":0},{"$f":"'Interior Lighting Inventory'!E445","v":0},{"$f":"'Interior Lighting Inventory'!G445","v":0},{"$f":"'Interior Lighting Inventory'!H445","v":0},{"$f":"'Interior Lighting Inventory'!I445","v":0},{"$f":"'Interior Lighting Inventory'!J445","v":0},{"$f":"'Interior Lighting Inventory'!K445","v":"-"},{"$f":"'Interior Lighting Inventory'!M445","v":"-"},{"$f":"'Interior Lighting Inventory'!N445","v":0},{"$f":"'Interior Lighting Inventory'!O445","v":"0"}]
[{"$f":"'Interior Lighting Inventory'!C446","v":426},{"$f":"'Interior Lighting Inventory'!D446","v":0},{"$f":"'Interior Lighting Inventory'!E446","v":0},{"$f":"'Interior Lighting Inventory'!G446","v":0},{"$f":"'Interior Lighting Inventory'!H446","v":0},{"$f":"'Interior Lighting Inventory'!I446","v":0},{"$f":"'Interior Lighting Inventory'!J446","v":0},{"$f":"'Interior Lighting Inventory'!K446","v":"-"},{"$f":"'Interior Lighting Inventory'!M446","v":"-"},{"$f":"'Interior Lighting Inventory'!N446","v":0},{"$f":"'Interior Lighting Inventory'!O446","v":"0"}]
[{"$f":"'Interior Lighting Inventory'!C447","v":427},{"$f":"'Interior Lighting Inventory'!D447","v":0},{"$f":"'Interior Lighting Inventory'!E447","v":0},{"$f":"'Interior Lighting Inventory'!G447","v":0},{"$f":"'Interior Lighting Inventory'!H447","v":0},{"$f":"'Interior Lighting Inventory'!I447","v":0},{"$f":"'Interior Lighting Inventory'!J447","v":0},{"$f":"'Interior Lighting Inventory'!K447","v":"-"},{"$f":"'Interior Lighting Inventory'!M447","v":"-"},{"$f":"'Interior Lighting Inventory'!N447","v":0},{"$f":"'Interior Lighting Inventory'!O447","v":"0"}]
[{"$f":"'Interior Lighting Inventory'!C448","v":428},{"$f":"'Interior Lighting Inventory'!D448","v":0},{"$f":"'Interior Lighting Inventory'!E448","v":0},{"$f":"'Interior Lighting Inventory'!G448","v":0},{"$f":"'Interior Lighting Inventory'!H448","v":0},{"$f":"'Interior Lighting Inventory'!I448","v":0},{"$f":"'Interior Lighting Inventory'!J448","v":0},{"$f":"'Interior Lighting Inventory'!K448","v":"-"},{"$f":"'Interior Lighting Inventory'!M448","v":"-"},{"$f":"'Interior Lighting Inventory'!N448","v":0},{"$f":"'Interior Lighting Inventory'!O448","v":"0"}]
[{"$f":"'Interior Lighting Inventory'!C449","v":429},{"$f":"'Interior Lighting Inventory'!D449","v":0},{"$f":"'Interior Lighting Inventory'!E449","v":0},{"$f":"'Interior Lighting Inventory'!G449","v":0},{"$f":"'Interior Lighting Inventory'!H449","v":0},{"$f":"'Interior Lighting Inventory'!I449","v":0},{"$f":"'Interior Lighting Inventory'!J449","v":0},{"$f":"'Interior Lighting Inventory'!K449","v":"-"},{"$f":"'Interior Lighting Inventory'!M449","v":"-"},{"$f":"'Interior Lighting Inventory'!N449","v":0},{"$f":"'Interior Lighting Inventory'!O449","v":"0"}]
[{"$f":"'Interior Lighting Inventory'!C450","v":430},{"$f":"'Interior Lighting Inventory'!D450","v":0},{"$f":"'Interior Lighting Inventory'!E450","v":0},{"$f":"'Interior Lighting Inventory'!G450","v":0},{"$f":"'Interior Lighting Inventory'!H450","v":0},{"$f":"'Interior Lighting Inventory'!I450","v":0},{"$f":"'Interior Lighting Inventory'!J450","v":0},{"$f":"'Interior Lighting Inventory'!K450","v":"-"},{"$f":"'Interior Lighting Inventory'!M450","v":"-"},{"$f":"'Interior Lighting Inventory'!N450","v":0},{"$f":"'Interior Lighting Inventory'!O450","v":"0"}]
[{"$f":"'Interior Lighting Inventory'!C451","v":431},{"$f":"'Interior Lighting Inventory'!D451","v":0},{"$f":"'Interior Lighting Inventory'!E451","v":0},{"$f":"'Interior Lighting Inventory'!G451","v":0},{"$f":"'Interior Lighting Inventory'!H451","v":0},{"$f":"'Interior Lighting Inventory'!I451","v":0},{"$f":"'Interior Lighting Inventory'!J451","v":0},{"$f":"'Interior Lighting Inventory'!K451","v":"-"},{"$f":"'Interior Lighting Inventory'!M451","v":"-"},{"$f":"'Interior Lighting Inventory'!N451","v":0},{"$f":"'Interior Lighting Inventory'!O451","v":"0"}]
[{"$f":"'Interior Lighting Inventory'!C452","v":432},{"$f":"'Interior Lighting Inventory'!D452","v":0},{"$f":"'Interior Lighting Inventory'!E452","v":0},{"$f":"'Interior Lighting Inventory'!G452","v":0},{"$f":"'Interior Lighting Inventory'!H452","v":0},{"$f":"'Interior Lighting Inventory'!I452","v":0},{"$f":"'Interior Lighting Inventory'!J452","v":0},{"$f":"'Interior Lighting Inventory'!K452","v":"-"},{"$f":"'Interior Lighting Inventory'!M452","v":"-"},{"$f":"'Interior Lighting Inventory'!N452","v":0},{"$f":"'Interior Lighting Inventory'!O452","v":"0"}]
[{"$f":"'Interior Lighting Inventory'!C453","v":433},{"$f":"'Interior Lighting Inventory'!D453","v":0},{"$f":"'Interior Lighting Inventory'!E453","v":0},{"$f":"'Interior Lighting Inventory'!G453","v":0},{"$f":"'Interior Lighting Inventory'!H453","v":0},{"$f":"'Interior Lighting Inventory'!I453","v":0},{"$f":"'Interior Lighting Inventory'!J453","v":0},{"$f":"'Interior Lighting Inventory'!K453","v":"-"},{"$f":"'Interior Lighting Inventory'!M453","v":"-"},{"$f":"'Interior Lighting Inventory'!N453","v":0},{"$f":"'Interior Lighting Inventory'!O453","v":"0"}]
[{"$f":"'Interior Lighting Inventory'!C454","v":434},{"$f":"'Interior Lighting Inventory'!D454","v":0},{"$f":"'Interior Lighting Inventory'!E454","v":0},{"$f":"'Interior Lighting Inventory'!G454","v":0},{"$f":"'Interior Lighting Inventory'!H454","v":0},{"$f":"'Interior Lighting Inventory'!I454","v":0},{"$f":"'Interior Lighting Inventory'!J454","v":0},{"$f":"'Interior Lighting Inventory'!K454","v":"-"},{"$f":"'Interior Lighting Inventory'!M454","v":"-"},{"$f":"'Interior Lighting Inventory'!N454","v":0},{"$f":"'Interior Lighting Inventory'!O454","v":"0"}]
[{"$f":"'Interior Lighting Inventory'!C455","v":435},{"$f":"'Interior Lighting Inventory'!D455","v":0},{"$f":"'Interior Lighting Inventory'!E455","v":0},{"$f":"'Interior Lighting Inventory'!G455","v":0},{"$f":"'Interior Lighting Inventory'!H455","v":0},{"$f":"'Interior Lighting Inventory'!I455","v":0},{"$f":"'Interior Lighting Inventory'!J455","v":0},{"$f":"'Interior Lighting Inventory'!K455","v":"-"},{"$f":"'Interior Lighting Inventory'!M455","v":"-"},{"$f":"'Interior Lighting Inventory'!N455","v":0},{"$f":"'Interior Lighting Inventory'!O455","v":"0"}]
[{"$f":"'Interior Lighting Inventory'!C456","v":436},{"$f":"'Interior Lighting Inventory'!D456","v":0},{"$f":"'Interior Lighting Inventory'!E456","v":0},{"$f":"'Interior Lighting Inventory'!G456","v":0},{"$f":"'Interior Lighting Inventory'!H456","v":0},{"$f":"'Interior Lighting Inventory'!I456","v":0},{"$f":"'Interior Lighting Inventory'!J456","v":0},{"$f":"'Interior Lighting Inventory'!K456","v":"-"},{"$f":"'Interior Lighting Inventory'!M456","v":"-"},{"$f":"'Interior Lighting Inventory'!N456","v":0},{"$f":"'Interior Lighting Inventory'!O456","v":"0"}]
[{"$f":"'Interior Lighting Inventory'!C457","v":437},{"$f":"'Interior Lighting Inventory'!D457","v":0},{"$f":"'Interior Lighting Inventory'!E457","v":0},{"$f":"'Interior Lighting Inventory'!G457","v":0},{"$f":"'Interior Lighting Inventory'!H457","v":0},{"$f":"'Interior Lighting Inventory'!I457","v":0},{"$f":"'Interior Lighting Inventory'!J457","v":0},{"$f":"'Interior Lighting Inventory'!K457","v":"-"},{"$f":"'Interior Lighting Inventory'!M457","v":"-"},{"$f":"'Interior Lighting Inventory'!N457","v":0},{"$f":"'Interior Lighting Inventory'!O457","v":"0"}]
[{"$f":"'Interior Lighting Inventory'!C458","v":438},{"$f":"'Interior Lighting Inventory'!D458","v":0},{"$f":"'Interior Lighting Inventory'!E458","v":0},{"$f":"'Interior Lighting Inventory'!G458","v":0},{"$f":"'Interior Lighting Inventory'!H458","v":0},{"$f":"'Interior Lighting Inventory'!I458","v":0},{"$f":"'Interior Lighting Inventory'!J458","v":0},{"$f":"'Interior Lighting Inventory'!K458","v":"-"},{"$f":"'Interior Lighting Inventory'!M458","v":"-"},{"$f":"'Interior Lighting Inventory'!N458","v":0},{"$f":"'Interior Lighting Inventory'!O458","v":"0"}]
[{"$f":"'Interior Lighting Inventory'!C459","v":439},{"$f":"'Interior Lighting Inventory'!D459","v":0},{"$f":"'Interior Lighting Inventory'!E459","v":0},{"$f":"'Interior Lighting Inventory'!G459","v":0},{"$f":"'Interior Lighting Inventory'!H459","v":0},{"$f":"'Interior Lighting Inventory'!I459","v":0},{"$f":"'Interior Lighting Inventory'!J459","v":0},{"$f":"'Interior Lighting Inventory'!K459","v":"-"},{"$f":"'Interior Lighting Inventory'!M459","v":"-"},{"$f":"'Interior Lighting Inventory'!N459","v":0},{"$f":"'Interior Lighting Inventory'!O459","v":"0"}]
[{"$f":"'Interior Lighting Inventory'!C460","v":440},{"$f":"'Interior Lighting Inventory'!D460","v":0},{"$f":"'Interior Lighting Inventory'!E460","v":0},{"$f":"'Interior Lighting Inventory'!G460","v":0},{"$f":"'Interior Lighting Inventory'!H460","v":0},{"$f":"'Interior Lighting Inventory'!I460","v":0},{"$f":"'Interior Lighting Inventory'!J460","v":0},{"$f":"'Interior Lighting Inventory'!K460","v":"-"},{"$f":"'Interior Lighting Inventory'!M460","v":"-"},{"$f":"'Interior Lighting Inventory'!N460","v":0},{"$f":"'Interior Lighting Inventory'!O460","v":"0"}]
[{"$f":"'Interior Lighting Inventory'!C461","v":441},{"$f":"'Interior Lighting Inventory'!D461","v":0},{"$f":"'Interior Lighting Inventory'!E461","v":0},{"$f":"'Interior Lighting Inventory'!G461","v":0},{"$f":"'Interior Lighting Inventory'!H461","v":0},{"$f":"'Interior Lighting Inventory'!I461","v":0},{"$f":"'Interior Lighting Inventory'!J461","v":0},{"$f":"'Interior Lighting Inventory'!K461","v":"-"},{"$f":"'Interior Lighting Inventory'!M461","v":"-"},{"$f":"'Interior Lighting Inventory'!N461","v":0},{"$f":"'Interior Lighting Inventory'!O461","v":"0"}]
[{"$f":"'Interior Lighting Inventory'!C462","v":442},{"$f":"'Interior Lighting Inventory'!D462","v":0},{"$f":"'Interior Lighting Inventory'!E462","v":0},{"$f":"'Interior Lighting Inventory'!G462","v":0},{"$f":"'Interior Lighting Inventory'!H462","v":0},{"$f":"'Interior Lighting Inventory'!I462","v":0},{"$f":"'Interior Lighting Inventory'!J462","v":0},{"$f":"'Interior Lighting Inventory'!K462","v":"-"},{"$f":"'Interior Lighting Inventory'!M462","v":"-"},{"$f":"'Interior Lighting Inventory'!N462","v":0},{"$f":"'Interior Lighting Inventory'!O462","v":"0"}]
[{"$f":"'Interior Lighting Inventory'!C463","v":443},{"$f":"'Interior Lighting Inventory'!D463","v":0},{"$f":"'Interior Lighting Inventory'!E463","v":0},{"$f":"'Interior Lighting Inventory'!G463","v":0},{"$f":"'Interior Lighting Inventory'!H463","v":0},{"$f":"'Interior Lighting Inventory'!I463","v":0},{"$f":"'Interior Lighting Inventory'!J463","v":0},{"$f":"'Interior Lighting Inventory'!K463","v":"-"},{"$f":"'Interior Lighting Inventory'!M463","v":"-"},{"$f":"'Interior Lighting Inventory'!N463","v":0},{"$f":"'Interior Lighting Inventory'!O463","v":"0"}]
[{"$f":"'Interior Lighting Inventory'!C464","v":444},{"$f":"'Interior Lighting Inventory'!D464","v":0},{"$f":"'Interior Lighting Inventory'!E464","v":0},{"$f":"'Interior Lighting Inventory'!G464","v":0},{"$f":"'Interior Lighting Inventory'!H464","v":0},{"$f":"'Interior Lighting Inventory'!I464","v":0},{"$f":"'Interior Lighting Inventory'!J464","v":0},{"$f":"'Interior Lighting Inventory'!K464","v":"-"},{"$f":"'Interior Lighting Inventory'!M464","v":"-"},{"$f":"'Interior Lighting Inventory'!N464","v":0},{"$f":"'Interior Lighting Inventory'!O464","v":"0"}]
[{"$f":"'Interior Lighting Inventory'!C465","v":445},{"$f":"'Interior Lighting Inventory'!D465","v":0},{"$f":"'Interior Lighting Inventory'!E465","v":0},{"$f":"'Interior Lighting Inventory'!G465","v":0},{"$f":"'Interior Lighting Inventory'!H465","v":0},{"$f":"'Interior Lighting Inventory'!I465","v":0},{"$f":"'Interior Lighting Inventory'!J465","v":0},{"$f":"'Interior Lighting Inventory'!K465","v":"-"},{"$f":"'Interior Lighting Inventory'!M465","v":"-"},{"$f":"'Interior Lighting Inventory'!N465","v":0},{"$f":"'Interior Lighting Inventory'!O465","v":"0"}]
[{"$f":"'Interior Lighting Inventory'!C466","v":446},{"$f":"'Interior Lighting Inventory'!D466","v":0},{"$f":"'Interior Lighting Inventory'!E466","v":0},{"$f":"'Interior Lighting Inventory'!G466","v":0},{"$f":"'Interior Lighting Inventory'!H466","v":0},{"$f":"'Interior Lighting Inventory'!I466","v":0},{"$f":"'Interior Lighting Inventory'!J466","v":0},{"$f":"'Interior Lighting Inventory'!K466","v":"-"},{"$f":"'Interior Lighting Inventory'!M466","v":"-"},{"$f":"'Interior Lighting Inventory'!N466","v":0},{"$f":"'Interior Lighting Inventory'!O466","v":"0"}]
[{"$f":"'Interior Lighting Inventory'!C467","v":447},{"$f":"'Interior Lighting Inventory'!D467","v":0},{"$f":"'Interior Lighting Inventory'!E467","v":0},{"$f":"'Interior Lighting Inventory'!G467","v":0},{"$f":"'Interior Lighting Inventory'!H467","v":0},{"$f":"'Interior Lighting Inventory'!I467","v":0},{"$f":"'Interior Lighting Inventory'!J467","v":0},{"$f":"'Interior Lighting Inventory'!K467","v":"-"},{"$f":"'Interior Lighting Inventory'!M467","v":"-"},{"$f":"'Interior Lighting Inventory'!N467","v":0},{"$f":"'Interior Lighting Inventory'!O467","v":"0"}]
[{"$f":"'Interior Lighting Inventory'!C468","v":448},{"$f":"'Interior Lighting Inventory'!D468","v":0},{"$f":"'Interior Lighting Inventory'!E468","v":0},{"$f":"'Interior Lighting Inventory'!G468","v":0},{"$f":"'Interior Lighting Inventory'!H468","v":0},{"$f":"'Interior Lighting Inventory'!I468","v":0},{"$f":"'Interior Lighting Inventory'!J468","v":0},{"$f":"'Interior Lighting Inventory'!K468","v":"-"},{"$f":"'Interior Lighting Inventory'!M468","v":"-"},{"$f":"'Interior Lighting Inventory'!N468","v":0},{"$f":"'Interior Lighting Inventory'!O468","v":"0"}]
[{"$f":"'Interior Lighting Inventory'!C469","v":449},{"$f":"'Interior Lighting Inventory'!D469","v":0},{"$f":"'Interior Lighting Inventory'!E469","v":0},{"$f":"'Interior Lighting Inventory'!G469","v":0},{"$f":"'Interior Lighting Inventory'!H469","v":0},{"$f":"'Interior Lighting Inventory'!I469","v":0},{"$f":"'Interior Lighting Inventory'!J469","v":0},{"$f":"'Interior Lighting Inventory'!K469","v":"-"},{"$f":"'Interior Lighting Inventory'!M469","v":"-"},{"$f":"'Interior Lighting Inventory'!N469","v":0},{"$f":"'Interior Lighting Inventory'!O469","v":"0"}]
[{"$f":"'Interior Lighting Inventory'!C470","v":450},{"$f":"'Interior Lighting Inventory'!D470","v":0},{"$f":"'Interior Lighting Inventory'!E470","v":0},{"$f":"'Interior Lighting Inventory'!G470","v":0},{"$f":"'Interior Lighting Inventory'!H470","v":0},{"$f":"'Interior Lighting Inventory'!I470","v":0},{"$f":"'Interior Lighting Inventory'!J470","v":0},{"$f":"'Interior Lighting Inventory'!K470","v":"-"},{"$f":"'Interior Lighting Inventory'!M470","v":"-"},{"$f":"'Interior Lighting Inventory'!N470","v":0},{"$f":"'Interior Lighting Inventory'!O470","v":"0"}]
[{"$f":"'Interior Lighting Inventory'!C471","v":451},{"$f":"'Interior Lighting Inventory'!D471","v":0},{"$f":"'Interior Lighting Inventory'!E471","v":0},{"$f":"'Interior Lighting Inventory'!G471","v":0},{"$f":"'Interior Lighting Inventory'!H471","v":0},{"$f":"'Interior Lighting Inventory'!I471","v":0},{"$f":"'Interior Lighting Inventory'!J471","v":0},{"$f":"'Interior Lighting Inventory'!K471","v":"-"},{"$f":"'Interior Lighting Inventory'!M471","v":"-"},{"$f":"'Interior Lighting Inventory'!N471","v":0},{"$f":"'Interior Lighting Inventory'!O471","v":"0"}]
[{"$f":"'Interior Lighting Inventory'!C472","v":452},{"$f":"'Interior Lighting Inventory'!D472","v":0},{"$f":"'Interior Lighting Inventory'!E472","v":0},{"$f":"'Interior Lighting Inventory'!G472","v":0},{"$f":"'Interior Lighting Inventory'!H472","v":0},{"$f":"'Interior Lighting Inventory'!I472","v":0},{"$f":"'Interior Lighting Inventory'!J472","v":0},{"$f":"'Interior Lighting Inventory'!K472","v":"-"},{"$f":"'Interior Lighting Inventory'!M472","v":"-"},{"$f":"'Interior Lighting Inventory'!N472","v":0},{"$f":"'Interior Lighting Inventory'!O472","v":"0"}]
[{"$f":"'Interior Lighting Inventory'!C473","v":453},{"$f":"'Interior Lighting Inventory'!D473","v":0},{"$f":"'Interior Lighting Inventory'!E473","v":0},{"$f":"'Interior Lighting Inventory'!G473","v":0},{"$f":"'Interior Lighting Inventory'!H473","v":0},{"$f":"'Interior Lighting Inventory'!I473","v":0},{"$f":"'Interior Lighting Inventory'!J473","v":0},{"$f":"'Interior Lighting Inventory'!K473","v":"-"},{"$f":"'Interior Lighting Inventory'!M473","v":"-"},{"$f":"'Interior Lighting Inventory'!N473","v":0},{"$f":"'Interior Lighting Inventory'!O473","v":"0"}]
[{"$f":"'Interior Lighting Inventory'!C474","v":454},{"$f":"'Interior Lighting Inventory'!D474","v":0},{"$f":"'Interior Lighting Inventory'!E474","v":0},{"$f":"'Interior Lighting Inventory'!G474","v":0},{"$f":"'Interior Lighting Inventory'!H474","v":0},{"$f":"'Interior Lighting Inventory'!I474","v":0},{"$f":"'Interior Lighting Inventory'!J474","v":0},{"$f":"'Interior Lighting Inventory'!K474","v":"-"},{"$f":"'Interior Lighting Inventory'!M474","v":"-"},{"$f":"'Interior Lighting Inventory'!N474","v":0},{"$f":"'Interior Lighting Inventory'!O474","v":"0"}]
[{"$f":"'Interior Lighting Inventory'!C475","v":455},{"$f":"'Interior Lighting Inventory'!D475","v":0},{"$f":"'Interior Lighting Inventory'!E475","v":0},{"$f":"'Interior Lighting Inventory'!G475","v":0},{"$f":"'Interior Lighting Inventory'!H475","v":0},{"$f":"'Interior Lighting Inventory'!I475","v":0},{"$f":"'Interior Lighting Inventory'!J475","v":0},{"$f":"'Interior Lighting Inventory'!K475","v":"-"},{"$f":"'Interior Lighting Inventory'!M475","v":"-"},{"$f":"'Interior Lighting Inventory'!N475","v":0},{"$f":"'Interior Lighting Inventory'!O475","v":"0"}]
[{"$f":"'Interior Lighting Inventory'!C476","v":456},{"$f":"'Interior Lighting Inventory'!D476","v":0},{"$f":"'Interior Lighting Inventory'!E476","v":0},{"$f":"'Interior Lighting Inventory'!G476","v":0},{"$f":"'Interior Lighting Inventory'!H476","v":0},{"$f":"'Interior Lighting Inventory'!I476","v":0},{"$f":"'Interior Lighting Inventory'!J476","v":0},{"$f":"'Interior Lighting Inventory'!K476","v":"-"},{"$f":"'Interior Lighting Inventory'!M476","v":"-"},{"$f":"'Interior Lighting Inventory'!N476","v":0},{"$f":"'Interior Lighting Inventory'!O476","v":"0"}]
[{"$f":"'Interior Lighting Inventory'!C477","v":457},{"$f":"'Interior Lighting Inventory'!D477","v":0},{"$f":"'Interior Lighting Inventory'!E477","v":0},{"$f":"'Interior Lighting Inventory'!G477","v":0},{"$f":"'Interior Lighting Inventory'!H477","v":0},{"$f":"'Interior Lighting Inventory'!I477","v":0},{"$f":"'Interior Lighting Inventory'!J477","v":0},{"$f":"'Interior Lighting Inventory'!K477","v":"-"},{"$f":"'Interior Lighting Inventory'!M477","v":"-"},{"$f":"'Interior Lighting Inventory'!N477","v":0},{"$f":"'Interior Lighting Inventory'!O477","v":"0"}]
[{"$f":"'Interior Lighting Inventory'!C478","v":458},{"$f":"'Interior Lighting Inventory'!D478","v":0},{"$f":"'Interior Lighting Inventory'!E478","v":0},{"$f":"'Interior Lighting Inventory'!G478","v":0},{"$f":"'Interior Lighting Inventory'!H478","v":0},{"$f":"'Interior Lighting Inventory'!I478","v":0},{"$f":"'Interior Lighting Inventory'!J478","v":0},{"$f":"'Interior Lighting Inventory'!K478","v":"-"},{"$f":"'Interior Lighting Inventory'!M478","v":"-"},{"$f":"'Interior Lighting Inventory'!N478","v":0},{"$f":"'Interior Lighting Inventory'!O478","v":"0"}]
[{"$f":"'Interior Lighting Inventory'!C479","v":459},{"$f":"'Interior Lighting Inventory'!D479","v":0},{"$f":"'Interior Lighting Inventory'!E479","v":0},{"$f":"'Interior Lighting Inventory'!G479","v":0},{"$f":"'Interior Lighting Inventory'!H479","v":0},{"$f":"'Interior Lighting Inventory'!I479","v":0},{"$f":"'Interior Lighting Inventory'!J479","v":0},{"$f":"'Interior Lighting Inventory'!K479","v":"-"},{"$f":"'Interior Lighting Inventory'!M479","v":"-"},{"$f":"'Interior Lighting Inventory'!N479","v":0},{"$f":"'Interior Lighting Inventory'!O479","v":"0"}]
[{"$f":"'Interior Lighting Inventory'!C480","v":460},{"$f":"'Interior Lighting Inventory'!D480","v":0},{"$f":"'Interior Lighting Inventory'!E480","v":0},{"$f":"'Interior Lighting Inventory'!G480","v":0},{"$f":"'Interior Lighting Inventory'!H480","v":0},{"$f":"'Interior Lighting Inventory'!I480","v":0},{"$f":"'Interior Lighting Inventory'!J480","v":0},{"$f":"'Interior Lighting Inventory'!K480","v":"-"},{"$f":"'Interior Lighting Inventory'!M480","v":"-"},{"$f":"'Interior Lighting Inventory'!N480","v":0},{"$f":"'Interior Lighting Inventory'!O480","v":"0"}]
[{"$f":"'Interior Lighting Inventory'!C481","v":461},{"$f":"'Interior Lighting Inventory'!D481","v":0},{"$f":"'Interior Lighting Inventory'!E481","v":0},{"$f":"'Interior Lighting Inventory'!G481","v":0},{"$f":"'Interior Lighting Inventory'!H481","v":0},{"$f":"'Interior Lighting Inventory'!I481","v":0},{"$f":"'Interior Lighting Inventory'!J481","v":0},{"$f":"'Interior Lighting Inventory'!K481","v":"-"},{"$f":"'Interior Lighting Inventory'!M481","v":"-"},{"$f":"'Interior Lighting Inventory'!N481","v":0},{"$f":"'Interior Lighting Inventory'!O481","v":"0"}]
[{"$f":"'Interior Lighting Inventory'!C482","v":462},{"$f":"'Interior Lighting Inventory'!D482","v":0},{"$f":"'Interior Lighting Inventory'!E482","v":0},{"$f":"'Interior Lighting Inventory'!G482","v":0},{"$f":"'Interior Lighting Inventory'!H482","v":0},{"$f":"'Interior Lighting Inventory'!I482","v":0},{"$f":"'Interior Lighting Inventory'!J482","v":0},{"$f":"'Interior Lighting Inventory'!K482","v":"-"},{"$f":"'Interior Lighting Inventory'!M482","v":"-"},{"$f":"'Interior Lighting Inventory'!N482","v":0},{"$f":"'Interior Lighting Inventory'!O482","v":"0"}]
[{"$f":"'Interior Lighting Inventory'!C483","v":463},{"$f":"'Interior Lighting Inventory'!D483","v":0},{"$f":"'Interior Lighting Inventory'!E483","v":0},{"$f":"'Interior Lighting Inventory'!G483","v":0},{"$f":"'Interior Lighting Inventory'!H483","v":0},{"$f":"'Interior Lighting Inventory'!I483","v":0},{"$f":"'Interior Lighting Inventory'!J483","v":0},{"$f":"'Interior Lighting Inventory'!K483","v":"-"},{"$f":"'Interior Lighting Inventory'!M483","v":"-"},{"$f":"'Interior Lighting Inventory'!N483","v":0},{"$f":"'Interior Lighting Inventory'!O483","v":"0"}]
[{"$f":"'Interior Lighting Inventory'!C484","v":464},{"$f":"'Interior Lighting Inventory'!D484","v":0},{"$f":"'Interior Lighting Inventory'!E484","v":0},{"$f":"'Interior Lighting Inventory'!G484","v":0},{"$f":"'Interior Lighting Inventory'!H484","v":0},{"$f":"'Interior Lighting Inventory'!I484","v":0},{"$f":"'Interior Lighting Inventory'!J484","v":0},{"$f":"'Interior Lighting Inventory'!K484","v":"-"},{"$f":"'Interior Lighting Inventory'!M484","v":"-"},{"$f":"'Interior Lighting Inventory'!N484","v":0},{"$f":"'Interior Lighting Inventory'!O484","v":"0"}]
[{"$f":"'Interior Lighting Inventory'!C485","v":465},{"$f":"'Interior Lighting Inventory'!D485","v":0},{"$f":"'Interior Lighting Inventory'!E485","v":0},{"$f":"'Interior Lighting Inventory'!G485","v":0},{"$f":"'Interior Lighting Inventory'!H485","v":0},{"$f":"'Interior Lighting Inventory'!I485","v":0},{"$f":"'Interior Lighting Inventory'!J485","v":0},{"$f":"'Interior Lighting Inventory'!K485","v":"-"},{"$f":"'Interior Lighting Inventory'!M485","v":"-"},{"$f":"'Interior Lighting Inventory'!N485","v":0},{"$f":"'Interior Lighting Inventory'!O485","v":"0"}]
[{"$f":"'Interior Lighting Inventory'!C486","v":466},{"$f":"'Interior Lighting Inventory'!D486","v":0},{"$f":"'Interior Lighting Inventory'!E486","v":0},{"$f":"'Interior Lighting Inventory'!G486","v":0},{"$f":"'Interior Lighting Inventory'!H486","v":0},{"$f":"'Interior Lighting Inventory'!I486","v":0},{"$f":"'Interior Lighting Inventory'!J486","v":0},{"$f":"'Interior Lighting Inventory'!K486","v":"-"},{"$f":"'Interior Lighting Inventory'!M486","v":"-"},{"$f":"'Interior Lighting Inventory'!N486","v":0},{"$f":"'Interior Lighting Inventory'!O486","v":"0"}]
[{"$f":"'Interior Lighting Inventory'!C487","v":467},{"$f":"'Interior Lighting Inventory'!D487","v":0},{"$f":"'Interior Lighting Inventory'!E487","v":0},{"$f":"'Interior Lighting Inventory'!G487","v":0},{"$f":"'Interior Lighting Inventory'!H487","v":0},{"$f":"'Interior Lighting Inventory'!I487","v":0},{"$f":"'Interior Lighting Inventory'!J487","v":0},{"$f":"'Interior Lighting Inventory'!K487","v":"-"},{"$f":"'Interior Lighting Inventory'!M487","v":"-"},{"$f":"'Interior Lighting Inventory'!N487","v":0},{"$f":"'Interior Lighting Inventory'!O487","v":"0"}]
[{"$f":"'Interior Lighting Inventory'!C488","v":468},{"$f":"'Interior Lighting Inventory'!D488","v":0},{"$f":"'Interior Lighting Inventory'!E488","v":0},{"$f":"'Interior Lighting Inventory'!G488","v":0},{"$f":"'Interior Lighting Inventory'!H488","v":0},{"$f":"'Interior Lighting Inventory'!I488","v":0},{"$f":"'Interior Lighting Inventory'!J488","v":0},{"$f":"'Interior Lighting Inventory'!K488","v":"-"},{"$f":"'Interior Lighting Inventory'!M488","v":"-"},{"$f":"'Interior Lighting Inventory'!N488","v":0},{"$f":"'Interior Lighting Inventory'!O488","v":"0"}]
[{"$f":"'Interior Lighting Inventory'!C489","v":469},{"$f":"'Interior Lighting Inventory'!D489","v":0},{"$f":"'Interior Lighting Inventory'!E489","v":0},{"$f":"'Interior Lighting Inventory'!G489","v":0},{"$f":"'Interior Lighting Inventory'!H489","v":0},{"$f":"'Interior Lighting Inventory'!I489","v":0},{"$f":"'Interior Lighting Inventory'!J489","v":0},{"$f":"'Interior Lighting Inventory'!K489","v":"-"},{"$f":"'Interior Lighting Inventory'!M489","v":"-"},{"$f":"'Interior Lighting Inventory'!N489","v":0},{"$f":"'Interior Lighting Inventory'!O489","v":"0"}]
[{"$f":"'Interior Lighting Inventory'!C490","v":470},{"$f":"'Interior Lighting Inventory'!D490","v":0},{"$f":"'Interior Lighting Inventory'!E490","v":0},{"$f":"'Interior Lighting Inventory'!G490","v":0},{"$f":"'Interior Lighting Inventory'!H490","v":0},{"$f":"'Interior Lighting Inventory'!I490","v":0},{"$f":"'Interior Lighting Inventory'!J490","v":0},{"$f":"'Interior Lighting Inventory'!K490","v":"-"},{"$f":"'Interior Lighting Inventory'!M490","v":"-"},{"$f":"'Interior Lighting Inventory'!N490","v":0},{"$f":"'Interior Lighting Inventory'!O490","v":"0"}]
[{"$f":"'Interior Lighting Inventory'!C491","v":471},{"$f":"'Interior Lighting Inventory'!D491","v":0},{"$f":"'Interior Lighting Inventory'!E491","v":0},{"$f":"'Interior Lighting Inventory'!G491","v":0},{"$f":"'Interior Lighting Inventory'!H491","v":0},{"$f":"'Interior Lighting Inventory'!I491","v":0},{"$f":"'Interior Lighting Inventory'!J491","v":0},{"$f":"'Interior Lighting Inventory'!K491","v":"-"},{"$f":"'Interior Lighting Inventory'!M491","v":"-"},{"$f":"'Interior Lighting Inventory'!N491","v":0},{"$f":"'Interior Lighting Inventory'!O491","v":"0"}]
[{"$f":"'Interior Lighting Inventory'!C492","v":472},{"$f":"'Interior Lighting Inventory'!D492","v":0},{"$f":"'Interior Lighting Inventory'!E492","v":0},{"$f":"'Interior Lighting Inventory'!G492","v":0},{"$f":"'Interior Lighting Inventory'!H492","v":0},{"$f":"'Interior Lighting Inventory'!I492","v":0},{"$f":"'Interior Lighting Inventory'!J492","v":0},{"$f":"'Interior Lighting Inventory'!K492","v":"-"},{"$f":"'Interior Lighting Inventory'!M492","v":"-"},{"$f":"'Interior Lighting Inventory'!N492","v":0},{"$f":"'Interior Lighting Inventory'!O492","v":"0"}]
[{"$f":"'Interior Lighting Inventory'!C493","v":473},{"$f":"'Interior Lighting Inventory'!D493","v":0},{"$f":"'Interior Lighting Inventory'!E493","v":0},{"$f":"'Interior Lighting Inventory'!G493","v":0},{"$f":"'Interior Lighting Inventory'!H493","v":0},{"$f":"'Interior Lighting Inventory'!I493","v":0},{"$f":"'Interior Lighting Inventory'!J493","v":0},{"$f":"'Interior Lighting Inventory'!K493","v":"-"},{"$f":"'Interior Lighting Inventory'!M493","v":"-"},{"$f":"'Interior Lighting Inventory'!N493","v":0},{"$f":"'Interior Lighting Inventory'!O493","v":"0"}]
[{"$f":"'Interior Lighting Inventory'!C494","v":474},{"$f":"'Interior Lighting Inventory'!D494","v":0},{"$f":"'Interior Lighting Inventory'!E494","v":0},{"$f":"'Interior Lighting Inventory'!G494","v":0},{"$f":"'Interior Lighting Inventory'!H494","v":0},{"$f":"'Interior Lighting Inventory'!I494","v":0},{"$f":"'Interior Lighting Inventory'!J494","v":0},{"$f":"'Interior Lighting Inventory'!K494","v":"-"},{"$f":"'Interior Lighting Inventory'!M494","v":"-"},{"$f":"'Interior Lighting Inventory'!N494","v":0},{"$f":"'Interior Lighting Inventory'!O494","v":"0"}]
[{"$f":"'Interior Lighting Inventory'!C495","v":475},{"$f":"'Interior Lighting Inventory'!D495","v":0},{"$f":"'Interior Lighting Inventory'!E495","v":0},{"$f":"'Interior Lighting Inventory'!G495","v":0},{"$f":"'Interior Lighting Inventory'!H495","v":0},{"$f":"'Interior Lighting Inventory'!I495","v":0},{"$f":"'Interior Lighting Inventory'!J495","v":0},{"$f":"'Interior Lighting Inventory'!K495","v":"-"},{"$f":"'Interior Lighting Inventory'!M495","v":"-"},{"$f":"'Interior Lighting Inventory'!N495","v":0},{"$f":"'Interior Lighting Inventory'!O495","v":"0"}]
[{"$f":"'Interior Lighting Inventory'!C496","v":476},{"$f":"'Interior Lighting Inventory'!D496","v":0},{"$f":"'Interior Lighting Inventory'!E496","v":0},{"$f":"'Interior Lighting Inventory'!G496","v":0},{"$f":"'Interior Lighting Inventory'!H496","v":0},{"$f":"'Interior Lighting Inventory'!I496","v":0},{"$f":"'Interior Lighting Inventory'!J496","v":0},{"$f":"'Interior Lighting Inventory'!K496","v":"-"},{"$f":"'Interior Lighting Inventory'!M496","v":"-"},{"$f":"'Interior Lighting Inventory'!N496","v":0},{"$f":"'Interior Lighting Inventory'!O496","v":"0"}]
[{"$f":"'Interior Lighting Inventory'!C497","v":477},{"$f":"'Interior Lighting Inventory'!D497","v":0},{"$f":"'Interior Lighting Inventory'!E497","v":0},{"$f":"'Interior Lighting Inventory'!G497","v":0},{"$f":"'Interior Lighting Inventory'!H497","v":0},{"$f":"'Interior Lighting Inventory'!I497","v":0},{"$f":"'Interior Lighting Inventory'!J497","v":0},{"$f":"'Interior Lighting Inventory'!K497","v":"-"},{"$f":"'Interior Lighting Inventory'!M497","v":"-"},{"$f":"'Interior Lighting Inventory'!N497","v":0},{"$f":"'Interior Lighting Inventory'!O497","v":"0"}]
[{"$f":"'Interior Lighting Inventory'!C498","v":478},{"$f":"'Interior Lighting Inventory'!D498","v":0},{"$f":"'Interior Lighting Inventory'!E498","v":0},{"$f":"'Interior Lighting Inventory'!G498","v":0},{"$f":"'Interior Lighting Inventory'!H498","v":0},{"$f":"'Interior Lighting Inventory'!I498","v":0},{"$f":"'Interior Lighting Inventory'!J498","v":0},{"$f":"'Interior Lighting Inventory'!K498","v":"-"},{"$f":"'Interior Lighting Inventory'!M498","v":"-"},{"$f":"'Interior Lighting Inventory'!N498","v":0},{"$f":"'Interior Lighting Inventory'!O498","v":"0"}]
[{"$f":"'Interior Lighting Inventory'!C499","v":479},{"$f":"'Interior Lighting Inventory'!D499","v":0},{"$f":"'Interior Lighting Inventory'!E499","v":0},{"$f":"'Interior Lighting Inventory'!G499","v":0},{"$f":"'Interior Lighting Inventory'!H499","v":0},{"$f":"'Interior Lighting Inventory'!I499","v":0},{"$f":"'Interior Lighting Inventory'!J499","v":0},{"$f":"'Interior Lighting Inventory'!K499","v":"-"},{"$f":"'Interior Lighting Inventory'!M499","v":"-"},{"$f":"'Interior Lighting Inventory'!N499","v":0},{"$f":"'Interior Lighting Inventory'!O499","v":"0"}]
[{"$f":"'Interior Lighting Inventory'!C500","v":480},{"$f":"'Interior Lighting Inventory'!D500","v":0},{"$f":"'Interior Lighting Inventory'!E500","v":0},{"$f":"'Interior Lighting Inventory'!G500","v":0},{"$f":"'Interior Lighting Inventory'!H500","v":0},{"$f":"'Interior Lighting Inventory'!I500","v":0},{"$f":"'Interior Lighting Inventory'!J500","v":0},{"$f":"'Interior Lighting Inventory'!K500","v":"-"},{"$f":"'Interior Lighting Inventory'!M500","v":"-"},{"$f":"'Interior Lighting Inventory'!N500","v":0},{"$f":"'Interior Lighting Inventory'!O500","v":"0"}]
[{"$f":"'Interior Lighting Inventory'!C501","v":481},{"$f":"'Interior Lighting Inventory'!D501","v":0},{"$f":"'Interior Lighting Inventory'!E501","v":0},{"$f":"'Interior Lighting Inventory'!G501","v":0},{"$f":"'Interior Lighting Inventory'!H501","v":0},{"$f":"'Interior Lighting Inventory'!I501","v":0},{"$f":"'Interior Lighting Inventory'!J501","v":0},{"$f":"'Interior Lighting Inventory'!K501","v":"-"},{"$f":"'Interior Lighting Inventory'!M501","v":"-"},{"$f":"'Interior Lighting Inventory'!N501","v":0},{"$f":"'Interior Lighting Inventory'!O501","v":"0"}]
[{"$f":"'Interior Lighting Inventory'!C502","v":482},{"$f":"'Interior Lighting Inventory'!D502","v":0},{"$f":"'Interior Lighting Inventory'!E502","v":0},{"$f":"'Interior Lighting Inventory'!G502","v":0},{"$f":"'Interior Lighting Inventory'!H502","v":0},{"$f":"'Interior Lighting Inventory'!I502","v":0},{"$f":"'Interior Lighting Inventory'!J502","v":0},{"$f":"'Interior Lighting Inventory'!K502","v":"-"},{"$f":"'Interior Lighting Inventory'!M502","v":"-"},{"$f":"'Interior Lighting Inventory'!N502","v":0},{"$f":"'Interior Lighting Inventory'!O502","v":"0"}]
[{"$f":"'Interior Lighting Inventory'!C503","v":483},{"$f":"'Interior Lighting Inventory'!D503","v":0},{"$f":"'Interior Lighting Inventory'!E503","v":0},{"$f":"'Interior Lighting Inventory'!G503","v":0},{"$f":"'Interior Lighting Inventory'!H503","v":0},{"$f":"'Interior Lighting Inventory'!I503","v":0},{"$f":"'Interior Lighting Inventory'!J503","v":0},{"$f":"'Interior Lighting Inventory'!K503","v":"-"},{"$f":"'Interior Lighting Inventory'!M503","v":"-"},{"$f":"'Interior Lighting Inventory'!N503","v":0},{"$f":"'Interior Lighting Inventory'!O503","v":"0"}]
[{"$f":"'Interior Lighting Inventory'!C504","v":484},{"$f":"'Interior Lighting Inventory'!D504","v":0},{"$f":"'Interior Lighting Inventory'!E504","v":0},{"$f":"'Interior Lighting Inventory'!G504","v":0},{"$f":"'Interior Lighting Inventory'!H504","v":0},{"$f":"'Interior Lighting Inventory'!I504","v":0},{"$f":"'Interior Lighting Inventory'!J504","v":0},{"$f":"'Interior Lighting Inventory'!K504","v":"-"},{"$f":"'Interior Lighting Inventory'!M504","v":"-"},{"$f":"'Interior Lighting Inventory'!N504","v":0},{"$f":"'Interior Lighting Inventory'!O504","v":"0"}]
[{"$f":"'Interior Lighting Inventory'!C505","v":485},{"$f":"'Interior Lighting Inventory'!D505","v":0},{"$f":"'Interior Lighting Inventory'!E505","v":0},{"$f":"'Interior Lighting Inventory'!G505","v":0},{"$f":"'Interior Lighting Inventory'!H505","v":0},{"$f":"'Interior Lighting Inventory'!I505","v":0},{"$f":"'Interior Lighting Inventory'!J505","v":0},{"$f":"'Interior Lighting Inventory'!K505","v":"-"},{"$f":"'Interior Lighting Inventory'!M505","v":"-"},{"$f":"'Interior Lighting Inventory'!N505","v":0},{"$f":"'Interior Lighting Inventory'!O505","v":"0"}]
[{"$f":"'Interior Lighting Inventory'!C506","v":486},{"$f":"'Interior Lighting Inventory'!D506","v":0},{"$f":"'Interior Lighting Inventory'!E506","v":0},{"$f":"'Interior Lighting Inventory'!G506","v":0},{"$f":"'Interior Lighting Inventory'!H506","v":0},{"$f":"'Interior Lighting Inventory'!I506","v":0},{"$f":"'Interior Lighting Inventory'!J506","v":0},{"$f":"'Interior Lighting Inventory'!K506","v":"-"},{"$f":"'Interior Lighting Inventory'!M506","v":"-"},{"$f":"'Interior Lighting Inventory'!N506","v":0},{"$f":"'Interior Lighting Inventory'!O506","v":"0"}]
[{"$f":"'Interior Lighting Inventory'!C507","v":487},{"$f":"'Interior Lighting Inventory'!D507","v":0},{"$f":"'Interior Lighting Inventory'!E507","v":0},{"$f":"'Interior Lighting Inventory'!G507","v":0},{"$f":"'Interior Lighting Inventory'!H507","v":0},{"$f":"'Interior Lighting Inventory'!I507","v":0},{"$f":"'Interior Lighting Inventory'!J507","v":0},{"$f":"'Interior Lighting Inventory'!K507","v":"-"},{"$f":"'Interior Lighting Inventory'!M507","v":"-"},{"$f":"'Interior Lighting Inventory'!N507","v":0},{"$f":"'Interior Lighting Inventory'!O507","v":"0"}]
[{"$f":"'Interior Lighting Inventory'!C508","v":488},{"$f":"'Interior Lighting Inventory'!D508","v":0},{"$f":"'Interior Lighting Inventory'!E508","v":0},{"$f":"'Interior Lighting Inventory'!G508","v":0},{"$f":"'Interior Lighting Inventory'!H508","v":0},{"$f":"'Interior Lighting Inventory'!I508","v":0},{"$f":"'Interior Lighting Inventory'!J508","v":0},{"$f":"'Interior Lighting Inventory'!K508","v":"-"},{"$f":"'Interior Lighting Inventory'!M508","v":"-"},{"$f":"'Interior Lighting Inventory'!N508","v":0},{"$f":"'Interior Lighting Inventory'!O508","v":"0"}]
[{"$f":"'Interior Lighting Inventory'!C509","v":489},{"$f":"'Interior Lighting Inventory'!D509","v":0},{"$f":"'Interior Lighting Inventory'!E509","v":0},{"$f":"'Interior Lighting Inventory'!G509","v":0},{"$f":"'Interior Lighting Inventory'!H509","v":0},{"$f":"'Interior Lighting Inventory'!I509","v":0},{"$f":"'Interior Lighting Inventory'!J509","v":0},{"$f":"'Interior Lighting Inventory'!K509","v":"-"},{"$f":"'Interior Lighting Inventory'!M509","v":"-"},{"$f":"'Interior Lighting Inventory'!N509","v":0},{"$f":"'Interior Lighting Inventory'!O509","v":"0"}]
[{"$f":"'Interior Lighting Inventory'!C510","v":490},{"$f":"'Interior Lighting Inventory'!D510","v":0},{"$f":"'Interior Lighting Inventory'!E510","v":0},{"$f":"'Interior Lighting Inventory'!G510","v":0},{"$f":"'Interior Lighting Inventory'!H510","v":0},{"$f":"'Interior Lighting Inventory'!I510","v":0},{"$f":"'Interior Lighting Inventory'!J510","v":0},{"$f":"'Interior Lighting Inventory'!K510","v":"-"},{"$f":"'Interior Lighting Inventory'!M510","v":"-"},{"$f":"'Interior Lighting Inventory'!N510","v":0},{"$f":"'Interior Lighting Inventory'!O510","v":"0"}]
[{"$f":"'Interior Lighting Inventory'!C511","v":491},{"$f":"'Interior Lighting Inventory'!D511","v":0},{"$f":"'Interior Lighting Inventory'!E511","v":0},{"$f":"'Interior Lighting Inventory'!G511","v":0},{"$f":"'Interior Lighting Inventory'!H511","v":0},{"$f":"'Interior Lighting Inventory'!I511","v":0},{"$f":"'Interior Lighting Inventory'!J511","v":0},{"$f":"'Interior Lighting Inventory'!K511","v":"-"},{"$f":"'Interior Lighting Inventory'!M511","v":"-"},{"$f":"'Interior Lighting Inventory'!N511","v":0},{"$f":"'Interior Lighting Inventory'!O511","v":"0"}]
[{"$f":"'Interior Lighting Inventory'!C512","v":492},{"$f":"'Interior Lighting Inventory'!D512","v":0},{"$f":"'Interior Lighting Inventory'!E512","v":0},{"$f":"'Interior Lighting Inventory'!G512","v":0},{"$f":"'Interior Lighting Inventory'!H512","v":0},{"$f":"'Interior Lighting Inventory'!I512","v":0},{"$f":"'Interior Lighting Inventory'!J512","v":0},{"$f":"'Interior Lighting Inventory'!K512","v":"-"},{"$f":"'Interior Lighting Inventory'!M512","v":"-"},{"$f":"'Interior Lighting Inventory'!N512","v":0},{"$f":"'Interior Lighting Inventory'!O512","v":"0"}]
[{"$f":"'Interior Lighting Inventory'!C513","v":493},{"$f":"'Interior Lighting Inventory'!D513","v":0},{"$f":"'Interior Lighting Inventory'!E513","v":0},{"$f":"'Interior Lighting Inventory'!G513","v":0},{"$f":"'Interior Lighting Inventory'!H513","v":0},{"$f":"'Interior Lighting Inventory'!I513","v":0},{"$f":"'Interior Lighting Inventory'!J513","v":0},{"$f":"'Interior Lighting Inventory'!K513","v":"-"},{"$f":"'Interior Lighting Inventory'!M513","v":"-"},{"$f":"'Interior Lighting Inventory'!N513","v":0},{"$f":"'Interior Lighting Inventory'!O513","v":"0"}]
[{"$f":"'Interior Lighting Inventory'!C514","v":494},{"$f":"'Interior Lighting Inventory'!D514","v":0},{"$f":"'Interior Lighting Inventory'!E514","v":0},{"$f":"'Interior Lighting Inventory'!G514","v":0},{"$f":"'Interior Lighting Inventory'!H514","v":0},{"$f":"'Interior Lighting Inventory'!I514","v":0},{"$f":"'Interior Lighting Inventory'!J514","v":0},{"$f":"'Interior Lighting Inventory'!K514","v":"-"},{"$f":"'Interior Lighting Inventory'!M514","v":"-"},{"$f":"'Interior Lighting Inventory'!N514","v":0},{"$f":"'Interior Lighting Inventory'!O514","v":"0"}]
[{"$f":"'Interior Lighting Inventory'!C515","v":495},{"$f":"'Interior Lighting Inventory'!D515","v":0},{"$f":"'Interior Lighting Inventory'!E515","v":0},{"$f":"'Interior Lighting Inventory'!G515","v":0},{"$f":"'Interior Lighting Inventory'!H515","v":0},{"$f":"'Interior Lighting Inventory'!I515","v":0},{"$f":"'Interior Lighting Inventory'!J515","v":0},{"$f":"'Interior Lighting Inventory'!K515","v":"-"},{"$f":"'Interior Lighting Inventory'!M515","v":"-"},{"$f":"'Interior Lighting Inventory'!N515","v":0},{"$f":"'Interior Lighting Inventory'!O515","v":"0"}]
[{"$f":"'Interior Lighting Inventory'!C516","v":496},{"$f":"'Interior Lighting Inventory'!D516","v":0},{"$f":"'Interior Lighting Inventory'!E516","v":0},{"$f":"'Interior Lighting Inventory'!G516","v":0},{"$f":"'Interior Lighting Inventory'!H516","v":0},{"$f":"'Interior Lighting Inventory'!I516","v":0},{"$f":"'Interior Lighting Inventory'!J516","v":0},{"$f":"'Interior Lighting Inventory'!K516","v":"-"},{"$f":"'Interior Lighting Inventory'!M516","v":"-"},{"$f":"'Interior Lighting Inventory'!N516","v":0},{"$f":"'Interior Lighting Inventory'!O516","v":"0"}]
[{"$f":"'Interior Lighting Inventory'!C517","v":497},{"$f":"'Interior Lighting Inventory'!D517","v":0},{"$f":"'Interior Lighting Inventory'!E517","v":0},{"$f":"'Interior Lighting Inventory'!G517","v":0},{"$f":"'Interior Lighting Inventory'!H517","v":0},{"$f":"'Interior Lighting Inventory'!I517","v":0},{"$f":"'Interior Lighting Inventory'!J517","v":0},{"$f":"'Interior Lighting Inventory'!K517","v":"-"},{"$f":"'Interior Lighting Inventory'!M517","v":"-"},{"$f":"'Interior Lighting Inventory'!N517","v":0},{"$f":"'Interior Lighting Inventory'!O517","v":"0"}]
[{"$f":"'Interior Lighting Inventory'!C518","v":498},{"$f":"'Interior Lighting Inventory'!D518","v":0},{"$f":"'Interior Lighting Inventory'!E518","v":0},{"$f":"'Interior Lighting Inventory'!G518","v":0},{"$f":"'Interior Lighting Inventory'!H518","v":0},{"$f":"'Interior Lighting Inventory'!I518","v":0},{"$f":"'Interior Lighting Inventory'!J518","v":0},{"$f":"'Interior Lighting Inventory'!K518","v":"-"},{"$f":"'Interior Lighting Inventory'!M518","v":"-"},{"$f":"'Interior Lighting Inventory'!N518","v":0},{"$f":"'Interior Lighting Inventory'!O518","v":"0"}]
[{"$f":"'Interior Lighting Inventory'!C519","v":499},{"$f":"'Interior Lighting Inventory'!D519","v":0},{"$f":"'Interior Lighting Inventory'!E519","v":0},{"$f":"'Interior Lighting Inventory'!G519","v":0},{"$f":"'Interior Lighting Inventory'!H519","v":0},{"$f":"'Interior Lighting Inventory'!I519","v":0},{"$f":"'Interior Lighting Inventory'!J519","v":0},{"$f":"'Interior Lighting Inventory'!K519","v":"-"},{"$f":"'Interior Lighting Inventory'!M519","v":"-"},{"$f":"'Interior Lighting Inventory'!N519","v":0},{"$f":"'Interior Lighting Inventory'!O519","v":"0"}]
[{"$f":"'Interior Lighting Inventory'!C520","v":500},{"$f":"'Interior Lighting Inventory'!D520","v":0},{"$f":"'Interior Lighting Inventory'!E520","v":0},{"$f":"'Interior Lighting Inventory'!G520","v":0},{"$f":"'Interior Lighting Inventory'!H520","v":0},{"$f":"'Interior Lighting Inventory'!I520","v":0},{"$f":"'Interior Lighting Inventory'!J520","v":0},{"$f":"'Interior Lighting Inventory'!K520","v":"-"},{"$f":"'Interior Lighting Inventory'!M520","v":"-"},{"$f":"'Interior Lighting Inventory'!N520","v":0},{"$f":"'Interior Lighting Inventory'!O520","v":"0"}]

{"sheet":"Secondary Lighting Inventory","index":5,"n_rows":521,"n_cols":252,"rows_kept":521,"cut":false,"hidden":true,"merged":[[6,2,6,11],[6,13,6,14],[17,2,17,14]]}
[]
[]
[null,null,null,"New Construction Design-Based Lighting Worksheet"]
[null,null,null,"New Construction Measures - Custom Program"]
[null,null,null,{"$f":"\"Tool Version # \" &TEXT('Version Tracking'!$B$2,\"00000000\")","v":"Tool Version # 06232026"}]
[]
[null,null,"Required General Project Information"]
[null,null,"Project Name",{"$f":"'Information Page'!D8","v":0},null,null,null,null,null,"Project ID",{"$f":"'Information Page'!J8","v":0}]
[null,null,"Building Type",{"$f":"'Information Page'!$G$8","v":0},null,null,null,null,null,"Entry type for interior space",{"$f":"'Information Page'!G9","v":"Select Interior Entry Type"}]
[null,null,"Project address",{"$f":"'Information Page'!D10","v":0},null,null,null,null,null,"Total Building Square Feet ",{"$f":"IF('Information Page'!F9=\"Building Area Method\",'Information Page'!G10,H521)","v":0}]
[null,null,"Project contact",{"$f":"'Information Page'!D11","v":0},null,null,null,null,null,"Annual Hours of Operations ",{"$f":"IF('Information Page'!F9=\"Building Area Method\",'Information Page'!G11,\"Hours vary by space\")","v":"Hours vary by space"}]
[null,null,"Email",{"$f":"'Information Page'!D12","v":0},null,null,null,null,null,"Primary Heating Type For Building",{"$f":"'Information Page'!G12","v":0}]
[null,null,"Phone number",{"$f":"'Information Page'!D13","v":0},null,null,null,null,null,"Project type",{"$f":"'Information Page'!$D$9","v":"Use Drop Down Menu to Select "}]
[]
[]
[null,null,"Input Cells","Data input allowed in shaded cells only."]
[]
[null,null,{"$f":"'Information Page'!F9","v":"Select Interior Entry Type"}]
[null,null,"Line item","Fixture location ","Is the space conditioned?","Interior/Exterior","Space type","Area of space / sqft.","Annual hours of operation","Fixture Type as shown on lighting plan","Fixture Manufacturer","Full Fixture Model Number","Wattage / Fixture","Fixture Quantity","Total Wattage",null,null,null,null,null,null,null,null,null,null,null,null,null,null,null,null,null,null,null,null,null,null,null,null,null,null,null,null,null,null,null,null,null,null,null,null,null,null,null,null,null,null,null,null,null,null,null,null,null,null,null,null,null,null,null,null,null,null,null,null,null,null,null,null,null,null,null,null,null,null,null,null,null,null,null,null,null,null,null,null,null,null,null,null,null,null,null,null,null,null,null,null,null,null,null,null,null,null,null,null,null,null,null,null,null,null,null,null,null,null,null,null,null,null,null,null,null,null,null,null,null,null,null,null,null,null,null,null,null,null,null,null,null,null,null,null,null,null,null,null,null,null,null,null,null,null,null,null,null,null,null,null,null,null,null,null,null,null,null,null,null,null,null,null,null,null,null,null,null,null,null,null,null,null,null,null,null,null,null,null,null,null,null,null,null,null,null,null,null,null,null,null,null,null,null,null,null,null,null,null,null,null,null,null,null,null,null,null,null,null,null,null,null,null,null,null,null,null,null,null,null,null,null,null,null,null,null,null,null,null,null,null,null,null,null,null,"Minimum Efficiency"]
[null,null,"EX","First Floor Room 012","Yes","Interior","Conference / Meeting Room / Multipurpose",43600,3465,"Type A","ABC Manufacturer"," IG-NM-5S-J-30K-xx-xx-xxx",45,12,{"$f":"M20*N20","v":540},null,null,null,null,null,null,null,null,null,null,null,null,null,null,null,null,null,null,null,null,null,null,null,null,null,null,null,null,null,null,null,null,null,null,null,null,null,null,null,null,null,null,null,null,null,null,null,null,null,null,null,null,null,null,null,null,null,null,null,null,null,null,null,null,null,null,null,null,null,null,null,null,null,null,null,null,null,null,null,null,null,null,null,null,null,null,null,null,null,null,null,null,null,null,null,null,null,null,null,null,null,null,null,null,null,null,null,null,null,null,null,null,null,null,null,null,null,null,null,null,null,null,null,null,null,null,null,null,null,null,null,null,null,null,null,null,null,null,null,null,null,null,null,null,null,null,null,null,null,null,null,null,null,null,null,null,null,null,null,null,null,null,null,null,null,null,null,null,null,null,null,null,null,null,null,null,null,null,null,null,null,null,null,null,null,null,null,null,null,null,null,null,null,null,null,null,null,null,null,null,null,null,null,null,null,null,null,null,null,null,null,null,null,null,null,null,null,null,null,null,null,null,null,null,null,null,null,null,null,null,null,null,null,null,null,null,{"$f":"#REF!","v":{"$error":"#REF!"}}]
[null,null,1,null,null,null,null,null,null,null,{"$f":"IF(ISERROR(VLOOKUP(J21,'Information Page'!$C$24:$F$123,2,FALSE)),\"-\",VLOOKUP(J21,'Information Page'!$C$24:$F$123,2,FALSE))","v":"-"},{"$f":"IF(ISERROR(VLOOKUP(J21,'Information Page'!$C$24:$F$123,3,FALSE)),\"-\",VLOOKUP(J21,'Information Page'!$C$24:$F$123,3,FALSE))","v":"-"},{"$f":"IF(ISERROR(VLOOKUP(J21,'Information Page'!$C$24:$F$123,4,FALSE)),\"-\",VLOOKUP(J21,'Information Page'!$C$24:$F$123,4,FALSE))","v":"-"},null,{"$f":"IF(M21=\"-\",\"0\",M21*N21)","v":"0"}]
[null,null,2,null,null,null,null,null,null,null,{"$f":"IF(ISERROR(VLOOKUP(J22,'Information Page'!$C$24:$F$123,2,FALSE)),\"-\",VLOOKUP(J22,'Information Page'!$C$24:$F$123,2,FALSE))","v":"-"},{"$f":"IF(ISERROR(VLOOKUP(J22,'Information Page'!$C$24:$F$123,3,FALSE)),\"-\",VLOOKUP(J22,'Information Page'!$C$24:$F$123,3,FALSE))","v":"-"},{"$f":"IF(ISERROR(VLOOKUP(J22,'Information Page'!$C$24:$F$123,4,FALSE)),\"-\",VLOOKUP(J22,'Information Page'!$C$24:$F$123,4,FALSE))","v":"-"},null,{"$f":"IF(M22=\"-\",\"0\",M22*N22)","v":"0"}]
[null,null,3,null,null,null,null,null,null,null,{"$f":"IF(ISERROR(VLOOKUP(J23,'Information Page'!$C$24:$F$123,2,FALSE)),\"-\",VLOOKUP(J23,'Information Page'!$C$24:$F$123,2,FALSE))","v":"-"},{"$f":"IF(ISERROR(VLOOKUP(J23,'Information Page'!$C$24:$F$123,3,FALSE)),\"-\",VLOOKUP(J23,'Information Page'!$C$24:$F$123,3,FALSE))","v":"-"},{"$f":"IF(ISERROR(VLOOKUP(J23,'Information Page'!$C$24:$F$123,4,FALSE)),\"-\",VLOOKUP(J23,'Information Page'!$C$24:$F$123,4,FALSE))","v":"-"},null,"0"]
[null,null,4,null,null,null,null,null,null,null,{"$f":"IF(ISERROR(VLOOKUP(J24,'Information Page'!$C$24:$F$123,2,FALSE)),\"-\",VLOOKUP(J24,'Information Page'!$C$24:$F$123,2,FALSE))","v":"-"},{"$f":"IF(ISERROR(VLOOKUP(J24,'Information Page'!$C$24:$F$123,3,FALSE)),\"-\",VLOOKUP(J24,'Information Page'!$C$24:$F$123,3,FALSE))","v":"-"},{"$f":"IF(ISERROR(VLOOKUP(J24,'Information Page'!$C$24:$F$123,4,FALSE)),\"-\",VLOOKUP(J24,'Information Page'!$C$24:$F$123,4,FALSE))","v":"-"},null,"0"]
[null,null,5,null,null,null,null,null,null,null,{"$f":"IF(ISERROR(VLOOKUP(J25,'Information Page'!$C$24:$F$123,2,FALSE)),\"-\",VLOOKUP(J25,'Information Page'!$C$24:$F$123,2,FALSE))","v":"-"},{"$f":"IF(ISERROR(VLOOKUP(J25,'Information Page'!$C$24:$F$123,3,FALSE)),\"-\",VLOOKUP(J25,'Information Page'!$C$24:$F$123,3,FALSE))","v":"-"},{"$f":"IF(ISERROR(VLOOKUP(J25,'Information Page'!$C$24:$F$123,4,FALSE)),\"-\",VLOOKUP(J25,'Information Page'!$C$24:$F$123,4,FALSE))","v":"-"},null,"0"]
[null,null,6,null,null,null,null,null,null,null,{"$f":"IF(ISERROR(VLOOKUP(J26,'Information Page'!$C$24:$F$123,2,FALSE)),\"-\",VLOOKUP(J26,'Information Page'!$C$24:$F$123,2,FALSE))","v":"-"},{"$f":"IF(ISERROR(VLOOKUP(J26,'Information Page'!$C$24:$F$123,3,FALSE)),\"-\",VLOOKUP(J26,'Information Page'!$C$24:$F$123,3,FALSE))","v":"-"},{"$f":"IF(ISERROR(VLOOKUP(J26,'Information Page'!$C$24:$F$123,4,FALSE)),\"-\",VLOOKUP(J26,'Information Page'!$C$24:$F$123,4,FALSE))","v":"-"},null,"0"]
[null,null,7,null,null,null,null,null,null,null,{"$f":"IF(ISERROR(VLOOKUP(J27,'Information Page'!$C$24:$F$123,2,FALSE)),\"-\",VLOOKUP(J27,'Information Page'!$C$24:$F$123,2,FALSE))","v":"-"},{"$f":"IF(ISERROR(VLOOKUP(J27,'Information Page'!$C$24:$F$123,3,FALSE)),\"-\",VLOOKUP(J27,'Information Page'!$C$24:$F$123,3,FALSE))","v":"-"},{"$f":"IF(ISERROR(VLOOKUP(J27,'Information Page'!$C$24:$F$123,4,FALSE)),\"-\",VLOOKUP(J27,'Information Page'!$C$24:$F$123,4,FALSE))","v":"-"},null,"0"]
[null,null,8,null,null,null,null,null,null,null,{"$f":"IF(ISERROR(VLOOKUP(J28,'Information Page'!$C$24:$F$123,2,FALSE)),\"-\",VLOOKUP(J28,'Information Page'!$C$24:$F$123,2,FALSE))","v":"-"},{"$f":"IF(ISERROR(VLOOKUP(J28,'Information Page'!$C$24:$F$123,3,FALSE)),\"-\",VLOOKUP(J28,'Information Page'!$C$24:$F$123,3,FALSE))","v":"-"},{"$f":"IF(ISERROR(VLOOKUP(J28,'Information Page'!$C$24:$F$123,4,FALSE)),\"-\",VLOOKUP(J28,'Information Page'!$C$24:$F$123,4,FALSE))","v":"-"},null,"0"]
[null,null,9,null,null,null,null,null,null,null,{"$f":"IF(ISERROR(VLOOKUP(J29,'Information Page'!$C$24:$F$123,2,FALSE)),\"-\",VLOOKUP(J29,'Information Page'!$C$24:$F$123,2,FALSE))","v":"-"},{"$f":"IF(ISERROR(VLOOKUP(J29,'Information Page'!$C$24:$F$123,3,FALSE)),\"-\",VLOOKUP(J29,'Information Page'!$C$24:$F$123,3,FALSE))","v":"-"},{"$f":"IF(ISERROR(VLOOKUP(J29,'Information Page'!$C$24:$F$123,4,FALSE)),\"-\",VLOOKUP(J29,'Information Page'!$C$24:$F$123,4,FALSE))","v":"-"},null,"0"]
[null,null,10,null,null,null,null,null,null,null,{"$f":"IF(ISERROR(VLOOKUP(J30,'Information Page'!$C$24:$F$123,2,FALSE)),\"-\",VLOOKUP(J30,'Information Page'!$C$24:$F$123,2,FALSE))","v":"-"},{"$f":"IF(ISERROR(VLOOKUP(J30,'Information Page'!$C$24:$F$123,3,FALSE)),\"-\",VLOOKUP(J30,'Information Page'!$C$24:$F$123,3,FALSE))","v":"-"},{"$f":"IF(ISERROR(VLOOKUP(J30,'Information Page'!$C$24:$F$123,4,FALSE)),\"-\",VLOOKUP(J30,'Information Page'!$C$24:$F$123,4,FALSE))","v":"-"},null,"0"]
[null,null,11,null,null,null,null,null,null,null,{"$f":"IF(ISERROR(VLOOKUP(J31,'Information Page'!$C$24:$F$123,2,FALSE)),\"-\",VLOOKUP(J31,'Information Page'!$C$24:$F$123,2,FALSE))","v":"-"},{"$f":"IF(ISERROR(VLOOKUP(J31,'Information Page'!$C$24:$F$123,3,FALSE)),\"-\",VLOOKUP(J31,'Information Page'!$C$24:$F$123,3,FALSE))","v":"-"},{"$f":"IF(ISERROR(VLOOKUP(J31,'Information Page'!$C$24:$F$123,4,FALSE)),\"-\",VLOOKUP(J31,'Information Page'!$C$24:$F$123,4,FALSE))","v":"-"},null,"0"]
[null,null,12,null,null,null,null,null,null,null,{"$f":"IF(ISERROR(VLOOKUP(J32,'Information Page'!$C$24:$F$123,2,FALSE)),\"-\",VLOOKUP(J32,'Information Page'!$C$24:$F$123,2,FALSE))","v":"-"},{"$f":"IF(ISERROR(VLOOKUP(J32,'Information Page'!$C$24:$F$123,3,FALSE)),\"-\",VLOOKUP(J32,'Information Page'!$C$24:$F$123,3,FALSE))","v":"-"},{"$f":"IF(ISERROR(VLOOKUP(J32,'Information Page'!$C$24:$F$123,4,FALSE)),\"-\",VLOOKUP(J32,'Information Page'!$C$24:$F$123,4,FALSE))","v":"-"},null,"0"]
[null,null,13,null,null,null,null,null,null,null,{"$f":"IF(ISERROR(VLOOKUP(J33,'Information Page'!$C$24:$F$123,2,FALSE)),\"-\",VLOOKUP(J33,'Information Page'!$C$24:$F$123,2,FALSE))","v":"-"},{"$f":"IF(ISERROR(VLOOKUP(J33,'Information Page'!$C$24:$F$123,3,FALSE)),\"-\",VLOOKUP(J33,'Information Page'!$C$24:$F$123,3,FALSE))","v":"-"},{"$f":"IF(ISERROR(VLOOKUP(J33,'Information Page'!$C$24:$F$123,4,FALSE)),\"-\",VLOOKUP(J33,'Information Page'!$C$24:$F$123,4,FALSE))","v":"-"},null,"0"]
[null,null,14,null,null,null,null,null,null,null,{"$f":"IF(ISERROR(VLOOKUP(J34,'Information Page'!$C$24:$F$123,2,FALSE)),\"-\",VLOOKUP(J34,'Information Page'!$C$24:$F$123,2,FALSE))","v":"-"},{"$f":"IF(ISERROR(VLOOKUP(J34,'Information Page'!$C$24:$F$123,3,FALSE)),\"-\",VLOOKUP(J34,'Information Page'!$C$24:$F$123,3,FALSE))","v":"-"},{"$f":"IF(ISERROR(VLOOKUP(J34,'Information Page'!$C$24:$F$123,4,FALSE)),\"-\",VLOOKUP(J34,'Information Page'!$C$24:$F$123,4,FALSE))","v":"-"},null,"0"]
[null,null,15,null,null,null,null,null,null,null,{"$f":"IF(ISERROR(VLOOKUP(J35,'Information Page'!$C$24:$F$123,2,FALSE)),\"-\",VLOOKUP(J35,'Information Page'!$C$24:$F$123,2,FALSE))","v":"-"},{"$f":"IF(ISERROR(VLOOKUP(J35,'Information Page'!$C$24:$F$123,3,FALSE)),\"-\",VLOOKUP(J35,'Information Page'!$C$24:$F$123,3,FALSE))","v":"-"},{"$f":"IF(ISERROR(VLOOKUP(J35,'Information Page'!$C$24:$F$123,4,FALSE)),\"-\",VLOOKUP(J35,'Information Page'!$C$24:$F$123,4,FALSE))","v":"-"},null,"0"]
[null,null,16,null,null,null,null,null,null,null,{"$f":"IF(ISERROR(VLOOKUP(J36,'Information Page'!$C$24:$F$123,2,FALSE)),\"-\",VLOOKUP(J36,'Information Page'!$C$24:$F$123,2,FALSE))","v":"-"},{"$f":"IF(ISERROR(VLOOKUP(J36,'Information Page'!$C$24:$F$123,3,FALSE)),\"-\",VLOOKUP(J36,'Information Page'!$C$24:$F$123,3,FALSE))","v":"-"},{"$f":"IF(ISERROR(VLOOKUP(J36,'Information Page'!$C$24:$F$123,4,FALSE)),\"-\",VLOOKUP(J36,'Information Page'!$C$24:$F$123,4,FALSE))","v":"-"},null,"0"]
[null,null,17,null,null,null,null,null,null,null,{"$f":"IF(ISERROR(VLOOKUP(J37,'Information Page'!$C$24:$F$123,2,FALSE)),\"-\",VLOOKUP(J37,'Information Page'!$C$24:$F$123,2,FALSE))","v":"-"},{"$f":"IF(ISERROR(VLOOKUP(J37,'Information Page'!$C$24:$F$123,3,FALSE)),\"-\",VLOOKUP(J37,'Information Page'!$C$24:$F$123,3,FALSE))","v":"-"},{"$f":"IF(ISERROR(VLOOKUP(J37,'Information Page'!$C$24:$F$123,4,FALSE)),\"-\",VLOOKUP(J37,'Information Page'!$C$24:$F$123,4,FALSE))","v":"-"},null,"0"]
[null,null,18,null,null,null,null,null,null,null,{"$f":"IF(ISERROR(VLOOKUP(J38,'Information Page'!$C$24:$F$123,2,FALSE)),\"-\",VLOOKUP(J38,'Information Page'!$C$24:$F$123,2,FALSE))","v":"-"},{"$f":"IF(ISERROR(VLOOKUP(J38,'Information Page'!$C$24:$F$123,3,FALSE)),\"-\",VLOOKUP(J38,'Information Page'!$C$24:$F$123,3,FALSE))","v":"-"},{"$f":"IF(ISERROR(VLOOKUP(J38,'Information Page'!$C$24:$F$123,4,FALSE)),\"-\",VLOOKUP(J38,'Information Page'!$C$24:$F$123,4,FALSE))","v":"-"},null,"0"]
[null,null,19,null,null,null,null,null,null,null,{"$f":"IF(ISERROR(VLOOKUP(J39,'Information Page'!$C$24:$F$123,2,FALSE)),\"-\",VLOOKUP(J39,'Information Page'!$C$24:$F$123,2,FALSE))","v":"-"},{"$f":"IF(ISERROR(VLOOKUP(J39,'Information Page'!$C$24:$F$123,3,FALSE)),\"-\",VLOOKUP(J39,'Information Page'!$C$24:$F$123,3,FALSE))","v":"-"},{"$f":"IF(ISERROR(VLOOKUP(J39,'Information Page'!$C$24:$F$123,4,FALSE)),\"-\",VLOOKUP(J39,'Information Page'!$C$24:$F$123,4,FALSE))","v":"-"},null,"0"]
[null,null,20,null,null,null,null,null,null,null,{"$f":"IF(ISERROR(VLOOKUP(J40,'Information Page'!$C$24:$F$123,2,FALSE)),\"-\",VLOOKUP(J40,'Information Page'!$C$24:$F$123,2,FALSE))","v":"-"},{"$f":"IF(ISERROR(VLOOKUP(J40,'Information Page'!$C$24:$F$123,3,FALSE)),\"-\",VLOOKUP(J40,'Information Page'!$C$24:$F$123,3,FALSE))","v":"-"},{"$f":"IF(ISERROR(VLOOKUP(J40,'Information Page'!$C$24:$F$123,4,FALSE)),\"-\",VLOOKUP(J40,'Information Page'!$C$24:$F$123,4,FALSE))","v":"-"},null,"0"]
[null,null,21,null,null,null,null,null,null,null,{"$f":"IF(ISERROR(VLOOKUP(J41,'Information Page'!$C$24:$F$123,2,FALSE)),\"-\",VLOOKUP(J41,'Information Page'!$C$24:$F$123,2,FALSE))","v":"-"},{"$f":"IF(ISERROR(VLOOKUP(J41,'Information Page'!$C$24:$F$123,3,FALSE)),\"-\",VLOOKUP(J41,'Information Page'!$C$24:$F$123,3,FALSE))","v":"-"},{"$f":"IF(ISERROR(VLOOKUP(J41,'Information Page'!$C$24:$F$123,4,FALSE)),\"-\",VLOOKUP(J41,'Information Page'!$C$24:$F$123,4,FALSE))","v":"-"},null,"0"]
[null,null,22,null,null,null,null,null,null,null,{"$f":"IF(ISERROR(VLOOKUP(J42,'Information Page'!$C$24:$F$123,2,FALSE)),\"-\",VLOOKUP(J42,'Information Page'!$C$24:$F$123,2,FALSE))","v":"-"},{"$f":"IF(ISERROR(VLOOKUP(J42,'Information Page'!$C$24:$F$123,3,FALSE)),\"-\",VLOOKUP(J42,'Information Page'!$C$24:$F$123,3,FALSE))","v":"-"},{"$f":"IF(ISERROR(VLOOKUP(J42,'Information Page'!$C$24:$F$123,4,FALSE)),\"-\",VLOOKUP(J42,'Information Page'!$C$24:$F$123,4,FALSE))","v":"-"},null,"0"]
[null,null,23,null,null,null,null,null,null,null,{"$f":"IF(ISERROR(VLOOKUP(J43,'Information Page'!$C$24:$F$123,2,FALSE)),\"-\",VLOOKUP(J43,'Information Page'!$C$24:$F$123,2,FALSE))","v":"-"},{"$f":"IF(ISERROR(VLOOKUP(J43,'Information Page'!$C$24:$F$123,3,FALSE)),\"-\",VLOOKUP(J43,'Information Page'!$C$24:$F$123,3,FALSE))","v":"-"},{"$f":"IF(ISERROR(VLOOKUP(J43,'Information Page'!$C$24:$F$123,4,FALSE)),\"-\",VLOOKUP(J43,'Information Page'!$C$24:$F$123,4,FALSE))","v":"-"},null,"0"]
[null,null,24,null,null,null,null,null,null,null,{"$f":"IF(ISERROR(VLOOKUP(J44,'Information Page'!$C$24:$F$123,2,FALSE)),\"-\",VLOOKUP(J44,'Information Page'!$C$24:$F$123,2,FALSE))","v":"-"},{"$f":"IF(ISERROR(VLOOKUP(J44,'Information Page'!$C$24:$F$123,3,FALSE)),\"-\",VLOOKUP(J44,'Information Page'!$C$24:$F$123,3,FALSE))","v":"-"},{"$f":"IF(ISERROR(VLOOKUP(J44,'Information Page'!$C$24:$F$123,4,FALSE)),\"-\",VLOOKUP(J44,'Information Page'!$C$24:$F$123,4,FALSE))","v":"-"},null,"0"]
[null,null,25,null,null,null,null,null,null,null,{"$f":"IF(ISERROR(VLOOKUP(J45,'Information Page'!$C$24:$F$123,2,FALSE)),\"-\",VLOOKUP(J45,'Information Page'!$C$24:$F$123,2,FALSE))","v":"-"},{"$f":"IF(ISERROR(VLOOKUP(J45,'Information Page'!$C$24:$F$123,3,FALSE)),\"-\",VLOOKUP(J45,'Information Page'!$C$24:$F$123,3,FALSE))","v":"-"},{"$f":"IF(ISERROR(VLOOKUP(J45,'Information Page'!$C$24:$F$123,4,FALSE)),\"-\",VLOOKUP(J45,'Information Page'!$C$24:$F$123,4,FALSE))","v":"-"},null,"0"]
[null,null,26,null,null,null,null,null,null,null,{"$f":"IF(ISERROR(VLOOKUP(J46,'Information Page'!$C$24:$F$123,2,FALSE)),\"-\",VLOOKUP(J46,'Information Page'!$C$24:$F$123,2,FALSE))","v":"-"},{"$f":"IF(ISERROR(VLOOKUP(J46,'Information Page'!$C$24:$F$123,3,FALSE)),\"-\",VLOOKUP(J46,'Information Page'!$C$24:$F$123,3,FALSE))","v":"-"},{"$f":"IF(ISERROR(VLOOKUP(J46,'Information Page'!$C$24:$F$123,4,FALSE)),\"-\",VLOOKUP(J46,'Information Page'!$C$24:$F$123,4,FALSE))","v":"-"},null,"0"]
[null,null,27,null,null,null,null,null,null,null,{"$f":"IF(ISERROR(VLOOKUP(J47,'Information Page'!$C$24:$F$123,2,FALSE)),\"-\",VLOOKUP(J47,'Information Page'!$C$24:$F$123,2,FALSE))","v":"-"},{"$f":"IF(ISERROR(VLOOKUP(J47,'Information Page'!$C$24:$F$123,3,FALSE)),\"-\",VLOOKUP(J47,'Information Page'!$C$24:$F$123,3,FALSE))","v":"-"},{"$f":"IF(ISERROR(VLOOKUP(J47,'Information Page'!$C$24:$F$123,4,FALSE)),\"-\",VLOOKUP(J47,'Information Page'!$C$24:$F$123,4,FALSE))","v":"-"},null,"0"]
[null,null,28,null,null,null,null,null,null,null,{"$f":"IF(ISERROR(VLOOKUP(J48,'Information Page'!$C$24:$F$123,2,FALSE)),\"-\",VLOOKUP(J48,'Information Page'!$C$24:$F$123,2,FALSE))","v":"-"},{"$f":"IF(ISERROR(VLOOKUP(J48,'Information Page'!$C$24:$F$123,3,FALSE)),\"-\",VLOOKUP(J48,'Information Page'!$C$24:$F$123,3,FALSE))","v":"-"},{"$f":"IF(ISERROR(VLOOKUP(J48,'Information Page'!$C$24:$F$123,4,FALSE)),\"-\",VLOOKUP(J48,'Information Page'!$C$24:$F$123,4,FALSE))","v":"-"},null,"0"]
[null,null,29,null,null,null,null,null,null,null,{"$f":"IF(ISERROR(VLOOKUP(J49,'Information Page'!$C$24:$F$123,2,FALSE)),\"-\",VLOOKUP(J49,'Information Page'!$C$24:$F$123,2,FALSE))","v":"-"},{"$f":"IF(ISERROR(VLOOKUP(J49,'Information Page'!$C$24:$F$123,3,FALSE)),\"-\",VLOOKUP(J49,'Information Page'!$C$24:$F$123,3,FALSE))","v":"-"},{"$f":"IF(ISERROR(VLOOKUP(J49,'Information Page'!$C$24:$F$123,4,FALSE)),\"-\",VLOOKUP(J49,'Information Page'!$C$24:$F$123,4,FALSE))","v":"-"},null,"0"]
[null,null,30,null,null,null,null,null,null,null,{"$f":"IF(ISERROR(VLOOKUP(J50,'Information Page'!$C$24:$F$123,2,FALSE)),\"-\",VLOOKUP(J50,'Information Page'!$C$24:$F$123,2,FALSE))","v":"-"},{"$f":"IF(ISERROR(VLOOKUP(J50,'Information Page'!$C$24:$F$123,3,FALSE)),\"-\",VLOOKUP(J50,'Information Page'!$C$24:$F$123,3,FALSE))","v":"-"},{"$f":"IF(ISERROR(VLOOKUP(J50,'Information Page'!$C$24:$F$123,4,FALSE)),\"-\",VLOOKUP(J50,'Information Page'!$C$24:$F$123,4,FALSE))","v":"-"},null,"0"]
[null,null,31,null,null,null,null,null,null,null,{"$f":"IF(ISERROR(VLOOKUP(J51,'Information Page'!$C$24:$F$123,2,FALSE)),\"-\",VLOOKUP(J51,'Information Page'!$C$24:$F$123,2,FALSE))","v":"-"},{"$f":"IF(ISERROR(VLOOKUP(J51,'Information Page'!$C$24:$F$123,3,FALSE)),\"-\",VLOOKUP(J51,'Information Page'!$C$24:$F$123,3,FALSE))","v":"-"},{"$f":"IF(ISERROR(VLOOKUP(J51,'Information Page'!$C$24:$F$123,4,FALSE)),\"-\",VLOOKUP(J51,'Information Page'!$C$24:$F$123,4,FALSE))","v":"-"},null,"0"]
[null,null,32,null,null,null,null,null,null,null,{"$f":"IF(ISERROR(VLOOKUP(J52,'Information Page'!$C$24:$F$123,2,FALSE)),\"-\",VLOOKUP(J52,'Information Page'!$C$24:$F$123,2,FALSE))","v":"-"},{"$f":"IF(ISERROR(VLOOKUP(J52,'Information Page'!$C$24:$F$123,3,FALSE)),\"-\",VLOOKUP(J52,'Information Page'!$C$24:$F$123,3,FALSE))","v":"-"},{"$f":"IF(ISERROR(VLOOKUP(J52,'Information Page'!$C$24:$F$123,4,FALSE)),\"-\",VLOOKUP(J52,'Information Page'!$C$24:$F$123,4,FALSE))","v":"-"},null,"0"]
[null,null,33,null,null,null,null,null,null,null,{"$f":"IF(ISERROR(VLOOKUP(J53,'Information Page'!$C$24:$F$123,2,FALSE)),\"-\",VLOOKUP(J53,'Information Page'!$C$24:$F$123,2,FALSE))","v":"-"},{"$f":"IF(ISERROR(VLOOKUP(J53,'Information Page'!$C$24:$F$123,3,FALSE)),\"-\",VLOOKUP(J53,'Information Page'!$C$24:$F$123,3,FALSE))","v":"-"},{"$f":"IF(ISERROR(VLOOKUP(J53,'Information Page'!$C$24:$F$123,4,FALSE)),\"-\",VLOOKUP(J53,'Information Page'!$C$24:$F$123,4,FALSE))","v":"-"},null,"0"]
[null,null,34,null,null,null,null,null,null,null,{"$f":"IF(ISERROR(VLOOKUP(J54,'Information Page'!$C$24:$F$123,2,FALSE)),\"-\",VLOOKUP(J54,'Information Page'!$C$24:$F$123,2,FALSE))","v":"-"},{"$f":"IF(ISERROR(VLOOKUP(J54,'Information Page'!$C$24:$F$123,3,FALSE)),\"-\",VLOOKUP(J54,'Information Page'!$C$24:$F$123,3,FALSE))","v":"-"},{"$f":"IF(ISERROR(VLOOKUP(J54,'Information Page'!$C$24:$F$123,4,FALSE)),\"-\",VLOOKUP(J54,'Information Page'!$C$24:$F$123,4,FALSE))","v":"-"},null,"0"]
[null,null,35,null,null,null,null,null,null,null,{"$f":"IF(ISERROR(VLOOKUP(J55,'Information Page'!$C$24:$F$123,2,FALSE)),\"-\",VLOOKUP(J55,'Information Page'!$C$24:$F$123,2,FALSE))","v":"-"},{"$f":"IF(ISERROR(VLOOKUP(J55,'Information Page'!$C$24:$F$123,3,FALSE)),\"-\",VLOOKUP(J55,'Information Page'!$C$24:$F$123,3,FALSE))","v":"-"},{"$f":"IF(ISERROR(VLOOKUP(J55,'Information Page'!$C$24:$F$123,4,FALSE)),\"-\",VLOOKUP(J55,'Information Page'!$C$24:$F$123,4,FALSE))","v":"-"},null,"0"]
[null,null,36,null,null,null,null,null,null,null,{"$f":"IF(ISERROR(VLOOKUP(J56,'Information Page'!$C$24:$F$123,2,FALSE)),\"-\",VLOOKUP(J56,'Information Page'!$C$24:$F$123,2,FALSE))","v":"-"},{"$f":"IF(ISERROR(VLOOKUP(J56,'Information Page'!$C$24:$F$123,3,FALSE)),\"-\",VLOOKUP(J56,'Information Page'!$C$24:$F$123,3,FALSE))","v":"-"},{"$f":"IF(ISERROR(VLOOKUP(J56,'Information Page'!$C$24:$F$123,4,FALSE)),\"-\",VLOOKUP(J56,'Information Page'!$C$24:$F$123,4,FALSE))","v":"-"},null,"0"]
[null,null,37,null,null,null,null,null,null,null,{"$f":"IF(ISERROR(VLOOKUP(J57,'Information Page'!$C$24:$F$123,2,FALSE)),\"-\",VLOOKUP(J57,'Information Page'!$C$24:$F$123,2,FALSE))","v":"-"},{"$f":"IF(ISERROR(VLOOKUP(J57,'Information Page'!$C$24:$F$123,3,FALSE)),\"-\",VLOOKUP(J57,'Information Page'!$C$24:$F$123,3,FALSE))","v":"-"},{"$f":"IF(ISERROR(VLOOKUP(J57,'Information Page'!$C$24:$F$123,4,FALSE)),\"-\",VLOOKUP(J57,'Information Page'!$C$24:$F$123,4,FALSE))","v":"-"},null,"0"]
[null,null,38,null,null,null,null,null,null,null,{"$f":"IF(ISERROR(VLOOKUP(J58,'Information Page'!$C$24:$F$123,2,FALSE)),\"-\",VLOOKUP(J58,'Information Page'!$C$24:$F$123,2,FALSE))","v":"-"},{"$f":"IF(ISERROR(VLOOKUP(J58,'Information Page'!$C$24:$F$123,3,FALSE)),\"-\",VLOOKUP(J58,'Information Page'!$C$24:$F$123,3,FALSE))","v":"-"},{"$f":"IF(ISERROR(VLOOKUP(J58,'Information Page'!$C$24:$F$123,4,FALSE)),\"-\",VLOOKUP(J58,'Information Page'!$C$24:$F$123,4,FALSE))","v":"-"},null,"0"]
[null,null,39,null,null,null,null,null,null,null,{"$f":"IF(ISERROR(VLOOKUP(J59,'Information Page'!$C$24:$F$123,2,FALSE)),\"-\",VLOOKUP(J59,'Information Page'!$C$24:$F$123,2,FALSE))","v":"-"},{"$f":"IF(ISERROR(VLOOKUP(J59,'Information Page'!$C$24:$F$123,3,FALSE)),\"-\",VLOOKUP(J59,'Information Page'!$C$24:$F$123,3,FALSE))","v":"-"},{"$f":"IF(ISERROR(VLOOKUP(J59,'Information Page'!$C$24:$F$123,4,FALSE)),\"-\",VLOOKUP(J59,'Information Page'!$C$24:$F$123,4,FALSE))","v":"-"},null,"0"]
[null,null,40,null,null,null,null,null,null,null,{"$f":"IF(ISERROR(VLOOKUP(J60,'Information Page'!$C$24:$F$123,2,FALSE)),\"-\",VLOOKUP(J60,'Information Page'!$C$24:$F$123,2,FALSE))","v":"-"},{"$f":"IF(ISERROR(VLOOKUP(J60,'Information Page'!$C$24:$F$123,3,FALSE)),\"-\",VLOOKUP(J60,'Information Page'!$C$24:$F$123,3,FALSE))","v":"-"},{"$f":"IF(ISERROR(VLOOKUP(J60,'Information Page'!$C$24:$F$123,4,FALSE)),\"-\",VLOOKUP(J60,'Information Page'!$C$24:$F$123,4,FALSE))","v":"-"},null,"0"]
[null,null,41,null,null,null,null,null,null,null,{"$f":"IF(ISERROR(VLOOKUP(J61,'Information Page'!$C$24:$F$123,2,FALSE)),\"-\",VLOOKUP(J61,'Information Page'!$C$24:$F$123,2,FALSE))","v":"-"},{"$f":"IF(ISERROR(VLOOKUP(J61,'Information Page'!$C$24:$F$123,3,FALSE)),\"-\",VLOOKUP(J61,'Information Page'!$C$24:$F$123,3,FALSE))","v":"-"},{"$f":"IF(ISERROR(VLOOKUP(J61,'Information Page'!$C$24:$F$123,4,FALSE)),\"-\",VLOOKUP(J61,'Information Page'!$C$24:$F$123,4,FALSE))","v":"-"},null,"0"]
[null,null,42,null,null,null,null,null,null,null,{"$f":"IF(ISERROR(VLOOKUP(J62,'Information Page'!$C$24:$F$123,2,FALSE)),\"-\",VLOOKUP(J62,'Information Page'!$C$24:$F$123,2,FALSE))","v":"-"},{"$f":"IF(ISERROR(VLOOKUP(J62,'Information Page'!$C$24:$F$123,3,FALSE)),\"-\",VLOOKUP(J62,'Information Page'!$C$24:$F$123,3,FALSE))","v":"-"},{"$f":"IF(ISERROR(VLOOKUP(J62,'Information Page'!$C$24:$F$123,4,FALSE)),\"-\",VLOOKUP(J62,'Information Page'!$C$24:$F$123,4,FALSE))","v":"-"},null,"0"]
[null,null,43,null,null,null,null,null,null,null,{"$f":"IF(ISERROR(VLOOKUP(J63,'Information Page'!$C$24:$F$123,2,FALSE)),\"-\",VLOOKUP(J63,'Information Page'!$C$24:$F$123,2,FALSE))","v":"-"},{"$f":"IF(ISERROR(VLOOKUP(J63,'Information Page'!$C$24:$F$123,3,FALSE)),\"-\",VLOOKUP(J63,'Information Page'!$C$24:$F$123,3,FALSE))","v":"-"},{"$f":"IF(ISERROR(VLOOKUP(J63,'Information Page'!$C$24:$F$123,4,FALSE)),\"-\",VLOOKUP(J63,'Information Page'!$C$24:$F$123,4,FALSE))","v":"-"},null,"0"]
[null,null,44,null,null,null,null,null,null,null,{"$f":"IF(ISERROR(VLOOKUP(J64,'Information Page'!$C$24:$F$123,2,FALSE)),\"-\",VLOOKUP(J64,'Information Page'!$C$24:$F$123,2,FALSE))","v":"-"},{"$f":"IF(ISERROR(VLOOKUP(J64,'Information Page'!$C$24:$F$123,3,FALSE)),\"-\",VLOOKUP(J64,'Information Page'!$C$24:$F$123,3,FALSE))","v":"-"},{"$f":"IF(ISERROR(VLOOKUP(J64,'Information Page'!$C$24:$F$123,4,FALSE)),\"-\",VLOOKUP(J64,'Information Page'!$C$24:$F$123,4,FALSE))","v":"-"},null,"0"]
[null,null,45,null,null,null,null,null,null,null,{"$f":"IF(ISERROR(VLOOKUP(J65,'Information Page'!$C$24:$F$123,2,FALSE)),\"-\",VLOOKUP(J65,'Information Page'!$C$24:$F$123,2,FALSE))","v":"-"},{"$f":"IF(ISERROR(VLOOKUP(J65,'Information Page'!$C$24:$F$123,3,FALSE)),\"-\",VLOOKUP(J65,'Information Page'!$C$24:$F$123,3,FALSE))","v":"-"},{"$f":"IF(ISERROR(VLOOKUP(J65,'Information Page'!$C$24:$F$123,4,FALSE)),\"-\",VLOOKUP(J65,'Information Page'!$C$24:$F$123,4,FALSE))","v":"-"},null,"0"]
[null,null,46,null,null,null,null,null,null,null,{"$f":"IF(ISERROR(VLOOKUP(J66,'Information Page'!$C$24:$F$123,2,FALSE)),\"-\",VLOOKUP(J66,'Information Page'!$C$24:$F$123,2,FALSE))","v":"-"},{"$f":"IF(ISERROR(VLOOKUP(J66,'Information Page'!$C$24:$F$123,3,FALSE)),\"-\",VLOOKUP(J66,'Information Page'!$C$24:$F$123,3,FALSE))","v":"-"},{"$f":"IF(ISERROR(VLOOKUP(J66,'Information Page'!$C$24:$F$123,4,FALSE)),\"-\",VLOOKUP(J66,'Information Page'!$C$24:$F$123,4,FALSE))","v":"-"},null,"0"]
[null,null,47,null,null,null,null,null,null,null,{"$f":"IF(ISERROR(VLOOKUP(J67,'Information Page'!$C$24:$F$123,2,FALSE)),\"-\",VLOOKUP(J67,'Information Page'!$C$24:$F$123,2,FALSE))","v":"-"},{"$f":"IF(ISERROR(VLOOKUP(J67,'Information Page'!$C$24:$F$123,3,FALSE)),\"-\",VLOOKUP(J67,'Information Page'!$C$24:$F$123,3,FALSE))","v":"-"},{"$f":"IF(ISERROR(VLOOKUP(J67,'Information Page'!$C$24:$F$123,4,FALSE)),\"-\",VLOOKUP(J67,'Information Page'!$C$24:$F$123,4,FALSE))","v":"-"},null,"0"]
[null,null,48,null,null,null,null,null,null,null,{"$f":"IF(ISERROR(VLOOKUP(J68,'Information Page'!$C$24:$F$123,2,FALSE)),\"-\",VLOOKUP(J68,'Information Page'!$C$24:$F$123,2,FALSE))","v":"-"},{"$f":"IF(ISERROR(VLOOKUP(J68,'Information Page'!$C$24:$F$123,3,FALSE)),\"-\",VLOOKUP(J68,'Information Page'!$C$24:$F$123,3,FALSE))","v":"-"},{"$f":"IF(ISERROR(VLOOKUP(J68,'Information Page'!$C$24:$F$123,4,FALSE)),\"-\",VLOOKUP(J68,'Information Page'!$C$24:$F$123,4,FALSE))","v":"-"},null,"0"]
[null,null,49,null,null,null,null,null,null,null,{"$f":"IF(ISERROR(VLOOKUP(J69,'Information Page'!$C$24:$F$123,2,FALSE)),\"-\",VLOOKUP(J69,'Information Page'!$C$24:$F$123,2,FALSE))","v":"-"},{"$f":"IF(ISERROR(VLOOKUP(J69,'Information Page'!$C$24:$F$123,3,FALSE)),\"-\",VLOOKUP(J69,'Information Page'!$C$24:$F$123,3,FALSE))","v":"-"},{"$f":"IF(ISERROR(VLOOKUP(J69,'Information Page'!$C$24:$F$123,4,FALSE)),\"-\",VLOOKUP(J69,'Information Page'!$C$24:$F$123,4,FALSE))","v":"-"},null,"0"]
[null,null,50,null,null,null,null,null,null,null,{"$f":"IF(ISERROR(VLOOKUP(J70,'Information Page'!$C$24:$F$123,2,FALSE)),\"-\",VLOOKUP(J70,'Information Page'!$C$24:$F$123,2,FALSE))","v":"-"},{"$f":"IF(ISERROR(VLOOKUP(J70,'Information Page'!$C$24:$F$123,3,FALSE)),\"-\",VLOOKUP(J70,'Information Page'!$C$24:$F$123,3,FALSE))","v":"-"},{"$f":"IF(ISERROR(VLOOKUP(J70,'Information Page'!$C$24:$F$123,4,FALSE)),\"-\",VLOOKUP(J70,'Information Page'!$C$24:$F$123,4,FALSE))","v":"-"},null,"0"]
[null,null,51,null,null,null,null,null,null,null,{"$f":"IF(ISERROR(VLOOKUP(J71,'Information Page'!$C$24:$F$123,2,FALSE)),\"-\",VLOOKUP(J71,'Information Page'!$C$24:$F$123,2,FALSE))","v":"-"},{"$f":"IF(ISERROR(VLOOKUP(J71,'Information Page'!$C$24:$F$123,3,FALSE)),\"-\",VLOOKUP(J71,'Information Page'!$C$24:$F$123,3,FALSE))","v":"-"},{"$f":"IF(ISERROR(VLOOKUP(J71,'Information Page'!$C$24:$F$123,4,FALSE)),\"-\",VLOOKUP(J71,'Information Page'!$C$24:$F$123,4,FALSE))","v":"-"},null,"0"]
[null,null,52,null,null,null,null,null,null,null,{"$f":"IF(ISERROR(VLOOKUP(J72,'Information Page'!$C$24:$F$123,2,FALSE)),\"-\",VLOOKUP(J72,'Information Page'!$C$24:$F$123,2,FALSE))","v":"-"},{"$f":"IF(ISERROR(VLOOKUP(J72,'Information Page'!$C$24:$F$123,3,FALSE)),\"-\",VLOOKUP(J72,'Information Page'!$C$24:$F$123,3,FALSE))","v":"-"},{"$f":"IF(ISERROR(VLOOKUP(J72,'Information Page'!$C$24:$F$123,4,FALSE)),\"-\",VLOOKUP(J72,'Information Page'!$C$24:$F$123,4,FALSE))","v":"-"},null,"0"]
[null,null,53,null,null,null,null,null,null,null,{"$f":"IF(ISERROR(VLOOKUP(J73,'Information Page'!$C$24:$F$123,2,FALSE)),\"-\",VLOOKUP(J73,'Information Page'!$C$24:$F$123,2,FALSE))","v":"-"},{"$f":"IF(ISERROR(VLOOKUP(J73,'Information Page'!$C$24:$F$123,3,FALSE)),\"-\",VLOOKUP(J73,'Information Page'!$C$24:$F$123,3,FALSE))","v":"-"},{"$f":"IF(ISERROR(VLOOKUP(J73,'Information Page'!$C$24:$F$123,4,FALSE)),\"-\",VLOOKUP(J73,'Information Page'!$C$24:$F$123,4,FALSE))","v":"-"},null,"0"]
[null,null,54,null,null,null,null,null,null,null,{"$f":"IF(ISERROR(VLOOKUP(J74,'Information Page'!$C$24:$F$123,2,FALSE)),\"-\",VLOOKUP(J74,'Information Page'!$C$24:$F$123,2,FALSE))","v":"-"},{"$f":"IF(ISERROR(VLOOKUP(J74,'Information Page'!$C$24:$F$123,3,FALSE)),\"-\",VLOOKUP(J74,'Information Page'!$C$24:$F$123,3,FALSE))","v":"-"},{"$f":"IF(ISERROR(VLOOKUP(J74,'Information Page'!$C$24:$F$123,4,FALSE)),\"-\",VLOOKUP(J74,'Information Page'!$C$24:$F$123,4,FALSE))","v":"-"},null,"0"]
[null,null,55,null,null,null,null,null,null,null,{"$f":"IF(ISERROR(VLOOKUP(J75,'Information Page'!$C$24:$F$123,2,FALSE)),\"-\",VLOOKUP(J75,'Information Page'!$C$24:$F$123,2,FALSE))","v":"-"},{"$f":"IF(ISERROR(VLOOKUP(J75,'Information Page'!$C$24:$F$123,3,FALSE)),\"-\",VLOOKUP(J75,'Information Page'!$C$24:$F$123,3,FALSE))","v":"-"},{"$f":"IF(ISERROR(VLOOKUP(J75,'Information Page'!$C$24:$F$123,4,FALSE)),\"-\",VLOOKUP(J75,'Information Page'!$C$24:$F$123,4,FALSE))","v":"-"},null,"0"]
[null,null,56,null,null,null,null,null,null,null,{"$f":"IF(ISERROR(VLOOKUP(J76,'Information Page'!$C$24:$F$123,2,FALSE)),\"-\",VLOOKUP(J76,'Information Page'!$C$24:$F$123,2,FALSE))","v":"-"},{"$f":"IF(ISERROR(VLOOKUP(J76,'Information Page'!$C$24:$F$123,3,FALSE)),\"-\",VLOOKUP(J76,'Information Page'!$C$24:$F$123,3,FALSE))","v":"-"},{"$f":"IF(ISERROR(VLOOKUP(J76,'Information Page'!$C$24:$F$123,4,FALSE)),\"-\",VLOOKUP(J76,'Information Page'!$C$24:$F$123,4,FALSE))","v":"-"},null,"0"]
[null,null,57,null,null,null,null,null,null,null,{"$f":"IF(ISERROR(VLOOKUP(J77,'Information Page'!$C$24:$F$123,2,FALSE)),\"-\",VLOOKUP(J77,'Information Page'!$C$24:$F$123,2,FALSE))","v":"-"},{"$f":"IF(ISERROR(VLOOKUP(J77,'Information Page'!$C$24:$F$123,3,FALSE)),\"-\",VLOOKUP(J77,'Information Page'!$C$24:$F$123,3,FALSE))","v":"-"},{"$f":"IF(ISERROR(VLOOKUP(J77,'Information Page'!$C$24:$F$123,4,FALSE)),\"-\",VLOOKUP(J77,'Information Page'!$C$24:$F$123,4,FALSE))","v":"-"},null,"0"]
[null,null,58,null,null,null,null,null,null,null,{"$f":"IF(ISERROR(VLOOKUP(J78,'Information Page'!$C$24:$F$123,2,FALSE)),\"-\",VLOOKUP(J78,'Information Page'!$C$24:$F$123,2,FALSE))","v":"-"},{"$f":"IF(ISERROR(VLOOKUP(J78,'Information Page'!$C$24:$F$123,3,FALSE)),\"-\",VLOOKUP(J78,'Information Page'!$C$24:$F$123,3,FALSE))","v":"-"},{"$f":"IF(ISERROR(VLOOKUP(J78,'Information Page'!$C$24:$F$123,4,FALSE)),\"-\",VLOOKUP(J78,'Information Page'!$C$24:$F$123,4,FALSE))","v":"-"},null,"0"]
[null,null,59,null,null,null,null,null,null,null,{"$f":"IF(ISERROR(VLOOKUP(J79,'Information Page'!$C$24:$F$123,2,FALSE)),\"-\",VLOOKUP(J79,'Information Page'!$C$24:$F$123,2,FALSE))","v":"-"},{"$f":"IF(ISERROR(VLOOKUP(J79,'Information Page'!$C$24:$F$123,3,FALSE)),\"-\",VLOOKUP(J79,'Information Page'!$C$24:$F$123,3,FALSE))","v":"-"},{"$f":"IF(ISERROR(VLOOKUP(J79,'Information Page'!$C$24:$F$123,4,FALSE)),\"-\",VLOOKUP(J79,'Information Page'!$C$24:$F$123,4,FALSE))","v":"-"},null,"0"]
[null,null,60,null,null,null,null,null,null,null,{"$f":"IF(ISERROR(VLOOKUP(J80,'Information Page'!$C$24:$F$123,2,FALSE)),\"-\",VLOOKUP(J80,'Information Page'!$C$24:$F$123,2,FALSE))","v":"-"},{"$f":"IF(ISERROR(VLOOKUP(J80,'Information Page'!$C$24:$F$123,3,FALSE)),\"-\",VLOOKUP(J80,'Information Page'!$C$24:$F$123,3,FALSE))","v":"-"},{"$f":"IF(ISERROR(VLOOKUP(J80,'Information Page'!$C$24:$F$123,4,FALSE)),\"-\",VLOOKUP(J80,'Information Page'!$C$24:$F$123,4,FALSE))","v":"-"},null,"0"]
[null,null,61,null,null,null,null,null,null,null,{"$f":"IF(ISERROR(VLOOKUP(J81,'Information Page'!$C$24:$F$123,2,FALSE)),\"-\",VLOOKUP(J81,'Information Page'!$C$24:$F$123,2,FALSE))","v":"-"},{"$f":"IF(ISERROR(VLOOKUP(J81,'Information Page'!$C$24:$F$123,3,FALSE)),\"-\",VLOOKUP(J81,'Information Page'!$C$24:$F$123,3,FALSE))","v":"-"},{"$f":"IF(ISERROR(VLOOKUP(J81,'Information Page'!$C$24:$F$123,4,FALSE)),\"-\",VLOOKUP(J81,'Information Page'!$C$24:$F$123,4,FALSE))","v":"-"},null,"0"]
[null,null,62,null,null,null,null,null,null,null,{"$f":"IF(ISERROR(VLOOKUP(J82,'Information Page'!$C$24:$F$123,2,FALSE)),\"-\",VLOOKUP(J82,'Information Page'!$C$24:$F$123,2,FALSE))","v":"-"},{"$f":"IF(ISERROR(VLOOKUP(J82,'Information Page'!$C$24:$F$123,3,FALSE)),\"-\",VLOOKUP(J82,'Information Page'!$C$24:$F$123,3,FALSE))","v":"-"},{"$f":"IF(ISERROR(VLOOKUP(J82,'Information Page'!$C$24:$F$123,4,FALSE)),\"-\",VLOOKUP(J82,'Information Page'!$C$24:$F$123,4,FALSE))","v":"-"},null,"0"]
[null,null,63,null,null,null,null,null,null,null,{"$f":"IF(ISERROR(VLOOKUP(J83,'Information Page'!$C$24:$F$123,2,FALSE)),\"-\",VLOOKUP(J83,'Information Page'!$C$24:$F$123,2,FALSE))","v":"-"},{"$f":"IF(ISERROR(VLOOKUP(J83,'Information Page'!$C$24:$F$123,3,FALSE)),\"-\",VLOOKUP(J83,'Information Page'!$C$24:$F$123,3,FALSE))","v":"-"},{"$f":"IF(ISERROR(VLOOKUP(J83,'Information Page'!$C$24:$F$123,4,FALSE)),\"-\",VLOOKUP(J83,'Information Page'!$C$24:$F$123,4,FALSE))","v":"-"},null,"0"]
[null,null,64,null,null,null,null,null,null,null,{"$f":"IF(ISERROR(VLOOKUP(J84,'Information Page'!$C$24:$F$123,2,FALSE)),\"-\",VLOOKUP(J84,'Information Page'!$C$24:$F$123,2,FALSE))","v":"-"},{"$f":"IF(ISERROR(VLOOKUP(J84,'Information Page'!$C$24:$F$123,3,FALSE)),\"-\",VLOOKUP(J84,'Information Page'!$C$24:$F$123,3,FALSE))","v":"-"},{"$f":"IF(ISERROR(VLOOKUP(J84,'Information Page'!$C$24:$F$123,4,FALSE)),\"-\",VLOOKUP(J84,'Information Page'!$C$24:$F$123,4,FALSE))","v":"-"},null,"0"]
[null,null,65,null,null,null,null,null,null,null,{"$f":"IF(ISERROR(VLOOKUP(J85,'Information Page'!$C$24:$F$123,2,FALSE)),\"-\",VLOOKUP(J85,'Information Page'!$C$24:$F$123,2,FALSE))","v":"-"},{"$f":"IF(ISERROR(VLOOKUP(J85,'Information Page'!$C$24:$F$123,3,FALSE)),\"-\",VLOOKUP(J85,'Information Page'!$C$24:$F$123,3,FALSE))","v":"-"},{"$f":"IF(ISERROR(VLOOKUP(J85,'Information Page'!$C$24:$F$123,4,FALSE)),\"-\",VLOOKUP(J85,'Information Page'!$C$24:$F$123,4,FALSE))","v":"-"},null,"0"]
[null,null,66,null,null,null,null,null,null,null,{"$f":"IF(ISERROR(VLOOKUP(J86,'Information Page'!$C$24:$F$123,2,FALSE)),\"-\",VLOOKUP(J86,'Information Page'!$C$24:$F$123,2,FALSE))","v":"-"},{"$f":"IF(ISERROR(VLOOKUP(J86,'Information Page'!$C$24:$F$123,3,FALSE)),\"-\",VLOOKUP(J86,'Information Page'!$C$24:$F$123,3,FALSE))","v":"-"},{"$f":"IF(ISERROR(VLOOKUP(J86,'Information Page'!$C$24:$F$123,4,FALSE)),\"-\",VLOOKUP(J86,'Information Page'!$C$24:$F$123,4,FALSE))","v":"-"},null,{"$f":"IF(M86=\"-\",\"0\",M86*N86)","v":"0"}]
[null,null,67,null,null,null,null,null,null,null,{"$f":"IF(ISERROR(VLOOKUP(J87,'Information Page'!$C$24:$F$123,2,FALSE)),\"-\",VLOOKUP(J87,'Information Page'!$C$24:$F$123,2,FALSE))","v":"-"},{"$f":"IF(ISERROR(VLOOKUP(J87,'Information Page'!$C$24:$F$123,3,FALSE)),\"-\",VLOOKUP(J87,'Information Page'!$C$24:$F$123,3,FALSE))","v":"-"},{"$f":"IF(ISERROR(VLOOKUP(J87,'Information Page'!$C$24:$F$123,4,FALSE)),\"-\",VLOOKUP(J87,'Information Page'!$C$24:$F$123,4,FALSE))","v":"-"},null,"0"]
[null,null,68,null,null,null,null,null,null,null,{"$f":"IF(ISERROR(VLOOKUP(J88,'Information Page'!$C$24:$F$123,2,FALSE)),\"-\",VLOOKUP(J88,'Information Page'!$C$24:$F$123,2,FALSE))","v":"-"},{"$f":"IF(ISERROR(VLOOKUP(J88,'Information Page'!$C$24:$F$123,3,FALSE)),\"-\",VLOOKUP(J88,'Information Page'!$C$24:$F$123,3,FALSE))","v":"-"},{"$f":"IF(ISERROR(VLOOKUP(J88,'Information Page'!$C$24:$F$123,4,FALSE)),\"-\",VLOOKUP(J88,'Information Page'!$C$24:$F$123,4,FALSE))","v":"-"},null,"0"]
[null,null,69,null,null,null,null,null,null,null,{"$f":"IF(ISERROR(VLOOKUP(J89,'Information Page'!$C$24:$F$123,2,FALSE)),\"-\",VLOOKUP(J89,'Information Page'!$C$24:$F$123,2,FALSE))","v":"-"},{"$f":"IF(ISERROR(VLOOKUP(J89,'Information Page'!$C$24:$F$123,3,FALSE)),\"-\",VLOOKUP(J89,'Information Page'!$C$24:$F$123,3,FALSE))","v":"-"},{"$f":"IF(ISERROR(VLOOKUP(J89,'Information Page'!$C$24:$F$123,4,FALSE)),\"-\",VLOOKUP(J89,'Information Page'!$C$24:$F$123,4,FALSE))","v":"-"},null,"0"]
[null,null,70,null,null,null,null,null,null,null,{"$f":"IF(ISERROR(VLOOKUP(J90,'Information Page'!$C$24:$F$123,2,FALSE)),\"-\",VLOOKUP(J90,'Information Page'!$C$24:$F$123,2,FALSE))","v":"-"},{"$f":"IF(ISERROR(VLOOKUP(J90,'Information Page'!$C$24:$F$123,3,FALSE)),\"-\",VLOOKUP(J90,'Information Page'!$C$24:$F$123,3,FALSE))","v":"-"},{"$f":"IF(ISERROR(VLOOKUP(J90,'Information Page'!$C$24:$F$123,4,FALSE)),\"-\",VLOOKUP(J90,'Information Page'!$C$24:$F$123,4,FALSE))","v":"-"},null,"0"]
[null,null,71,null,null,null,null,null,null,null,{"$f":"IF(ISERROR(VLOOKUP(J91,'Information Page'!$C$24:$F$123,2,FALSE)),\"-\",VLOOKUP(J91,'Information Page'!$C$24:$F$123,2,FALSE))","v":"-"},{"$f":"IF(ISERROR(VLOOKUP(J91,'Information Page'!$C$24:$F$123,3,FALSE)),\"-\",VLOOKUP(J91,'Information Page'!$C$24:$F$123,3,FALSE))","v":"-"},{"$f":"IF(ISERROR(VLOOKUP(J91,'Information Page'!$C$24:$F$123,4,FALSE)),\"-\",VLOOKUP(J91,'Information Page'!$C$24:$F$123,4,FALSE))","v":"-"},null,"0"]
[null,null,72,null,null,null,null,null,null,null,{"$f":"IF(ISERROR(VLOOKUP(J92,'Information Page'!$C$24:$F$123,2,FALSE)),\"-\",VLOOKUP(J92,'Information Page'!$C$24:$F$123,2,FALSE))","v":"-"},{"$f":"IF(ISERROR(VLOOKUP(J92,'Information Page'!$C$24:$F$123,3,FALSE)),\"-\",VLOOKUP(J92,'Information Page'!$C$24:$F$123,3,FALSE))","v":"-"},{"$f":"IF(ISERROR(VLOOKUP(J92,'Information Page'!$C$24:$F$123,4,FALSE)),\"-\",VLOOKUP(J92,'Information Page'!$C$24:$F$123,4,FALSE))","v":"-"},null,"0"]
[null,null,73,null,null,null,null,null,null,null,{"$f":"IF(ISERROR(VLOOKUP(J93,'Information Page'!$C$24:$F$123,2,FALSE)),\"-\",VLOOKUP(J93,'Information Page'!$C$24:$F$123,2,FALSE))","v":"-"},{"$f":"IF(ISERROR(VLOOKUP(J93,'Information Page'!$C$24:$F$123,3,FALSE)),\"-\",VLOOKUP(J93,'Information Page'!$C$24:$F$123,3,FALSE))","v":"-"},{"$f":"IF(ISERROR(VLOOKUP(J93,'Information Page'!$C$24:$F$123,4,FALSE)),\"-\",VLOOKUP(J93,'Information Page'!$C$24:$F$123,4,FALSE))","v":"-"},null,"0"]
[null,null,74,null,null,null,null,null,null,null,{"$f":"IF(ISERROR(VLOOKUP(J94,'Information Page'!$C$24:$F$123,2,FALSE)),\"-\",VLOOKUP(J94,'Information Page'!$C$24:$F$123,2,FALSE))","v":"-"},{"$f":"IF(ISERROR(VLOOKUP(J94,'Information Page'!$C$24:$F$123,3,FALSE)),\"-\",VLOOKUP(J94,'Information Page'!$C$24:$F$123,3,FALSE))","v":"-"},{"$f":"IF(ISERROR(VLOOKUP(J94,'Information Page'!$C$24:$F$123,4,FALSE)),\"-\",VLOOKUP(J94,'Information Page'!$C$24:$F$123,4,FALSE))","v":"-"},null,"0"]
[null,null,75,null,null,null,null,null,null,null,{"$f":"IF(ISERROR(VLOOKUP(J95,'Information Page'!$C$24:$F$123,2,FALSE)),\"-\",VLOOKUP(J95,'Information Page'!$C$24:$F$123,2,FALSE))","v":"-"},{"$f":"IF(ISERROR(VLOOKUP(J95,'Information Page'!$C$24:$F$123,3,FALSE)),\"-\",VLOOKUP(J95,'Information Page'!$C$24:$F$123,3,FALSE))","v":"-"},{"$f":"IF(ISERROR(VLOOKUP(J95,'Information Page'!$C$24:$F$123,4,FALSE)),\"-\",VLOOKUP(J95,'Information Page'!$C$24:$F$123,4,FALSE))","v":"-"},null,"0"]
[null,null,76,null,null,null,null,null,null,null,{"$f":"IF(ISERROR(VLOOKUP(J96,'Information Page'!$C$24:$F$123,2,FALSE)),\"-\",VLOOKUP(J96,'Information Page'!$C$24:$F$123,2,FALSE))","v":"-"},{"$f":"IF(ISERROR(VLOOKUP(J96,'Information Page'!$C$24:$F$123,3,FALSE)),\"-\",VLOOKUP(J96,'Information Page'!$C$24:$F$123,3,FALSE))","v":"-"},{"$f":"IF(ISERROR(VLOOKUP(J96,'Information Page'!$C$24:$F$123,4,FALSE)),\"-\",VLOOKUP(J96,'Information Page'!$C$24:$F$123,4,FALSE))","v":"-"},null,"0"]
[null,null,77,null,null,null,null,null,null,null,{"$f":"IF(ISERROR(VLOOKUP(J97,'Information Page'!$C$24:$F$123,2,FALSE)),\"-\",VLOOKUP(J97,'Information Page'!$C$24:$F$123,2,FALSE))","v":"-"},{"$f":"IF(ISERROR(VLOOKUP(J97,'Information Page'!$C$24:$F$123,3,FALSE)),\"-\",VLOOKUP(J97,'Information Page'!$C$24:$F$123,3,FALSE))","v":"-"},{"$f":"IF(ISERROR(VLOOKUP(J97,'Information Page'!$C$24:$F$123,4,FALSE)),\"-\",VLOOKUP(J97,'Information Page'!$C$24:$F$123,4,FALSE))","v":"-"},null,"0"]
[null,null,78,null,null,null,null,null,null,null,{"$f":"IF(ISERROR(VLOOKUP(J98,'Information Page'!$C$24:$F$123,2,FALSE)),\"-\",VLOOKUP(J98,'Information Page'!$C$24:$F$123,2,FALSE))","v":"-"},{"$f":"IF(ISERROR(VLOOKUP(J98,'Information Page'!$C$24:$F$123,3,FALSE)),\"-\",VLOOKUP(J98,'Information Page'!$C$24:$F$123,3,FALSE))","v":"-"},{"$f":"IF(ISERROR(VLOOKUP(J98,'Information Page'!$C$24:$F$123,4,FALSE)),\"-\",VLOOKUP(J98,'Information Page'!$C$24:$F$123,4,FALSE))","v":"-"},null,"0"]
[null,null,79,null,null,null,null,null,null,null,{"$f":"IF(ISERROR(VLOOKUP(J99,'Information Page'!$C$24:$F$123,2,FALSE)),\"-\",VLOOKUP(J99,'Information Page'!$C$24:$F$123,2,FALSE))","v":"-"},{"$f":"IF(ISERROR(VLOOKUP(J99,'Information Page'!$C$24:$F$123,3,FALSE)),\"-\",VLOOKUP(J99,'Information Page'!$C$24:$F$123,3,FALSE))","v":"-"},{"$f":"IF(ISERROR(VLOOKUP(J99,'Information Page'!$C$24:$F$123,4,FALSE)),\"-\",VLOOKUP(J99,'Information Page'!$C$24:$F$123,4,FALSE))","v":"-"},null,"0"]
[null,null,80,null,null,null,null,null,null,null,{"$f":"IF(ISERROR(VLOOKUP(J100,'Information Page'!$C$24:$F$123,2,FALSE)),\"-\",VLOOKUP(J100,'Information Page'!$C$24:$F$123,2,FALSE))","v":"-"},{"$f":"IF(ISERROR(VLOOKUP(J100,'Information Page'!$C$24:$F$123,3,FALSE)),\"-\",VLOOKUP(J100,'Information Page'!$C$24:$F$123,3,FALSE))","v":"-"},{"$f":"IF(ISERROR(VLOOKUP(J100,'Information Page'!$C$24:$F$123,4,FALSE)),\"-\",VLOOKUP(J100,'Information Page'!$C$24:$F$123,4,FALSE))","v":"-"},null,"0"]
[null,null,81,null,null,null,null,null,null,null,{"$f":"IF(ISERROR(VLOOKUP(J101,'Information Page'!$C$24:$F$123,2,FALSE)),\"-\",VLOOKUP(J101,'Information Page'!$C$24:$F$123,2,FALSE))","v":"-"},{"$f":"IF(ISERROR(VLOOKUP(J101,'Information Page'!$C$24:$F$123,3,FALSE)),\"-\",VLOOKUP(J101,'Information Page'!$C$24:$F$123,3,FALSE))","v":"-"},{"$f":"IF(ISERROR(VLOOKUP(J101,'Information Page'!$C$24:$F$123,4,FALSE)),\"-\",VLOOKUP(J101,'Information Page'!$C$24:$F$123,4,FALSE))","v":"-"},null,"0"]
[null,null,82,null,null,null,null,null,null,null,{"$f":"IF(ISERROR(VLOOKUP(J102,'Information Page'!$C$24:$F$123,2,FALSE)),\"-\",VLOOKUP(J102,'Information Page'!$C$24:$F$123,2,FALSE))","v":"-"},{"$f":"IF(ISERROR(VLOOKUP(J102,'Information Page'!$C$24:$F$123,3,FALSE)),\"-\",VLOOKUP(J102,'Information Page'!$C$24:$F$123,3,FALSE))","v":"-"},{"$f":"IF(ISERROR(VLOOKUP(J102,'Information Page'!$C$24:$F$123,4,FALSE)),\"-\",VLOOKUP(J102,'Information Page'!$C$24:$F$123,4,FALSE))","v":"-"},null,"0"]
[null,null,83,null,null,null,null,null,null,null,{"$f":"IF(ISERROR(VLOOKUP(J103,'Information Page'!$C$24:$F$123,2,FALSE)),\"-\",VLOOKUP(J103,'Information Page'!$C$24:$F$123,2,FALSE))","v":"-"},{"$f":"IF(ISERROR(VLOOKUP(J103,'Information Page'!$C$24:$F$123,3,FALSE)),\"-\",VLOOKUP(J103,'Information Page'!$C$24:$F$123,3,FALSE))","v":"-"},{"$f":"IF(ISERROR(VLOOKUP(J103,'Information Page'!$C$24:$F$123,4,FALSE)),\"-\",VLOOKUP(J103,'Information Page'!$C$24:$F$123,4,FALSE))","v":"-"},null,"0"]
[null,null,84,null,null,null,null,null,null,null,{"$f":"IF(ISERROR(VLOOKUP(J104,'Information Page'!$C$24:$F$123,2,FALSE)),\"-\",VLOOKUP(J104,'Information Page'!$C$24:$F$123,2,FALSE))","v":"-"},{"$f":"IF(ISERROR(VLOOKUP(J104,'Information Page'!$C$24:$F$123,3,FALSE)),\"-\",VLOOKUP(J104,'Information Page'!$C$24:$F$123,3,FALSE))","v":"-"},{"$f":"IF(ISERROR(VLOOKUP(J104,'Information Page'!$C$24:$F$123,4,FALSE)),\"-\",VLOOKUP(J104,'Information Page'!$C$24:$F$123,4,FALSE))","v":"-"},null,"0"]
[null,null,85,null,null,null,null,null,null,null,{"$f":"IF(ISERROR(VLOOKUP(J105,'Information Page'!$C$24:$F$123,2,FALSE)),\"-\",VLOOKUP(J105,'Information Page'!$C$24:$F$123,2,FALSE))","v":"-"},{"$f":"IF(ISERROR(VLOOKUP(J105,'Information Page'!$C$24:$F$123,3,FALSE)),\"-\",VLOOKUP(J105,'Information Page'!$C$24:$F$123,3,FALSE))","v":"-"},{"$f":"IF(ISERROR(VLOOKUP(J105,'Information Page'!$C$24:$F$123,4,FALSE)),\"-\",VLOOKUP(J105,'Information Page'!$C$24:$F$123,4,FALSE))","v":"-"},null,"0"]
[null,null,86,null,null,null,null,null,null,null,{"$f":"IF(ISERROR(VLOOKUP(J106,'Information Page'!$C$24:$F$123,2,FALSE)),\"-\",VLOOKUP(J106,'Information Page'!$C$24:$F$123,2,FALSE))","v":"-"},{"$f":"IF(ISERROR(VLOOKUP(J106,'Information Page'!$C$24:$F$123,3,FALSE)),\"-\",VLOOKUP(J106,'Information Page'!$C$24:$F$123,3,FALSE))","v":"-"},{"$f":"IF(ISERROR(VLOOKUP(J106,'Information Page'!$C$24:$F$123,4,FALSE)),\"-\",VLOOKUP(J106,'Information Page'!$C$24:$F$123,4,FALSE))","v":"-"},null,"0"]
[null,null,87,null,null,null,null,null,null,null,{"$f":"IF(ISERROR(VLOOKUP(J107,'Information Page'!$C$24:$F$123,2,FALSE)),\"-\",VLOOKUP(J107,'Information Page'!$C$24:$F$123,2,FALSE))","v":"-"},{"$f":"IF(ISERROR(VLOOKUP(J107,'Information Page'!$C$24:$F$123,3,FALSE)),\"-\",VLOOKUP(J107,'Information Page'!$C$24:$F$123,3,FALSE))","v":"-"},{"$f":"IF(ISERROR(VLOOKUP(J107,'Information Page'!$C$24:$F$123,4,FALSE)),\"-\",VLOOKUP(J107,'Information Page'!$C$24:$F$123,4,FALSE))","v":"-"},null,"0"]
[null,null,88,null,null,null,null,null,null,null,{"$f":"IF(ISERROR(VLOOKUP(J108,'Information Page'!$C$24:$F$123,2,FALSE)),\"-\",VLOOKUP(J108,'Information Page'!$C$24:$F$123,2,FALSE))","v":"-"},{"$f":"IF(ISERROR(VLOOKUP(J108,'Information Page'!$C$24:$F$123,3,FALSE)),\"-\",VLOOKUP(J108,'Information Page'!$C$24:$F$123,3,FALSE))","v":"-"},{"$f":"IF(ISERROR(VLOOKUP(J108,'Information Page'!$C$24:$F$123,4,FALSE)),\"-\",VLOOKUP(J108,'Information Page'!$C$24:$F$123,4,FALSE))","v":"-"},null,"0"]
[null,null,89,null,null,null,null,null,null,null,{"$f":"IF(ISERROR(VLOOKUP(J109,'Information Page'!$C$24:$F$123,2,FALSE)),\"-\",VLOOKUP(J109,'Information Page'!$C$24:$F$123,2,FALSE))","v":"-"},{"$f":"IF(ISERROR(VLOOKUP(J109,'Information Page'!$C$24:$F$123,3,FALSE)),\"-\",VLOOKUP(J109,'Information Page'!$C$24:$F$123,3,FALSE))","v":"-"},{"$f":"IF(ISERROR(VLOOKUP(J109,'Information Page'!$C$24:$F$123,4,FALSE)),\"-\",VLOOKUP(J109,'Information Page'!$C$24:$F$123,4,FALSE))","v":"-"},null,"0"]
[null,null,90,null,null,null,null,null,null,null,{"$f":"IF(ISERROR(VLOOKUP(J110,'Information Page'!$C$24:$F$123,2,FALSE)),\"-\",VLOOKUP(J110,'Information Page'!$C$24:$F$123,2,FALSE))","v":"-"},{"$f":"IF(ISERROR(VLOOKUP(J110,'Information Page'!$C$24:$F$123,3,FALSE)),\"-\",VLOOKUP(J110,'Information Page'!$C$24:$F$123,3,FALSE))","v":"-"},{"$f":"IF(ISERROR(VLOOKUP(J110,'Information Page'!$C$24:$F$123,4,FALSE)),\"-\",VLOOKUP(J110,'Information Page'!$C$24:$F$123,4,FALSE))","v":"-"},null,"0"]
[null,null,91,null,null,null,null,null,null,null,{"$f":"IF(ISERROR(VLOOKUP(J111,'Information Page'!$C$24:$F$123,2,FALSE)),\"-\",VLOOKUP(J111,'Information Page'!$C$24:$F$123,2,FALSE))","v":"-"},{"$f":"IF(ISERROR(VLOOKUP(J111,'Information Page'!$C$24:$F$123,3,FALSE)),\"-\",VLOOKUP(J111,'Information Page'!$C$24:$F$123,3,FALSE))","v":"-"},{"$f":"IF(ISERROR(VLOOKUP(J111,'Information Page'!$C$24:$F$123,4,FALSE)),\"-\",VLOOKUP(J111,'Information Page'!$C$24:$F$123,4,FALSE))","v":"-"},null,"0"]
[null,null,92,null,null,null,null,null,null,null,{"$f":"IF(ISERROR(VLOOKUP(J112,'Information Page'!$C$24:$F$123,2,FALSE)),\"-\",VLOOKUP(J112,'Information Page'!$C$24:$F$123,2,FALSE))","v":"-"},{"$f":"IF(ISERROR(VLOOKUP(J112,'Information Page'!$C$24:$F$123,3,FALSE)),\"-\",VLOOKUP(J112,'Information Page'!$C$24:$F$123,3,FALSE))","v":"-"},{"$f":"IF(ISERROR(VLOOKUP(J112,'Information Page'!$C$24:$F$123,4,FALSE)),\"-\",VLOOKUP(J112,'Information Page'!$C$24:$F$123,4,FALSE))","v":"-"},null,"0"]
[null,null,93,null,null,null,null,null,null,null,{"$f":"IF(ISERROR(VLOOKUP(J113,'Information Page'!$C$24:$F$123,2,FALSE)),\"-\",VLOOKUP(J113,'Information Page'!$C$24:$F$123,2,FALSE))","v":"-"},{"$f":"IF(ISERROR(VLOOKUP(J113,'Information Page'!$C$24:$F$123,3,FALSE)),\"-\",VLOOKUP(J113,'Information Page'!$C$24:$F$123,3,FALSE))","v":"-"},{"$f":"IF(ISERROR(VLOOKUP(J113,'Information Page'!$C$24:$F$123,4,FALSE)),\"-\",VLOOKUP(J113,'Information Page'!$C$24:$F$123,4,FALSE))","v":"-"},null,"0"]
[null,null,94,null,null,null,null,null,null,null,{"$f":"IF(ISERROR(VLOOKUP(J114,'Information Page'!$C$24:$F$123,2,FALSE)),\"-\",VLOOKUP(J114,'Information Page'!$C$24:$F$123,2,FALSE))","v":"-"},{"$f":"IF(ISERROR(VLOOKUP(J114,'Information Page'!$C$24:$F$123,3,FALSE)),\"-\",VLOOKUP(J114,'Information Page'!$C$24:$F$123,3,FALSE))","v":"-"},{"$f":"IF(ISERROR(VLOOKUP(J114,'Information Page'!$C$24:$F$123,4,FALSE)),\"-\",VLOOKUP(J114,'Information Page'!$C$24:$F$123,4,FALSE))","v":"-"},null,"0"]
[null,null,95,null,null,null,null,null,null,null,{"$f":"IF(ISERROR(VLOOKUP(J115,'Information Page'!$C$24:$F$123,2,FALSE)),\"-\",VLOOKUP(J115,'Information Page'!$C$24:$F$123,2,FALSE))","v":"-"},{"$f":"IF(ISERROR(VLOOKUP(J115,'Information Page'!$C$24:$F$123,3,FALSE)),\"-\",VLOOKUP(J115,'Information Page'!$C$24:$F$123,3,FALSE))","v":"-"},{"$f":"IF(ISERROR(VLOOKUP(J115,'Information Page'!$C$24:$F$123,4,FALSE)),\"-\",VLOOKUP(J115,'Information Page'!$C$24:$F$123,4,FALSE))","v":"-"},null,"0"]
[null,null,96,null,null,null,null,null,null,null,{"$f":"IF(ISERROR(VLOOKUP(J116,'Information Page'!$C$24:$F$123,2,FALSE)),\"-\",VLOOKUP(J116,'Information Page'!$C$24:$F$123,2,FALSE))","v":"-"},{"$f":"IF(ISERROR(VLOOKUP(J116,'Information Page'!$C$24:$F$123,3,FALSE)),\"-\",VLOOKUP(J116,'Information Page'!$C$24:$F$123,3,FALSE))","v":"-"},{"$f":"IF(ISERROR(VLOOKUP(J116,'Information Page'!$C$24:$F$123,4,FALSE)),\"-\",VLOOKUP(J116,'Information Page'!$C$24:$F$123,4,FALSE))","v":"-"},null,"0"]
[null,null,97,null,null,null,null,null,null,null,{"$f":"IF(ISERROR(VLOOKUP(J117,'Information Page'!$C$24:$F$123,2,FALSE)),\"-\",VLOOKUP(J117,'Information Page'!$C$24:$F$123,2,FALSE))","v":"-"},{"$f":"IF(ISERROR(VLOOKUP(J117,'Information Page'!$C$24:$F$123,3,FALSE)),\"-\",VLOOKUP(J117,'Information Page'!$C$24:$F$123,3,FALSE))","v":"-"},{"$f":"IF(ISERROR(VLOOKUP(J117,'Information Page'!$C$24:$F$123,4,FALSE)),\"-\",VLOOKUP(J117,'Information Page'!$C$24:$F$123,4,FALSE))","v":"-"},null,"0"]
[null,null,98,null,null,null,null,null,null,null,{"$f":"IF(ISERROR(VLOOKUP(J118,'Information Page'!$C$24:$F$123,2,FALSE)),\"-\",VLOOKUP(J118,'Information Page'!$C$24:$F$123,2,FALSE))","v":"-"},{"$f":"IF(ISERROR(VLOOKUP(J118,'Information Page'!$C$24:$F$123,3,FALSE)),\"-\",VLOOKUP(J118,'Information Page'!$C$24:$F$123,3,FALSE))","v":"-"},{"$f":"IF(ISERROR(VLOOKUP(J118,'Information Page'!$C$24:$F$123,4,FALSE)),\"-\",VLOOKUP(J118,'Information Page'!$C$24:$F$123,4,FALSE))","v":"-"},null,"0"]
[null,null,99,null,null,null,null,null,null,null,{"$f":"IF(ISERROR(VLOOKUP(J119,'Information Page'!$C$24:$F$123,2,FALSE)),\"-\",VLOOKUP(J119,'Information Page'!$C$24:$F$123,2,FALSE))","v":"-"},{"$f":"IF(ISERROR(VLOOKUP(J119,'Information Page'!$C$24:$F$123,3,FALSE)),\"-\",VLOOKUP(J119,'Information Page'!$C$24:$F$123,3,FALSE))","v":"-"},{"$f":"IF(ISERROR(VLOOKUP(J119,'Information Page'!$C$24:$F$123,4,FALSE)),\"-\",VLOOKUP(J119,'Information Page'!$C$24:$F$123,4,FALSE))","v":"-"},null,"0"]
[null,null,100,null,null,null,null,null,null,null,{"$f":"IF(ISERROR(VLOOKUP(J120,'Information Page'!$C$24:$F$123,2,FALSE)),\"-\",VLOOKUP(J120,'Information Page'!$C$24:$F$123,2,FALSE))","v":"-"},{"$f":"IF(ISERROR(VLOOKUP(J120,'Information Page'!$C$24:$F$123,3,FALSE)),\"-\",VLOOKUP(J120,'Information Page'!$C$24:$F$123,3,FALSE))","v":"-"},{"$f":"IF(ISERROR(VLOOKUP(J120,'Information Page'!$C$24:$F$123,4,FALSE)),\"-\",VLOOKUP(J120,'Information Page'!$C$24:$F$123,4,FALSE))","v":"-"},null,"0"]
[null,null,101,null,null,null,null,null,null,null,{"$f":"IF(ISERROR(VLOOKUP(J121,'Information Page'!$C$24:$F$123,2,FALSE)),\"-\",VLOOKUP(J121,'Information Page'!$C$24:$F$123,2,FALSE))","v":"-"},{"$f":"IF(ISERROR(VLOOKUP(J121,'Information Page'!$C$24:$F$123,3,FALSE)),\"-\",VLOOKUP(J121,'Information Page'!$C$24:$F$123,3,FALSE))","v":"-"},{"$f":"IF(ISERROR(VLOOKUP(J121,'Information Page'!$C$24:$F$123,4,FALSE)),\"-\",VLOOKUP(J121,'Information Page'!$C$24:$F$123,4,FALSE))","v":"-"},null,"0"]
[null,null,102,null,null,null,null,null,null,null,{"$f":"IF(ISERROR(VLOOKUP(J122,'Information Page'!$C$24:$F$123,2,FALSE)),\"-\",VLOOKUP(J122,'Information Page'!$C$24:$F$123,2,FALSE))","v":"-"},{"$f":"IF(ISERROR(VLOOKUP(J122,'Information Page'!$C$24:$F$123,3,FALSE)),\"-\",VLOOKUP(J122,'Information Page'!$C$24:$F$123,3,FALSE))","v":"-"},{"$f":"IF(ISERROR(VLOOKUP(J122,'Information Page'!$C$24:$F$123,4,FALSE)),\"-\",VLOOKUP(J122,'Information Page'!$C$24:$F$123,4,FALSE))","v":"-"},null,"0"]
[null,null,103,null,null,null,null,null,null,null,{"$f":"IF(ISERROR(VLOOKUP(J123,'Information Page'!$C$24:$F$123,2,FALSE)),\"-\",VLOOKUP(J123,'Information Page'!$C$24:$F$123,2,FALSE))","v":"-"},{"$f":"IF(ISERROR(VLOOKUP(J123,'Information Page'!$C$24:$F$123,3,FALSE)),\"-\",VLOOKUP(J123,'Information Page'!$C$24:$F$123,3,FALSE))","v":"-"},{"$f":"IF(ISERROR(VLOOKUP(J123,'Information Page'!$C$24:$F$123,4,FALSE)),\"-\",VLOOKUP(J123,'Information Page'!$C$24:$F$123,4,FALSE))","v":"-"},null,"0"]
[null,null,104,null,null,null,null,null,null,null,{"$f":"IF(ISERROR(VLOOKUP(J124,'Information Page'!$C$24:$F$123,2,FALSE)),\"-\",VLOOKUP(J124,'Information Page'!$C$24:$F$123,2,FALSE))","v":"-"},{"$f":"IF(ISERROR(VLOOKUP(J124,'Information Page'!$C$24:$F$123,3,FALSE)),\"-\",VLOOKUP(J124,'Information Page'!$C$24:$F$123,3,FALSE))","v":"-"},{"$f":"IF(ISERROR(VLOOKUP(J124,'Information Page'!$C$24:$F$123,4,FALSE)),\"-\",VLOOKUP(J124,'Information Page'!$C$24:$F$123,4,FALSE))","v":"-"},null,"0"]
[null,null,105,null,null,null,null,null,null,null,{"$f":"IF(ISERROR(VLOOKUP(J125,'Information Page'!$C$24:$F$123,2,FALSE)),\"-\",VLOOKUP(J125,'Information Page'!$C$24:$F$123,2,FALSE))","v":"-"},{"$f":"IF(ISERROR(VLOOKUP(J125,'Information Page'!$C$24:$F$123,3,FALSE)),\"-\",VLOOKUP(J125,'Information Page'!$C$24:$F$123,3,FALSE))","v":"-"},{"$f":"IF(ISERROR(VLOOKUP(J125,'Information Page'!$C$24:$F$123,4,FALSE)),\"-\",VLOOKUP(J125,'Information Page'!$C$24:$F$123,4,FALSE))","v":"-"},null,"0"]
[null,null,106,null,null,null,null,null,null,null,{"$f":"IF(ISERROR(VLOOKUP(J126,'Information Page'!$C$24:$F$123,2,FALSE)),\"-\",VLOOKUP(J126,'Information Page'!$C$24:$F$123,2,FALSE))","v":"-"},{"$f":"IF(ISERROR(VLOOKUP(J126,'Information Page'!$C$24:$F$123,3,FALSE)),\"-\",VLOOKUP(J126,'Information Page'!$C$24:$F$123,3,FALSE))","v":"-"},{"$f":"IF(ISERROR(VLOOKUP(J126,'Information Page'!$C$24:$F$123,4,FALSE)),\"-\",VLOOKUP(J126,'Information Page'!$C$24:$F$123,4,FALSE))","v":"-"},null,"0"]
[null,null,107,null,null,null,null,null,null,null,{"$f":"IF(ISERROR(VLOOKUP(J127,'Information Page'!$C$24:$F$123,2,FALSE)),\"-\",VLOOKUP(J127,'Information Page'!$C$24:$F$123,2,FALSE))","v":"-"},{"$f":"IF(ISERROR(VLOOKUP(J127,'Information Page'!$C$24:$F$123,3,FALSE)),\"-\",VLOOKUP(J127,'Information Page'!$C$24:$F$123,3,FALSE))","v":"-"},{"$f":"IF(ISERROR(VLOOKUP(J127,'Information Page'!$C$24:$F$123,4,FALSE)),\"-\",VLOOKUP(J127,'Information Page'!$C$24:$F$123,4,FALSE))","v":"-"},null,"0"]
[null,null,108,null,null,null,null,null,null,null,{"$f":"IF(ISERROR(VLOOKUP(J128,'Information Page'!$C$24:$F$123,2,FALSE)),\"-\",VLOOKUP(J128,'Information Page'!$C$24:$F$123,2,FALSE))","v":"-"},{"$f":"IF(ISERROR(VLOOKUP(J128,'Information Page'!$C$24:$F$123,3,FALSE)),\"-\",VLOOKUP(J128,'Information Page'!$C$24:$F$123,3,FALSE))","v":"-"},{"$f":"IF(ISERROR(VLOOKUP(J128,'Information Page'!$C$24:$F$123,4,FALSE)),\"-\",VLOOKUP(J128,'Information Page'!$C$24:$F$123,4,FALSE))","v":"-"},null,"0"]
[null,null,109,null,null,null,null,null,null,null,{"$f":"IF(ISERROR(VLOOKUP(J129,'Information Page'!$C$24:$F$123,2,FALSE)),\"-\",VLOOKUP(J129,'Information Page'!$C$24:$F$123,2,FALSE))","v":"-"},{"$f":"IF(ISERROR(VLOOKUP(J129,'Information Page'!$C$24:$F$123,3,FALSE)),\"-\",VLOOKUP(J129,'Information Page'!$C$24:$F$123,3,FALSE))","v":"-"},{"$f":"IF(ISERROR(VLOOKUP(J129,'Information Page'!$C$24:$F$123,4,FALSE)),\"-\",VLOOKUP(J129,'Information Page'!$C$24:$F$123,4,FALSE))","v":"-"},null,"0"]
[null,null,110,null,null,null,null,null,null,null,{"$f":"IF(ISERROR(VLOOKUP(J130,'Information Page'!$C$24:$F$123,2,FALSE)),\"-\",VLOOKUP(J130,'Information Page'!$C$24:$F$123,2,FALSE))","v":"-"},{"$f":"IF(ISERROR(VLOOKUP(J130,'Information Page'!$C$24:$F$123,3,FALSE)),\"-\",VLOOKUP(J130,'Information Page'!$C$24:$F$123,3,FALSE))","v":"-"},{"$f":"IF(ISERROR(VLOOKUP(J130,'Information Page'!$C$24:$F$123,4,FALSE)),\"-\",VLOOKUP(J130,'Information Page'!$C$24:$F$123,4,FALSE))","v":"-"},null,"0"]
[null,null,111,null,null,null,null,null,null,null,{"$f":"IF(ISERROR(VLOOKUP(J131,'Information Page'!$C$24:$F$123,2,FALSE)),\"-\",VLOOKUP(J131,'Information Page'!$C$24:$F$123,2,FALSE))","v":"-"},{"$f":"IF(ISERROR(VLOOKUP(J131,'Information Page'!$C$24:$F$123,3,FALSE)),\"-\",VLOOKUP(J131,'Information Page'!$C$24:$F$123,3,FALSE))","v":"-"},{"$f":"IF(ISERROR(VLOOKUP(J131,'Information Page'!$C$24:$F$123,4,FALSE)),\"-\",VLOOKUP(J131,'Information Page'!$C$24:$F$123,4,FALSE))","v":"-"},null,"0"]
[null,null,112,null,null,null,null,null,null,null,{"$f":"IF(ISERROR(VLOOKUP(J132,'Information Page'!$C$24:$F$123,2,FALSE)),\"-\",VLOOKUP(J132,'Information Page'!$C$24:$F$123,2,FALSE))","v":"-"},{"$f":"IF(ISERROR(VLOOKUP(J132,'Information Page'!$C$24:$F$123,3,FALSE)),\"-\",VLOOKUP(J132,'Information Page'!$C$24:$F$123,3,FALSE))","v":"-"},{"$f":"IF(ISERROR(VLOOKUP(J132,'Information Page'!$C$24:$F$123,4,FALSE)),\"-\",VLOOKUP(J132,'Information Page'!$C$24:$F$123,4,FALSE))","v":"-"},null,"0"]
[null,null,113,null,null,null,null,null,null,null,{"$f":"IF(ISERROR(VLOOKUP(J133,'Information Page'!$C$24:$F$123,2,FALSE)),\"-\",VLOOKUP(J133,'Information Page'!$C$24:$F$123,2,FALSE))","v":"-"},{"$f":"IF(ISERROR(VLOOKUP(J133,'Information Page'!$C$24:$F$123,3,FALSE)),\"-\",VLOOKUP(J133,'Information Page'!$C$24:$F$123,3,FALSE))","v":"-"},{"$f":"IF(ISERROR(VLOOKUP(J133,'Information Page'!$C$24:$F$123,4,FALSE)),\"-\",VLOOKUP(J133,'Information Page'!$C$24:$F$123,4,FALSE))","v":"-"},null,"0"]
[null,null,114,null,null,null,null,null,null,null,{"$f":"IF(ISERROR(VLOOKUP(J134,'Information Page'!$C$24:$F$123,2,FALSE)),\"-\",VLOOKUP(J134,'Information Page'!$C$24:$F$123,2,FALSE))","v":"-"},{"$f":"IF(ISERROR(VLOOKUP(J134,'Information Page'!$C$24:$F$123,3,FALSE)),\"-\",VLOOKUP(J134,'Information Page'!$C$24:$F$123,3,FALSE))","v":"-"},{"$f":"IF(ISERROR(VLOOKUP(J134,'Information Page'!$C$24:$F$123,4,FALSE)),\"-\",VLOOKUP(J134,'Information Page'!$C$24:$F$123,4,FALSE))","v":"-"},null,"0"]
[null,null,115,null,null,null,null,null,null,null,{"$f":"IF(ISERROR(VLOOKUP(J135,'Information Page'!$C$24:$F$123,2,FALSE)),\"-\",VLOOKUP(J135,'Information Page'!$C$24:$F$123,2,FALSE))","v":"-"},{"$f":"IF(ISERROR(VLOOKUP(J135,'Information Page'!$C$24:$F$123,3,FALSE)),\"-\",VLOOKUP(J135,'Information Page'!$C$24:$F$123,3,FALSE))","v":"-"},{"$f":"IF(ISERROR(VLOOKUP(J135,'Information Page'!$C$24:$F$123,4,FALSE)),\"-\",VLOOKUP(J135,'Information Page'!$C$24:$F$123,4,FALSE))","v":"-"},null,"0"]
[null,null,116,null,null,null,null,null,null,null,{"$f":"IF(ISERROR(VLOOKUP(J136,'Information Page'!$C$24:$F$123,2,FALSE)),\"-\",VLOOKUP(J136,'Information Page'!$C$24:$F$123,2,FALSE))","v":"-"},{"$f":"IF(ISERROR(VLOOKUP(J136,'Information Page'!$C$24:$F$123,3,FALSE)),\"-\",VLOOKUP(J136,'Information Page'!$C$24:$F$123,3,FALSE))","v":"-"},{"$f":"IF(ISERROR(VLOOKUP(J136,'Information Page'!$C$24:$F$123,4,FALSE)),\"-\",VLOOKUP(J136,'Information Page'!$C$24:$F$123,4,FALSE))","v":"-"},null,"0"]
[null,null,117,null,null,null,null,null,null,null,{"$f":"IF(ISERROR(VLOOKUP(J137,'Information Page'!$C$24:$F$123,2,FALSE)),\"-\",VLOOKUP(J137,'Information Page'!$C$24:$F$123,2,FALSE))","v":"-"},{"$f":"IF(ISERROR(VLOOKUP(J137,'Information Page'!$C$24:$F$123,3,FALSE)),\"-\",VLOOKUP(J137,'Information Page'!$C$24:$F$123,3,FALSE))","v":"-"},{"$f":"IF(ISERROR(VLOOKUP(J137,'Information Page'!$C$24:$F$123,4,FALSE)),\"-\",VLOOKUP(J137,'Information Page'!$C$24:$F$123,4,FALSE))","v":"-"},null,"0"]
[null,null,118,null,null,null,null,null,null,null,{"$f":"IF(ISERROR(VLOOKUP(J138,'Information Page'!$C$24:$F$123,2,FALSE)),\"-\",VLOOKUP(J138,'Information Page'!$C$24:$F$123,2,FALSE))","v":"-"},{"$f":"IF(ISERROR(VLOOKUP(J138,'Information Page'!$C$24:$F$123,3,FALSE)),\"-\",VLOOKUP(J138,'Information Page'!$C$24:$F$123,3,FALSE))","v":"-"},{"$f":"IF(ISERROR(VLOOKUP(J138,'Information Page'!$C$24:$F$123,4,FALSE)),\"-\",VLOOKUP(J138,'Information Page'!$C$24:$F$123,4,FALSE))","v":"-"},null,"0"]
[null,null,119,null,null,null,null,null,null,null,{"$f":"IF(ISERROR(VLOOKUP(J139,'Information Page'!$C$24:$F$123,2,FALSE)),\"-\",VLOOKUP(J139,'Information Page'!$C$24:$F$123,2,FALSE))","v":"-"},{"$f":"IF(ISERROR(VLOOKUP(J139,'Information Page'!$C$24:$F$123,3,FALSE)),\"-\",VLOOKUP(J139,'Information Page'!$C$24:$F$123,3,FALSE))","v":"-"},{"$f":"IF(ISERROR(VLOOKUP(J139,'Information Page'!$C$24:$F$123,4,FALSE)),\"-\",VLOOKUP(J139,'Information Page'!$C$24:$F$123,4,FALSE))","v":"-"},null,"0"]
[null,null,120,null,null,null,null,null,null,null,{"$f":"IF(ISERROR(VLOOKUP(J140,'Information Page'!$C$24:$F$123,2,FALSE)),\"-\",VLOOKUP(J140,'Information Page'!$C$24:$F$123,2,FALSE))","v":"-"},{"$f":"IF(ISERROR(VLOOKUP(J140,'Information Page'!$C$24:$F$123,3,FALSE)),\"-\",VLOOKUP(J140,'Information Page'!$C$24:$F$123,3,FALSE))","v":"-"},{"$f":"IF(ISERROR(VLOOKUP(J140,'Information Page'!$C$24:$F$123,4,FALSE)),\"-\",VLOOKUP(J140,'Information Page'!$C$24:$F$123,4,FALSE))","v":"-"},null,"0"]
[null,null,121,null,null,null,null,null,null,null,{"$f":"IF(ISERROR(VLOOKUP(J141,'Information Page'!$C$24:$F$123,2,FALSE)),\"-\",VLOOKUP(J141,'Information Page'!$C$24:$F$123,2,FALSE))","v":"-"},{"$f":"IF(ISERROR(VLOOKUP(J141,'Information Page'!$C$24:$F$123,3,FALSE)),\"-\",VLOOKUP(J141,'Information Page'!$C$24:$F$123,3,FALSE))","v":"-"},{"$f":"IF(ISERROR(VLOOKUP(J141,'Information Page'!$C$24:$F$123,4,FALSE)),\"-\",VLOOKUP(J141,'Information Page'!$C$24:$F$123,4,FALSE))","v":"-"},null,"0"]
[null,null,122,null,null,null,null,null,null,null,{"$f":"IF(ISERROR(VLOOKUP(J142,'Information Page'!$C$24:$F$123,2,FALSE)),\"-\",VLOOKUP(J142,'Information Page'!$C$24:$F$123,2,FALSE))","v":"-"},{"$f":"IF(ISERROR(VLOOKUP(J142,'Information Page'!$C$24:$F$123,3,FALSE)),\"-\",VLOOKUP(J142,'Information Page'!$C$24:$F$123,3,FALSE))","v":"-"},{"$f":"IF(ISERROR(VLOOKUP(J142,'Information Page'!$C$24:$F$123,4,FALSE)),\"-\",VLOOKUP(J142,'Information Page'!$C$24:$F$123,4,FALSE))","v":"-"},null,"0"]
[null,null,123,null,null,null,null,null,null,null,{"$f":"IF(ISERROR(VLOOKUP(J143,'Information Page'!$C$24:$F$123,2,FALSE)),\"-\",VLOOKUP(J143,'Information Page'!$C$24:$F$123,2,FALSE))","v":"-"},{"$f":"IF(ISERROR(VLOOKUP(J143,'Information Page'!$C$24:$F$123,3,FALSE)),\"-\",VLOOKUP(J143,'Information Page'!$C$24:$F$123,3,FALSE))","v":"-"},{"$f":"IF(ISERROR(VLOOKUP(J143,'Information Page'!$C$24:$F$123,4,FALSE)),\"-\",VLOOKUP(J143,'Information Page'!$C$24:$F$123,4,FALSE))","v":"-"},null,"0"]
[null,null,124,null,null,null,null,null,null,null,{"$f":"IF(ISERROR(VLOOKUP(J144,'Information Page'!$C$24:$F$123,2,FALSE)),\"-\",VLOOKUP(J144,'Information Page'!$C$24:$F$123,2,FALSE))","v":"-"},{"$f":"IF(ISERROR(VLOOKUP(J144,'Information Page'!$C$24:$F$123,3,FALSE)),\"-\",VLOOKUP(J144,'Information Page'!$C$24:$F$123,3,FALSE))","v":"-"},{"$f":"IF(ISERROR(VLOOKUP(J144,'Information Page'!$C$24:$F$123,4,FALSE)),\"-\",VLOOKUP(J144,'Information Page'!$C$24:$F$123,4,FALSE))","v":"-"},null,"0"]
[null,null,125,null,null,null,null,null,null,null,{"$f":"IF(ISERROR(VLOOKUP(J145,'Information Page'!$C$24:$F$123,2,FALSE)),\"-\",VLOOKUP(J145,'Information Page'!$C$24:$F$123,2,FALSE))","v":"-"},{"$f":"IF(ISERROR(VLOOKUP(J145,'Information Page'!$C$24:$F$123,3,FALSE)),\"-\",VLOOKUP(J145,'Information Page'!$C$24:$F$123,3,FALSE))","v":"-"},{"$f":"IF(ISERROR(VLOOKUP(J145,'Information Page'!$C$24:$F$123,4,FALSE)),\"-\",VLOOKUP(J145,'Information Page'!$C$24:$F$123,4,FALSE))","v":"-"},null,"0"]
[null,null,126,null,null,null,null,null,null,null,{"$f":"IF(ISERROR(VLOOKUP(J146,'Information Page'!$C$24:$F$123,2,FALSE)),\"-\",VLOOKUP(J146,'Information Page'!$C$24:$F$123,2,FALSE))","v":"-"},{"$f":"IF(ISERROR(VLOOKUP(J146,'Information Page'!$C$24:$F$123,3,FALSE)),\"-\",VLOOKUP(J146,'Information Page'!$C$24:$F$123,3,FALSE))","v":"-"},{"$f":"IF(ISERROR(VLOOKUP(J146,'Information Page'!$C$24:$F$123,4,FALSE)),\"-\",VLOOKUP(J146,'Information Page'!$C$24:$F$123,4,FALSE))","v":"-"},null,"0"]
[null,null,127,null,null,null,null,null,null,null,{"$f":"IF(ISERROR(VLOOKUP(J147,'Information Page'!$C$24:$F$123,2,FALSE)),\"-\",VLOOKUP(J147,'Information Page'!$C$24:$F$123,2,FALSE))","v":"-"},{"$f":"IF(ISERROR(VLOOKUP(J147,'Information Page'!$C$24:$F$123,3,FALSE)),\"-\",VLOOKUP(J147,'Information Page'!$C$24:$F$123,3,FALSE))","v":"-"},{"$f":"IF(ISERROR(VLOOKUP(J147,'Information Page'!$C$24:$F$123,4,FALSE)),\"-\",VLOOKUP(J147,'Information Page'!$C$24:$F$123,4,FALSE))","v":"-"},null,"0"]
[null,null,128,null,null,null,null,null,null,null,{"$f":"IF(ISERROR(VLOOKUP(J148,'Information Page'!$C$24:$F$123,2,FALSE)),\"-\",VLOOKUP(J148,'Information Page'!$C$24:$F$123,2,FALSE))","v":"-"},{"$f":"IF(ISERROR(VLOOKUP(J148,'Information Page'!$C$24:$F$123,3,FALSE)),\"-\",VLOOKUP(J148,'Information Page'!$C$24:$F$123,3,FALSE))","v":"-"},{"$f":"IF(ISERROR(VLOOKUP(J148,'Information Page'!$C$24:$F$123,4,FALSE)),\"-\",VLOOKUP(J148,'Information Page'!$C$24:$F$123,4,FALSE))","v":"-"},null,"0"]
[null,null,129,null,null,null,null,null,null,null,{"$f":"IF(ISERROR(VLOOKUP(J149,'Information Page'!$C$24:$F$123,2,FALSE)),\"-\",VLOOKUP(J149,'Information Page'!$C$24:$F$123,2,FALSE))","v":"-"},{"$f":"IF(ISERROR(VLOOKUP(J149,'Information Page'!$C$24:$F$123,3,FALSE)),\"-\",VLOOKUP(J149,'Information Page'!$C$24:$F$123,3,FALSE))","v":"-"},{"$f":"IF(ISERROR(VLOOKUP(J149,'Information Page'!$C$24:$F$123,4,FALSE)),\"-\",VLOOKUP(J149,'Information Page'!$C$24:$F$123,4,FALSE))","v":"-"},null,"0"]
[null,null,130,null,null,null,null,null,null,null,{"$f":"IF(ISERROR(VLOOKUP(J150,'Information Page'!$C$24:$F$123,2,FALSE)),\"-\",VLOOKUP(J150,'Information Page'!$C$24:$F$123,2,FALSE))","v":"-"},{"$f":"IF(ISERROR(VLOOKUP(J150,'Information Page'!$C$24:$F$123,3,FALSE)),\"-\",VLOOKUP(J150,'Information Page'!$C$24:$F$123,3,FALSE))","v":"-"},{"$f":"IF(ISERROR(VLOOKUP(J150,'Information Page'!$C$24:$F$123,4,FALSE)),\"-\",VLOOKUP(J150,'Information Page'!$C$24:$F$123,4,FALSE))","v":"-"},null,{"$f":"IF(M150=\"-\",\"0\",M150*N150)","v":"0"}]
[null,null,131,null,null,null,null,null,null,null,{"$f":"IF(ISERROR(VLOOKUP(J151,'Information Page'!$C$24:$F$123,2,FALSE)),\"-\",VLOOKUP(J151,'Information Page'!$C$24:$F$123,2,FALSE))","v":"-"},{"$f":"IF(ISERROR(VLOOKUP(J151,'Information Page'!$C$24:$F$123,3,FALSE)),\"-\",VLOOKUP(J151,'Information Page'!$C$24:$F$123,3,FALSE))","v":"-"},{"$f":"IF(ISERROR(VLOOKUP(J151,'Information Page'!$C$24:$F$123,4,FALSE)),\"-\",VLOOKUP(J151,'Information Page'!$C$24:$F$123,4,FALSE))","v":"-"},null,"0"]
[null,null,132,null,null,null,null,null,null,null,{"$f":"IF(ISERROR(VLOOKUP(J152,'Information Page'!$C$24:$F$123,2,FALSE)),\"-\",VLOOKUP(J152,'Information Page'!$C$24:$F$123,2,FALSE))","v":"-"},{"$f":"IF(ISERROR(VLOOKUP(J152,'Information Page'!$C$24:$F$123,3,FALSE)),\"-\",VLOOKUP(J152,'Information Page'!$C$24:$F$123,3,FALSE))","v":"-"},{"$f":"IF(ISERROR(VLOOKUP(J152,'Information Page'!$C$24:$F$123,4,FALSE)),\"-\",VLOOKUP(J152,'Information Page'!$C$24:$F$123,4,FALSE))","v":"-"},null,"0"]
[null,null,133,null,null,null,null,null,null,null,{"$f":"IF(ISERROR(VLOOKUP(J153,'Information Page'!$C$24:$F$123,2,FALSE)),\"-\",VLOOKUP(J153,'Information Page'!$C$24:$F$123,2,FALSE))","v":"-"},{"$f":"IF(ISERROR(VLOOKUP(J153,'Information Page'!$C$24:$F$123,3,FALSE)),\"-\",VLOOKUP(J153,'Information Page'!$C$24:$F$123,3,FALSE))","v":"-"},{"$f":"IF(ISERROR(VLOOKUP(J153,'Information Page'!$C$24:$F$123,4,FALSE)),\"-\",VLOOKUP(J153,'Information Page'!$C$24:$F$123,4,FALSE))","v":"-"},null,"0"]
[null,null,134,null,null,null,null,null,null,null,{"$f":"IF(ISERROR(VLOOKUP(J154,'Information Page'!$C$24:$F$123,2,FALSE)),\"-\",VLOOKUP(J154,'Information Page'!$C$24:$F$123,2,FALSE))","v":"-"},{"$f":"IF(ISERROR(VLOOKUP(J154,'Information Page'!$C$24:$F$123,3,FALSE)),\"-\",VLOOKUP(J154,'Information Page'!$C$24:$F$123,3,FALSE))","v":"-"},{"$f":"IF(ISERROR(VLOOKUP(J154,'Information Page'!$C$24:$F$123,4,FALSE)),\"-\",VLOOKUP(J154,'Information Page'!$C$24:$F$123,4,FALSE))","v":"-"},null,"0"]
[null,null,135,null,null,null,null,null,null,null,{"$f":"IF(ISERROR(VLOOKUP(J155,'Information Page'!$C$24:$F$123,2,FALSE)),\"-\",VLOOKUP(J155,'Information Page'!$C$24:$F$123,2,FALSE))","v":"-"},{"$f":"IF(ISERROR(VLOOKUP(J155,'Information Page'!$C$24:$F$123,3,FALSE)),\"-\",VLOOKUP(J155,'Information Page'!$C$24:$F$123,3,FALSE))","v":"-"},{"$f":"IF(ISERROR(VLOOKUP(J155,'Information Page'!$C$24:$F$123,4,FALSE)),\"-\",VLOOKUP(J155,'Information Page'!$C$24:$F$123,4,FALSE))","v":"-"},null,"0"]
[null,null,136,null,null,null,null,null,null,null,{"$f":"IF(ISERROR(VLOOKUP(J156,'Information Page'!$C$24:$F$123,2,FALSE)),\"-\",VLOOKUP(J156,'Information Page'!$C$24:$F$123,2,FALSE))","v":"-"},{"$f":"IF(ISERROR(VLOOKUP(J156,'Information Page'!$C$24:$F$123,3,FALSE)),\"-\",VLOOKUP(J156,'Information Page'!$C$24:$F$123,3,FALSE))","v":"-"},{"$f":"IF(ISERROR(VLOOKUP(J156,'Information Page'!$C$24:$F$123,4,FALSE)),\"-\",VLOOKUP(J156,'Information Page'!$C$24:$F$123,4,FALSE))","v":"-"},null,"0"]
[null,null,137,null,null,null,null,null,null,null,{"$f":"IF(ISERROR(VLOOKUP(J157,'Information Page'!$C$24:$F$123,2,FALSE)),\"-\",VLOOKUP(J157,'Information Page'!$C$24:$F$123,2,FALSE))","v":"-"},{"$f":"IF(ISERROR(VLOOKUP(J157,'Information Page'!$C$24:$F$123,3,FALSE)),\"-\",VLOOKUP(J157,'Information Page'!$C$24:$F$123,3,FALSE))","v":"-"},{"$f":"IF(ISERROR(VLOOKUP(J157,'Information Page'!$C$24:$F$123,4,FALSE)),\"-\",VLOOKUP(J157,'Information Page'!$C$24:$F$123,4,FALSE))","v":"-"},null,"0"]
[null,null,138,null,null,null,null,null,null,null,{"$f":"IF(ISERROR(VLOOKUP(J158,'Information Page'!$C$24:$F$123,2,FALSE)),\"-\",VLOOKUP(J158,'Information Page'!$C$24:$F$123,2,FALSE))","v":"-"},{"$f":"IF(ISERROR(VLOOKUP(J158,'Information Page'!$C$24:$F$123,3,FALSE)),\"-\",VLOOKUP(J158,'Information Page'!$C$24:$F$123,3,FALSE))","v":"-"},{"$f":"IF(ISERROR(VLOOKUP(J158,'Information Page'!$C$24:$F$123,4,FALSE)),\"-\",VLOOKUP(J158,'Information Page'!$C$24:$F$123,4,FALSE))","v":"-"},null,"0"]
[null,null,139,null,null,null,null,null,null,null,{"$f":"IF(ISERROR(VLOOKUP(J159,'Information Page'!$C$24:$F$123,2,FALSE)),\"-\",VLOOKUP(J159,'Information Page'!$C$24:$F$123,2,FALSE))","v":"-"},{"$f":"IF(ISERROR(VLOOKUP(J159,'Information Page'!$C$24:$F$123,3,FALSE)),\"-\",VLOOKUP(J159,'Information Page'!$C$24:$F$123,3,FALSE))","v":"-"},{"$f":"IF(ISERROR(VLOOKUP(J159,'Information Page'!$C$24:$F$123,4,FALSE)),\"-\",VLOOKUP(J159,'Information Page'!$C$24:$F$123,4,FALSE))","v":"-"},null,"0"]
[null,null,140,null,null,null,null,null,null,null,{"$f":"IF(ISERROR(VLOOKUP(J160,'Information Page'!$C$24:$F$123,2,FALSE)),\"-\",VLOOKUP(J160,'Information Page'!$C$24:$F$123,2,FALSE))","v":"-"},{"$f":"IF(ISERROR(VLOOKUP(J160,'Information Page'!$C$24:$F$123,3,FALSE)),\"-\",VLOOKUP(J160,'Information Page'!$C$24:$F$123,3,FALSE))","v":"-"},{"$f":"IF(ISERROR(VLOOKUP(J160,'Information Page'!$C$24:$F$123,4,FALSE)),\"-\",VLOOKUP(J160,'Information Page'!$C$24:$F$123,4,FALSE))","v":"-"},null,"0"]
[null,null,141,null,null,null,null,null,null,null,{"$f":"IF(ISERROR(VLOOKUP(J161,'Information Page'!$C$24:$F$123,2,FALSE)),\"-\",VLOOKUP(J161,'Information Page'!$C$24:$F$123,2,FALSE))","v":"-"},{"$f":"IF(ISERROR(VLOOKUP(J161,'Information Page'!$C$24:$F$123,3,FALSE)),\"-\",VLOOKUP(J161,'Information Page'!$C$24:$F$123,3,FALSE))","v":"-"},{"$f":"IF(ISERROR(VLOOKUP(J161,'Information Page'!$C$24:$F$123,4,FALSE)),\"-\",VLOOKUP(J161,'Information Page'!$C$24:$F$123,4,FALSE))","v":"-"},null,"0"]
[null,null,142,null,null,null,null,null,null,null,{"$f":"IF(ISERROR(VLOOKUP(J162,'Information Page'!$C$24:$F$123,2,FALSE)),\"-\",VLOOKUP(J162,'Information Page'!$C$24:$F$123,2,FALSE))","v":"-"},{"$f":"IF(ISERROR(VLOOKUP(J162,'Information Page'!$C$24:$F$123,3,FALSE)),\"-\",VLOOKUP(J162,'Information Page'!$C$24:$F$123,3,FALSE))","v":"-"},{"$f":"IF(ISERROR(VLOOKUP(J162,'Information Page'!$C$24:$F$123,4,FALSE)),\"-\",VLOOKUP(J162,'Information Page'!$C$24:$F$123,4,FALSE))","v":"-"},null,"0"]
[null,null,143,null,null,null,null,null,null,null,{"$f":"IF(ISERROR(VLOOKUP(J163,'Information Page'!$C$24:$F$123,2,FALSE)),\"-\",VLOOKUP(J163,'Information Page'!$C$24:$F$123,2,FALSE))","v":"-"},{"$f":"IF(ISERROR(VLOOKUP(J163,'Information Page'!$C$24:$F$123,3,FALSE)),\"-\",VLOOKUP(J163,'Information Page'!$C$24:$F$123,3,FALSE))","v":"-"},{"$f":"IF(ISERROR(VLOOKUP(J163,'Information Page'!$C$24:$F$123,4,FALSE)),\"-\",VLOOKUP(J163,'Information Page'!$C$24:$F$123,4,FALSE))","v":"-"},null,"0"]
[null,null,144,null,null,null,null,null,null,null,{"$f":"IF(ISERROR(VLOOKUP(J164,'Information Page'!$C$24:$F$123,2,FALSE)),\"-\",VLOOKUP(J164,'Information Page'!$C$24:$F$123,2,FALSE))","v":"-"},{"$f":"IF(ISERROR(VLOOKUP(J164,'Information Page'!$C$24:$F$123,3,FALSE)),\"-\",VLOOKUP(J164,'Information Page'!$C$24:$F$123,3,FALSE))","v":"-"},{"$f":"IF(ISERROR(VLOOKUP(J164,'Information Page'!$C$24:$F$123,4,FALSE)),\"-\",VLOOKUP(J164,'Information Page'!$C$24:$F$123,4,FALSE))","v":"-"},null,"0"]
[null,null,145,null,null,null,null,null,null,null,{"$f":"IF(ISERROR(VLOOKUP(J165,'Information Page'!$C$24:$F$123,2,FALSE)),\"-\",VLOOKUP(J165,'Information Page'!$C$24:$F$123,2,FALSE))","v":"-"},{"$f":"IF(ISERROR(VLOOKUP(J165,'Information Page'!$C$24:$F$123,3,FALSE)),\"-\",VLOOKUP(J165,'Information Page'!$C$24:$F$123,3,FALSE))","v":"-"},{"$f":"IF(ISERROR(VLOOKUP(J165,'Information Page'!$C$24:$F$123,4,FALSE)),\"-\",VLOOKUP(J165,'Information Page'!$C$24:$F$123,4,FALSE))","v":"-"},null,"0"]
[null,null,146,null,null,null,null,null,null,null,{"$f":"IF(ISERROR(VLOOKUP(J166,'Information Page'!$C$24:$F$123,2,FALSE)),\"-\",VLOOKUP(J166,'Information Page'!$C$24:$F$123,2,FALSE))","v":"-"},{"$f":"IF(ISERROR(VLOOKUP(J166,'Information Page'!$C$24:$F$123,3,FALSE)),\"-\",VLOOKUP(J166,'Information Page'!$C$24:$F$123,3,FALSE))","v":"-"},{"$f":"IF(ISERROR(VLOOKUP(J166,'Information Page'!$C$24:$F$123,4,FALSE)),\"-\",VLOOKUP(J166,'Information Page'!$C$24:$F$123,4,FALSE))","v":"-"},null,"0"]
[null,null,147,null,null,null,null,null,null,null,{"$f":"IF(ISERROR(VLOOKUP(J167,'Information Page'!$C$24:$F$123,2,FALSE)),\"-\",VLOOKUP(J167,'Information Page'!$C$24:$F$123,2,FALSE))","v":"-"},{"$f":"IF(ISERROR(VLOOKUP(J167,'Information Page'!$C$24:$F$123,3,FALSE)),\"-\",VLOOKUP(J167,'Information Page'!$C$24:$F$123,3,FALSE))","v":"-"},{"$f":"IF(ISERROR(VLOOKUP(J167,'Information Page'!$C$24:$F$123,4,FALSE)),\"-\",VLOOKUP(J167,'Information Page'!$C$24:$F$123,4,FALSE))","v":"-"},null,"0"]
[null,null,148,null,null,null,null,null,null,null,{"$f":"IF(ISERROR(VLOOKUP(J168,'Information Page'!$C$24:$F$123,2,FALSE)),\"-\",VLOOKUP(J168,'Information Page'!$C$24:$F$123,2,FALSE))","v":"-"},{"$f":"IF(ISERROR(VLOOKUP(J168,'Information Page'!$C$24:$F$123,3,FALSE)),\"-\",VLOOKUP(J168,'Information Page'!$C$24:$F$123,3,FALSE))","v":"-"},{"$f":"IF(ISERROR(VLOOKUP(J168,'Information Page'!$C$24:$F$123,4,FALSE)),\"-\",VLOOKUP(J168,'Information Page'!$C$24:$F$123,4,FALSE))","v":"-"},null,"0"]
[null,null,149,null,null,null,null,null,null,null,{"$f":"IF(ISERROR(VLOOKUP(J169,'Information Page'!$C$24:$F$123,2,FALSE)),\"-\",VLOOKUP(J169,'Information Page'!$C$24:$F$123,2,FALSE))","v":"-"},{"$f":"IF(ISERROR(VLOOKUP(J169,'Information Page'!$C$24:$F$123,3,FALSE)),\"-\",VLOOKUP(J169,'Information Page'!$C$24:$F$123,3,FALSE))","v":"-"},{"$f":"IF(ISERROR(VLOOKUP(J169,'Information Page'!$C$24:$F$123,4,FALSE)),\"-\",VLOOKUP(J169,'Information Page'!$C$24:$F$123,4,FALSE))","v":"-"},null,"0"]
[null,null,150,null,null,null,null,null,null,null,{"$f":"IF(ISERROR(VLOOKUP(J170,'Information Page'!$C$24:$F$123,2,FALSE)),\"-\",VLOOKUP(J170,'Information Page'!$C$24:$F$123,2,FALSE))","v":"-"},{"$f":"IF(ISERROR(VLOOKUP(J170,'Information Page'!$C$24:$F$123,3,FALSE)),\"-\",VLOOKUP(J170,'Information Page'!$C$24:$F$123,3,FALSE))","v":"-"},{"$f":"IF(ISERROR(VLOOKUP(J170,'Information Page'!$C$24:$F$123,4,FALSE)),\"-\",VLOOKUP(J170,'Information Page'!$C$24:$F$123,4,FALSE))","v":"-"},null,"0"]
[null,null,151,null,null,null,null,null,null,null,{"$f":"IF(ISERROR(VLOOKUP(J171,'Information Page'!$C$24:$F$123,2,FALSE)),\"-\",VLOOKUP(J171,'Information Page'!$C$24:$F$123,2,FALSE))","v":"-"},{"$f":"IF(ISERROR(VLOOKUP(J171,'Information Page'!$C$24:$F$123,3,FALSE)),\"-\",VLOOKUP(J171,'Information Page'!$C$24:$F$123,3,FALSE))","v":"-"},{"$f":"IF(ISERROR(VLOOKUP(J171,'Information Page'!$C$24:$F$123,4,FALSE)),\"-\",VLOOKUP(J171,'Information Page'!$C$24:$F$123,4,FALSE))","v":"-"},null,"0"]
[null,null,152,null,null,null,null,null,null,null,{"$f":"IF(ISERROR(VLOOKUP(J172,'Information Page'!$C$24:$F$123,2,FALSE)),\"-\",VLOOKUP(J172,'Information Page'!$C$24:$F$123,2,FALSE))","v":"-"},{"$f":"IF(ISERROR(VLOOKUP(J172,'Information Page'!$C$24:$F$123,3,FALSE)),\"-\",VLOOKUP(J172,'Information Page'!$C$24:$F$123,3,FALSE))","v":"-"},{"$f":"IF(ISERROR(VLOOKUP(J172,'Information Page'!$C$24:$F$123,4,FALSE)),\"-\",VLOOKUP(J172,'Information Page'!$C$24:$F$123,4,FALSE))","v":"-"},null,"0"]
[null,null,153,null,null,null,null,null,null,null,{"$f":"IF(ISERROR(VLOOKUP(J173,'Information Page'!$C$24:$F$123,2,FALSE)),\"-\",VLOOKUP(J173,'Information Page'!$C$24:$F$123,2,FALSE))","v":"-"},{"$f":"IF(ISERROR(VLOOKUP(J173,'Information Page'!$C$24:$F$123,3,FALSE)),\"-\",VLOOKUP(J173,'Information Page'!$C$24:$F$123,3,FALSE))","v":"-"},{"$f":"IF(ISERROR(VLOOKUP(J173,'Information Page'!$C$24:$F$123,4,FALSE)),\"-\",VLOOKUP(J173,'Information Page'!$C$24:$F$123,4,FALSE))","v":"-"},null,"0"]
[null,null,154,null,null,null,null,null,null,null,{"$f":"IF(ISERROR(VLOOKUP(J174,'Information Page'!$C$24:$F$123,2,FALSE)),\"-\",VLOOKUP(J174,'Information Page'!$C$24:$F$123,2,FALSE))","v":"-"},{"$f":"IF(ISERROR(VLOOKUP(J174,'Information Page'!$C$24:$F$123,3,FALSE)),\"-\",VLOOKUP(J174,'Information Page'!$C$24:$F$123,3,FALSE))","v":"-"},{"$f":"IF(ISERROR(VLOOKUP(J174,'Information Page'!$C$24:$F$123,4,FALSE)),\"-\",VLOOKUP(J174,'Information Page'!$C$24:$F$123,4,FALSE))","v":"-"},null,"0"]
[null,null,155,null,null,null,null,null,null,null,{"$f":"IF(ISERROR(VLOOKUP(J175,'Information Page'!$C$24:$F$123,2,FALSE)),\"-\",VLOOKUP(J175,'Information Page'!$C$24:$F$123,2,FALSE))","v":"-"},{"$f":"IF(ISERROR(VLOOKUP(J175,'Information Page'!$C$24:$F$123,3,FALSE)),\"-\",VLOOKUP(J175,'Information Page'!$C$24:$F$123,3,FALSE))","v":"-"},{"$f":"IF(ISERROR(VLOOKUP(J175,'Information Page'!$C$24:$F$123,4,FALSE)),\"-\",VLOOKUP(J175,'Information Page'!$C$24:$F$123,4,FALSE))","v":"-"},null,"0"]
[null,null,156,null,null,null,null,null,null,null,{"$f":"IF(ISERROR(VLOOKUP(J176,'Information Page'!$C$24:$F$123,2,FALSE)),\"-\",VLOOKUP(J176,'Information Page'!$C$24:$F$123,2,FALSE))","v":"-"},{"$f":"IF(ISERROR(VLOOKUP(J176,'Information Page'!$C$24:$F$123,3,FALSE)),\"-\",VLOOKUP(J176,'Information Page'!$C$24:$F$123,3,FALSE))","v":"-"},{"$f":"IF(ISERROR(VLOOKUP(J176,'Information Page'!$C$24:$F$123,4,FALSE)),\"-\",VLOOKUP(J176,'Information Page'!$C$24:$F$123,4,FALSE))","v":"-"},null,"0"]
[null,null,157,null,null,null,null,null,null,null,{"$f":"IF(ISERROR(VLOOKUP(J177,'Information Page'!$C$24:$F$123,2,FALSE)),\"-\",VLOOKUP(J177,'Information Page'!$C$24:$F$123,2,FALSE))","v":"-"},{"$f":"IF(ISERROR(VLOOKUP(J177,'Information Page'!$C$24:$F$123,3,FALSE)),\"-\",VLOOKUP(J177,'Information Page'!$C$24:$F$123,3,FALSE))","v":"-"},{"$f":"IF(ISERROR(VLOOKUP(J177,'Information Page'!$C$24:$F$123,4,FALSE)),\"-\",VLOOKUP(J177,'Information Page'!$C$24:$F$123,4,FALSE))","v":"-"},null,"0"]
[null,null,158,null,null,null,null,null,null,null,{"$f":"IF(ISERROR(VLOOKUP(J178,'Information Page'!$C$24:$F$123,2,FALSE)),\"-\",VLOOKUP(J178,'Information Page'!$C$24:$F$123,2,FALSE))","v":"-"},{"$f":"IF(ISERROR(VLOOKUP(J178,'Information Page'!$C$24:$F$123,3,FALSE)),\"-\",VLOOKUP(J178,'Information Page'!$C$24:$F$123,3,FALSE))","v":"-"},{"$f":"IF(ISERROR(VLOOKUP(J178,'Information Page'!$C$24:$F$123,4,FALSE)),\"-\",VLOOKUP(J178,'Information Page'!$C$24:$F$123,4,FALSE))","v":"-"},null,"0"]
[null,null,159,null,null,null,null,null,null,null,{"$f":"IF(ISERROR(VLOOKUP(J179,'Information Page'!$C$24:$F$123,2,FALSE)),\"-\",VLOOKUP(J179,'Information Page'!$C$24:$F$123,2,FALSE))","v":"-"},{"$f":"IF(ISERROR(VLOOKUP(J179,'Information Page'!$C$24:$F$123,3,FALSE)),\"-\",VLOOKUP(J179,'Information Page'!$C$24:$F$123,3,FALSE))","v":"-"},{"$f":"IF(ISERROR(VLOOKUP(J179,'Information Page'!$C$24:$F$123,4,FALSE)),\"-\",VLOOKUP(J179,'Information Page'!$C$24:$F$123,4,FALSE))","v":"-"},null,"0"]
[null,null,160,null,null,null,null,null,null,null,{"$f":"IF(ISERROR(VLOOKUP(J180,'Information Page'!$C$24:$F$123,2,FALSE)),\"-\",VLOOKUP(J180,'Information Page'!$C$24:$F$123,2,FALSE))","v":"-"},{"$f":"IF(ISERROR(VLOOKUP(J180,'Information Page'!$C$24:$F$123,3,FALSE)),\"-\",VLOOKUP(J180,'Information Page'!$C$24:$F$123,3,FALSE))","v":"-"},{"$f":"IF(ISERROR(VLOOKUP(J180,'Information Page'!$C$24:$F$123,4,FALSE)),\"-\",VLOOKUP(J180,'Information Page'!$C$24:$F$123,4,FALSE))","v":"-"},null,"0"]
[null,null,161,null,null,null,null,null,null,null,{"$f":"IF(ISERROR(VLOOKUP(J181,'Information Page'!$C$24:$F$123,2,FALSE)),\"-\",VLOOKUP(J181,'Information Page'!$C$24:$F$123,2,FALSE))","v":"-"},{"$f":"IF(ISERROR(VLOOKUP(J181,'Information Page'!$C$24:$F$123,3,FALSE)),\"-\",VLOOKUP(J181,'Information Page'!$C$24:$F$123,3,FALSE))","v":"-"},{"$f":"IF(ISERROR(VLOOKUP(J181,'Information Page'!$C$24:$F$123,4,FALSE)),\"-\",VLOOKUP(J181,'Information Page'!$C$24:$F$123,4,FALSE))","v":"-"},null,"0"]
[null,null,162,null,null,null,null,null,null,null,{"$f":"IF(ISERROR(VLOOKUP(J182,'Information Page'!$C$24:$F$123,2,FALSE)),\"-\",VLOOKUP(J182,'Information Page'!$C$24:$F$123,2,FALSE))","v":"-"},{"$f":"IF(ISERROR(VLOOKUP(J182,'Information Page'!$C$24:$F$123,3,FALSE)),\"-\",VLOOKUP(J182,'Information Page'!$C$24:$F$123,3,FALSE))","v":"-"},{"$f":"IF(ISERROR(VLOOKUP(J182,'Information Page'!$C$24:$F$123,4,FALSE)),\"-\",VLOOKUP(J182,'Information Page'!$C$24:$F$123,4,FALSE))","v":"-"},null,"0"]
[null,null,163,null,null,null,null,null,null,null,{"$f":"IF(ISERROR(VLOOKUP(J183,'Information Page'!$C$24:$F$123,2,FALSE)),\"-\",VLOOKUP(J183,'Information Page'!$C$24:$F$123,2,FALSE))","v":"-"},{"$f":"IF(ISERROR(VLOOKUP(J183,'Information Page'!$C$24:$F$123,3,FALSE)),\"-\",VLOOKUP(J183,'Information Page'!$C$24:$F$123,3,FALSE))","v":"-"},{"$f":"IF(ISERROR(VLOOKUP(J183,'Information Page'!$C$24:$F$123,4,FALSE)),\"-\",VLOOKUP(J183,'Information Page'!$C$24:$F$123,4,FALSE))","v":"-"},null,"0"]
[null,null,164,null,null,null,null,null,null,null,{"$f":"IF(ISERROR(VLOOKUP(J184,'Information Page'!$C$24:$F$123,2,FALSE)),\"-\",VLOOKUP(J184,'Information Page'!$C$24:$F$123,2,FALSE))","v":"-"},{"$f":"IF(ISERROR(VLOOKUP(J184,'Information Page'!$C$24:$F$123,3,FALSE)),\"-\",VLOOKUP(J184,'Information Page'!$C$24:$F$123,3,FALSE))","v":"-"},{"$f":"IF(ISERROR(VLOOKUP(J184,'Information Page'!$C$24:$F$123,4,FALSE)),\"-\",VLOOKUP(J184,'Information Page'!$C$24:$F$123,4,FALSE))","v":"-"},null,"0"]
[null,null,165,null,null,null,null,null,null,null,{"$f":"IF(ISERROR(VLOOKUP(J185,'Information Page'!$C$24:$F$123,2,FALSE)),\"-\",VLOOKUP(J185,'Information Page'!$C$24:$F$123,2,FALSE))","v":"-"},{"$f":"IF(ISERROR(VLOOKUP(J185,'Information Page'!$C$24:$F$123,3,FALSE)),\"-\",VLOOKUP(J185,'Information Page'!$C$24:$F$123,3,FALSE))","v":"-"},{"$f":"IF(ISERROR(VLOOKUP(J185,'Information Page'!$C$24:$F$123,4,FALSE)),\"-\",VLOOKUP(J185,'Information Page'!$C$24:$F$123,4,FALSE))","v":"-"},null,"0"]
[null,null,166,null,null,null,null,null,null,null,{"$f":"IF(ISERROR(VLOOKUP(J186,'Information Page'!$C$24:$F$123,2,FALSE)),\"-\",VLOOKUP(J186,'Information Page'!$C$24:$F$123,2,FALSE))","v":"-"},{"$f":"IF(ISERROR(VLOOKUP(J186,'Information Page'!$C$24:$F$123,3,FALSE)),\"-\",VLOOKUP(J186,'Information Page'!$C$24:$F$123,3,FALSE))","v":"-"},{"$f":"IF(ISERROR(VLOOKUP(J186,'Information Page'!$C$24:$F$123,4,FALSE)),\"-\",VLOOKUP(J186,'Information Page'!$C$24:$F$123,4,FALSE))","v":"-"},null,"0"]
[null,null,167,null,null,null,null,null,null,null,{"$f":"IF(ISERROR(VLOOKUP(J187,'Information Page'!$C$24:$F$123,2,FALSE)),\"-\",VLOOKUP(J187,'Information Page'!$C$24:$F$123,2,FALSE))","v":"-"},{"$f":"IF(ISERROR(VLOOKUP(J187,'Information Page'!$C$24:$F$123,3,FALSE)),\"-\",VLOOKUP(J187,'Information Page'!$C$24:$F$123,3,FALSE))","v":"-"},{"$f":"IF(ISERROR(VLOOKUP(J187,'Information Page'!$C$24:$F$123,4,FALSE)),\"-\",VLOOKUP(J187,'Information Page'!$C$24:$F$123,4,FALSE))","v":"-"},null,"0"]
[null,null,168,null,null,null,null,null,null,null,{"$f":"IF(ISERROR(VLOOKUP(J188,'Information Page'!$C$24:$F$123,2,FALSE)),\"-\",VLOOKUP(J188,'Information Page'!$C$24:$F$123,2,FALSE))","v":"-"},{"$f":"IF(ISERROR(VLOOKUP(J188,'Information Page'!$C$24:$F$123,3,FALSE)),\"-\",VLOOKUP(J188,'Information Page'!$C$24:$F$123,3,FALSE))","v":"-"},{"$f":"IF(ISERROR(VLOOKUP(J188,'Information Page'!$C$24:$F$123,4,FALSE)),\"-\",VLOOKUP(J188,'Information Page'!$C$24:$F$123,4,FALSE))","v":"-"},null,"0"]
[null,null,169,null,null,null,null,null,null,null,{"$f":"IF(ISERROR(VLOOKUP(J189,'Information Page'!$C$24:$F$123,2,FALSE)),\"-\",VLOOKUP(J189,'Information Page'!$C$24:$F$123,2,FALSE))","v":"-"},{"$f":"IF(ISERROR(VLOOKUP(J189,'Information Page'!$C$24:$F$123,3,FALSE)),\"-\",VLOOKUP(J189,'Information Page'!$C$24:$F$123,3,FALSE))","v":"-"},{"$f":"IF(ISERROR(VLOOKUP(J189,'Information Page'!$C$24:$F$123,4,FALSE)),\"-\",VLOOKUP(J189,'Information Page'!$C$24:$F$123,4,FALSE))","v":"-"},null,"0"]
[null,null,170,null,null,null,null,null,null,null,{"$f":"IF(ISERROR(VLOOKUP(J190,'Information Page'!$C$24:$F$123,2,FALSE)),\"-\",VLOOKUP(J190,'Information Page'!$C$24:$F$123,2,FALSE))","v":"-"},{"$f":"IF(ISERROR(VLOOKUP(J190,'Information Page'!$C$24:$F$123,3,FALSE)),\"-\",VLOOKUP(J190,'Information Page'!$C$24:$F$123,3,FALSE))","v":"-"},{"$f":"IF(ISERROR(VLOOKUP(J190,'Information Page'!$C$24:$F$123,4,FALSE)),\"-\",VLOOKUP(J190,'Information Page'!$C$24:$F$123,4,FALSE))","v":"-"},null,"0"]
[null,null,171,null,null,null,null,null,null,null,{"$f":"IF(ISERROR(VLOOKUP(J191,'Information Page'!$C$24:$F$123,2,FALSE)),\"-\",VLOOKUP(J191,'Information Page'!$C$24:$F$123,2,FALSE))","v":"-"},{"$f":"IF(ISERROR(VLOOKUP(J191,'Information Page'!$C$24:$F$123,3,FALSE)),\"-\",VLOOKUP(J191,'Information Page'!$C$24:$F$123,3,FALSE))","v":"-"},{"$f":"IF(ISERROR(VLOOKUP(J191,'Information Page'!$C$24:$F$123,4,FALSE)),\"-\",VLOOKUP(J191,'Information Page'!$C$24:$F$123,4,FALSE))","v":"-"},null,"0"]
[null,null,172,null,null,null,null,null,null,null,{"$f":"IF(ISERROR(VLOOKUP(J192,'Information Page'!$C$24:$F$123,2,FALSE)),\"-\",VLOOKUP(J192,'Information Page'!$C$24:$F$123,2,FALSE))","v":"-"},{"$f":"IF(ISERROR(VLOOKUP(J192,'Information Page'!$C$24:$F$123,3,FALSE)),\"-\",VLOOKUP(J192,'Information Page'!$C$24:$F$123,3,FALSE))","v":"-"},{"$f":"IF(ISERROR(VLOOKUP(J192,'Information Page'!$C$24:$F$123,4,FALSE)),\"-\",VLOOKUP(J192,'Information Page'!$C$24:$F$123,4,FALSE))","v":"-"},null,"0"]
[null,null,173,null,null,null,null,null,null,null,{"$f":"IF(ISERROR(VLOOKUP(J193,'Information Page'!$C$24:$F$123,2,FALSE)),\"-\",VLOOKUP(J193,'Information Page'!$C$24:$F$123,2,FALSE))","v":"-"},{"$f":"IF(ISERROR(VLOOKUP(J193,'Information Page'!$C$24:$F$123,3,FALSE)),\"-\",VLOOKUP(J193,'Information Page'!$C$24:$F$123,3,FALSE))","v":"-"},{"$f":"IF(ISERROR(VLOOKUP(J193,'Information Page'!$C$24:$F$123,4,FALSE)),\"-\",VLOOKUP(J193,'Information Page'!$C$24:$F$123,4,FALSE))","v":"-"},null,"0"]
[null,null,174,null,null,null,null,null,null,null,{"$f":"IF(ISERROR(VLOOKUP(J194,'Information Page'!$C$24:$F$123,2,FALSE)),\"-\",VLOOKUP(J194,'Information Page'!$C$24:$F$123,2,FALSE))","v":"-"},{"$f":"IF(ISERROR(VLOOKUP(J194,'Information Page'!$C$24:$F$123,3,FALSE)),\"-\",VLOOKUP(J194,'Information Page'!$C$24:$F$123,3,FALSE))","v":"-"},{"$f":"IF(ISERROR(VLOOKUP(J194,'Information Page'!$C$24:$F$123,4,FALSE)),\"-\",VLOOKUP(J194,'Information Page'!$C$24:$F$123,4,FALSE))","v":"-"},null,"0"]
[null,null,175,null,null,null,null,null,null,null,{"$f":"IF(ISERROR(VLOOKUP(J195,'Information Page'!$C$24:$F$123,2,FALSE)),\"-\",VLOOKUP(J195,'Information Page'!$C$24:$F$123,2,FALSE))","v":"-"},{"$f":"IF(ISERROR(VLOOKUP(J195,'Information Page'!$C$24:$F$123,3,FALSE)),\"-\",VLOOKUP(J195,'Information Page'!$C$24:$F$123,3,FALSE))","v":"-"},{"$f":"IF(ISERROR(VLOOKUP(J195,'Information Page'!$C$24:$F$123,4,FALSE)),\"-\",VLOOKUP(J195,'Information Page'!$C$24:$F$123,4,FALSE))","v":"-"},null,"0"]
[null,null,176,null,null,null,null,null,null,null,{"$f":"IF(ISERROR(VLOOKUP(J196,'Information Page'!$C$24:$F$123,2,FALSE)),\"-\",VLOOKUP(J196,'Information Page'!$C$24:$F$123,2,FALSE))","v":"-"},{"$f":"IF(ISERROR(VLOOKUP(J196,'Information Page'!$C$24:$F$123,3,FALSE)),\"-\",VLOOKUP(J196,'Information Page'!$C$24:$F$123,3,FALSE))","v":"-"},{"$f":"IF(ISERROR(VLOOKUP(J196,'Information Page'!$C$24:$F$123,4,FALSE)),\"-\",VLOOKUP(J196,'Information Page'!$C$24:$F$123,4,FALSE))","v":"-"},null,"0"]
[null,null,177,null,null,null,null,null,null,null,{"$f":"IF(ISERROR(VLOOKUP(J197,'Information Page'!$C$24:$F$123,2,FALSE)),\"-\",VLOOKUP(J197,'Information Page'!$C$24:$F$123,2,FALSE))","v":"-"},{"$f":"IF(ISERROR(VLOOKUP(J197,'Information Page'!$C$24:$F$123,3,FALSE)),\"-\",VLOOKUP(J197,'Information Page'!$C$24:$F$123,3,FALSE))","v":"-"},{"$f":"IF(ISERROR(VLOOKUP(J197,'Information Page'!$C$24:$F$123,4,FALSE)),\"-\",VLOOKUP(J197,'Information Page'!$C$24:$F$123,4,FALSE))","v":"-"},null,"0"]
[null,null,178,null,null,null,null,null,null,null,{"$f":"IF(ISERROR(VLOOKUP(J198,'Information Page'!$C$24:$F$123,2,FALSE)),\"-\",VLOOKUP(J198,'Information Page'!$C$24:$F$123,2,FALSE))","v":"-"},{"$f":"IF(ISERROR(VLOOKUP(J198,'Information Page'!$C$24:$F$123,3,FALSE)),\"-\",VLOOKUP(J198,'Information Page'!$C$24:$F$123,3,FALSE))","v":"-"},{"$f":"IF(ISERROR(VLOOKUP(J198,'Information Page'!$C$24:$F$123,4,FALSE)),\"-\",VLOOKUP(J198,'Information Page'!$C$24:$F$123,4,FALSE))","v":"-"},null,"0"]
[null,null,179,null,null,null,null,null,null,null,{"$f":"IF(ISERROR(VLOOKUP(J199,'Information Page'!$C$24:$F$123,2,FALSE)),\"-\",VLOOKUP(J199,'Information Page'!$C$24:$F$123,2,FALSE))","v":"-"},{"$f":"IF(ISERROR(VLOOKUP(J199,'Information Page'!$C$24:$F$123,3,FALSE)),\"-\",VLOOKUP(J199,'Information Page'!$C$24:$F$123,3,FALSE))","v":"-"},{"$f":"IF(ISERROR(VLOOKUP(J199,'Information Page'!$C$24:$F$123,4,FALSE)),\"-\",VLOOKUP(J199,'Information Page'!$C$24:$F$123,4,FALSE))","v":"-"},null,"0"]
[null,null,180,null,null,null,null,null,null,null,{"$f":"IF(ISERROR(VLOOKUP(J200,'Information Page'!$C$24:$F$123,2,FALSE)),\"-\",VLOOKUP(J200,'Information Page'!$C$24:$F$123,2,FALSE))","v":"-"},{"$f":"IF(ISERROR(VLOOKUP(J200,'Information Page'!$C$24:$F$123,3,FALSE)),\"-\",VLOOKUP(J200,'Information Page'!$C$24:$F$123,3,FALSE))","v":"-"},{"$f":"IF(ISERROR(VLOOKUP(J200,'Information Page'!$C$24:$F$123,4,FALSE)),\"-\",VLOOKUP(J200,'Information Page'!$C$24:$F$123,4,FALSE))","v":"-"},null,"0"]
[null,null,181,null,null,null,null,null,null,null,{"$f":"IF(ISERROR(VLOOKUP(J201,'Information Page'!$C$24:$F$123,2,FALSE)),\"-\",VLOOKUP(J201,'Information Page'!$C$24:$F$123,2,FALSE))","v":"-"},{"$f":"IF(ISERROR(VLOOKUP(J201,'Information Page'!$C$24:$F$123,3,FALSE)),\"-\",VLOOKUP(J201,'Information Page'!$C$24:$F$123,3,FALSE))","v":"-"},{"$f":"IF(ISERROR(VLOOKUP(J201,'Information Page'!$C$24:$F$123,4,FALSE)),\"-\",VLOOKUP(J201,'Information Page'!$C$24:$F$123,4,FALSE))","v":"-"},null,"0"]
[null,null,182,null,null,null,null,null,null,null,{"$f":"IF(ISERROR(VLOOKUP(J202,'Information Page'!$C$24:$F$123,2,FALSE)),\"-\",VLOOKUP(J202,'Information Page'!$C$24:$F$123,2,FALSE))","v":"-"},{"$f":"IF(ISERROR(VLOOKUP(J202,'Information Page'!$C$24:$F$123,3,FALSE)),\"-\",VLOOKUP(J202,'Information Page'!$C$24:$F$123,3,FALSE))","v":"-"},{"$f":"IF(ISERROR(VLOOKUP(J202,'Information Page'!$C$24:$F$123,4,FALSE)),\"-\",VLOOKUP(J202,'Information Page'!$C$24:$F$123,4,FALSE))","v":"-"},null,"0"]
[null,null,183,null,null,null,null,null,null,null,{"$f":"IF(ISERROR(VLOOKUP(J203,'Information Page'!$C$24:$F$123,2,FALSE)),\"-\",VLOOKUP(J203,'Information Page'!$C$24:$F$123,2,FALSE))","v":"-"},{"$f":"IF(ISERROR(VLOOKUP(J203,'Information Page'!$C$24:$F$123,3,FALSE)),\"-\",VLOOKUP(J203,'Information Page'!$C$24:$F$123,3,FALSE))","v":"-"},{"$f":"IF(ISERROR(VLOOKUP(J203,'Information Page'!$C$24:$F$123,4,FALSE)),\"-\",VLOOKUP(J203,'Information Page'!$C$24:$F$123,4,FALSE))","v":"-"},null,"0"]
[null,null,184,null,null,null,null,null,null,null,{"$f":"IF(ISERROR(VLOOKUP(J204,'Information Page'!$C$24:$F$123,2,FALSE)),\"-\",VLOOKUP(J204,'Information Page'!$C$24:$F$123,2,FALSE))","v":"-"},{"$f":"IF(ISERROR(VLOOKUP(J204,'Information Page'!$C$24:$F$123,3,FALSE)),\"-\",VLOOKUP(J204,'Information Page'!$C$24:$F$123,3,FALSE))","v":"-"},{"$f":"IF(ISERROR(VLOOKUP(J204,'Information Page'!$C$24:$F$123,4,FALSE)),\"-\",VLOOKUP(J204,'Information Page'!$C$24:$F$123,4,FALSE))","v":"-"},null,"0"]
[null,null,185,null,null,null,null,null,null,null,{"$f":"IF(ISERROR(VLOOKUP(J205,'Information Page'!$C$24:$F$123,2,FALSE)),\"-\",VLOOKUP(J205,'Information Page'!$C$24:$F$123,2,FALSE))","v":"-"},{"$f":"IF(ISERROR(VLOOKUP(J205,'Information Page'!$C$24:$F$123,3,FALSE)),\"-\",VLOOKUP(J205,'Information Page'!$C$24:$F$123,3,FALSE))","v":"-"},{"$f":"IF(ISERROR(VLOOKUP(J205,'Information Page'!$C$24:$F$123,4,FALSE)),\"-\",VLOOKUP(J205,'Information Page'!$C$24:$F$123,4,FALSE))","v":"-"},null,"0"]
[null,null,186,null,null,null,null,null,null,null,{"$f":"IF(ISERROR(VLOOKUP(J206,'Information Page'!$C$24:$F$123,2,FALSE)),\"-\",VLOOKUP(J206,'Information Page'!$C$24:$F$123,2,FALSE))","v":"-"},{"$f":"IF(ISERROR(VLOOKUP(J206,'Information Page'!$C$24:$F$123,3,FALSE)),\"-\",VLOOKUP(J206,'Information Page'!$C$24:$F$123,3,FALSE))","v":"-"},{"$f":"IF(ISERROR(VLOOKUP(J206,'Information Page'!$C$24:$F$123,4,FALSE)),\"-\",VLOOKUP(J206,'Information Page'!$C$24:$F$123,4,FALSE))","v":"-"},null,"0"]
[null,null,187,null,null,null,null,null,null,null,{"$f":"IF(ISERROR(VLOOKUP(J207,'Information Page'!$C$24:$F$123,2,FALSE)),\"-\",VLOOKUP(J207,'Information Page'!$C$24:$F$123,2,FALSE))","v":"-"},{"$f":"IF(ISERROR(VLOOKUP(J207,'Information Page'!$C$24:$F$123,3,FALSE)),\"-\",VLOOKUP(J207,'Information Page'!$C$24:$F$123,3,FALSE))","v":"-"},{"$f":"IF(ISERROR(VLOOKUP(J207,'Information Page'!$C$24:$F$123,4,FALSE)),\"-\",VLOOKUP(J207,'Information Page'!$C$24:$F$123,4,FALSE))","v":"-"},null,"0"]
[null,null,188,null,null,null,null,null,null,null,{"$f":"IF(ISERROR(VLOOKUP(J208,'Information Page'!$C$24:$F$123,2,FALSE)),\"-\",VLOOKUP(J208,'Information Page'!$C$24:$F$123,2,FALSE))","v":"-"},{"$f":"IF(ISERROR(VLOOKUP(J208,'Information Page'!$C$24:$F$123,3,FALSE)),\"-\",VLOOKUP(J208,'Information Page'!$C$24:$F$123,3,FALSE))","v":"-"},{"$f":"IF(ISERROR(VLOOKUP(J208,'Information Page'!$C$24:$F$123,4,FALSE)),\"-\",VLOOKUP(J208,'Information Page'!$C$24:$F$123,4,FALSE))","v":"-"},null,"0"]
[null,null,189,null,null,null,null,null,null,null,{"$f":"IF(ISERROR(VLOOKUP(J209,'Information Page'!$C$24:$F$123,2,FALSE)),\"-\",VLOOKUP(J209,'Information Page'!$C$24:$F$123,2,FALSE))","v":"-"},{"$f":"IF(ISERROR(VLOOKUP(J209,'Information Page'!$C$24:$F$123,3,FALSE)),\"-\",VLOOKUP(J209,'Information Page'!$C$24:$F$123,3,FALSE))","v":"-"},{"$f":"IF(ISERROR(VLOOKUP(J209,'Information Page'!$C$24:$F$123,4,FALSE)),\"-\",VLOOKUP(J209,'Information Page'!$C$24:$F$123,4,FALSE))","v":"-"},null,"0"]
[null,null,190,null,null,null,null,null,null,null,{"$f":"IF(ISERROR(VLOOKUP(J210,'Information Page'!$C$24:$F$123,2,FALSE)),\"-\",VLOOKUP(J210,'Information Page'!$C$24:$F$123,2,FALSE))","v":"-"},{"$f":"IF(ISERROR(VLOOKUP(J210,'Information Page'!$C$24:$F$123,3,FALSE)),\"-\",VLOOKUP(J210,'Information Page'!$C$24:$F$123,3,FALSE))","v":"-"},{"$f":"IF(ISERROR(VLOOKUP(J210,'Information Page'!$C$24:$F$123,4,FALSE)),\"-\",VLOOKUP(J210,'Information Page'!$C$24:$F$123,4,FALSE))","v":"-"},null,"0"]
[null,null,191,null,null,null,null,null,null,null,{"$f":"IF(ISERROR(VLOOKUP(J211,'Information Page'!$C$24:$F$123,2,FALSE)),\"-\",VLOOKUP(J211,'Information Page'!$C$24:$F$123,2,FALSE))","v":"-"},{"$f":"IF(ISERROR(VLOOKUP(J211,'Information Page'!$C$24:$F$123,3,FALSE)),\"-\",VLOOKUP(J211,'Information Page'!$C$24:$F$123,3,FALSE))","v":"-"},{"$f":"IF(ISERROR(VLOOKUP(J211,'Information Page'!$C$24:$F$123,4,FALSE)),\"-\",VLOOKUP(J211,'Information Page'!$C$24:$F$123,4,FALSE))","v":"-"},null,"0"]
[null,null,192,null,null,null,null,null,null,null,{"$f":"IF(ISERROR(VLOOKUP(J212,'Information Page'!$C$24:$F$123,2,FALSE)),\"-\",VLOOKUP(J212,'Information Page'!$C$24:$F$123,2,FALSE))","v":"-"},{"$f":"IF(ISERROR(VLOOKUP(J212,'Information Page'!$C$24:$F$123,3,FALSE)),\"-\",VLOOKUP(J212,'Information Page'!$C$24:$F$123,3,FALSE))","v":"-"},{"$f":"IF(ISERROR(VLOOKUP(J212,'Information Page'!$C$24:$F$123,4,FALSE)),\"-\",VLOOKUP(J212,'Information Page'!$C$24:$F$123,4,FALSE))","v":"-"},null,"0"]
[null,null,193,null,null,null,null,null,null,null,{"$f":"IF(ISERROR(VLOOKUP(J213,'Information Page'!$C$24:$F$123,2,FALSE)),\"-\",VLOOKUP(J213,'Information Page'!$C$24:$F$123,2,FALSE))","v":"-"},{"$f":"IF(ISERROR(VLOOKUP(J213,'Information Page'!$C$24:$F$123,3,FALSE)),\"-\",VLOOKUP(J213,'Information Page'!$C$24:$F$123,3,FALSE))","v":"-"},{"$f":"IF(ISERROR(VLOOKUP(J213,'Information Page'!$C$24:$F$123,4,FALSE)),\"-\",VLOOKUP(J213,'Information Page'!$C$24:$F$123,4,FALSE))","v":"-"},null,"0"]
[null,null,194,null,null,null,null,null,null,null,{"$f":"IF(ISERROR(VLOOKUP(J214,'Information Page'!$C$24:$F$123,2,FALSE)),\"-\",VLOOKUP(J214,'Information Page'!$C$24:$F$123,2,FALSE))","v":"-"},{"$f":"IF(ISERROR(VLOOKUP(J214,'Information Page'!$C$24:$F$123,3,FALSE)),\"-\",VLOOKUP(J214,'Information Page'!$C$24:$F$123,3,FALSE))","v":"-"},{"$f":"IF(ISERROR(VLOOKUP(J214,'Information Page'!$C$24:$F$123,4,FALSE)),\"-\",VLOOKUP(J214,'Information Page'!$C$24:$F$123,4,FALSE))","v":"-"},null,{"$f":"IF(M214=\"-\",\"0\",M214*N214)","v":"0"}]
[null,null,195,null,null,null,null,null,null,null,{"$f":"IF(ISERROR(VLOOKUP(J215,'Information Page'!$C$24:$F$123,2,FALSE)),\"-\",VLOOKUP(J215,'Information Page'!$C$24:$F$123,2,FALSE))","v":"-"},{"$f":"IF(ISERROR(VLOOKUP(J215,'Information Page'!$C$24:$F$123,3,FALSE)),\"-\",VLOOKUP(J215,'Information Page'!$C$24:$F$123,3,FALSE))","v":"-"},{"$f":"IF(ISERROR(VLOOKUP(J215,'Information Page'!$C$24:$F$123,4,FALSE)),\"-\",VLOOKUP(J215,'Information Page'!$C$24:$F$123,4,FALSE))","v":"-"},null,"0"]
[null,null,196,null,null,null,null,null,null,null,{"$f":"IF(ISERROR(VLOOKUP(J216,'Information Page'!$C$24:$F$123,2,FALSE)),\"-\",VLOOKUP(J216,'Information Page'!$C$24:$F$123,2,FALSE))","v":"-"},{"$f":"IF(ISERROR(VLOOKUP(J216,'Information Page'!$C$24:$F$123,3,FALSE)),\"-\",VLOOKUP(J216,'Information Page'!$C$24:$F$123,3,FALSE))","v":"-"},{"$f":"IF(ISERROR(VLOOKUP(J216,'Information Page'!$C$24:$F$123,4,FALSE)),\"-\",VLOOKUP(J216,'Information Page'!$C$24:$F$123,4,FALSE))","v":"-"},null,"0"]
[null,null,197,null,null,null,null,null,null,null,{"$f":"IF(ISERROR(VLOOKUP(J217,'Information Page'!$C$24:$F$123,2,FALSE)),\"-\",VLOOKUP(J217,'Information Page'!$C$24:$F$123,2,FALSE))","v":"-"},{"$f":"IF(ISERROR(VLOOKUP(J217,'Information Page'!$C$24:$F$123,3,FALSE)),\"-\",VLOOKUP(J217,'Information Page'!$C$24:$F$123,3,FALSE))","v":"-"},{"$f":"IF(ISERROR(VLOOKUP(J217,'Information Page'!$C$24:$F$123,4,FALSE)),\"-\",VLOOKUP(J217,'Information Page'!$C$24:$F$123,4,FALSE))","v":"-"},null,"0"]
[null,null,198,null,null,null,null,null,null,null,{"$f":"IF(ISERROR(VLOOKUP(J218,'Information Page'!$C$24:$F$123,2,FALSE)),\"-\",VLOOKUP(J218,'Information Page'!$C$24:$F$123,2,FALSE))","v":"-"},{"$f":"IF(ISERROR(VLOOKUP(J218,'Information Page'!$C$24:$F$123,3,FALSE)),\"-\",VLOOKUP(J218,'Information Page'!$C$24:$F$123,3,FALSE))","v":"-"},{"$f":"IF(ISERROR(VLOOKUP(J218,'Information Page'!$C$24:$F$123,4,FALSE)),\"-\",VLOOKUP(J218,'Information Page'!$C$24:$F$123,4,FALSE))","v":"-"},null,"0"]
[null,null,199,null,null,null,null,null,null,null,{"$f":"IF(ISERROR(VLOOKUP(J219,'Information Page'!$C$24:$F$123,2,FALSE)),\"-\",VLOOKUP(J219,'Information Page'!$C$24:$F$123,2,FALSE))","v":"-"},{"$f":"IF(ISERROR(VLOOKUP(J219,'Information Page'!$C$24:$F$123,3,FALSE)),\"-\",VLOOKUP(J219,'Information Page'!$C$24:$F$123,3,FALSE))","v":"-"},{"$f":"IF(ISERROR(VLOOKUP(J219,'Information Page'!$C$24:$F$123,4,FALSE)),\"-\",VLOOKUP(J219,'Information Page'!$C$24:$F$123,4,FALSE))","v":"-"},null,"0"]
[null,null,200,null,null,null,null,null,null,null,{"$f":"IF(ISERROR(VLOOKUP(J220,'Information Page'!$C$24:$F$123,2,FALSE)),\"-\",VLOOKUP(J220,'Information Page'!$C$24:$F$123,2,FALSE))","v":"-"},{"$f":"IF(ISERROR(VLOOKUP(J220,'Information Page'!$C$24:$F$123,3,FALSE)),\"-\",VLOOKUP(J220,'Information Page'!$C$24:$F$123,3,FALSE))","v":"-"},{"$f":"IF(ISERROR(VLOOKUP(J220,'Information Page'!$C$24:$F$123,4,FALSE)),\"-\",VLOOKUP(J220,'Information Page'!$C$24:$F$123,4,FALSE))","v":"-"},null,"0"]
[null,null,201,null,null,null,null,null,null,null,{"$f":"IF(ISERROR(VLOOKUP(J221,'Information Page'!$C$24:$F$123,2,FALSE)),\"-\",VLOOKUP(J221,'Information Page'!$C$24:$F$123,2,FALSE))","v":"-"},{"$f":"IF(ISERROR(VLOOKUP(J221,'Information Page'!$C$24:$F$123,3,FALSE)),\"-\",VLOOKUP(J221,'Information Page'!$C$24:$F$123,3,FALSE))","v":"-"},{"$f":"IF(ISERROR(VLOOKUP(J221,'Information Page'!$C$24:$F$123,4,FALSE)),\"-\",VLOOKUP(J221,'Information Page'!$C$24:$F$123,4,FALSE))","v":"-"},null,"0"]
[null,null,202,null,null,null,null,null,null,null,{"$f":"IF(ISERROR(VLOOKUP(J222,'Information Page'!$C$24:$F$123,2,FALSE)),\"-\",VLOOKUP(J222,'Information Page'!$C$24:$F$123,2,FALSE))","v":"-"},{"$f":"IF(ISERROR(VLOOKUP(J222,'Information Page'!$C$24:$F$123,3,FALSE)),\"-\",VLOOKUP(J222,'Information Page'!$C$24:$F$123,3,FALSE))","v":"-"},{"$f":"IF(ISERROR(VLOOKUP(J222,'Information Page'!$C$24:$F$123,4,FALSE)),\"-\",VLOOKUP(J222,'Information Page'!$C$24:$F$123,4,FALSE))","v":"-"},null,"0"]
[null,null,203,null,null,null,null,null,null,null,{"$f":"IF(ISERROR(VLOOKUP(J223,'Information Page'!$C$24:$F$123,2,FALSE)),\"-\",VLOOKUP(J223,'Information Page'!$C$24:$F$123,2,FALSE))","v":"-"},{"$f":"IF(ISERROR(VLOOKUP(J223,'Information Page'!$C$24:$F$123,3,FALSE)),\"-\",VLOOKUP(J223,'Information Page'!$C$24:$F$123,3,FALSE))","v":"-"},{"$f":"IF(ISERROR(VLOOKUP(J223,'Information Page'!$C$24:$F$123,4,FALSE)),\"-\",VLOOKUP(J223,'Information Page'!$C$24:$F$123,4,FALSE))","v":"-"},null,"0"]
[null,null,204,null,null,null,null,null,null,null,{"$f":"IF(ISERROR(VLOOKUP(J224,'Information Page'!$C$24:$F$123,2,FALSE)),\"-\",VLOOKUP(J224,'Information Page'!$C$24:$F$123,2,FALSE))","v":"-"},{"$f":"IF(ISERROR(VLOOKUP(J224,'Information Page'!$C$24:$F$123,3,FALSE)),\"-\",VLOOKUP(J224,'Information Page'!$C$24:$F$123,3,FALSE))","v":"-"},{"$f":"IF(ISERROR(VLOOKUP(J224,'Information Page'!$C$24:$F$123,4,FALSE)),\"-\",VLOOKUP(J224,'Information Page'!$C$24:$F$123,4,FALSE))","v":"-"},null,"0"]
[null,null,205,null,null,null,null,null,null,null,{"$f":"IF(ISERROR(VLOOKUP(J225,'Information Page'!$C$24:$F$123,2,FALSE)),\"-\",VLOOKUP(J225,'Information Page'!$C$24:$F$123,2,FALSE))","v":"-"},{"$f":"IF(ISERROR(VLOOKUP(J225,'Information Page'!$C$24:$F$123,3,FALSE)),\"-\",VLOOKUP(J225,'Information Page'!$C$24:$F$123,3,FALSE))","v":"-"},{"$f":"IF(ISERROR(VLOOKUP(J225,'Information Page'!$C$24:$F$123,4,FALSE)),\"-\",VLOOKUP(J225,'Information Page'!$C$24:$F$123,4,FALSE))","v":"-"},null,"0"]
[null,null,206,null,null,null,null,null,null,null,{"$f":"IF(ISERROR(VLOOKUP(J226,'Information Page'!$C$24:$F$123,2,FALSE)),\"-\",VLOOKUP(J226,'Information Page'!$C$24:$F$123,2,FALSE))","v":"-"},{"$f":"IF(ISERROR(VLOOKUP(J226,'Information Page'!$C$24:$F$123,3,FALSE)),\"-\",VLOOKUP(J226,'Information Page'!$C$24:$F$123,3,FALSE))","v":"-"},{"$f":"IF(ISERROR(VLOOKUP(J226,'Information Page'!$C$24:$F$123,4,FALSE)),\"-\",VLOOKUP(J226,'Information Page'!$C$24:$F$123,4,FALSE))","v":"-"},null,"0"]
[null,null,207,null,null,null,null,null,null,null,{"$f":"IF(ISERROR(VLOOKUP(J227,'Information Page'!$C$24:$F$123,2,FALSE)),\"-\",VLOOKUP(J227,'Information Page'!$C$24:$F$123,2,FALSE))","v":"-"},{"$f":"IF(ISERROR(VLOOKUP(J227,'Information Page'!$C$24:$F$123,3,FALSE)),\"-\",VLOOKUP(J227,'Information Page'!$C$24:$F$123,3,FALSE))","v":"-"},{"$f":"IF(ISERROR(VLOOKUP(J227,'Information Page'!$C$24:$F$123,4,FALSE)),\"-\",VLOOKUP(J227,'Information Page'!$C$24:$F$123,4,FALSE))","v":"-"},null,"0"]
[null,null,208,null,null,null,null,null,null,null,{"$f":"IF(ISERROR(VLOOKUP(J228,'Information Page'!$C$24:$F$123,2,FALSE)),\"-\",VLOOKUP(J228,'Information Page'!$C$24:$F$123,2,FALSE))","v":"-"},{"$f":"IF(ISERROR(VLOOKUP(J228,'Information Page'!$C$24:$F$123,3,FALSE)),\"-\",VLOOKUP(J228,'Information Page'!$C$24:$F$123,3,FALSE))","v":"-"},{"$f":"IF(ISERROR(VLOOKUP(J228,'Information Page'!$C$24:$F$123,4,FALSE)),\"-\",VLOOKUP(J228,'Information Page'!$C$24:$F$123,4,FALSE))","v":"-"},null,"0"]
[null,null,209,null,null,null,null,null,null,null,{"$f":"IF(ISERROR(VLOOKUP(J229,'Information Page'!$C$24:$F$123,2,FALSE)),\"-\",VLOOKUP(J229,'Information Page'!$C$24:$F$123,2,FALSE))","v":"-"},{"$f":"IF(ISERROR(VLOOKUP(J229,'Information Page'!$C$24:$F$123,3,FALSE)),\"-\",VLOOKUP(J229,'Information Page'!$C$24:$F$123,3,FALSE))","v":"-"},{"$f":"IF(ISERROR(VLOOKUP(J229,'Information Page'!$C$24:$F$123,4,FALSE)),\"-\",VLOOKUP(J229,'Information Page'!$C$24:$F$123,4,FALSE))","v":"-"},null,"0"]
[null,null,210,null,null,null,null,null,null,null,{"$f":"IF(ISERROR(VLOOKUP(J230,'Information Page'!$C$24:$F$123,2,FALSE)),\"-\",VLOOKUP(J230,'Information Page'!$C$24:$F$123,2,FALSE))","v":"-"},{"$f":"IF(ISERROR(VLOOKUP(J230,'Information Page'!$C$24:$F$123,3,FALSE)),\"-\",VLOOKUP(J230,'Information Page'!$C$24:$F$123,3,FALSE))","v":"-"},{"$f":"IF(ISERROR(VLOOKUP(J230,'Information Page'!$C$24:$F$123,4,FALSE)),\"-\",VLOOKUP(J230,'Information Page'!$C$24:$F$123,4,FALSE))","v":"-"},null,"0"]
[null,null,211,null,null,null,null,null,null,null,{"$f":"IF(ISERROR(VLOOKUP(J231,'Information Page'!$C$24:$F$123,2,FALSE)),\"-\",VLOOKUP(J231,'Information Page'!$C$24:$F$123,2,FALSE))","v":"-"},{"$f":"IF(ISERROR(VLOOKUP(J231,'Information Page'!$C$24:$F$123,3,FALSE)),\"-\",VLOOKUP(J231,'Information Page'!$C$24:$F$123,3,FALSE))","v":"-"},{"$f":"IF(ISERROR(VLOOKUP(J231,'Information Page'!$C$24:$F$123,4,FALSE)),\"-\",VLOOKUP(J231,'Information Page'!$C$24:$F$123,4,FALSE))","v":"-"},null,"0"]
[null,null,212,null,null,null,null,null,null,null,{"$f":"IF(ISERROR(VLOOKUP(J232,'Information Page'!$C$24:$F$123,2,FALSE)),\"-\",VLOOKUP(J232,'Information Page'!$C$24:$F$123,2,FALSE))","v":"-"},{"$f":"IF(ISERROR(VLOOKUP(J232,'Information Page'!$C$24:$F$123,3,FALSE)),\"-\",VLOOKUP(J232,'Information Page'!$C$24:$F$123,3,FALSE))","v":"-"},{"$f":"IF(ISERROR(VLOOKUP(J232,'Information Page'!$C$24:$F$123,4,FALSE)),\"-\",VLOOKUP(J232,'Information Page'!$C$24:$F$123,4,FALSE))","v":"-"},null,"0"]
[null,null,213,null,null,null,null,null,null,null,{"$f":"IF(ISERROR(VLOOKUP(J233,'Information Page'!$C$24:$F$123,2,FALSE)),\"-\",VLOOKUP(J233,'Information Page'!$C$24:$F$123,2,FALSE))","v":"-"},{"$f":"IF(ISERROR(VLOOKUP(J233,'Information Page'!$C$24:$F$123,3,FALSE)),\"-\",VLOOKUP(J233,'Information Page'!$C$24:$F$123,3,FALSE))","v":"-"},{"$f":"IF(ISERROR(VLOOKUP(J233,'Information Page'!$C$24:$F$123,4,FALSE)),\"-\",VLOOKUP(J233,'Information Page'!$C$24:$F$123,4,FALSE))","v":"-"},null,"0"]
[null,null,214,null,null,null,null,null,null,null,{"$f":"IF(ISERROR(VLOOKUP(J234,'Information Page'!$C$24:$F$123,2,FALSE)),\"-\",VLOOKUP(J234,'Information Page'!$C$24:$F$123,2,FALSE))","v":"-"},{"$f":"IF(ISERROR(VLOOKUP(J234,'Information Page'!$C$24:$F$123,3,FALSE)),\"-\",VLOOKUP(J234,'Information Page'!$C$24:$F$123,3,FALSE))","v":"-"},{"$f":"IF(ISERROR(VLOOKUP(J234,'Information Page'!$C$24:$F$123,4,FALSE)),\"-\",VLOOKUP(J234,'Information Page'!$C$24:$F$123,4,FALSE))","v":"-"},null,"0"]
[null,null,215,null,null,null,null,null,null,null,{"$f":"IF(ISERROR(VLOOKUP(J235,'Information Page'!$C$24:$F$123,2,FALSE)),\"-\",VLOOKUP(J235,'Information Page'!$C$24:$F$123,2,FALSE))","v":"-"},{"$f":"IF(ISERROR(VLOOKUP(J235,'Information Page'!$C$24:$F$123,3,FALSE)),\"-\",VLOOKUP(J235,'Information Page'!$C$24:$F$123,3,FALSE))","v":"-"},{"$f":"IF(ISERROR(VLOOKUP(J235,'Information Page'!$C$24:$F$123,4,FALSE)),\"-\",VLOOKUP(J235,'Information Page'!$C$24:$F$123,4,FALSE))","v":"-"},null,"0"]
[null,null,216,null,null,null,null,null,null,null,{"$f":"IF(ISERROR(VLOOKUP(J236,'Information Page'!$C$24:$F$123,2,FALSE)),\"-\",VLOOKUP(J236,'Information Page'!$C$24:$F$123,2,FALSE))","v":"-"},{"$f":"IF(ISERROR(VLOOKUP(J236,'Information Page'!$C$24:$F$123,3,FALSE)),\"-\",VLOOKUP(J236,'Information Page'!$C$24:$F$123,3,FALSE))","v":"-"},{"$f":"IF(ISERROR(VLOOKUP(J236,'Information Page'!$C$24:$F$123,4,FALSE)),\"-\",VLOOKUP(J236,'Information Page'!$C$24:$F$123,4,FALSE))","v":"-"},null,"0"]
[null,null,217,null,null,null,null,null,null,null,{"$f":"IF(ISERROR(VLOOKUP(J237,'Information Page'!$C$24:$F$123,2,FALSE)),\"-\",VLOOKUP(J237,'Information Page'!$C$24:$F$123,2,FALSE))","v":"-"},{"$f":"IF(ISERROR(VLOOKUP(J237,'Information Page'!$C$24:$F$123,3,FALSE)),\"-\",VLOOKUP(J237,'Information Page'!$C$24:$F$123,3,FALSE))","v":"-"},{"$f":"IF(ISERROR(VLOOKUP(J237,'Information Page'!$C$24:$F$123,4,FALSE)),\"-\",VLOOKUP(J237,'Information Page'!$C$24:$F$123,4,FALSE))","v":"-"},null,"0"]
[null,null,218,null,null,null,null,null,null,null,{"$f":"IF(ISERROR(VLOOKUP(J238,'Information Page'!$C$24:$F$123,2,FALSE)),\"-\",VLOOKUP(J238,'Information Page'!$C$24:$F$123,2,FALSE))","v":"-"},{"$f":"IF(ISERROR(VLOOKUP(J238,'Information Page'!$C$24:$F$123,3,FALSE)),\"-\",VLOOKUP(J238,'Information Page'!$C$24:$F$123,3,FALSE))","v":"-"},{"$f":"IF(ISERROR(VLOOKUP(J238,'Information Page'!$C$24:$F$123,4,FALSE)),\"-\",VLOOKUP(J238,'Information Page'!$C$24:$F$123,4,FALSE))","v":"-"},null,"0"]
[null,null,219,null,null,null,null,null,null,null,{"$f":"IF(ISERROR(VLOOKUP(J239,'Information Page'!$C$24:$F$123,2,FALSE)),\"-\",VLOOKUP(J239,'Information Page'!$C$24:$F$123,2,FALSE))","v":"-"},{"$f":"IF(ISERROR(VLOOKUP(J239,'Information Page'!$C$24:$F$123,3,FALSE)),\"-\",VLOOKUP(J239,'Information Page'!$C$24:$F$123,3,FALSE))","v":"-"},{"$f":"IF(ISERROR(VLOOKUP(J239,'Information Page'!$C$24:$F$123,4,FALSE)),\"-\",VLOOKUP(J239,'Information Page'!$C$24:$F$123,4,FALSE))","v":"-"},null,"0"]
[null,null,220,null,null,null,null,null,null,null,{"$f":"IF(ISERROR(VLOOKUP(J240,'Information Page'!$C$24:$F$123,2,FALSE)),\"-\",VLOOKUP(J240,'Information Page'!$C$24:$F$123,2,FALSE))","v":"-"},{"$f":"IF(ISERROR(VLOOKUP(J240,'Information Page'!$C$24:$F$123,3,FALSE)),\"-\",VLOOKUP(J240,'Information Page'!$C$24:$F$123,3,FALSE))","v":"-"},{"$f":"IF(ISERROR(VLOOKUP(J240,'Information Page'!$C$24:$F$123,4,FALSE)),\"-\",VLOOKUP(J240,'Information Page'!$C$24:$F$123,4,FALSE))","v":"-"},null,"0"]
[null,null,221,null,null,null,null,null,null,null,{"$f":"IF(ISERROR(VLOOKUP(J241,'Information Page'!$C$24:$F$123,2,FALSE)),\"-\",VLOOKUP(J241,'Information Page'!$C$24:$F$123,2,FALSE))","v":"-"},{"$f":"IF(ISERROR(VLOOKUP(J241,'Information Page'!$C$24:$F$123,3,FALSE)),\"-\",VLOOKUP(J241,'Information Page'!$C$24:$F$123,3,FALSE))","v":"-"},{"$f":"IF(ISERROR(VLOOKUP(J241,'Information Page'!$C$24:$F$123,4,FALSE)),\"-\",VLOOKUP(J241,'Information Page'!$C$24:$F$123,4,FALSE))","v":"-"},null,"0"]
[null,null,222,null,null,null,null,null,null,null,{"$f":"IF(ISERROR(VLOOKUP(J242,'Information Page'!$C$24:$F$123,2,FALSE)),\"-\",VLOOKUP(J242,'Information Page'!$C$24:$F$123,2,FALSE))","v":"-"},{"$f":"IF(ISERROR(VLOOKUP(J242,'Information Page'!$C$24:$F$123,3,FALSE)),\"-\",VLOOKUP(J242,'Information Page'!$C$24:$F$123,3,FALSE))","v":"-"},{"$f":"IF(ISERROR(VLOOKUP(J242,'Information Page'!$C$24:$F$123,4,FALSE)),\"-\",VLOOKUP(J242,'Information Page'!$C$24:$F$123,4,FALSE))","v":"-"},null,"0"]
[null,null,223,null,null,null,null,null,null,null,{"$f":"IF(ISERROR(VLOOKUP(J243,'Information Page'!$C$24:$F$123,2,FALSE)),\"-\",VLOOKUP(J243,'Information Page'!$C$24:$F$123,2,FALSE))","v":"-"},{"$f":"IF(ISERROR(VLOOKUP(J243,'Information Page'!$C$24:$F$123,3,FALSE)),\"-\",VLOOKUP(J243,'Information Page'!$C$24:$F$123,3,FALSE))","v":"-"},{"$f":"IF(ISERROR(VLOOKUP(J243,'Information Page'!$C$24:$F$123,4,FALSE)),\"-\",VLOOKUP(J243,'Information Page'!$C$24:$F$123,4,FALSE))","v":"-"},null,"0"]
[null,null,224,null,null,null,null,null,null,null,{"$f":"IF(ISERROR(VLOOKUP(J244,'Information Page'!$C$24:$F$123,2,FALSE)),\"-\",VLOOKUP(J244,'Information Page'!$C$24:$F$123,2,FALSE))","v":"-"},{"$f":"IF(ISERROR(VLOOKUP(J244,'Information Page'!$C$24:$F$123,3,FALSE)),\"-\",VLOOKUP(J244,'Information Page'!$C$24:$F$123,3,FALSE))","v":"-"},{"$f":"IF(ISERROR(VLOOKUP(J244,'Information Page'!$C$24:$F$123,4,FALSE)),\"-\",VLOOKUP(J244,'Information Page'!$C$24:$F$123,4,FALSE))","v":"-"},null,"0"]
[null,null,225,null,null,null,null,null,null,null,{"$f":"IF(ISERROR(VLOOKUP(J245,'Information Page'!$C$24:$F$123,2,FALSE)),\"-\",VLOOKUP(J245,'Information Page'!$C$24:$F$123,2,FALSE))","v":"-"},{"$f":"IF(ISERROR(VLOOKUP(J245,'Information Page'!$C$24:$F$123,3,FALSE)),\"-\",VLOOKUP(J245,'Information Page'!$C$24:$F$123,3,FALSE))","v":"-"},{"$f":"IF(ISERROR(VLOOKUP(J245,'Information Page'!$C$24:$F$123,4,FALSE)),\"-\",VLOOKUP(J245,'Information Page'!$C$24:$F$123,4,FALSE))","v":"-"},null,"0"]
[null,null,226,null,null,null,null,null,null,null,{"$f":"IF(ISERROR(VLOOKUP(J246,'Information Page'!$C$24:$F$123,2,FALSE)),\"-\",VLOOKUP(J246,'Information Page'!$C$24:$F$123,2,FALSE))","v":"-"},{"$f":"IF(ISERROR(VLOOKUP(J246,'Information Page'!$C$24:$F$123,3,FALSE)),\"-\",VLOOKUP(J246,'Information Page'!$C$24:$F$123,3,FALSE))","v":"-"},{"$f":"IF(ISERROR(VLOOKUP(J246,'Information Page'!$C$24:$F$123,4,FALSE)),\"-\",VLOOKUP(J246,'Information Page'!$C$24:$F$123,4,FALSE))","v":"-"},null,"0"]
[null,null,227,null,null,null,null,null,null,null,{"$f":"IF(ISERROR(VLOOKUP(J247,'Information Page'!$C$24:$F$123,2,FALSE)),\"-\",VLOOKUP(J247,'Information Page'!$C$24:$F$123,2,FALSE))","v":"-"},{"$f":"IF(ISERROR(VLOOKUP(J247,'Information Page'!$C$24:$F$123,3,FALSE)),\"-\",VLOOKUP(J247,'Information Page'!$C$24:$F$123,3,FALSE))","v":"-"},{"$f":"IF(ISERROR(VLOOKUP(J247,'Information Page'!$C$24:$F$123,4,FALSE)),\"-\",VLOOKUP(J247,'Information Page'!$C$24:$F$123,4,FALSE))","v":"-"},null,"0"]
[null,null,228,null,null,null,null,null,null,null,{"$f":"IF(ISERROR(VLOOKUP(J248,'Information Page'!$C$24:$F$123,2,FALSE)),\"-\",VLOOKUP(J248,'Information Page'!$C$24:$F$123,2,FALSE))","v":"-"},{"$f":"IF(ISERROR(VLOOKUP(J248,'Information Page'!$C$24:$F$123,3,FALSE)),\"-\",VLOOKUP(J248,'Information Page'!$C$24:$F$123,3,FALSE))","v":"-"},{"$f":"IF(ISERROR(VLOOKUP(J248,'Information Page'!$C$24:$F$123,4,FALSE)),\"-\",VLOOKUP(J248,'Information Page'!$C$24:$F$123,4,FALSE))","v":"-"},null,"0"]
[null,null,229,null,null,null,null,null,null,null,{"$f":"IF(ISERROR(VLOOKUP(J249,'Information Page'!$C$24:$F$123,2,FALSE)),\"-\",VLOOKUP(J249,'Information Page'!$C$24:$F$123,2,FALSE))","v":"-"},{"$f":"IF(ISERROR(VLOOKUP(J249,'Information Page'!$C$24:$F$123,3,FALSE)),\"-\",VLOOKUP(J249,'Information Page'!$C$24:$F$123,3,FALSE))","v":"-"},{"$f":"IF(ISERROR(VLOOKUP(J249,'Information Page'!$C$24:$F$123,4,FALSE)),\"-\",VLOOKUP(J249,'Information Page'!$C$24:$F$123,4,FALSE))","v":"-"},null,"0"]
[null,null,230,null,null,null,null,null,null,null,{"$f":"IF(ISERROR(VLOOKUP(J250,'Information Page'!$C$24:$F$123,2,FALSE)),\"-\",VLOOKUP(J250,'Information Page'!$C$24:$F$123,2,FALSE))","v":"-"},{"$f":"IF(ISERROR(VLOOKUP(J250,'Information Page'!$C$24:$F$123,3,FALSE)),\"-\",VLOOKUP(J250,'Information Page'!$C$24:$F$123,3,FALSE))","v":"-"},{"$f":"IF(ISERROR(VLOOKUP(J250,'Information Page'!$C$24:$F$123,4,FALSE)),\"-\",VLOOKUP(J250,'Information Page'!$C$24:$F$123,4,FALSE))","v":"-"},null,"0"]
[null,null,231,null,null,null,null,null,null,null,{"$f":"IF(ISERROR(VLOOKUP(J251,'Information Page'!$C$24:$F$123,2,FALSE)),\"-\",VLOOKUP(J251,'Information Page'!$C$24:$F$123,2,FALSE))","v":"-"},{"$f":"IF(ISERROR(VLOOKUP(J251,'Information Page'!$C$24:$F$123,3,FALSE)),\"-\",VLOOKUP(J251,'Information Page'!$C$24:$F$123,3,FALSE))","v":"-"},{"$f":"IF(ISERROR(VLOOKUP(J251,'Information Page'!$C$24:$F$123,4,FALSE)),\"-\",VLOOKUP(J251,'Information Page'!$C$24:$F$123,4,FALSE))","v":"-"},null,"0"]
[null,null,232,null,null,null,null,null,null,null,{"$f":"IF(ISERROR(VLOOKUP(J252,'Information Page'!$C$24:$F$123,2,FALSE)),\"-\",VLOOKUP(J252,'Information Page'!$C$24:$F$123,2,FALSE))","v":"-"},{"$f":"IF(ISERROR(VLOOKUP(J252,'Information Page'!$C$24:$F$123,3,FALSE)),\"-\",VLOOKUP(J252,'Information Page'!$C$24:$F$123,3,FALSE))","v":"-"},{"$f":"IF(ISERROR(VLOOKUP(J252,'Information Page'!$C$24:$F$123,4,FALSE)),\"-\",VLOOKUP(J252,'Information Page'!$C$24:$F$123,4,FALSE))","v":"-"},null,"0"]
[null,null,233,null,null,null,null,null,null,null,{"$f":"IF(ISERROR(VLOOKUP(J253,'Information Page'!$C$24:$F$123,2,FALSE)),\"-\",VLOOKUP(J253,'Information Page'!$C$24:$F$123,2,FALSE))","v":"-"},{"$f":"IF(ISERROR(VLOOKUP(J253,'Information Page'!$C$24:$F$123,3,FALSE)),\"-\",VLOOKUP(J253,'Information Page'!$C$24:$F$123,3,FALSE))","v":"-"},{"$f":"IF(ISERROR(VLOOKUP(J253,'Information Page'!$C$24:$F$123,4,FALSE)),\"-\",VLOOKUP(J253,'Information Page'!$C$24:$F$123,4,FALSE))","v":"-"},null,"0"]
[null,null,234,null,null,null,null,null,null,null,{"$f":"IF(ISERROR(VLOOKUP(J254,'Information Page'!$C$24:$F$123,2,FALSE)),\"-\",VLOOKUP(J254,'Information Page'!$C$24:$F$123,2,FALSE))","v":"-"},{"$f":"IF(ISERROR(VLOOKUP(J254,'Information Page'!$C$24:$F$123,3,FALSE)),\"-\",VLOOKUP(J254,'Information Page'!$C$24:$F$123,3,FALSE))","v":"-"},{"$f":"IF(ISERROR(VLOOKUP(J254,'Information Page'!$C$24:$F$123,4,FALSE)),\"-\",VLOOKUP(J254,'Information Page'!$C$24:$F$123,4,FALSE))","v":"-"},null,"0"]
[null,null,235,null,null,null,null,null,null,null,{"$f":"IF(ISERROR(VLOOKUP(J255,'Information Page'!$C$24:$F$123,2,FALSE)),\"-\",VLOOKUP(J255,'Information Page'!$C$24:$F$123,2,FALSE))","v":"-"},{"$f":"IF(ISERROR(VLOOKUP(J255,'Information Page'!$C$24:$F$123,3,FALSE)),\"-\",VLOOKUP(J255,'Information Page'!$C$24:$F$123,3,FALSE))","v":"-"},{"$f":"IF(ISERROR(VLOOKUP(J255,'Information Page'!$C$24:$F$123,4,FALSE)),\"-\",VLOOKUP(J255,'Information Page'!$C$24:$F$123,4,FALSE))","v":"-"},null,"0"]
[null,null,236,null,null,null,null,null,null,null,{"$f":"IF(ISERROR(VLOOKUP(J256,'Information Page'!$C$24:$F$123,2,FALSE)),\"-\",VLOOKUP(J256,'Information Page'!$C$24:$F$123,2,FALSE))","v":"-"},{"$f":"IF(ISERROR(VLOOKUP(J256,'Information Page'!$C$24:$F$123,3,FALSE)),\"-\",VLOOKUP(J256,'Information Page'!$C$24:$F$123,3,FALSE))","v":"-"},{"$f":"IF(ISERROR(VLOOKUP(J256,'Information Page'!$C$24:$F$123,4,FALSE)),\"-\",VLOOKUP(J256,'Information Page'!$C$24:$F$123,4,FALSE))","v":"-"},null,"0"]
[null,null,237,null,null,null,null,null,null,null,{"$f":"IF(ISERROR(VLOOKUP(J257,'Information Page'!$C$24:$F$123,2,FALSE)),\"-\",VLOOKUP(J257,'Information Page'!$C$24:$F$123,2,FALSE))","v":"-"},{"$f":"IF(ISERROR(VLOOKUP(J257,'Information Page'!$C$24:$F$123,3,FALSE)),\"-\",VLOOKUP(J257,'Information Page'!$C$24:$F$123,3,FALSE))","v":"-"},{"$f":"IF(ISERROR(VLOOKUP(J257,'Information Page'!$C$24:$F$123,4,FALSE)),\"-\",VLOOKUP(J257,'Information Page'!$C$24:$F$123,4,FALSE))","v":"-"},null,"0"]
[null,null,238,null,null,null,null,null,null,null,{"$f":"IF(ISERROR(VLOOKUP(J258,'Information Page'!$C$24:$F$123,2,FALSE)),\"-\",VLOOKUP(J258,'Information Page'!$C$24:$F$123,2,FALSE))","v":"-"},{"$f":"IF(ISERROR(VLOOKUP(J258,'Information Page'!$C$24:$F$123,3,FALSE)),\"-\",VLOOKUP(J258,'Information Page'!$C$24:$F$123,3,FALSE))","v":"-"},{"$f":"IF(ISERROR(VLOOKUP(J258,'Information Page'!$C$24:$F$123,4,FALSE)),\"-\",VLOOKUP(J258,'Information Page'!$C$24:$F$123,4,FALSE))","v":"-"},null,"0"]
[null,null,239,null,null,null,null,null,null,null,{"$f":"IF(ISERROR(VLOOKUP(J259,'Information Page'!$C$24:$F$123,2,FALSE)),\"-\",VLOOKUP(J259,'Information Page'!$C$24:$F$123,2,FALSE))","v":"-"},{"$f":"IF(ISERROR(VLOOKUP(J259,'Information Page'!$C$24:$F$123,3,FALSE)),\"-\",VLOOKUP(J259,'Information Page'!$C$24:$F$123,3,FALSE))","v":"-"},{"$f":"IF(ISERROR(VLOOKUP(J259,'Information Page'!$C$24:$F$123,4,FALSE)),\"-\",VLOOKUP(J259,'Information Page'!$C$24:$F$123,4,FALSE))","v":"-"},null,"0"]
[null,null,240,null,null,null,null,null,null,null,{"$f":"IF(ISERROR(VLOOKUP(J260,'Information Page'!$C$24:$F$123,2,FALSE)),\"-\",VLOOKUP(J260,'Information Page'!$C$24:$F$123,2,FALSE))","v":"-"},{"$f":"IF(ISERROR(VLOOKUP(J260,'Information Page'!$C$24:$F$123,3,FALSE)),\"-\",VLOOKUP(J260,'Information Page'!$C$24:$F$123,3,FALSE))","v":"-"},{"$f":"IF(ISERROR(VLOOKUP(J260,'Information Page'!$C$24:$F$123,4,FALSE)),\"-\",VLOOKUP(J260,'Information Page'!$C$24:$F$123,4,FALSE))","v":"-"},null,"0"]
[null,null,241,null,null,null,null,null,null,null,{"$f":"IF(ISERROR(VLOOKUP(J261,'Information Page'!$C$24:$F$123,2,FALSE)),\"-\",VLOOKUP(J261,'Information Page'!$C$24:$F$123,2,FALSE))","v":"-"},{"$f":"IF(ISERROR(VLOOKUP(J261,'Information Page'!$C$24:$F$123,3,FALSE)),\"-\",VLOOKUP(J261,'Information Page'!$C$24:$F$123,3,FALSE))","v":"-"},{"$f":"IF(ISERROR(VLOOKUP(J261,'Information Page'!$C$24:$F$123,4,FALSE)),\"-\",VLOOKUP(J261,'Information Page'!$C$24:$F$123,4,FALSE))","v":"-"},null,"0"]
[null,null,242,null,null,null,null,null,null,null,{"$f":"IF(ISERROR(VLOOKUP(J262,'Information Page'!$C$24:$F$123,2,FALSE)),\"-\",VLOOKUP(J262,'Information Page'!$C$24:$F$123,2,FALSE))","v":"-"},{"$f":"IF(ISERROR(VLOOKUP(J262,'Information Page'!$C$24:$F$123,3,FALSE)),\"-\",VLOOKUP(J262,'Information Page'!$C$24:$F$123,3,FALSE))","v":"-"},{"$f":"IF(ISERROR(VLOOKUP(J262,'Information Page'!$C$24:$F$123,4,FALSE)),\"-\",VLOOKUP(J262,'Information Page'!$C$24:$F$123,4,FALSE))","v":"-"},null,"0"]
[null,null,243,null,null,null,null,null,null,null,{"$f":"IF(ISERROR(VLOOKUP(J263,'Information Page'!$C$24:$F$123,2,FALSE)),\"-\",VLOOKUP(J263,'Information Page'!$C$24:$F$123,2,FALSE))","v":"-"},{"$f":"IF(ISERROR(VLOOKUP(J263,'Information Page'!$C$24:$F$123,3,FALSE)),\"-\",VLOOKUP(J263,'Information Page'!$C$24:$F$123,3,FALSE))","v":"-"},{"$f":"IF(ISERROR(VLOOKUP(J263,'Information Page'!$C$24:$F$123,4,FALSE)),\"-\",VLOOKUP(J263,'Information Page'!$C$24:$F$123,4,FALSE))","v":"-"},null,"0"]
[null,null,244,null,null,null,null,null,null,null,{"$f":"IF(ISERROR(VLOOKUP(J264,'Information Page'!$C$24:$F$123,2,FALSE)),\"-\",VLOOKUP(J264,'Information Page'!$C$24:$F$123,2,FALSE))","v":"-"},{"$f":"IF(ISERROR(VLOOKUP(J264,'Information Page'!$C$24:$F$123,3,FALSE)),\"-\",VLOOKUP(J264,'Information Page'!$C$24:$F$123,3,FALSE))","v":"-"},{"$f":"IF(ISERROR(VLOOKUP(J264,'Information Page'!$C$24:$F$123,4,FALSE)),\"-\",VLOOKUP(J264,'Information Page'!$C$24:$F$123,4,FALSE))","v":"-"},null,"0"]
[null,null,245,null,null,null,null,null,null,null,{"$f":"IF(ISERROR(VLOOKUP(J265,'Information Page'!$C$24:$F$123,2,FALSE)),\"-\",VLOOKUP(J265,'Information Page'!$C$24:$F$123,2,FALSE))","v":"-"},{"$f":"IF(ISERROR(VLOOKUP(J265,'Information Page'!$C$24:$F$123,3,FALSE)),\"-\",VLOOKUP(J265,'Information Page'!$C$24:$F$123,3,FALSE))","v":"-"},{"$f":"IF(ISERROR(VLOOKUP(J265,'Information Page'!$C$24:$F$123,4,FALSE)),\"-\",VLOOKUP(J265,'Information Page'!$C$24:$F$123,4,FALSE))","v":"-"},null,"0"]
[null,null,246,null,null,null,null,null,null,null,{"$f":"IF(ISERROR(VLOOKUP(J266,'Information Page'!$C$24:$F$123,2,FALSE)),\"-\",VLOOKUP(J266,'Information Page'!$C$24:$F$123,2,FALSE))","v":"-"},{"$f":"IF(ISERROR(VLOOKUP(J266,'Information Page'!$C$24:$F$123,3,FALSE)),\"-\",VLOOKUP(J266,'Information Page'!$C$24:$F$123,3,FALSE))","v":"-"},{"$f":"IF(ISERROR(VLOOKUP(J266,'Information Page'!$C$24:$F$123,4,FALSE)),\"-\",VLOOKUP(J266,'Information Page'!$C$24:$F$123,4,FALSE))","v":"-"},null,"0"]
[null,null,247,null,null,null,null,null,null,null,{"$f":"IF(ISERROR(VLOOKUP(J267,'Information Page'!$C$24:$F$123,2,FALSE)),\"-\",VLOOKUP(J267,'Information Page'!$C$24:$F$123,2,FALSE))","v":"-"},{"$f":"IF(ISERROR(VLOOKUP(J267,'Information Page'!$C$24:$F$123,3,FALSE)),\"-\",VLOOKUP(J267,'Information Page'!$C$24:$F$123,3,FALSE))","v":"-"},{"$f":"IF(ISERROR(VLOOKUP(J267,'Information Page'!$C$24:$F$123,4,FALSE)),\"-\",VLOOKUP(J267,'Information Page'!$C$24:$F$123,4,FALSE))","v":"-"},null,"0"]
[null,null,248,null,null,null,null,null,null,null,{"$f":"IF(ISERROR(VLOOKUP(J268,'Information Page'!$C$24:$F$123,2,FALSE)),\"-\",VLOOKUP(J268,'Information Page'!$C$24:$F$123,2,FALSE))","v":"-"},{"$f":"IF(ISERROR(VLOOKUP(J268,'Information Page'!$C$24:$F$123,3,FALSE)),\"-\",VLOOKUP(J268,'Information Page'!$C$24:$F$123,3,FALSE))","v":"-"},{"$f":"IF(ISERROR(VLOOKUP(J268,'Information Page'!$C$24:$F$123,4,FALSE)),\"-\",VLOOKUP(J268,'Information Page'!$C$24:$F$123,4,FALSE))","v":"-"},null,"0"]
[null,null,249,null,null,null,null,null,null,null,{"$f":"IF(ISERROR(VLOOKUP(J269,'Information Page'!$C$24:$F$123,2,FALSE)),\"-\",VLOOKUP(J269,'Information Page'!$C$24:$F$123,2,FALSE))","v":"-"},{"$f":"IF(ISERROR(VLOOKUP(J269,'Information Page'!$C$24:$F$123,3,FALSE)),\"-\",VLOOKUP(J269,'Information Page'!$C$24:$F$123,3,FALSE))","v":"-"},{"$f":"IF(ISERROR(VLOOKUP(J269,'Information Page'!$C$24:$F$123,4,FALSE)),\"-\",VLOOKUP(J269,'Information Page'!$C$24:$F$123,4,FALSE))","v":"-"},null,"0"]
[null,null,250,null,null,null,null,null,null,null,{"$f":"IF(ISERROR(VLOOKUP(J270,'Information Page'!$C$24:$F$123,2,FALSE)),\"-\",VLOOKUP(J270,'Information Page'!$C$24:$F$123,2,FALSE))","v":"-"},{"$f":"IF(ISERROR(VLOOKUP(J270,'Information Page'!$C$24:$F$123,3,FALSE)),\"-\",VLOOKUP(J270,'Information Page'!$C$24:$F$123,3,FALSE))","v":"-"},{"$f":"IF(ISERROR(VLOOKUP(J270,'Information Page'!$C$24:$F$123,4,FALSE)),\"-\",VLOOKUP(J270,'Information Page'!$C$24:$F$123,4,FALSE))","v":"-"},null,"0"]
[null,null,251,null,null,null,null,null,null,null,{"$f":"IF(ISERROR(VLOOKUP(J271,'Information Page'!$C$24:$F$123,2,FALSE)),\"-\",VLOOKUP(J271,'Information Page'!$C$24:$F$123,2,FALSE))","v":"-"},{"$f":"IF(ISERROR(VLOOKUP(J271,'Information Page'!$C$24:$F$123,3,FALSE)),\"-\",VLOOKUP(J271,'Information Page'!$C$24:$F$123,3,FALSE))","v":"-"},{"$f":"IF(ISERROR(VLOOKUP(J271,'Information Page'!$C$24:$F$123,4,FALSE)),\"-\",VLOOKUP(J271,'Information Page'!$C$24:$F$123,4,FALSE))","v":"-"},null,"0"]
[null,null,252,null,null,null,null,null,null,null,{"$f":"IF(ISERROR(VLOOKUP(J272,'Information Page'!$C$24:$F$123,2,FALSE)),\"-\",VLOOKUP(J272,'Information Page'!$C$24:$F$123,2,FALSE))","v":"-"},{"$f":"IF(ISERROR(VLOOKUP(J272,'Information Page'!$C$24:$F$123,3,FALSE)),\"-\",VLOOKUP(J272,'Information Page'!$C$24:$F$123,3,FALSE))","v":"-"},{"$f":"IF(ISERROR(VLOOKUP(J272,'Information Page'!$C$24:$F$123,4,FALSE)),\"-\",VLOOKUP(J272,'Information Page'!$C$24:$F$123,4,FALSE))","v":"-"},null,"0"]
[null,null,253,null,null,null,null,null,null,null,{"$f":"IF(ISERROR(VLOOKUP(J273,'Information Page'!$C$24:$F$123,2,FALSE)),\"-\",VLOOKUP(J273,'Information Page'!$C$24:$F$123,2,FALSE))","v":"-"},{"$f":"IF(ISERROR(VLOOKUP(J273,'Information Page'!$C$24:$F$123,3,FALSE)),\"-\",VLOOKUP(J273,'Information Page'!$C$24:$F$123,3,FALSE))","v":"-"},{"$f":"IF(ISERROR(VLOOKUP(J273,'Information Page'!$C$24:$F$123,4,FALSE)),\"-\",VLOOKUP(J273,'Information Page'!$C$24:$F$123,4,FALSE))","v":"-"},null,"0"]
[null,null,254,null,null,null,null,null,null,null,{"$f":"IF(ISERROR(VLOOKUP(J274,'Information Page'!$C$24:$F$123,2,FALSE)),\"-\",VLOOKUP(J274,'Information Page'!$C$24:$F$123,2,FALSE))","v":"-"},{"$f":"IF(ISERROR(VLOOKUP(J274,'Information Page'!$C$24:$F$123,3,FALSE)),\"-\",VLOOKUP(J274,'Information Page'!$C$24:$F$123,3,FALSE))","v":"-"},{"$f":"IF(ISERROR(VLOOKUP(J274,'Information Page'!$C$24:$F$123,4,FALSE)),\"-\",VLOOKUP(J274,'Information Page'!$C$24:$F$123,4,FALSE))","v":"-"},null,"0"]
[null,null,255,null,null,null,null,null,null,null,{"$f":"IF(ISERROR(VLOOKUP(J275,'Information Page'!$C$24:$F$123,2,FALSE)),\"-\",VLOOKUP(J275,'Information Page'!$C$24:$F$123,2,FALSE))","v":"-"},{"$f":"IF(ISERROR(VLOOKUP(J275,'Information Page'!$C$24:$F$123,3,FALSE)),\"-\",VLOOKUP(J275,'Information Page'!$C$24:$F$123,3,FALSE))","v":"-"},{"$f":"IF(ISERROR(VLOOKUP(J275,'Information Page'!$C$24:$F$123,4,FALSE)),\"-\",VLOOKUP(J275,'Information Page'!$C$24:$F$123,4,FALSE))","v":"-"},null,"0"]
[null,null,256,null,null,null,null,null,null,null,{"$f":"IF(ISERROR(VLOOKUP(J276,'Information Page'!$C$24:$F$123,2,FALSE)),\"-\",VLOOKUP(J276,'Information Page'!$C$24:$F$123,2,FALSE))","v":"-"},{"$f":"IF(ISERROR(VLOOKUP(J276,'Information Page'!$C$24:$F$123,3,FALSE)),\"-\",VLOOKUP(J276,'Information Page'!$C$24:$F$123,3,FALSE))","v":"-"},{"$f":"IF(ISERROR(VLOOKUP(J276,'Information Page'!$C$24:$F$123,4,FALSE)),\"-\",VLOOKUP(J276,'Information Page'!$C$24:$F$123,4,FALSE))","v":"-"},null,"0"]
[null,null,257,null,null,null,null,null,null,null,{"$f":"IF(ISERROR(VLOOKUP(J277,'Information Page'!$C$24:$F$123,2,FALSE)),\"-\",VLOOKUP(J277,'Information Page'!$C$24:$F$123,2,FALSE))","v":"-"},{"$f":"IF(ISERROR(VLOOKUP(J277,'Information Page'!$C$24:$F$123,3,FALSE)),\"-\",VLOOKUP(J277,'Information Page'!$C$24:$F$123,3,FALSE))","v":"-"},{"$f":"IF(ISERROR(VLOOKUP(J277,'Information Page'!$C$24:$F$123,4,FALSE)),\"-\",VLOOKUP(J277,'Information Page'!$C$24:$F$123,4,FALSE))","v":"-"},null,"0"]
[null,null,258,null,null,null,null,null,null,null,{"$f":"IF(ISERROR(VLOOKUP(J278,'Information Page'!$C$24:$F$123,2,FALSE)),\"-\",VLOOKUP(J278,'Information Page'!$C$24:$F$123,2,FALSE))","v":"-"},{"$f":"IF(ISERROR(VLOOKUP(J278,'Information Page'!$C$24:$F$123,3,FALSE)),\"-\",VLOOKUP(J278,'Information Page'!$C$24:$F$123,3,FALSE))","v":"-"},{"$f":"IF(ISERROR(VLOOKUP(J278,'Information Page'!$C$24:$F$123,4,FALSE)),\"-\",VLOOKUP(J278,'Information Page'!$C$24:$F$123,4,FALSE))","v":"-"},null,{"$f":"IF(M278=\"-\",\"0\",M278*N278)","v":"0"}]
[null,null,259,null,null,null,null,null,null,null,{"$f":"IF(ISERROR(VLOOKUP(J279,'Information Page'!$C$24:$F$123,2,FALSE)),\"-\",VLOOKUP(J279,'Information Page'!$C$24:$F$123,2,FALSE))","v":"-"},{"$f":"IF(ISERROR(VLOOKUP(J279,'Information Page'!$C$24:$F$123,3,FALSE)),\"-\",VLOOKUP(J279,'Information Page'!$C$24:$F$123,3,FALSE))","v":"-"},{"$f":"IF(ISERROR(VLOOKUP(J279,'Information Page'!$C$24:$F$123,4,FALSE)),\"-\",VLOOKUP(J279,'Information Page'!$C$24:$F$123,4,FALSE))","v":"-"},null,"0"]
[null,null,260,null,null,null,null,null,null,null,{"$f":"IF(ISERROR(VLOOKUP(J280,'Information Page'!$C$24:$F$123,2,FALSE)),\"-\",VLOOKUP(J280,'Information Page'!$C$24:$F$123,2,FALSE))","v":"-"},{"$f":"IF(ISERROR(VLOOKUP(J280,'Information Page'!$C$24:$F$123,3,FALSE)),\"-\",VLOOKUP(J280,'Information Page'!$C$24:$F$123,3,FALSE))","v":"-"},{"$f":"IF(ISERROR(VLOOKUP(J280,'Information Page'!$C$24:$F$123,4,FALSE)),\"-\",VLOOKUP(J280,'Information Page'!$C$24:$F$123,4,FALSE))","v":"-"},null,"0"]
[null,null,261,null,null,null,null,null,null,null,{"$f":"IF(ISERROR(VLOOKUP(J281,'Information Page'!$C$24:$F$123,2,FALSE)),\"-\",VLOOKUP(J281,'Information Page'!$C$24:$F$123,2,FALSE))","v":"-"},{"$f":"IF(ISERROR(VLOOKUP(J281,'Information Page'!$C$24:$F$123,3,FALSE)),\"-\",VLOOKUP(J281,'Information Page'!$C$24:$F$123,3,FALSE))","v":"-"},{"$f":"IF(ISERROR(VLOOKUP(J281,'Information Page'!$C$24:$F$123,4,FALSE)),\"-\",VLOOKUP(J281,'Information Page'!$C$24:$F$123,4,FALSE))","v":"-"},null,"0"]
[null,null,262,null,null,null,null,null,null,null,{"$f":"IF(ISERROR(VLOOKUP(J282,'Information Page'!$C$24:$F$123,2,FALSE)),\"-\",VLOOKUP(J282,'Information Page'!$C$24:$F$123,2,FALSE))","v":"-"},{"$f":"IF(ISERROR(VLOOKUP(J282,'Information Page'!$C$24:$F$123,3,FALSE)),\"-\",VLOOKUP(J282,'Information Page'!$C$24:$F$123,3,FALSE))","v":"-"},{"$f":"IF(ISERROR(VLOOKUP(J282,'Information Page'!$C$24:$F$123,4,FALSE)),\"-\",VLOOKUP(J282,'Information Page'!$C$24:$F$123,4,FALSE))","v":"-"},null,"0"]
[null,null,263,null,null,null,null,null,null,null,{"$f":"IF(ISERROR(VLOOKUP(J283,'Information Page'!$C$24:$F$123,2,FALSE)),\"-\",VLOOKUP(J283,'Information Page'!$C$24:$F$123,2,FALSE))","v":"-"},{"$f":"IF(ISERROR(VLOOKUP(J283,'Information Page'!$C$24:$F$123,3,FALSE)),\"-\",VLOOKUP(J283,'Information Page'!$C$24:$F$123,3,FALSE))","v":"-"},{"$f":"IF(ISERROR(VLOOKUP(J283,'Information Page'!$C$24:$F$123,4,FALSE)),\"-\",VLOOKUP(J283,'Information Page'!$C$24:$F$123,4,FALSE))","v":"-"},null,"0"]
[null,null,264,null,null,null,null,null,null,null,{"$f":"IF(ISERROR(VLOOKUP(J284,'Information Page'!$C$24:$F$123,2,FALSE)),\"-\",VLOOKUP(J284,'Information Page'!$C$24:$F$123,2,FALSE))","v":"-"},{"$f":"IF(ISERROR(VLOOKUP(J284,'Information Page'!$C$24:$F$123,3,FALSE)),\"-\",VLOOKUP(J284,'Information Page'!$C$24:$F$123,3,FALSE))","v":"-"},{"$f":"IF(ISERROR(VLOOKUP(J284,'Information Page'!$C$24:$F$123,4,FALSE)),\"-\",VLOOKUP(J284,'Information Page'!$C$24:$F$123,4,FALSE))","v":"-"},null,"0"]
[null,null,265,null,null,null,null,null,null,null,{"$f":"IF(ISERROR(VLOOKUP(J285,'Information Page'!$C$24:$F$123,2,FALSE)),\"-\",VLOOKUP(J285,'Information Page'!$C$24:$F$123,2,FALSE))","v":"-"},{"$f":"IF(ISERROR(VLOOKUP(J285,'Information Page'!$C$24:$F$123,3,FALSE)),\"-\",VLOOKUP(J285,'Information Page'!$C$24:$F$123,3,FALSE))","v":"-"},{"$f":"IF(ISERROR(VLOOKUP(J285,'Information Page'!$C$24:$F$123,4,FALSE)),\"-\",VLOOKUP(J285,'Information Page'!$C$24:$F$123,4,FALSE))","v":"-"},null,"0"]
[null,null,266,null,null,null,null,null,null,null,{"$f":"IF(ISERROR(VLOOKUP(J286,'Information Page'!$C$24:$F$123,2,FALSE)),\"-\",VLOOKUP(J286,'Information Page'!$C$24:$F$123,2,FALSE))","v":"-"},{"$f":"IF(ISERROR(VLOOKUP(J286,'Information Page'!$C$24:$F$123,3,FALSE)),\"-\",VLOOKUP(J286,'Information Page'!$C$24:$F$123,3,FALSE))","v":"-"},{"$f":"IF(ISERROR(VLOOKUP(J286,'Information Page'!$C$24:$F$123,4,FALSE)),\"-\",VLOOKUP(J286,'Information Page'!$C$24:$F$123,4,FALSE))","v":"-"},null,"0"]
[null,null,267,null,null,null,null,null,null,null,{"$f":"IF(ISERROR(VLOOKUP(J287,'Information Page'!$C$24:$F$123,2,FALSE)),\"-\",VLOOKUP(J287,'Information Page'!$C$24:$F$123,2,FALSE))","v":"-"},{"$f":"IF(ISERROR(VLOOKUP(J287,'Information Page'!$C$24:$F$123,3,FALSE)),\"-\",VLOOKUP(J287,'Information Page'!$C$24:$F$123,3,FALSE))","v":"-"},{"$f":"IF(ISERROR(VLOOKUP(J287,'Information Page'!$C$24:$F$123,4,FALSE)),\"-\",VLOOKUP(J287,'Information Page'!$C$24:$F$123,4,FALSE))","v":"-"},null,"0"]
[null,null,268,null,null,null,null,null,null,null,{"$f":"IF(ISERROR(VLOOKUP(J288,'Information Page'!$C$24:$F$123,2,FALSE)),\"-\",VLOOKUP(J288,'Information Page'!$C$24:$F$123,2,FALSE))","v":"-"},{"$f":"IF(ISERROR(VLOOKUP(J288,'Information Page'!$C$24:$F$123,3,FALSE)),\"-\",VLOOKUP(J288,'Information Page'!$C$24:$F$123,3,FALSE))","v":"-"},{"$f":"IF(ISERROR(VLOOKUP(J288,'Information Page'!$C$24:$F$123,4,FALSE)),\"-\",VLOOKUP(J288,'Information Page'!$C$24:$F$123,4,FALSE))","v":"-"},null,"0"]
[null,null,269,null,null,null,null,null,null,null,{"$f":"IF(ISERROR(VLOOKUP(J289,'Information Page'!$C$24:$F$123,2,FALSE)),\"-\",VLOOKUP(J289,'Information Page'!$C$24:$F$123,2,FALSE))","v":"-"},{"$f":"IF(ISERROR(VLOOKUP(J289,'Information Page'!$C$24:$F$123,3,FALSE)),\"-\",VLOOKUP(J289,'Information Page'!$C$24:$F$123,3,FALSE))","v":"-"},{"$f":"IF(ISERROR(VLOOKUP(J289,'Information Page'!$C$24:$F$123,4,FALSE)),\"-\",VLOOKUP(J289,'Information Page'!$C$24:$F$123,4,FALSE))","v":"-"},null,"0"]
[null,null,270,null,null,null,null,null,null,null,{"$f":"IF(ISERROR(VLOOKUP(J290,'Information Page'!$C$24:$F$123,2,FALSE)),\"-\",VLOOKUP(J290,'Information Page'!$C$24:$F$123,2,FALSE))","v":"-"},{"$f":"IF(ISERROR(VLOOKUP(J290,'Information Page'!$C$24:$F$123,3,FALSE)),\"-\",VLOOKUP(J290,'Information Page'!$C$24:$F$123,3,FALSE))","v":"-"},{"$f":"IF(ISERROR(VLOOKUP(J290,'Information Page'!$C$24:$F$123,4,FALSE)),\"-\",VLOOKUP(J290,'Information Page'!$C$24:$F$123,4,FALSE))","v":"-"},null,"0"]
[null,null,271,null,null,null,null,null,null,null,{"$f":"IF(ISERROR(VLOOKUP(J291,'Information Page'!$C$24:$F$123,2,FALSE)),\"-\",VLOOKUP(J291,'Information Page'!$C$24:$F$123,2,FALSE))","v":"-"},{"$f":"IF(ISERROR(VLOOKUP(J291,'Information Page'!$C$24:$F$123,3,FALSE)),\"-\",VLOOKUP(J291,'Information Page'!$C$24:$F$123,3,FALSE))","v":"-"},{"$f":"IF(ISERROR(VLOOKUP(J291,'Information Page'!$C$24:$F$123,4,FALSE)),\"-\",VLOOKUP(J291,'Information Page'!$C$24:$F$123,4,FALSE))","v":"-"},null,"0"]
[null,null,272,null,null,null,null,null,null,null,{"$f":"IF(ISERROR(VLOOKUP(J292,'Information Page'!$C$24:$F$123,2,FALSE)),\"-\",VLOOKUP(J292,'Information Page'!$C$24:$F$123,2,FALSE))","v":"-"},{"$f":"IF(ISERROR(VLOOKUP(J292,'Information Page'!$C$24:$F$123,3,FALSE)),\"-\",VLOOKUP(J292,'Information Page'!$C$24:$F$123,3,FALSE))","v":"-"},{"$f":"IF(ISERROR(VLOOKUP(J292,'Information Page'!$C$24:$F$123,4,FALSE)),\"-\",VLOOKUP(J292,'Information Page'!$C$24:$F$123,4,FALSE))","v":"-"},null,"0"]
[null,null,273,null,null,null,null,null,null,null,{"$f":"IF(ISERROR(VLOOKUP(J293,'Information Page'!$C$24:$F$123,2,FALSE)),\"-\",VLOOKUP(J293,'Information Page'!$C$24:$F$123,2,FALSE))","v":"-"},{"$f":"IF(ISERROR(VLOOKUP(J293,'Information Page'!$C$24:$F$123,3,FALSE)),\"-\",VLOOKUP(J293,'Information Page'!$C$24:$F$123,3,FALSE))","v":"-"},{"$f":"IF(ISERROR(VLOOKUP(J293,'Information Page'!$C$24:$F$123,4,FALSE)),\"-\",VLOOKUP(J293,'Information Page'!$C$24:$F$123,4,FALSE))","v":"-"},null,"0"]
[null,null,274,null,null,null,null,null,null,null,{"$f":"IF(ISERROR(VLOOKUP(J294,'Information Page'!$C$24:$F$123,2,FALSE)),\"-\",VLOOKUP(J294,'Information Page'!$C$24:$F$123,2,FALSE))","v":"-"},{"$f":"IF(ISERROR(VLOOKUP(J294,'Information Page'!$C$24:$F$123,3,FALSE)),\"-\",VLOOKUP(J294,'Information Page'!$C$24:$F$123,3,FALSE))","v":"-"},{"$f":"IF(ISERROR(VLOOKUP(J294,'Information Page'!$C$24:$F$123,4,FALSE)),\"-\",VLOOKUP(J294,'Information Page'!$C$24:$F$123,4,FALSE))","v":"-"},null,"0"]
[null,null,275,null,null,null,null,null,null,null,{"$f":"IF(ISERROR(VLOOKUP(J295,'Information Page'!$C$24:$F$123,2,FALSE)),\"-\",VLOOKUP(J295,'Information Page'!$C$24:$F$123,2,FALSE))","v":"-"},{"$f":"IF(ISERROR(VLOOKUP(J295,'Information Page'!$C$24:$F$123,3,FALSE)),\"-\",VLOOKUP(J295,'Information Page'!$C$24:$F$123,3,FALSE))","v":"-"},{"$f":"IF(ISERROR(VLOOKUP(J295,'Information Page'!$C$24:$F$123,4,FALSE)),\"-\",VLOOKUP(J295,'Information Page'!$C$24:$F$123,4,FALSE))","v":"-"},null,"0"]
[null,null,276,null,null,null,null,null,null,null,{"$f":"IF(ISERROR(VLOOKUP(J296,'Information Page'!$C$24:$F$123,2,FALSE)),\"-\",VLOOKUP(J296,'Information Page'!$C$24:$F$123,2,FALSE))","v":"-"},{"$f":"IF(ISERROR(VLOOKUP(J296,'Information Page'!$C$24:$F$123,3,FALSE)),\"-\",VLOOKUP(J296,'Information Page'!$C$24:$F$123,3,FALSE))","v":"-"},{"$f":"IF(ISERROR(VLOOKUP(J296,'Information Page'!$C$24:$F$123,4,FALSE)),\"-\",VLOOKUP(J296,'Information Page'!$C$24:$F$123,4,FALSE))","v":"-"},null,"0"]
[null,null,277,null,null,null,null,null,null,null,{"$f":"IF(ISERROR(VLOOKUP(J297,'Information Page'!$C$24:$F$123,2,FALSE)),\"-\",VLOOKUP(J297,'Information Page'!$C$24:$F$123,2,FALSE))","v":"-"},{"$f":"IF(ISERROR(VLOOKUP(J297,'Information Page'!$C$24:$F$123,3,FALSE)),\"-\",VLOOKUP(J297,'Information Page'!$C$24:$F$123,3,FALSE))","v":"-"},{"$f":"IF(ISERROR(VLOOKUP(J297,'Information Page'!$C$24:$F$123,4,FALSE)),\"-\",VLOOKUP(J297,'Information Page'!$C$24:$F$123,4,FALSE))","v":"-"},null,"0"]
[null,null,278,null,null,null,null,null,null,null,{"$f":"IF(ISERROR(VLOOKUP(J298,'Information Page'!$C$24:$F$123,2,FALSE)),\"-\",VLOOKUP(J298,'Information Page'!$C$24:$F$123,2,FALSE))","v":"-"},{"$f":"IF(ISERROR(VLOOKUP(J298,'Information Page'!$C$24:$F$123,3,FALSE)),\"-\",VLOOKUP(J298,'Information Page'!$C$24:$F$123,3,FALSE))","v":"-"},{"$f":"IF(ISERROR(VLOOKUP(J298,'Information Page'!$C$24:$F$123,4,FALSE)),\"-\",VLOOKUP(J298,'Information Page'!$C$24:$F$123,4,FALSE))","v":"-"},null,"0"]
[null,null,279,null,null,null,null,null,null,null,{"$f":"IF(ISERROR(VLOOKUP(J299,'Information Page'!$C$24:$F$123,2,FALSE)),\"-\",VLOOKUP(J299,'Information Page'!$C$24:$F$123,2,FALSE))","v":"-"},{"$f":"IF(ISERROR(VLOOKUP(J299,'Information Page'!$C$24:$F$123,3,FALSE)),\"-\",VLOOKUP(J299,'Information Page'!$C$24:$F$123,3,FALSE))","v":"-"},{"$f":"IF(ISERROR(VLOOKUP(J299,'Information Page'!$C$24:$F$123,4,FALSE)),\"-\",VLOOKUP(J299,'Information Page'!$C$24:$F$123,4,FALSE))","v":"-"},null,"0"]
[null,null,280,null,null,null,null,null,null,null,{"$f":"IF(ISERROR(VLOOKUP(J300,'Information Page'!$C$24:$F$123,2,FALSE)),\"-\",VLOOKUP(J300,'Information Page'!$C$24:$F$123,2,FALSE))","v":"-"},{"$f":"IF(ISERROR(VLOOKUP(J300,'Information Page'!$C$24:$F$123,3,FALSE)),\"-\",VLOOKUP(J300,'Information Page'!$C$24:$F$123,3,FALSE))","v":"-"},{"$f":"IF(ISERROR(VLOOKUP(J300,'Information Page'!$C$24:$F$123,4,FALSE)),\"-\",VLOOKUP(J300,'Information Page'!$C$24:$F$123,4,FALSE))","v":"-"},null,"0"]
[null,null,281,null,null,null,null,null,null,null,{"$f":"IF(ISERROR(VLOOKUP(J301,'Information Page'!$C$24:$F$123,2,FALSE)),\"-\",VLOOKUP(J301,'Information Page'!$C$24:$F$123,2,FALSE))","v":"-"},{"$f":"IF(ISERROR(VLOOKUP(J301,'Information Page'!$C$24:$F$123,3,FALSE)),\"-\",VLOOKUP(J301,'Information Page'!$C$24:$F$123,3,FALSE))","v":"-"},{"$f":"IF(ISERROR(VLOOKUP(J301,'Information Page'!$C$24:$F$123,4,FALSE)),\"-\",VLOOKUP(J301,'Information Page'!$C$24:$F$123,4,FALSE))","v":"-"},null,"0"]
[null,null,282,null,null,null,null,null,null,null,{"$f":"IF(ISERROR(VLOOKUP(J302,'Information Page'!$C$24:$F$123,2,FALSE)),\"-\",VLOOKUP(J302,'Information Page'!$C$24:$F$123,2,FALSE))","v":"-"},{"$f":"IF(ISERROR(VLOOKUP(J302,'Information Page'!$C$24:$F$123,3,FALSE)),\"-\",VLOOKUP(J302,'Information Page'!$C$24:$F$123,3,FALSE))","v":"-"},{"$f":"IF(ISERROR(VLOOKUP(J302,'Information Page'!$C$24:$F$123,4,FALSE)),\"-\",VLOOKUP(J302,'Information Page'!$C$24:$F$123,4,FALSE))","v":"-"},null,"0"]
[null,null,283,null,null,null,null,null,null,null,{"$f":"IF(ISERROR(VLOOKUP(J303,'Information Page'!$C$24:$F$123,2,FALSE)),\"-\",VLOOKUP(J303,'Information Page'!$C$24:$F$123,2,FALSE))","v":"-"},{"$f":"IF(ISERROR(VLOOKUP(J303,'Information Page'!$C$24:$F$123,3,FALSE)),\"-\",VLOOKUP(J303,'Information Page'!$C$24:$F$123,3,FALSE))","v":"-"},{"$f":"IF(ISERROR(VLOOKUP(J303,'Information Page'!$C$24:$F$123,4,FALSE)),\"-\",VLOOKUP(J303,'Information Page'!$C$24:$F$123,4,FALSE))","v":"-"},null,"0"]
[null,null,284,null,null,null,null,null,null,null,{"$f":"IF(ISERROR(VLOOKUP(J304,'Information Page'!$C$24:$F$123,2,FALSE)),\"-\",VLOOKUP(J304,'Information Page'!$C$24:$F$123,2,FALSE))","v":"-"},{"$f":"IF(ISERROR(VLOOKUP(J304,'Information Page'!$C$24:$F$123,3,FALSE)),\"-\",VLOOKUP(J304,'Information Page'!$C$24:$F$123,3,FALSE))","v":"-"},{"$f":"IF(ISERROR(VLOOKUP(J304,'Information Page'!$C$24:$F$123,4,FALSE)),\"-\",VLOOKUP(J304,'Information Page'!$C$24:$F$123,4,FALSE))","v":"-"},null,"0"]
[null,null,285,null,null,null,null,null,null,null,{"$f":"IF(ISERROR(VLOOKUP(J305,'Information Page'!$C$24:$F$123,2,FALSE)),\"-\",VLOOKUP(J305,'Information Page'!$C$24:$F$123,2,FALSE))","v":"-"},{"$f":"IF(ISERROR(VLOOKUP(J305,'Information Page'!$C$24:$F$123,3,FALSE)),\"-\",VLOOKUP(J305,'Information Page'!$C$24:$F$123,3,FALSE))","v":"-"},{"$f":"IF(ISERROR(VLOOKUP(J305,'Information Page'!$C$24:$F$123,4,FALSE)),\"-\",VLOOKUP(J305,'Information Page'!$C$24:$F$123,4,FALSE))","v":"-"},null,"0"]
[null,null,286,null,null,null,null,null,null,null,{"$f":"IF(ISERROR(VLOOKUP(J306,'Information Page'!$C$24:$F$123,2,FALSE)),\"-\",VLOOKUP(J306,'Information Page'!$C$24:$F$123,2,FALSE))","v":"-"},{"$f":"IF(ISERROR(VLOOKUP(J306,'Information Page'!$C$24:$F$123,3,FALSE)),\"-\",VLOOKUP(J306,'Information Page'!$C$24:$F$123,3,FALSE))","v":"-"},{"$f":"IF(ISERROR(VLOOKUP(J306,'Information Page'!$C$24:$F$123,4,FALSE)),\"-\",VLOOKUP(J306,'Information Page'!$C$24:$F$123,4,FALSE))","v":"-"},null,"0"]
[null,null,287,null,null,null,null,null,null,null,{"$f":"IF(ISERROR(VLOOKUP(J307,'Information Page'!$C$24:$F$123,2,FALSE)),\"-\",VLOOKUP(J307,'Information Page'!$C$24:$F$123,2,FALSE))","v":"-"},{"$f":"IF(ISERROR(VLOOKUP(J307,'Information Page'!$C$24:$F$123,3,FALSE)),\"-\",VLOOKUP(J307,'Information Page'!$C$24:$F$123,3,FALSE))","v":"-"},{"$f":"IF(ISERROR(VLOOKUP(J307,'Information Page'!$C$24:$F$123,4,FALSE)),\"-\",VLOOKUP(J307,'Information Page'!$C$24:$F$123,4,FALSE))","v":"-"},null,"0"]
[null,null,288,null,null,null,null,null,null,null,{"$f":"IF(ISERROR(VLOOKUP(J308,'Information Page'!$C$24:$F$123,2,FALSE)),\"-\",VLOOKUP(J308,'Information Page'!$C$24:$F$123,2,FALSE))","v":"-"},{"$f":"IF(ISERROR(VLOOKUP(J308,'Information Page'!$C$24:$F$123,3,FALSE)),\"-\",VLOOKUP(J308,'Information Page'!$C$24:$F$123,3,FALSE))","v":"-"},{"$f":"IF(ISERROR(VLOOKUP(J308,'Information Page'!$C$24:$F$123,4,FALSE)),\"-\",VLOOKUP(J308,'Information Page'!$C$24:$F$123,4,FALSE))","v":"-"},null,"0"]
[null,null,289,null,null,null,null,null,null,null,{"$f":"IF(ISERROR(VLOOKUP(J309,'Information Page'!$C$24:$F$123,2,FALSE)),\"-\",VLOOKUP(J309,'Information Page'!$C$24:$F$123,2,FALSE))","v":"-"},{"$f":"IF(ISERROR(VLOOKUP(J309,'Information Page'!$C$24:$F$123,3,FALSE)),\"-\",VLOOKUP(J309,'Information Page'!$C$24:$F$123,3,FALSE))","v":"-"},{"$f":"IF(ISERROR(VLOOKUP(J309,'Information Page'!$C$24:$F$123,4,FALSE)),\"-\",VLOOKUP(J309,'Information Page'!$C$24:$F$123,4,FALSE))","v":"-"},null,"0"]
[null,null,290,null,null,null,null,null,null,null,{"$f":"IF(ISERROR(VLOOKUP(J310,'Information Page'!$C$24:$F$123,2,FALSE)),\"-\",VLOOKUP(J310,'Information Page'!$C$24:$F$123,2,FALSE))","v":"-"},{"$f":"IF(ISERROR(VLOOKUP(J310,'Information Page'!$C$24:$F$123,3,FALSE)),\"-\",VLOOKUP(J310,'Information Page'!$C$24:$F$123,3,FALSE))","v":"-"},{"$f":"IF(ISERROR(VLOOKUP(J310,'Information Page'!$C$24:$F$123,4,FALSE)),\"-\",VLOOKUP(J310,'Information Page'!$C$24:$F$123,4,FALSE))","v":"-"},null,"0"]
[null,null,291,null,null,null,null,null,null,null,{"$f":"IF(ISERROR(VLOOKUP(J311,'Information Page'!$C$24:$F$123,2,FALSE)),\"-\",VLOOKUP(J311,'Information Page'!$C$24:$F$123,2,FALSE))","v":"-"},{"$f":"IF(ISERROR(VLOOKUP(J311,'Information Page'!$C$24:$F$123,3,FALSE)),\"-\",VLOOKUP(J311,'Information Page'!$C$24:$F$123,3,FALSE))","v":"-"},{"$f":"IF(ISERROR(VLOOKUP(J311,'Information Page'!$C$24:$F$123,4,FALSE)),\"-\",VLOOKUP(J311,'Information Page'!$C$24:$F$123,4,FALSE))","v":"-"},null,"0"]
[null,null,292,null,null,null,null,null,null,null,{"$f":"IF(ISERROR(VLOOKUP(J312,'Information Page'!$C$24:$F$123,2,FALSE)),\"-\",VLOOKUP(J312,'Information Page'!$C$24:$F$123,2,FALSE))","v":"-"},{"$f":"IF(ISERROR(VLOOKUP(J312,'Information Page'!$C$24:$F$123,3,FALSE)),\"-\",VLOOKUP(J312,'Information Page'!$C$24:$F$123,3,FALSE))","v":"-"},{"$f":"IF(ISERROR(VLOOKUP(J312,'Information Page'!$C$24:$F$123,4,FALSE)),\"-\",VLOOKUP(J312,'Information Page'!$C$24:$F$123,4,FALSE))","v":"-"},null,"0"]
[null,null,293,null,null,null,null,null,null,null,{"$f":"IF(ISERROR(VLOOKUP(J313,'Information Page'!$C$24:$F$123,2,FALSE)),\"-\",VLOOKUP(J313,'Information Page'!$C$24:$F$123,2,FALSE))","v":"-"},{"$f":"IF(ISERROR(VLOOKUP(J313,'Information Page'!$C$24:$F$123,3,FALSE)),\"-\",VLOOKUP(J313,'Information Page'!$C$24:$F$123,3,FALSE))","v":"-"},{"$f":"IF(ISERROR(VLOOKUP(J313,'Information Page'!$C$24:$F$123,4,FALSE)),\"-\",VLOOKUP(J313,'Information Page'!$C$24:$F$123,4,FALSE))","v":"-"},null,"0"]
[null,null,294,null,null,null,null,null,null,null,{"$f":"IF(ISERROR(VLOOKUP(J314,'Information Page'!$C$24:$F$123,2,FALSE)),\"-\",VLOOKUP(J314,'Information Page'!$C$24:$F$123,2,FALSE))","v":"-"},{"$f":"IF(ISERROR(VLOOKUP(J314,'Information Page'!$C$24:$F$123,3,FALSE)),\"-\",VLOOKUP(J314,'Information Page'!$C$24:$F$123,3,FALSE))","v":"-"},{"$f":"IF(ISERROR(VLOOKUP(J314,'Information Page'!$C$24:$F$123,4,FALSE)),\"-\",VLOOKUP(J314,'Information Page'!$C$24:$F$123,4,FALSE))","v":"-"},null,"0"]
[null,null,295,null,null,null,null,null,null,null,{"$f":"IF(ISERROR(VLOOKUP(J315,'Information Page'!$C$24:$F$123,2,FALSE)),\"-\",VLOOKUP(J315,'Information Page'!$C$24:$F$123,2,FALSE))","v":"-"},{"$f":"IF(ISERROR(VLOOKUP(J315,'Information Page'!$C$24:$F$123,3,FALSE)),\"-\",VLOOKUP(J315,'Information Page'!$C$24:$F$123,3,FALSE))","v":"-"},{"$f":"IF(ISERROR(VLOOKUP(J315,'Information Page'!$C$24:$F$123,4,FALSE)),\"-\",VLOOKUP(J315,'Information Page'!$C$24:$F$123,4,FALSE))","v":"-"},null,"0"]
[null,null,296,null,null,null,null,null,null,null,{"$f":"IF(ISERROR(VLOOKUP(J316,'Information Page'!$C$24:$F$123,2,FALSE)),\"-\",VLOOKUP(J316,'Information Page'!$C$24:$F$123,2,FALSE))","v":"-"},{"$f":"IF(ISERROR(VLOOKUP(J316,'Information Page'!$C$24:$F$123,3,FALSE)),\"-\",VLOOKUP(J316,'Information Page'!$C$24:$F$123,3,FALSE))","v":"-"},{"$f":"IF(ISERROR(VLOOKUP(J316,'Information Page'!$C$24:$F$123,4,FALSE)),\"-\",VLOOKUP(J316,'Information Page'!$C$24:$F$123,4,FALSE))","v":"-"},null,"0"]
[null,null,297,null,null,null,null,null,null,null,{"$f":"IF(ISERROR(VLOOKUP(J317,'Information Page'!$C$24:$F$123,2,FALSE)),\"-\",VLOOKUP(J317,'Information Page'!$C$24:$F$123,2,FALSE))","v":"-"},{"$f":"IF(ISERROR(VLOOKUP(J317,'Information Page'!$C$24:$F$123,3,FALSE)),\"-\",VLOOKUP(J317,'Information Page'!$C$24:$F$123,3,FALSE))","v":"-"},{"$f":"IF(ISERROR(VLOOKUP(J317,'Information Page'!$C$24:$F$123,4,FALSE)),\"-\",VLOOKUP(J317,'Information Page'!$C$24:$F$123,4,FALSE))","v":"-"},null,"0"]
[null,null,298,null,null,null,null,null,null,null,{"$f":"IF(ISERROR(VLOOKUP(J318,'Information Page'!$C$24:$F$123,2,FALSE)),\"-\",VLOOKUP(J318,'Information Page'!$C$24:$F$123,2,FALSE))","v":"-"},{"$f":"IF(ISERROR(VLOOKUP(J318,'Information Page'!$C$24:$F$123,3,FALSE)),\"-\",VLOOKUP(J318,'Information Page'!$C$24:$F$123,3,FALSE))","v":"-"},{"$f":"IF(ISERROR(VLOOKUP(J318,'Information Page'!$C$24:$F$123,4,FALSE)),\"-\",VLOOKUP(J318,'Information Page'!$C$24:$F$123,4,FALSE))","v":"-"},null,"0"]
[null,null,299,null,null,null,null,null,null,null,{"$f":"IF(ISERROR(VLOOKUP(J319,'Information Page'!$C$24:$F$123,2,FALSE)),\"-\",VLOOKUP(J319,'Information Page'!$C$24:$F$123,2,FALSE))","v":"-"},{"$f":"IF(ISERROR(VLOOKUP(J319,'Information Page'!$C$24:$F$123,3,FALSE)),\"-\",VLOOKUP(J319,'Information Page'!$C$24:$F$123,3,FALSE))","v":"-"},{"$f":"IF(ISERROR(VLOOKUP(J319,'Information Page'!$C$24:$F$123,4,FALSE)),\"-\",VLOOKUP(J319,'Information Page'!$C$24:$F$123,4,FALSE))","v":"-"},null,"0"]
[null,null,300,null,null,null,null,null,null,null,{"$f":"IF(ISERROR(VLOOKUP(J320,'Information Page'!$C$24:$F$123,2,FALSE)),\"-\",VLOOKUP(J320,'Information Page'!$C$24:$F$123,2,FALSE))","v":"-"},{"$f":"IF(ISERROR(VLOOKUP(J320,'Information Page'!$C$24:$F$123,3,FALSE)),\"-\",VLOOKUP(J320,'Information Page'!$C$24:$F$123,3,FALSE))","v":"-"},{"$f":"IF(ISERROR(VLOOKUP(J320,'Information Page'!$C$24:$F$123,4,FALSE)),\"-\",VLOOKUP(J320,'Information Page'!$C$24:$F$123,4,FALSE))","v":"-"},null,"0"]
[null,null,301,null,null,null,null,null,null,null,{"$f":"IF(ISERROR(VLOOKUP(J321,'Information Page'!$C$24:$F$123,2,FALSE)),\"-\",VLOOKUP(J321,'Information Page'!$C$24:$F$123,2,FALSE))","v":"-"},{"$f":"IF(ISERROR(VLOOKUP(J321,'Information Page'!$C$24:$F$123,3,FALSE)),\"-\",VLOOKUP(J321,'Information Page'!$C$24:$F$123,3,FALSE))","v":"-"},{"$f":"IF(ISERROR(VLOOKUP(J321,'Information Page'!$C$24:$F$123,4,FALSE)),\"-\",VLOOKUP(J321,'Information Page'!$C$24:$F$123,4,FALSE))","v":"-"},null,"0"]
[null,null,302,null,null,null,null,null,null,null,{"$f":"IF(ISERROR(VLOOKUP(J322,'Information Page'!$C$24:$F$123,2,FALSE)),\"-\",VLOOKUP(J322,'Information Page'!$C$24:$F$123,2,FALSE))","v":"-"},{"$f":"IF(ISERROR(VLOOKUP(J322,'Information Page'!$C$24:$F$123,3,FALSE)),\"-\",VLOOKUP(J322,'Information Page'!$C$24:$F$123,3,FALSE))","v":"-"},{"$f":"IF(ISERROR(VLOOKUP(J322,'Information Page'!$C$24:$F$123,4,FALSE)),\"-\",VLOOKUP(J322,'Information Page'!$C$24:$F$123,4,FALSE))","v":"-"},null,"0"]
[null,null,303,null,null,null,null,null,null,null,{"$f":"IF(ISERROR(VLOOKUP(J323,'Information Page'!$C$24:$F$123,2,FALSE)),\"-\",VLOOKUP(J323,'Information Page'!$C$24:$F$123,2,FALSE))","v":"-"},{"$f":"IF(ISERROR(VLOOKUP(J323,'Information Page'!$C$24:$F$123,3,FALSE)),\"-\",VLOOKUP(J323,'Information Page'!$C$24:$F$123,3,FALSE))","v":"-"},{"$f":"IF(ISERROR(VLOOKUP(J323,'Information Page'!$C$24:$F$123,4,FALSE)),\"-\",VLOOKUP(J323,'Information Page'!$C$24:$F$123,4,FALSE))","v":"-"},null,"0"]
[null,null,304,null,null,null,null,null,null,null,{"$f":"IF(ISERROR(VLOOKUP(J324,'Information Page'!$C$24:$F$123,2,FALSE)),\"-\",VLOOKUP(J324,'Information Page'!$C$24:$F$123,2,FALSE))","v":"-"},{"$f":"IF(ISERROR(VLOOKUP(J324,'Information Page'!$C$24:$F$123,3,FALSE)),\"-\",VLOOKUP(J324,'Information Page'!$C$24:$F$123,3,FALSE))","v":"-"},{"$f":"IF(ISERROR(VLOOKUP(J324,'Information Page'!$C$24:$F$123,4,FALSE)),\"-\",VLOOKUP(J324,'Information Page'!$C$24:$F$123,4,FALSE))","v":"-"},null,"0"]
[null,null,305,null,null,null,null,null,null,null,{"$f":"IF(ISERROR(VLOOKUP(J325,'Information Page'!$C$24:$F$123,2,FALSE)),\"-\",VLOOKUP(J325,'Information Page'!$C$24:$F$123,2,FALSE))","v":"-"},{"$f":"IF(ISERROR(VLOOKUP(J325,'Information Page'!$C$24:$F$123,3,FALSE)),\"-\",VLOOKUP(J325,'Information Page'!$C$24:$F$123,3,FALSE))","v":"-"},{"$f":"IF(ISERROR(VLOOKUP(J325,'Information Page'!$C$24:$F$123,4,FALSE)),\"-\",VLOOKUP(J325,'Information Page'!$C$24:$F$123,4,FALSE))","v":"-"},null,"0"]
[null,null,306,null,null,null,null,null,null,null,{"$f":"IF(ISERROR(VLOOKUP(J326,'Information Page'!$C$24:$F$123,2,FALSE)),\"-\",VLOOKUP(J326,'Information Page'!$C$24:$F$123,2,FALSE))","v":"-"},{"$f":"IF(ISERROR(VLOOKUP(J326,'Information Page'!$C$24:$F$123,3,FALSE)),\"-\",VLOOKUP(J326,'Information Page'!$C$24:$F$123,3,FALSE))","v":"-"},{"$f":"IF(ISERROR(VLOOKUP(J326,'Information Page'!$C$24:$F$123,4,FALSE)),\"-\",VLOOKUP(J326,'Information Page'!$C$24:$F$123,4,FALSE))","v":"-"},null,"0"]
[null,null,307,null,null,null,null,null,null,null,{"$f":"IF(ISERROR(VLOOKUP(J327,'Information Page'!$C$24:$F$123,2,FALSE)),\"-\",VLOOKUP(J327,'Information Page'!$C$24:$F$123,2,FALSE))","v":"-"},{"$f":"IF(ISERROR(VLOOKUP(J327,'Information Page'!$C$24:$F$123,3,FALSE)),\"-\",VLOOKUP(J327,'Information Page'!$C$24:$F$123,3,FALSE))","v":"-"},{"$f":"IF(ISERROR(VLOOKUP(J327,'Information Page'!$C$24:$F$123,4,FALSE)),\"-\",VLOOKUP(J327,'Information Page'!$C$24:$F$123,4,FALSE))","v":"-"},null,"0"]
[null,null,308,null,null,null,null,null,null,null,{"$f":"IF(ISERROR(VLOOKUP(J328,'Information Page'!$C$24:$F$123,2,FALSE)),\"-\",VLOOKUP(J328,'Information Page'!$C$24:$F$123,2,FALSE))","v":"-"},{"$f":"IF(ISERROR(VLOOKUP(J328,'Information Page'!$C$24:$F$123,3,FALSE)),\"-\",VLOOKUP(J328,'Information Page'!$C$24:$F$123,3,FALSE))","v":"-"},{"$f":"IF(ISERROR(VLOOKUP(J328,'Information Page'!$C$24:$F$123,4,FALSE)),\"-\",VLOOKUP(J328,'Information Page'!$C$24:$F$123,4,FALSE))","v":"-"},null,"0"]
[null,null,309,null,null,null,null,null,null,null,{"$f":"IF(ISERROR(VLOOKUP(J329,'Information Page'!$C$24:$F$123,2,FALSE)),\"-\",VLOOKUP(J329,'Information Page'!$C$24:$F$123,2,FALSE))","v":"-"},{"$f":"IF(ISERROR(VLOOKUP(J329,'Information Page'!$C$24:$F$123,3,FALSE)),\"-\",VLOOKUP(J329,'Information Page'!$C$24:$F$123,3,FALSE))","v":"-"},{"$f":"IF(ISERROR(VLOOKUP(J329,'Information Page'!$C$24:$F$123,4,FALSE)),\"-\",VLOOKUP(J329,'Information Page'!$C$24:$F$123,4,FALSE))","v":"-"},null,"0"]
[null,null,310,null,null,null,null,null,null,null,{"$f":"IF(ISERROR(VLOOKUP(J330,'Information Page'!$C$24:$F$123,2,FALSE)),\"-\",VLOOKUP(J330,'Information Page'!$C$24:$F$123,2,FALSE))","v":"-"},{"$f":"IF(ISERROR(VLOOKUP(J330,'Information Page'!$C$24:$F$123,3,FALSE)),\"-\",VLOOKUP(J330,'Information Page'!$C$24:$F$123,3,FALSE))","v":"-"},{"$f":"IF(ISERROR(VLOOKUP(J330,'Information Page'!$C$24:$F$123,4,FALSE)),\"-\",VLOOKUP(J330,'Information Page'!$C$24:$F$123,4,FALSE))","v":"-"},null,"0"]
[null,null,311,null,null,null,null,null,null,null,{"$f":"IF(ISERROR(VLOOKUP(J331,'Information Page'!$C$24:$F$123,2,FALSE)),\"-\",VLOOKUP(J331,'Information Page'!$C$24:$F$123,2,FALSE))","v":"-"},{"$f":"IF(ISERROR(VLOOKUP(J331,'Information Page'!$C$24:$F$123,3,FALSE)),\"-\",VLOOKUP(J331,'Information Page'!$C$24:$F$123,3,FALSE))","v":"-"},{"$f":"IF(ISERROR(VLOOKUP(J331,'Information Page'!$C$24:$F$123,4,FALSE)),\"-\",VLOOKUP(J331,'Information Page'!$C$24:$F$123,4,FALSE))","v":"-"},null,"0"]
[null,null,312,null,null,null,null,null,null,null,{"$f":"IF(ISERROR(VLOOKUP(J332,'Information Page'!$C$24:$F$123,2,FALSE)),\"-\",VLOOKUP(J332,'Information Page'!$C$24:$F$123,2,FALSE))","v":"-"},{"$f":"IF(ISERROR(VLOOKUP(J332,'Information Page'!$C$24:$F$123,3,FALSE)),\"-\",VLOOKUP(J332,'Information Page'!$C$24:$F$123,3,FALSE))","v":"-"},{"$f":"IF(ISERROR(VLOOKUP(J332,'Information Page'!$C$24:$F$123,4,FALSE)),\"-\",VLOOKUP(J332,'Information Page'!$C$24:$F$123,4,FALSE))","v":"-"},null,"0"]
[null,null,313,null,null,null,null,null,null,null,{"$f":"IF(ISERROR(VLOOKUP(J333,'Information Page'!$C$24:$F$123,2,FALSE)),\"-\",VLOOKUP(J333,'Information Page'!$C$24:$F$123,2,FALSE))","v":"-"},{"$f":"IF(ISERROR(VLOOKUP(J333,'Information Page'!$C$24:$F$123,3,FALSE)),\"-\",VLOOKUP(J333,'Information Page'!$C$24:$F$123,3,FALSE))","v":"-"},{"$f":"IF(ISERROR(VLOOKUP(J333,'Information Page'!$C$24:$F$123,4,FALSE)),\"-\",VLOOKUP(J333,'Information Page'!$C$24:$F$123,4,FALSE))","v":"-"},null,"0"]
[null,null,314,null,null,null,null,null,null,null,{"$f":"IF(ISERROR(VLOOKUP(J334,'Information Page'!$C$24:$F$123,2,FALSE)),\"-\",VLOOKUP(J334,'Information Page'!$C$24:$F$123,2,FALSE))","v":"-"},{"$f":"IF(ISERROR(VLOOKUP(J334,'Information Page'!$C$24:$F$123,3,FALSE)),\"-\",VLOOKUP(J334,'Information Page'!$C$24:$F$123,3,FALSE))","v":"-"},{"$f":"IF(ISERROR(VLOOKUP(J334,'Information Page'!$C$24:$F$123,4,FALSE)),\"-\",VLOOKUP(J334,'Information Page'!$C$24:$F$123,4,FALSE))","v":"-"},null,"0"]
[null,null,315,null,null,null,null,null,null,null,{"$f":"IF(ISERROR(VLOOKUP(J335,'Information Page'!$C$24:$F$123,2,FALSE)),\"-\",VLOOKUP(J335,'Information Page'!$C$24:$F$123,2,FALSE))","v":"-"},{"$f":"IF(ISERROR(VLOOKUP(J335,'Information Page'!$C$24:$F$123,3,FALSE)),\"-\",VLOOKUP(J335,'Information Page'!$C$24:$F$123,3,FALSE))","v":"-"},{"$f":"IF(ISERROR(VLOOKUP(J335,'Information Page'!$C$24:$F$123,4,FALSE)),\"-\",VLOOKUP(J335,'Information Page'!$C$24:$F$123,4,FALSE))","v":"-"},null,"0"]
[null,null,316,null,null,null,null,null,null,null,{"$f":"IF(ISERROR(VLOOKUP(J336,'Information Page'!$C$24:$F$123,2,FALSE)),\"-\",VLOOKUP(J336,'Information Page'!$C$24:$F$123,2,FALSE))","v":"-"},{"$f":"IF(ISERROR(VLOOKUP(J336,'Information Page'!$C$24:$F$123,3,FALSE)),\"-\",VLOOKUP(J336,'Information Page'!$C$24:$F$123,3,FALSE))","v":"-"},{"$f":"IF(ISERROR(VLOOKUP(J336,'Information Page'!$C$24:$F$123,4,FALSE)),\"-\",VLOOKUP(J336,'Information Page'!$C$24:$F$123,4,FALSE))","v":"-"},null,"0"]
[null,null,317,null,null,null,null,null,null,null,{"$f":"IF(ISERROR(VLOOKUP(J337,'Information Page'!$C$24:$F$123,2,FALSE)),\"-\",VLOOKUP(J337,'Information Page'!$C$24:$F$123,2,FALSE))","v":"-"},{"$f":"IF(ISERROR(VLOOKUP(J337,'Information Page'!$C$24:$F$123,3,FALSE)),\"-\",VLOOKUP(J337,'Information Page'!$C$24:$F$123,3,FALSE))","v":"-"},{"$f":"IF(ISERROR(VLOOKUP(J337,'Information Page'!$C$24:$F$123,4,FALSE)),\"-\",VLOOKUP(J337,'Information Page'!$C$24:$F$123,4,FALSE))","v":"-"},null,"0"]
[null,null,318,null,null,null,null,null,null,null,{"$f":"IF(ISERROR(VLOOKUP(J338,'Information Page'!$C$24:$F$123,2,FALSE)),\"-\",VLOOKUP(J338,'Information Page'!$C$24:$F$123,2,FALSE))","v":"-"},{"$f":"IF(ISERROR(VLOOKUP(J338,'Information Page'!$C$24:$F$123,3,FALSE)),\"-\",VLOOKUP(J338,'Information Page'!$C$24:$F$123,3,FALSE))","v":"-"},{"$f":"IF(ISERROR(VLOOKUP(J338,'Information Page'!$C$24:$F$123,4,FALSE)),\"-\",VLOOKUP(J338,'Information Page'!$C$24:$F$123,4,FALSE))","v":"-"},null,"0"]
[null,null,319,null,null,null,null,null,null,null,{"$f":"IF(ISERROR(VLOOKUP(J339,'Information Page'!$C$24:$F$123,2,FALSE)),\"-\",VLOOKUP(J339,'Information Page'!$C$24:$F$123,2,FALSE))","v":"-"},{"$f":"IF(ISERROR(VLOOKUP(J339,'Information Page'!$C$24:$F$123,3,FALSE)),\"-\",VLOOKUP(J339,'Information Page'!$C$24:$F$123,3,FALSE))","v":"-"},{"$f":"IF(ISERROR(VLOOKUP(J339,'Information Page'!$C$24:$F$123,4,FALSE)),\"-\",VLOOKUP(J339,'Information Page'!$C$24:$F$123,4,FALSE))","v":"-"},null,"0"]
[null,null,320,null,null,null,null,null,null,null,{"$f":"IF(ISERROR(VLOOKUP(J340,'Information Page'!$C$24:$F$123,2,FALSE)),\"-\",VLOOKUP(J340,'Information Page'!$C$24:$F$123,2,FALSE))","v":"-"},{"$f":"IF(ISERROR(VLOOKUP(J340,'Information Page'!$C$24:$F$123,3,FALSE)),\"-\",VLOOKUP(J340,'Information Page'!$C$24:$F$123,3,FALSE))","v":"-"},{"$f":"IF(ISERROR(VLOOKUP(J340,'Information Page'!$C$24:$F$123,4,FALSE)),\"-\",VLOOKUP(J340,'Information Page'!$C$24:$F$123,4,FALSE))","v":"-"},null,"0"]
[null,null,321,null,null,null,null,null,null,null,{"$f":"IF(ISERROR(VLOOKUP(J341,'Information Page'!$C$24:$F$123,2,FALSE)),\"-\",VLOOKUP(J341,'Information Page'!$C$24:$F$123,2,FALSE))","v":"-"},{"$f":"IF(ISERROR(VLOOKUP(J341,'Information Page'!$C$24:$F$123,3,FALSE)),\"-\",VLOOKUP(J341,'Information Page'!$C$24:$F$123,3,FALSE))","v":"-"},{"$f":"IF(ISERROR(VLOOKUP(J341,'Information Page'!$C$24:$F$123,4,FALSE)),\"-\",VLOOKUP(J341,'Information Page'!$C$24:$F$123,4,FALSE))","v":"-"},null,"0"]
[null,null,322,null,null,null,null,null,null,null,{"$f":"IF(ISERROR(VLOOKUP(J342,'Information Page'!$C$24:$F$123,2,FALSE)),\"-\",VLOOKUP(J342,'Information Page'!$C$24:$F$123,2,FALSE))","v":"-"},{"$f":"IF(ISERROR(VLOOKUP(J342,'Information Page'!$C$24:$F$123,3,FALSE)),\"-\",VLOOKUP(J342,'Information Page'!$C$24:$F$123,3,FALSE))","v":"-"},{"$f":"IF(ISERROR(VLOOKUP(J342,'Information Page'!$C$24:$F$123,4,FALSE)),\"-\",VLOOKUP(J342,'Information Page'!$C$24:$F$123,4,FALSE))","v":"-"},null,{"$f":"IF(M342=\"-\",\"0\",M342*N342)","v":"0"}]
[null,null,323,null,null,null,null,null,null,null,{"$f":"IF(ISERROR(VLOOKUP(J343,'Information Page'!$C$24:$F$123,2,FALSE)),\"-\",VLOOKUP(J343,'Information Page'!$C$24:$F$123,2,FALSE))","v":"-"},{"$f":"IF(ISERROR(VLOOKUP(J343,'Information Page'!$C$24:$F$123,3,FALSE)),\"-\",VLOOKUP(J343,'Information Page'!$C$24:$F$123,3,FALSE))","v":"-"},{"$f":"IF(ISERROR(VLOOKUP(J343,'Information Page'!$C$24:$F$123,4,FALSE)),\"-\",VLOOKUP(J343,'Information Page'!$C$24:$F$123,4,FALSE))","v":"-"},null,"0"]
[null,null,324,null,null,null,null,null,null,null,{"$f":"IF(ISERROR(VLOOKUP(J344,'Information Page'!$C$24:$F$123,2,FALSE)),\"-\",VLOOKUP(J344,'Information Page'!$C$24:$F$123,2,FALSE))","v":"-"},{"$f":"IF(ISERROR(VLOOKUP(J344,'Information Page'!$C$24:$F$123,3,FALSE)),\"-\",VLOOKUP(J344,'Information Page'!$C$24:$F$123,3,FALSE))","v":"-"},{"$f":"IF(ISERROR(VLOOKUP(J344,'Information Page'!$C$24:$F$123,4,FALSE)),\"-\",VLOOKUP(J344,'Information Page'!$C$24:$F$123,4,FALSE))","v":"-"},null,"0"]
[null,null,325,null,null,null,null,null,null,null,{"$f":"IF(ISERROR(VLOOKUP(J345,'Information Page'!$C$24:$F$123,2,FALSE)),\"-\",VLOOKUP(J345,'Information Page'!$C$24:$F$123,2,FALSE))","v":"-"},{"$f":"IF(ISERROR(VLOOKUP(J345,'Information Page'!$C$24:$F$123,3,FALSE)),\"-\",VLOOKUP(J345,'Information Page'!$C$24:$F$123,3,FALSE))","v":"-"},{"$f":"IF(ISERROR(VLOOKUP(J345,'Information Page'!$C$24:$F$123,4,FALSE)),\"-\",VLOOKUP(J345,'Information Page'!$C$24:$F$123,4,FALSE))","v":"-"},null,"0"]
[null,null,326,null,null,null,null,null,null,null,{"$f":"IF(ISERROR(VLOOKUP(J346,'Information Page'!$C$24:$F$123,2,FALSE)),\"-\",VLOOKUP(J346,'Information Page'!$C$24:$F$123,2,FALSE))","v":"-"},{"$f":"IF(ISERROR(VLOOKUP(J346,'Information Page'!$C$24:$F$123,3,FALSE)),\"-\",VLOOKUP(J346,'Information Page'!$C$24:$F$123,3,FALSE))","v":"-"},{"$f":"IF(ISERROR(VLOOKUP(J346,'Information Page'!$C$24:$F$123,4,FALSE)),\"-\",VLOOKUP(J346,'Information Page'!$C$24:$F$123,4,FALSE))","v":"-"},null,"0"]
[null,null,327,null,null,null,null,null,null,null,{"$f":"IF(ISERROR(VLOOKUP(J347,'Information Page'!$C$24:$F$123,2,FALSE)),\"-\",VLOOKUP(J347,'Information Page'!$C$24:$F$123,2,FALSE))","v":"-"},{"$f":"IF(ISERROR(VLOOKUP(J347,'Information Page'!$C$24:$F$123,3,FALSE)),\"-\",VLOOKUP(J347,'Information Page'!$C$24:$F$123,3,FALSE))","v":"-"},{"$f":"IF(ISERROR(VLOOKUP(J347,'Information Page'!$C$24:$F$123,4,FALSE)),\"-\",VLOOKUP(J347,'Information Page'!$C$24:$F$123,4,FALSE))","v":"-"},null,"0"]
[null,null,328,null,null,null,null,null,null,null,{"$f":"IF(ISERROR(VLOOKUP(J348,'Information Page'!$C$24:$F$123,2,FALSE)),\"-\",VLOOKUP(J348,'Information Page'!$C$24:$F$123,2,FALSE))","v":"-"},{"$f":"IF(ISERROR(VLOOKUP(J348,'Information Page'!$C$24:$F$123,3,FALSE)),\"-\",VLOOKUP(J348,'Information Page'!$C$24:$F$123,3,FALSE))","v":"-"},{"$f":"IF(ISERROR(VLOOKUP(J348,'Information Page'!$C$24:$F$123,4,FALSE)),\"-\",VLOOKUP(J348,'Information Page'!$C$24:$F$123,4,FALSE))","v":"-"},null,"0"]
[null,null,329,null,null,null,null,null,null,null,{"$f":"IF(ISERROR(VLOOKUP(J349,'Information Page'!$C$24:$F$123,2,FALSE)),\"-\",VLOOKUP(J349,'Information Page'!$C$24:$F$123,2,FALSE))","v":"-"},{"$f":"IF(ISERROR(VLOOKUP(J349,'Information Page'!$C$24:$F$123,3,FALSE)),\"-\",VLOOKUP(J349,'Information Page'!$C$24:$F$123,3,FALSE))","v":"-"},{"$f":"IF(ISERROR(VLOOKUP(J349,'Information Page'!$C$24:$F$123,4,FALSE)),\"-\",VLOOKUP(J349,'Information Page'!$C$24:$F$123,4,FALSE))","v":"-"},null,"0"]
[null,null,330,null,null,null,null,null,null,null,{"$f":"IF(ISERROR(VLOOKUP(J350,'Information Page'!$C$24:$F$123,2,FALSE)),\"-\",VLOOKUP(J350,'Information Page'!$C$24:$F$123,2,FALSE))","v":"-"},{"$f":"IF(ISERROR(VLOOKUP(J350,'Information Page'!$C$24:$F$123,3,FALSE)),\"-\",VLOOKUP(J350,'Information Page'!$C$24:$F$123,3,FALSE))","v":"-"},{"$f":"IF(ISERROR(VLOOKUP(J350,'Information Page'!$C$24:$F$123,4,FALSE)),\"-\",VLOOKUP(J350,'Information Page'!$C$24:$F$123,4,FALSE))","v":"-"},null,"0"]
[null,null,331,null,null,null,null,null,null,null,{"$f":"IF(ISERROR(VLOOKUP(J351,'Information Page'!$C$24:$F$123,2,FALSE)),\"-\",VLOOKUP(J351,'Information Page'!$C$24:$F$123,2,FALSE))","v":"-"},{"$f":"IF(ISERROR(VLOOKUP(J351,'Information Page'!$C$24:$F$123,3,FALSE)),\"-\",VLOOKUP(J351,'Information Page'!$C$24:$F$123,3,FALSE))","v":"-"},{"$f":"IF(ISERROR(VLOOKUP(J351,'Information Page'!$C$24:$F$123,4,FALSE)),\"-\",VLOOKUP(J351,'Information Page'!$C$24:$F$123,4,FALSE))","v":"-"},null,"0"]
[null,null,332,null,null,null,null,null,null,null,{"$f":"IF(ISERROR(VLOOKUP(J352,'Information Page'!$C$24:$F$123,2,FALSE)),\"-\",VLOOKUP(J352,'Information Page'!$C$24:$F$123,2,FALSE))","v":"-"},{"$f":"IF(ISERROR(VLOOKUP(J352,'Information Page'!$C$24:$F$123,3,FALSE)),\"-\",VLOOKUP(J352,'Information Page'!$C$24:$F$123,3,FALSE))","v":"-"},{"$f":"IF(ISERROR(VLOOKUP(J352,'Information Page'!$C$24:$F$123,4,FALSE)),\"-\",VLOOKUP(J352,'Information Page'!$C$24:$F$123,4,FALSE))","v":"-"},null,"0"]
[null,null,333,null,null,null,null,null,null,null,{"$f":"IF(ISERROR(VLOOKUP(J353,'Information Page'!$C$24:$F$123,2,FALSE)),\"-\",VLOOKUP(J353,'Information Page'!$C$24:$F$123,2,FALSE))","v":"-"},{"$f":"IF(ISERROR(VLOOKUP(J353,'Information Page'!$C$24:$F$123,3,FALSE)),\"-\",VLOOKUP(J353,'Information Page'!$C$24:$F$123,3,FALSE))","v":"-"},{"$f":"IF(ISERROR(VLOOKUP(J353,'Information Page'!$C$24:$F$123,4,FALSE)),\"-\",VLOOKUP(J353,'Information Page'!$C$24:$F$123,4,FALSE))","v":"-"},null,"0"]
[null,null,334,null,null,null,null,null,null,null,{"$f":"IF(ISERROR(VLOOKUP(J354,'Information Page'!$C$24:$F$123,2,FALSE)),\"-\",VLOOKUP(J354,'Information Page'!$C$24:$F$123,2,FALSE))","v":"-"},{"$f":"IF(ISERROR(VLOOKUP(J354,'Information Page'!$C$24:$F$123,3,FALSE)),\"-\",VLOOKUP(J354,'Information Page'!$C$24:$F$123,3,FALSE))","v":"-"},{"$f":"IF(ISERROR(VLOOKUP(J354,'Information Page'!$C$24:$F$123,4,FALSE)),\"-\",VLOOKUP(J354,'Information Page'!$C$24:$F$123,4,FALSE))","v":"-"},null,"0"]
[null,null,335,null,null,null,null,null,null,null,{"$f":"IF(ISERROR(VLOOKUP(J355,'Information Page'!$C$24:$F$123,2,FALSE)),\"-\",VLOOKUP(J355,'Information Page'!$C$24:$F$123,2,FALSE))","v":"-"},{"$f":"IF(ISERROR(VLOOKUP(J355,'Information Page'!$C$24:$F$123,3,FALSE)),\"-\",VLOOKUP(J355,'Information Page'!$C$24:$F$123,3,FALSE))","v":"-"},{"$f":"IF(ISERROR(VLOOKUP(J355,'Information Page'!$C$24:$F$123,4,FALSE)),\"-\",VLOOKUP(J355,'Information Page'!$C$24:$F$123,4,FALSE))","v":"-"},null,"0"]
[null,null,336,null,null,null,null,null,null,null,{"$f":"IF(ISERROR(VLOOKUP(J356,'Information Page'!$C$24:$F$123,2,FALSE)),\"-\",VLOOKUP(J356,'Information Page'!$C$24:$F$123,2,FALSE))","v":"-"},{"$f":"IF(ISERROR(VLOOKUP(J356,'Information Page'!$C$24:$F$123,3,FALSE)),\"-\",VLOOKUP(J356,'Information Page'!$C$24:$F$123,3,FALSE))","v":"-"},{"$f":"IF(ISERROR(VLOOKUP(J356,'Information Page'!$C$24:$F$123,4,FALSE)),\"-\",VLOOKUP(J356,'Information Page'!$C$24:$F$123,4,FALSE))","v":"-"},null,"0"]
[null,null,337,null,null,null,null,null,null,null,{"$f":"IF(ISERROR(VLOOKUP(J357,'Information Page'!$C$24:$F$123,2,FALSE)),\"-\",VLOOKUP(J357,'Information Page'!$C$24:$F$123,2,FALSE))","v":"-"},{"$f":"IF(ISERROR(VLOOKUP(J357,'Information Page'!$C$24:$F$123,3,FALSE)),\"-\",VLOOKUP(J357,'Information Page'!$C$24:$F$123,3,FALSE))","v":"-"},{"$f":"IF(ISERROR(VLOOKUP(J357,'Information Page'!$C$24:$F$123,4,FALSE)),\"-\",VLOOKUP(J357,'Information Page'!$C$24:$F$123,4,FALSE))","v":"-"},null,"0"]
[null,null,338,null,null,null,null,null,null,null,{"$f":"IF(ISERROR(VLOOKUP(J358,'Information Page'!$C$24:$F$123,2,FALSE)),\"-\",VLOOKUP(J358,'Information Page'!$C$24:$F$123,2,FALSE))","v":"-"},{"$f":"IF(ISERROR(VLOOKUP(J358,'Information Page'!$C$24:$F$123,3,FALSE)),\"-\",VLOOKUP(J358,'Information Page'!$C$24:$F$123,3,FALSE))","v":"-"},{"$f":"IF(ISERROR(VLOOKUP(J358,'Information Page'!$C$24:$F$123,4,FALSE)),\"-\",VLOOKUP(J358,'Information Page'!$C$24:$F$123,4,FALSE))","v":"-"},null,"0"]
[null,null,339,null,null,null,null,null,null,null,{"$f":"IF(ISERROR(VLOOKUP(J359,'Information Page'!$C$24:$F$123,2,FALSE)),\"-\",VLOOKUP(J359,'Information Page'!$C$24:$F$123,2,FALSE))","v":"-"},{"$f":"IF(ISERROR(VLOOKUP(J359,'Information Page'!$C$24:$F$123,3,FALSE)),\"-\",VLOOKUP(J359,'Information Page'!$C$24:$F$123,3,FALSE))","v":"-"},{"$f":"IF(ISERROR(VLOOKUP(J359,'Information Page'!$C$24:$F$123,4,FALSE)),\"-\",VLOOKUP(J359,'Information Page'!$C$24:$F$123,4,FALSE))","v":"-"},null,"0"]
[null,null,340,null,null,null,null,null,null,null,{"$f":"IF(ISERROR(VLOOKUP(J360,'Information Page'!$C$24:$F$123,2,FALSE)),\"-\",VLOOKUP(J360,'Information Page'!$C$24:$F$123,2,FALSE))","v":"-"},{"$f":"IF(ISERROR(VLOOKUP(J360,'Information Page'!$C$24:$F$123,3,FALSE)),\"-\",VLOOKUP(J360,'Information Page'!$C$24:$F$123,3,FALSE))","v":"-"},{"$f":"IF(ISERROR(VLOOKUP(J360,'Information Page'!$C$24:$F$123,4,FALSE)),\"-\",VLOOKUP(J360,'Information Page'!$C$24:$F$123,4,FALSE))","v":"-"},null,"0"]
[null,null,341,null,null,null,null,null,null,null,{"$f":"IF(ISERROR(VLOOKUP(J361,'Information Page'!$C$24:$F$123,2,FALSE)),\"-\",VLOOKUP(J361,'Information Page'!$C$24:$F$123,2,FALSE))","v":"-"},{"$f":"IF(ISERROR(VLOOKUP(J361,'Information Page'!$C$24:$F$123,3,FALSE)),\"-\",VLOOKUP(J361,'Information Page'!$C$24:$F$123,3,FALSE))","v":"-"},{"$f":"IF(ISERROR(VLOOKUP(J361,'Information Page'!$C$24:$F$123,4,FALSE)),\"-\",VLOOKUP(J361,'Information Page'!$C$24:$F$123,4,FALSE))","v":"-"},null,"0"]
[null,null,342,null,null,null,null,null,null,null,{"$f":"IF(ISERROR(VLOOKUP(J362,'Information Page'!$C$24:$F$123,2,FALSE)),\"-\",VLOOKUP(J362,'Information Page'!$C$24:$F$123,2,FALSE))","v":"-"},{"$f":"IF(ISERROR(VLOOKUP(J362,'Information Page'!$C$24:$F$123,3,FALSE)),\"-\",VLOOKUP(J362,'Information Page'!$C$24:$F$123,3,FALSE))","v":"-"},{"$f":"IF(ISERROR(VLOOKUP(J362,'Information Page'!$C$24:$F$123,4,FALSE)),\"-\",VLOOKUP(J362,'Information Page'!$C$24:$F$123,4,FALSE))","v":"-"},null,"0"]
[null,null,343,null,null,null,null,null,null,null,{"$f":"IF(ISERROR(VLOOKUP(J363,'Information Page'!$C$24:$F$123,2,FALSE)),\"-\",VLOOKUP(J363,'Information Page'!$C$24:$F$123,2,FALSE))","v":"-"},{"$f":"IF(ISERROR(VLOOKUP(J363,'Information Page'!$C$24:$F$123,3,FALSE)),\"-\",VLOOKUP(J363,'Information Page'!$C$24:$F$123,3,FALSE))","v":"-"},{"$f":"IF(ISERROR(VLOOKUP(J363,'Information Page'!$C$24:$F$123,4,FALSE)),\"-\",VLOOKUP(J363,'Information Page'!$C$24:$F$123,4,FALSE))","v":"-"},null,"0"]
[null,null,344,null,null,null,null,null,null,null,{"$f":"IF(ISERROR(VLOOKUP(J364,'Information Page'!$C$24:$F$123,2,FALSE)),\"-\",VLOOKUP(J364,'Information Page'!$C$24:$F$123,2,FALSE))","v":"-"},{"$f":"IF(ISERROR(VLOOKUP(J364,'Information Page'!$C$24:$F$123,3,FALSE)),\"-\",VLOOKUP(J364,'Information Page'!$C$24:$F$123,3,FALSE))","v":"-"},{"$f":"IF(ISERROR(VLOOKUP(J364,'Information Page'!$C$24:$F$123,4,FALSE)),\"-\",VLOOKUP(J364,'Information Page'!$C$24:$F$123,4,FALSE))","v":"-"},null,"0"]
[null,null,345,null,null,null,null,null,null,null,{"$f":"IF(ISERROR(VLOOKUP(J365,'Information Page'!$C$24:$F$123,2,FALSE)),\"-\",VLOOKUP(J365,'Information Page'!$C$24:$F$123,2,FALSE))","v":"-"},{"$f":"IF(ISERROR(VLOOKUP(J365,'Information Page'!$C$24:$F$123,3,FALSE)),\"-\",VLOOKUP(J365,'Information Page'!$C$24:$F$123,3,FALSE))","v":"-"},{"$f":"IF(ISERROR(VLOOKUP(J365,'Information Page'!$C$24:$F$123,4,FALSE)),\"-\",VLOOKUP(J365,'Information Page'!$C$24:$F$123,4,FALSE))","v":"-"},null,"0"]
[null,null,346,null,null,null,null,null,null,null,{"$f":"IF(ISERROR(VLOOKUP(J366,'Information Page'!$C$24:$F$123,2,FALSE)),\"-\",VLOOKUP(J366,'Information Page'!$C$24:$F$123,2,FALSE))","v":"-"},{"$f":"IF(ISERROR(VLOOKUP(J366,'Information Page'!$C$24:$F$123,3,FALSE)),\"-\",VLOOKUP(J366,'Information Page'!$C$24:$F$123,3,FALSE))","v":"-"},{"$f":"IF(ISERROR(VLOOKUP(J366,'Information Page'!$C$24:$F$123,4,FALSE)),\"-\",VLOOKUP(J366,'Information Page'!$C$24:$F$123,4,FALSE))","v":"-"},null,"0"]
[null,null,347,null,null,null,null,null,null,null,{"$f":"IF(ISERROR(VLOOKUP(J367,'Information Page'!$C$24:$F$123,2,FALSE)),\"-\",VLOOKUP(J367,'Information Page'!$C$24:$F$123,2,FALSE))","v":"-"},{"$f":"IF(ISERROR(VLOOKUP(J367,'Information Page'!$C$24:$F$123,3,FALSE)),\"-\",VLOOKUP(J367,'Information Page'!$C$24:$F$123,3,FALSE))","v":"-"},{"$f":"IF(ISERROR(VLOOKUP(J367,'Information Page'!$C$24:$F$123,4,FALSE)),\"-\",VLOOKUP(J367,'Information Page'!$C$24:$F$123,4,FALSE))","v":"-"},null,"0"]
[null,null,348,null,null,null,null,null,null,null,{"$f":"IF(ISERROR(VLOOKUP(J368,'Information Page'!$C$24:$F$123,2,FALSE)),\"-\",VLOOKUP(J368,'Information Page'!$C$24:$F$123,2,FALSE))","v":"-"},{"$f":"IF(ISERROR(VLOOKUP(J368,'Information Page'!$C$24:$F$123,3,FALSE)),\"-\",VLOOKUP(J368,'Information Page'!$C$24:$F$123,3,FALSE))","v":"-"},{"$f":"IF(ISERROR(VLOOKUP(J368,'Information Page'!$C$24:$F$123,4,FALSE)),\"-\",VLOOKUP(J368,'Information Page'!$C$24:$F$123,4,FALSE))","v":"-"},null,"0"]
[null,null,349,null,null,null,null,null,null,null,{"$f":"IF(ISERROR(VLOOKUP(J369,'Information Page'!$C$24:$F$123,2,FALSE)),\"-\",VLOOKUP(J369,'Information Page'!$C$24:$F$123,2,FALSE))","v":"-"},{"$f":"IF(ISERROR(VLOOKUP(J369,'Information Page'!$C$24:$F$123,3,FALSE)),\"-\",VLOOKUP(J369,'Information Page'!$C$24:$F$123,3,FALSE))","v":"-"},{"$f":"IF(ISERROR(VLOOKUP(J369,'Information Page'!$C$24:$F$123,4,FALSE)),\"-\",VLOOKUP(J369,'Information Page'!$C$24:$F$123,4,FALSE))","v":"-"},null,"0"]
[null,null,350,null,null,null,null,null,null,null,{"$f":"IF(ISERROR(VLOOKUP(J370,'Information Page'!$C$24:$F$123,2,FALSE)),\"-\",VLOOKUP(J370,'Information Page'!$C$24:$F$123,2,FALSE))","v":"-"},{"$f":"IF(ISERROR(VLOOKUP(J370,'Information Page'!$C$24:$F$123,3,FALSE)),\"-\",VLOOKUP(J370,'Information Page'!$C$24:$F$123,3,FALSE))","v":"-"},{"$f":"IF(ISERROR(VLOOKUP(J370,'Information Page'!$C$24:$F$123,4,FALSE)),\"-\",VLOOKUP(J370,'Information Page'!$C$24:$F$123,4,FALSE))","v":"-"},null,"0"]
[null,null,351,null,null,null,null,null,null,null,{"$f":"IF(ISERROR(VLOOKUP(J371,'Information Page'!$C$24:$F$123,2,FALSE)),\"-\",VLOOKUP(J371,'Information Page'!$C$24:$F$123,2,FALSE))","v":"-"},{"$f":"IF(ISERROR(VLOOKUP(J371,'Information Page'!$C$24:$F$123,3,FALSE)),\"-\",VLOOKUP(J371,'Information Page'!$C$24:$F$123,3,FALSE))","v":"-"},{"$f":"IF(ISERROR(VLOOKUP(J371,'Information Page'!$C$24:$F$123,4,FALSE)),\"-\",VLOOKUP(J371,'Information Page'!$C$24:$F$123,4,FALSE))","v":"-"},null,"0"]
[null,null,352,null,null,null,null,null,null,null,{"$f":"IF(ISERROR(VLOOKUP(J372,'Information Page'!$C$24:$F$123,2,FALSE)),\"-\",VLOOKUP(J372,'Information Page'!$C$24:$F$123,2,FALSE))","v":"-"},{"$f":"IF(ISERROR(VLOOKUP(J372,'Information Page'!$C$24:$F$123,3,FALSE)),\"-\",VLOOKUP(J372,'Information Page'!$C$24:$F$123,3,FALSE))","v":"-"},{"$f":"IF(ISERROR(VLOOKUP(J372,'Information Page'!$C$24:$F$123,4,FALSE)),\"-\",VLOOKUP(J372,'Information Page'!$C$24:$F$123,4,FALSE))","v":"-"},null,"0"]
[null,null,353,null,null,null,null,null,null,null,{"$f":"IF(ISERROR(VLOOKUP(J373,'Information Page'!$C$24:$F$123,2,FALSE)),\"-\",VLOOKUP(J373,'Information Page'!$C$24:$F$123,2,FALSE))","v":"-"},{"$f":"IF(ISERROR(VLOOKUP(J373,'Information Page'!$C$24:$F$123,3,FALSE)),\"-\",VLOOKUP(J373,'Information Page'!$C$24:$F$123,3,FALSE))","v":"-"},{"$f":"IF(ISERROR(VLOOKUP(J373,'Information Page'!$C$24:$F$123,4,FALSE)),\"-\",VLOOKUP(J373,'Information Page'!$C$24:$F$123,4,FALSE))","v":"-"},null,"0"]
[null,null,354,null,null,null,null,null,null,null,{"$f":"IF(ISERROR(VLOOKUP(J374,'Information Page'!$C$24:$F$123,2,FALSE)),\"-\",VLOOKUP(J374,'Information Page'!$C$24:$F$123,2,FALSE))","v":"-"},{"$f":"IF(ISERROR(VLOOKUP(J374,'Information Page'!$C$24:$F$123,3,FALSE)),\"-\",VLOOKUP(J374,'Information Page'!$C$24:$F$123,3,FALSE))","v":"-"},{"$f":"IF(ISERROR(VLOOKUP(J374,'Information Page'!$C$24:$F$123,4,FALSE)),\"-\",VLOOKUP(J374,'Information Page'!$C$24:$F$123,4,FALSE))","v":"-"},null,"0"]
[null,null,355,null,null,null,null,null,null,null,{"$f":"IF(ISERROR(VLOOKUP(J375,'Information Page'!$C$24:$F$123,2,FALSE)),\"-\",VLOOKUP(J375,'Information Page'!$C$24:$F$123,2,FALSE))","v":"-"},{"$f":"IF(ISERROR(VLOOKUP(J375,'Information Page'!$C$24:$F$123,3,FALSE)),\"-\",VLOOKUP(J375,'Information Page'!$C$24:$F$123,3,FALSE))","v":"-"},{"$f":"IF(ISERROR(VLOOKUP(J375,'Information Page'!$C$24:$F$123,4,FALSE)),\"-\",VLOOKUP(J375,'Information Page'!$C$24:$F$123,4,FALSE))","v":"-"},null,"0"]
[null,null,356,null,null,null,null,null,null,null,{"$f":"IF(ISERROR(VLOOKUP(J376,'Information Page'!$C$24:$F$123,2,FALSE)),\"-\",VLOOKUP(J376,'Information Page'!$C$24:$F$123,2,FALSE))","v":"-"},{"$f":"IF(ISERROR(VLOOKUP(J376,'Information Page'!$C$24:$F$123,3,FALSE)),\"-\",VLOOKUP(J376,'Information Page'!$C$24:$F$123,3,FALSE))","v":"-"},{"$f":"IF(ISERROR(VLOOKUP(J376,'Information Page'!$C$24:$F$123,4,FALSE)),\"-\",VLOOKUP(J376,'Information Page'!$C$24:$F$123,4,FALSE))","v":"-"},null,"0"]
[null,null,357,null,null,null,null,null,null,null,{"$f":"IF(ISERROR(VLOOKUP(J377,'Information Page'!$C$24:$F$123,2,FALSE)),\"-\",VLOOKUP(J377,'Information Page'!$C$24:$F$123,2,FALSE))","v":"-"},{"$f":"IF(ISERROR(VLOOKUP(J377,'Information Page'!$C$24:$F$123,3,FALSE)),\"-\",VLOOKUP(J377,'Information Page'!$C$24:$F$123,3,FALSE))","v":"-"},{"$f":"IF(ISERROR(VLOOKUP(J377,'Information Page'!$C$24:$F$123,4,FALSE)),\"-\",VLOOKUP(J377,'Information Page'!$C$24:$F$123,4,FALSE))","v":"-"},null,"0"]
[null,null,358,null,null,null,null,null,null,null,{"$f":"IF(ISERROR(VLOOKUP(J378,'Information Page'!$C$24:$F$123,2,FALSE)),\"-\",VLOOKUP(J378,'Information Page'!$C$24:$F$123,2,FALSE))","v":"-"},{"$f":"IF(ISERROR(VLOOKUP(J378,'Information Page'!$C$24:$F$123,3,FALSE)),\"-\",VLOOKUP(J378,'Information Page'!$C$24:$F$123,3,FALSE))","v":"-"},{"$f":"IF(ISERROR(VLOOKUP(J378,'Information Page'!$C$24:$F$123,4,FALSE)),\"-\",VLOOKUP(J378,'Information Page'!$C$24:$F$123,4,FALSE))","v":"-"},null,"0"]
[null,null,359,null,null,null,null,null,null,null,{"$f":"IF(ISERROR(VLOOKUP(J379,'Information Page'!$C$24:$F$123,2,FALSE)),\"-\",VLOOKUP(J379,'Information Page'!$C$24:$F$123,2,FALSE))","v":"-"},{"$f":"IF(ISERROR(VLOOKUP(J379,'Information Page'!$C$24:$F$123,3,FALSE)),\"-\",VLOOKUP(J379,'Information Page'!$C$24:$F$123,3,FALSE))","v":"-"},{"$f":"IF(ISERROR(VLOOKUP(J379,'Information Page'!$C$24:$F$123,4,FALSE)),\"-\",VLOOKUP(J379,'Information Page'!$C$24:$F$123,4,FALSE))","v":"-"},null,"0"]
[null,null,360,null,null,null,null,null,null,null,{"$f":"IF(ISERROR(VLOOKUP(J380,'Information Page'!$C$24:$F$123,2,FALSE)),\"-\",VLOOKUP(J380,'Information Page'!$C$24:$F$123,2,FALSE))","v":"-"},{"$f":"IF(ISERROR(VLOOKUP(J380,'Information Page'!$C$24:$F$123,3,FALSE)),\"-\",VLOOKUP(J380,'Information Page'!$C$24:$F$123,3,FALSE))","v":"-"},{"$f":"IF(ISERROR(VLOOKUP(J380,'Information Page'!$C$24:$F$123,4,FALSE)),\"-\",VLOOKUP(J380,'Information Page'!$C$24:$F$123,4,FALSE))","v":"-"},null,"0"]
[null,null,361,null,null,null,null,null,null,null,{"$f":"IF(ISERROR(VLOOKUP(J381,'Information Page'!$C$24:$F$123,2,FALSE)),\"-\",VLOOKUP(J381,'Information Page'!$C$24:$F$123,2,FALSE))","v":"-"},{"$f":"IF(ISERROR(VLOOKUP(J381,'Information Page'!$C$24:$F$123,3,FALSE)),\"-\",VLOOKUP(J381,'Information Page'!$C$24:$F$123,3,FALSE))","v":"-"},{"$f":"IF(ISERROR(VLOOKUP(J381,'Information Page'!$C$24:$F$123,4,FALSE)),\"-\",VLOOKUP(J381,'Information Page'!$C$24:$F$123,4,FALSE))","v":"-"},null,"0"]
[null,null,362,null,null,null,null,null,null,null,{"$f":"IF(ISERROR(VLOOKUP(J382,'Information Page'!$C$24:$F$123,2,FALSE)),\"-\",VLOOKUP(J382,'Information Page'!$C$24:$F$123,2,FALSE))","v":"-"},{"$f":"IF(ISERROR(VLOOKUP(J382,'Information Page'!$C$24:$F$123,3,FALSE)),\"-\",VLOOKUP(J382,'Information Page'!$C$24:$F$123,3,FALSE))","v":"-"},{"$f":"IF(ISERROR(VLOOKUP(J382,'Information Page'!$C$24:$F$123,4,FALSE)),\"-\",VLOOKUP(J382,'Information Page'!$C$24:$F$123,4,FALSE))","v":"-"},null,"0"]
[null,null,363,null,null,null,null,null,null,null,{"$f":"IF(ISERROR(VLOOKUP(J383,'Information Page'!$C$24:$F$123,2,FALSE)),\"-\",VLOOKUP(J383,'Information Page'!$C$24:$F$123,2,FALSE))","v":"-"},{"$f":"IF(ISERROR(VLOOKUP(J383,'Information Page'!$C$24:$F$123,3,FALSE)),\"-\",VLOOKUP(J383,'Information Page'!$C$24:$F$123,3,FALSE))","v":"-"},{"$f":"IF(ISERROR(VLOOKUP(J383,'Information Page'!$C$24:$F$123,4,FALSE)),\"-\",VLOOKUP(J383,'Information Page'!$C$24:$F$123,4,FALSE))","v":"-"},null,"0"]
[null,null,364,null,null,null,null,null,null,null,{"$f":"IF(ISERROR(VLOOKUP(J384,'Information Page'!$C$24:$F$123,2,FALSE)),\"-\",VLOOKUP(J384,'Information Page'!$C$24:$F$123,2,FALSE))","v":"-"},{"$f":"IF(ISERROR(VLOOKUP(J384,'Information Page'!$C$24:$F$123,3,FALSE)),\"-\",VLOOKUP(J384,'Information Page'!$C$24:$F$123,3,FALSE))","v":"-"},{"$f":"IF(ISERROR(VLOOKUP(J384,'Information Page'!$C$24:$F$123,4,FALSE)),\"-\",VLOOKUP(J384,'Information Page'!$C$24:$F$123,4,FALSE))","v":"-"},null,"0"]
[null,null,365,null,null,null,null,null,null,null,{"$f":"IF(ISERROR(VLOOKUP(J385,'Information Page'!$C$24:$F$123,2,FALSE)),\"-\",VLOOKUP(J385,'Information Page'!$C$24:$F$123,2,FALSE))","v":"-"},{"$f":"IF(ISERROR(VLOOKUP(J385,'Information Page'!$C$24:$F$123,3,FALSE)),\"-\",VLOOKUP(J385,'Information Page'!$C$24:$F$123,3,FALSE))","v":"-"},{"$f":"IF(ISERROR(VLOOKUP(J385,'Information Page'!$C$24:$F$123,4,FALSE)),\"-\",VLOOKUP(J385,'Information Page'!$C$24:$F$123,4,FALSE))","v":"-"},null,"0"]
[null,null,366,null,null,null,null,null,null,null,{"$f":"IF(ISERROR(VLOOKUP(J386,'Information Page'!$C$24:$F$123,2,FALSE)),\"-\",VLOOKUP(J386,'Information Page'!$C$24:$F$123,2,FALSE))","v":"-"},{"$f":"IF(ISERROR(VLOOKUP(J386,'Information Page'!$C$24:$F$123,3,FALSE)),\"-\",VLOOKUP(J386,'Information Page'!$C$24:$F$123,3,FALSE))","v":"-"},{"$f":"IF(ISERROR(VLOOKUP(J386,'Information Page'!$C$24:$F$123,4,FALSE)),\"-\",VLOOKUP(J386,'Information Page'!$C$24:$F$123,4,FALSE))","v":"-"},null,"0"]
[null,null,367,null,null,null,null,null,null,null,{"$f":"IF(ISERROR(VLOOKUP(J387,'Information Page'!$C$24:$F$123,2,FALSE)),\"-\",VLOOKUP(J387,'Information Page'!$C$24:$F$123,2,FALSE))","v":"-"},{"$f":"IF(ISERROR(VLOOKUP(J387,'Information Page'!$C$24:$F$123,3,FALSE)),\"-\",VLOOKUP(J387,'Information Page'!$C$24:$F$123,3,FALSE))","v":"-"},{"$f":"IF(ISERROR(VLOOKUP(J387,'Information Page'!$C$24:$F$123,4,FALSE)),\"-\",VLOOKUP(J387,'Information Page'!$C$24:$F$123,4,FALSE))","v":"-"},null,"0"]
[null,null,368,null,null,null,null,null,null,null,{"$f":"IF(ISERROR(VLOOKUP(J388,'Information Page'!$C$24:$F$123,2,FALSE)),\"-\",VLOOKUP(J388,'Information Page'!$C$24:$F$123,2,FALSE))","v":"-"},{"$f":"IF(ISERROR(VLOOKUP(J388,'Information Page'!$C$24:$F$123,3,FALSE)),\"-\",VLOOKUP(J388,'Information Page'!$C$24:$F$123,3,FALSE))","v":"-"},{"$f":"IF(ISERROR(VLOOKUP(J388,'Information Page'!$C$24:$F$123,4,FALSE)),\"-\",VLOOKUP(J388,'Information Page'!$C$24:$F$123,4,FALSE))","v":"-"},null,"0"]
[null,null,369,null,null,null,null,null,null,null,{"$f":"IF(ISERROR(VLOOKUP(J389,'Information Page'!$C$24:$F$123,2,FALSE)),\"-\",VLOOKUP(J389,'Information Page'!$C$24:$F$123,2,FALSE))","v":"-"},{"$f":"IF(ISERROR(VLOOKUP(J389,'Information Page'!$C$24:$F$123,3,FALSE)),\"-\",VLOOKUP(J389,'Information Page'!$C$24:$F$123,3,FALSE))","v":"-"},{"$f":"IF(ISERROR(VLOOKUP(J389,'Information Page'!$C$24:$F$123,4,FALSE)),\"-\",VLOOKUP(J389,'Information Page'!$C$24:$F$123,4,FALSE))","v":"-"},null,"0"]
[null,null,370,null,null,null,null,null,null,null,{"$f":"IF(ISERROR(VLOOKUP(J390,'Information Page'!$C$24:$F$123,2,FALSE)),\"-\",VLOOKUP(J390,'Information Page'!$C$24:$F$123,2,FALSE))","v":"-"},{"$f":"IF(ISERROR(VLOOKUP(J390,'Information Page'!$C$24:$F$123,3,FALSE)),\"-\",VLOOKUP(J390,'Information Page'!$C$24:$F$123,3,FALSE))","v":"-"},{"$f":"IF(ISERROR(VLOOKUP(J390,'Information Page'!$C$24:$F$123,4,FALSE)),\"-\",VLOOKUP(J390,'Information Page'!$C$24:$F$123,4,FALSE))","v":"-"},null,"0"]
[null,null,371,null,null,null,null,null,null,null,{"$f":"IF(ISERROR(VLOOKUP(J391,'Information Page'!$C$24:$F$123,2,FALSE)),\"-\",VLOOKUP(J391,'Information Page'!$C$24:$F$123,2,FALSE))","v":"-"},{"$f":"IF(ISERROR(VLOOKUP(J391,'Information Page'!$C$24:$F$123,3,FALSE)),\"-\",VLOOKUP(J391,'Information Page'!$C$24:$F$123,3,FALSE))","v":"-"},{"$f":"IF(ISERROR(VLOOKUP(J391,'Information Page'!$C$24:$F$123,4,FALSE)),\"-\",VLOOKUP(J391,'Information Page'!$C$24:$F$123,4,FALSE))","v":"-"},null,"0"]
[null,null,372,null,null,null,null,null,null,null,{"$f":"IF(ISERROR(VLOOKUP(J392,'Information Page'!$C$24:$F$123,2,FALSE)),\"-\",VLOOKUP(J392,'Information Page'!$C$24:$F$123,2,FALSE))","v":"-"},{"$f":"IF(ISERROR(VLOOKUP(J392,'Information Page'!$C$24:$F$123,3,FALSE)),\"-\",VLOOKUP(J392,'Information Page'!$C$24:$F$123,3,FALSE))","v":"-"},{"$f":"IF(ISERROR(VLOOKUP(J392,'Information Page'!$C$24:$F$123,4,FALSE)),\"-\",VLOOKUP(J392,'Information Page'!$C$24:$F$123,4,FALSE))","v":"-"},null,"0"]
[null,null,373,null,null,null,null,null,null,null,{"$f":"IF(ISERROR(VLOOKUP(J393,'Information Page'!$C$24:$F$123,2,FALSE)),\"-\",VLOOKUP(J393,'Information Page'!$C$24:$F$123,2,FALSE))","v":"-"},{"$f":"IF(ISERROR(VLOOKUP(J393,'Information Page'!$C$24:$F$123,3,FALSE)),\"-\",VLOOKUP(J393,'Information Page'!$C$24:$F$123,3,FALSE))","v":"-"},{"$f":"IF(ISERROR(VLOOKUP(J393,'Information Page'!$C$24:$F$123,4,FALSE)),\"-\",VLOOKUP(J393,'Information Page'!$C$24:$F$123,4,FALSE))","v":"-"},null,"0"]
[null,null,374,null,null,null,null,null,null,null,{"$f":"IF(ISERROR(VLOOKUP(J394,'Information Page'!$C$24:$F$123,2,FALSE)),\"-\",VLOOKUP(J394,'Information Page'!$C$24:$F$123,2,FALSE))","v":"-"},{"$f":"IF(ISERROR(VLOOKUP(J394,'Information Page'!$C$24:$F$123,3,FALSE)),\"-\",VLOOKUP(J394,'Information Page'!$C$24:$F$123,3,FALSE))","v":"-"},{"$f":"IF(ISERROR(VLOOKUP(J394,'Information Page'!$C$24:$F$123,4,FALSE)),\"-\",VLOOKUP(J394,'Information Page'!$C$24:$F$123,4,FALSE))","v":"-"},null,"0"]
[null,null,375,null,null,null,null,null,null,null,{"$f":"IF(ISERROR(VLOOKUP(J395,'Information Page'!$C$24:$F$123,2,FALSE)),\"-\",VLOOKUP(J395,'Information Page'!$C$24:$F$123,2,FALSE))","v":"-"},{"$f":"IF(ISERROR(VLOOKUP(J395,'Information Page'!$C$24:$F$123,3,FALSE)),\"-\",VLOOKUP(J395,'Information Page'!$C$24:$F$123,3,FALSE))","v":"-"},{"$f":"IF(ISERROR(VLOOKUP(J395,'Information Page'!$C$24:$F$123,4,FALSE)),\"-\",VLOOKUP(J395,'Information Page'!$C$24:$F$123,4,FALSE))","v":"-"},null,"0"]
[null,null,376,null,null,null,null,null,null,null,{"$f":"IF(ISERROR(VLOOKUP(J396,'Information Page'!$C$24:$F$123,2,FALSE)),\"-\",VLOOKUP(J396,'Information Page'!$C$24:$F$123,2,FALSE))","v":"-"},{"$f":"IF(ISERROR(VLOOKUP(J396,'Information Page'!$C$24:$F$123,3,FALSE)),\"-\",VLOOKUP(J396,'Information Page'!$C$24:$F$123,3,FALSE))","v":"-"},{"$f":"IF(ISERROR(VLOOKUP(J396,'Information Page'!$C$24:$F$123,4,FALSE)),\"-\",VLOOKUP(J396,'Information Page'!$C$24:$F$123,4,FALSE))","v":"-"},null,"0"]
[null,null,377,null,null,null,null,null,null,null,{"$f":"IF(ISERROR(VLOOKUP(J397,'Information Page'!$C$24:$F$123,2,FALSE)),\"-\",VLOOKUP(J397,'Information Page'!$C$24:$F$123,2,FALSE))","v":"-"},{"$f":"IF(ISERROR(VLOOKUP(J397,'Information Page'!$C$24:$F$123,3,FALSE)),\"-\",VLOOKUP(J397,'Information Page'!$C$24:$F$123,3,FALSE))","v":"-"},{"$f":"IF(ISERROR(VLOOKUP(J397,'Information Page'!$C$24:$F$123,4,FALSE)),\"-\",VLOOKUP(J397,'Information Page'!$C$24:$F$123,4,FALSE))","v":"-"},null,"0"]
[null,null,378,null,null,null,null,null,null,null,{"$f":"IF(ISERROR(VLOOKUP(J398,'Information Page'!$C$24:$F$123,2,FALSE)),\"-\",VLOOKUP(J398,'Information Page'!$C$24:$F$123,2,FALSE))","v":"-"},{"$f":"IF(ISERROR(VLOOKUP(J398,'Information Page'!$C$24:$F$123,3,FALSE)),\"-\",VLOOKUP(J398,'Information Page'!$C$24:$F$123,3,FALSE))","v":"-"},{"$f":"IF(ISERROR(VLOOKUP(J398,'Information Page'!$C$24:$F$123,4,FALSE)),\"-\",VLOOKUP(J398,'Information Page'!$C$24:$F$123,4,FALSE))","v":"-"},null,"0"]
[null,null,379,null,null,null,null,null,null,null,{"$f":"IF(ISERROR(VLOOKUP(J399,'Information Page'!$C$24:$F$123,2,FALSE)),\"-\",VLOOKUP(J399,'Information Page'!$C$24:$F$123,2,FALSE))","v":"-"},{"$f":"IF(ISERROR(VLOOKUP(J399,'Information Page'!$C$24:$F$123,3,FALSE)),\"-\",VLOOKUP(J399,'Information Page'!$C$24:$F$123,3,FALSE))","v":"-"},{"$f":"IF(ISERROR(VLOOKUP(J399,'Information Page'!$C$24:$F$123,4,FALSE)),\"-\",VLOOKUP(J399,'Information Page'!$C$24:$F$123,4,FALSE))","v":"-"},null,"0"]
[null,null,380,null,null,null,null,null,null,null,{"$f":"IF(ISERROR(VLOOKUP(J400,'Information Page'!$C$24:$F$123,2,FALSE)),\"-\",VLOOKUP(J400,'Information Page'!$C$24:$F$123,2,FALSE))","v":"-"},{"$f":"IF(ISERROR(VLOOKUP(J400,'Information Page'!$C$24:$F$123,3,FALSE)),\"-\",VLOOKUP(J400,'Information Page'!$C$24:$F$123,3,FALSE))","v":"-"},{"$f":"IF(ISERROR(VLOOKUP(J400,'Information Page'!$C$24:$F$123,4,FALSE)),\"-\",VLOOKUP(J400,'Information Page'!$C$24:$F$123,4,FALSE))","v":"-"},null,"0"]
[null,null,381,null,null,null,null,null,null,null,{"$f":"IF(ISERROR(VLOOKUP(J401,'Information Page'!$C$24:$F$123,2,FALSE)),\"-\",VLOOKUP(J401,'Information Page'!$C$24:$F$123,2,FALSE))","v":"-"},{"$f":"IF(ISERROR(VLOOKUP(J401,'Information Page'!$C$24:$F$123,3,FALSE)),\"-\",VLOOKUP(J401,'Information Page'!$C$24:$F$123,3,FALSE))","v":"-"},{"$f":"IF(ISERROR(VLOOKUP(J401,'Information Page'!$C$24:$F$123,4,FALSE)),\"-\",VLOOKUP(J401,'Information Page'!$C$24:$F$123,4,FALSE))","v":"-"},null,"0"]
[null,null,382,null,null,null,null,null,null,null,{"$f":"IF(ISERROR(VLOOKUP(J402,'Information Page'!$C$24:$F$123,2,FALSE)),\"-\",VLOOKUP(J402,'Information Page'!$C$24:$F$123,2,FALSE))","v":"-"},{"$f":"IF(ISERROR(VLOOKUP(J402,'Information Page'!$C$24:$F$123,3,FALSE)),\"-\",VLOOKUP(J402,'Information Page'!$C$24:$F$123,3,FALSE))","v":"-"},{"$f":"IF(ISERROR(VLOOKUP(J402,'Information Page'!$C$24:$F$123,4,FALSE)),\"-\",VLOOKUP(J402,'Information Page'!$C$24:$F$123,4,FALSE))","v":"-"},null,"0"]
[null,null,383,null,null,null,null,null,null,null,{"$f":"IF(ISERROR(VLOOKUP(J403,'Information Page'!$C$24:$F$123,2,FALSE)),\"-\",VLOOKUP(J403,'Information Page'!$C$24:$F$123,2,FALSE))","v":"-"},{"$f":"IF(ISERROR(VLOOKUP(J403,'Information Page'!$C$24:$F$123,3,FALSE)),\"-\",VLOOKUP(J403,'Information Page'!$C$24:$F$123,3,FALSE))","v":"-"},{"$f":"IF(ISERROR(VLOOKUP(J403,'Information Page'!$C$24:$F$123,4,FALSE)),\"-\",VLOOKUP(J403,'Information Page'!$C$24:$F$123,4,FALSE))","v":"-"},null,"0"]
[null,null,384,null,null,null,null,null,null,null,{"$f":"IF(ISERROR(VLOOKUP(J404,'Information Page'!$C$24:$F$123,2,FALSE)),\"-\",VLOOKUP(J404,'Information Page'!$C$24:$F$123,2,FALSE))","v":"-"},{"$f":"IF(ISERROR(VLOOKUP(J404,'Information Page'!$C$24:$F$123,3,FALSE)),\"-\",VLOOKUP(J404,'Information Page'!$C$24:$F$123,3,FALSE))","v":"-"},{"$f":"IF(ISERROR(VLOOKUP(J404,'Information Page'!$C$24:$F$123,4,FALSE)),\"-\",VLOOKUP(J404,'Information Page'!$C$24:$F$123,4,FALSE))","v":"-"},null,"0"]
[null,null,385,null,null,null,null,null,null,null,{"$f":"IF(ISERROR(VLOOKUP(J405,'Information Page'!$C$24:$F$123,2,FALSE)),\"-\",VLOOKUP(J405,'Information Page'!$C$24:$F$123,2,FALSE))","v":"-"},{"$f":"IF(ISERROR(VLOOKUP(J405,'Information Page'!$C$24:$F$123,3,FALSE)),\"-\",VLOOKUP(J405,'Information Page'!$C$24:$F$123,3,FALSE))","v":"-"},{"$f":"IF(ISERROR(VLOOKUP(J405,'Information Page'!$C$24:$F$123,4,FALSE)),\"-\",VLOOKUP(J405,'Information Page'!$C$24:$F$123,4,FALSE))","v":"-"},null,"0"]
[null,null,386,null,null,null,null,null,null,null,{"$f":"IF(ISERROR(VLOOKUP(J406,'Information Page'!$C$24:$F$123,2,FALSE)),\"-\",VLOOKUP(J406,'Information Page'!$C$24:$F$123,2,FALSE))","v":"-"},{"$f":"IF(ISERROR(VLOOKUP(J406,'Information Page'!$C$24:$F$123,3,FALSE)),\"-\",VLOOKUP(J406,'Information Page'!$C$24:$F$123,3,FALSE))","v":"-"},{"$f":"IF(ISERROR(VLOOKUP(J406,'Information Page'!$C$24:$F$123,4,FALSE)),\"-\",VLOOKUP(J406,'Information Page'!$C$24:$F$123,4,FALSE))","v":"-"},null,{"$f":"IF(M406=\"-\",\"0\",M406*N406)","v":"0"}]
[null,null,387,null,null,null,null,null,null,null,{"$f":"IF(ISERROR(VLOOKUP(J407,'Information Page'!$C$24:$F$123,2,FALSE)),\"-\",VLOOKUP(J407,'Information Page'!$C$24:$F$123,2,FALSE))","v":"-"},{"$f":"IF(ISERROR(VLOOKUP(J407,'Information Page'!$C$24:$F$123,3,FALSE)),\"-\",VLOOKUP(J407,'Information Page'!$C$24:$F$123,3,FALSE))","v":"-"},{"$f":"IF(ISERROR(VLOOKUP(J407,'Information Page'!$C$24:$F$123,4,FALSE)),\"-\",VLOOKUP(J407,'Information Page'!$C$24:$F$123,4,FALSE))","v":"-"},null,"0"]
[null,null,388,null,null,null,null,null,null,null,{"$f":"IF(ISERROR(VLOOKUP(J408,'Information Page'!$C$24:$F$123,2,FALSE)),\"-\",VLOOKUP(J408,'Information Page'!$C$24:$F$123,2,FALSE))","v":"-"},{"$f":"IF(ISERROR(VLOOKUP(J408,'Information Page'!$C$24:$F$123,3,FALSE)),\"-\",VLOOKUP(J408,'Information Page'!$C$24:$F$123,3,FALSE))","v":"-"},{"$f":"IF(ISERROR(VLOOKUP(J408,'Information Page'!$C$24:$F$123,4,FALSE)),\"-\",VLOOKUP(J408,'Information Page'!$C$24:$F$123,4,FALSE))","v":"-"},null,"0"]
[null,null,389,null,null,null,null,null,null,null,{"$f":"IF(ISERROR(VLOOKUP(J409,'Information Page'!$C$24:$F$123,2,FALSE)),\"-\",VLOOKUP(J409,'Information Page'!$C$24:$F$123,2,FALSE))","v":"-"},{"$f":"IF(ISERROR(VLOOKUP(J409,'Information Page'!$C$24:$F$123,3,FALSE)),\"-\",VLOOKUP(J409,'Information Page'!$C$24:$F$123,3,FALSE))","v":"-"},{"$f":"IF(ISERROR(VLOOKUP(J409,'Information Page'!$C$24:$F$123,4,FALSE)),\"-\",VLOOKUP(J409,'Information Page'!$C$24:$F$123,4,FALSE))","v":"-"},null,"0"]
[null,null,390,null,null,null,null,null,null,null,{"$f":"IF(ISERROR(VLOOKUP(J410,'Information Page'!$C$24:$F$123,2,FALSE)),\"-\",VLOOKUP(J410,'Information Page'!$C$24:$F$123,2,FALSE))","v":"-"},{"$f":"IF(ISERROR(VLOOKUP(J410,'Information Page'!$C$24:$F$123,3,FALSE)),\"-\",VLOOKUP(J410,'Information Page'!$C$24:$F$123,3,FALSE))","v":"-"},{"$f":"IF(ISERROR(VLOOKUP(J410,'Information Page'!$C$24:$F$123,4,FALSE)),\"-\",VLOOKUP(J410,'Information Page'!$C$24:$F$123,4,FALSE))","v":"-"},null,"0"]
[null,null,391,null,null,null,null,null,null,null,{"$f":"IF(ISERROR(VLOOKUP(J411,'Information Page'!$C$24:$F$123,2,FALSE)),\"-\",VLOOKUP(J411,'Information Page'!$C$24:$F$123,2,FALSE))","v":"-"},{"$f":"IF(ISERROR(VLOOKUP(J411,'Information Page'!$C$24:$F$123,3,FALSE)),\"-\",VLOOKUP(J411,'Information Page'!$C$24:$F$123,3,FALSE))","v":"-"},{"$f":"IF(ISERROR(VLOOKUP(J411,'Information Page'!$C$24:$F$123,4,FALSE)),\"-\",VLOOKUP(J411,'Information Page'!$C$24:$F$123,4,FALSE))","v":"-"},null,"0"]
[null,null,392,null,null,null,null,null,null,null,{"$f":"IF(ISERROR(VLOOKUP(J412,'Information Page'!$C$24:$F$123,2,FALSE)),\"-\",VLOOKUP(J412,'Information Page'!$C$24:$F$123,2,FALSE))","v":"-"},{"$f":"IF(ISERROR(VLOOKUP(J412,'Information Page'!$C$24:$F$123,3,FALSE)),\"-\",VLOOKUP(J412,'Information Page'!$C$24:$F$123,3,FALSE))","v":"-"},{"$f":"IF(ISERROR(VLOOKUP(J412,'Information Page'!$C$24:$F$123,4,FALSE)),\"-\",VLOOKUP(J412,'Information Page'!$C$24:$F$123,4,FALSE))","v":"-"},null,"0"]
[null,null,393,null,null,null,null,null,null,null,{"$f":"IF(ISERROR(VLOOKUP(J413,'Information Page'!$C$24:$F$123,2,FALSE)),\"-\",VLOOKUP(J413,'Information Page'!$C$24:$F$123,2,FALSE))","v":"-"},{"$f":"IF(ISERROR(VLOOKUP(J413,'Information Page'!$C$24:$F$123,3,FALSE)),\"-\",VLOOKUP(J413,'Information Page'!$C$24:$F$123,3,FALSE))","v":"-"},{"$f":"IF(ISERROR(VLOOKUP(J413,'Information Page'!$C$24:$F$123,4,FALSE)),\"-\",VLOOKUP(J413,'Information Page'!$C$24:$F$123,4,FALSE))","v":"-"},null,"0"]
[null,null,394,null,null,null,null,null,null,null,{"$f":"IF(ISERROR(VLOOKUP(J414,'Information Page'!$C$24:$F$123,2,FALSE)),\"-\",VLOOKUP(J414,'Information Page'!$C$24:$F$123,2,FALSE))","v":"-"},{"$f":"IF(ISERROR(VLOOKUP(J414,'Information Page'!$C$24:$F$123,3,FALSE)),\"-\",VLOOKUP(J414,'Information Page'!$C$24:$F$123,3,FALSE))","v":"-"},{"$f":"IF(ISERROR(VLOOKUP(J414,'Information Page'!$C$24:$F$123,4,FALSE)),\"-\",VLOOKUP(J414,'Information Page'!$C$24:$F$123,4,FALSE))","v":"-"},null,"0"]
[null,null,395,null,null,null,null,null,null,null,{"$f":"IF(ISERROR(VLOOKUP(J415,'Information Page'!$C$24:$F$123,2,FALSE)),\"-\",VLOOKUP(J415,'Information Page'!$C$24:$F$123,2,FALSE))","v":"-"},{"$f":"IF(ISERROR(VLOOKUP(J415,'Information Page'!$C$24:$F$123,3,FALSE)),\"-\",VLOOKUP(J415,'Information Page'!$C$24:$F$123,3,FALSE))","v":"-"},{"$f":"IF(ISERROR(VLOOKUP(J415,'Information Page'!$C$24:$F$123,4,FALSE)),\"-\",VLOOKUP(J415,'Information Page'!$C$24:$F$123,4,FALSE))","v":"-"},null,"0"]
[null,null,396,null,null,null,null,null,null,null,{"$f":"IF(ISERROR(VLOOKUP(J416,'Information Page'!$C$24:$F$123,2,FALSE)),\"-\",VLOOKUP(J416,'Information Page'!$C$24:$F$123,2,FALSE))","v":"-"},{"$f":"IF(ISERROR(VLOOKUP(J416,'Information Page'!$C$24:$F$123,3,FALSE)),\"-\",VLOOKUP(J416,'Information Page'!$C$24:$F$123,3,FALSE))","v":"-"},{"$f":"IF(ISERROR(VLOOKUP(J416,'Information Page'!$C$24:$F$123,4,FALSE)),\"-\",VLOOKUP(J416,'Information Page'!$C$24:$F$123,4,FALSE))","v":"-"},null,"0"]
[null,null,397,null,null,null,null,null,null,null,{"$f":"IF(ISERROR(VLOOKUP(J417,'Information Page'!$C$24:$F$123,2,FALSE)),\"-\",VLOOKUP(J417,'Information Page'!$C$24:$F$123,2,FALSE))","v":"-"},{"$f":"IF(ISERROR(VLOOKUP(J417,'Information Page'!$C$24:$F$123,3,FALSE)),\"-\",VLOOKUP(J417,'Information Page'!$C$24:$F$123,3,FALSE))","v":"-"},{"$f":"IF(ISERROR(VLOOKUP(J417,'Information Page'!$C$24:$F$123,4,FALSE)),\"-\",VLOOKUP(J417,'Information Page'!$C$24:$F$123,4,FALSE))","v":"-"},null,"0"]
[null,null,398,null,null,null,null,null,null,null,{"$f":"IF(ISERROR(VLOOKUP(J418,'Information Page'!$C$24:$F$123,2,FALSE)),\"-\",VLOOKUP(J418,'Information Page'!$C$24:$F$123,2,FALSE))","v":"-"},{"$f":"IF(ISERROR(VLOOKUP(J418,'Information Page'!$C$24:$F$123,3,FALSE)),\"-\",VLOOKUP(J418,'Information Page'!$C$24:$F$123,3,FALSE))","v":"-"},{"$f":"IF(ISERROR(VLOOKUP(J418,'Information Page'!$C$24:$F$123,4,FALSE)),\"-\",VLOOKUP(J418,'Information Page'!$C$24:$F$123,4,FALSE))","v":"-"},null,"0"]
[null,null,399,null,null,null,null,null,null,null,{"$f":"IF(ISERROR(VLOOKUP(J419,'Information Page'!$C$24:$F$123,2,FALSE)),\"-\",VLOOKUP(J419,'Information Page'!$C$24:$F$123,2,FALSE))","v":"-"},{"$f":"IF(ISERROR(VLOOKUP(J419,'Information Page'!$C$24:$F$123,3,FALSE)),\"-\",VLOOKUP(J419,'Information Page'!$C$24:$F$123,3,FALSE))","v":"-"},{"$f":"IF(ISERROR(VLOOKUP(J419,'Information Page'!$C$24:$F$123,4,FALSE)),\"-\",VLOOKUP(J419,'Information Page'!$C$24:$F$123,4,FALSE))","v":"-"},null,"0"]
[null,null,400,null,null,null,null,null,null,null,{"$f":"IF(ISERROR(VLOOKUP(J420,'Information Page'!$C$24:$F$123,2,FALSE)),\"-\",VLOOKUP(J420,'Information Page'!$C$24:$F$123,2,FALSE))","v":"-"},{"$f":"IF(ISERROR(VLOOKUP(J420,'Information Page'!$C$24:$F$123,3,FALSE)),\"-\",VLOOKUP(J420,'Information Page'!$C$24:$F$123,3,FALSE))","v":"-"},{"$f":"IF(ISERROR(VLOOKUP(J420,'Information Page'!$C$24:$F$123,4,FALSE)),\"-\",VLOOKUP(J420,'Information Page'!$C$24:$F$123,4,FALSE))","v":"-"},null,"0"]
[null,null,401,null,null,null,null,null,null,null,{"$f":"IF(ISERROR(VLOOKUP(J421,'Information Page'!$C$24:$F$123,2,FALSE)),\"-\",VLOOKUP(J421,'Information Page'!$C$24:$F$123,2,FALSE))","v":"-"},{"$f":"IF(ISERROR(VLOOKUP(J421,'Information Page'!$C$24:$F$123,3,FALSE)),\"-\",VLOOKUP(J421,'Information Page'!$C$24:$F$123,3,FALSE))","v":"-"},{"$f":"IF(ISERROR(VLOOKUP(J421,'Information Page'!$C$24:$F$123,4,FALSE)),\"-\",VLOOKUP(J421,'Information Page'!$C$24:$F$123,4,FALSE))","v":"-"},null,"0"]
[null,null,402,null,null,null,null,null,null,null,{"$f":"IF(ISERROR(VLOOKUP(J422,'Information Page'!$C$24:$F$123,2,FALSE)),\"-\",VLOOKUP(J422,'Information Page'!$C$24:$F$123,2,FALSE))","v":"-"},{"$f":"IF(ISERROR(VLOOKUP(J422,'Information Page'!$C$24:$F$123,3,FALSE)),\"-\",VLOOKUP(J422,'Information Page'!$C$24:$F$123,3,FALSE))","v":"-"},{"$f":"IF(ISERROR(VLOOKUP(J422,'Information Page'!$C$24:$F$123,4,FALSE)),\"-\",VLOOKUP(J422,'Information Page'!$C$24:$F$123,4,FALSE))","v":"-"},null,"0"]
[null,null,403,null,null,null,null,null,null,null,{"$f":"IF(ISERROR(VLOOKUP(J423,'Information Page'!$C$24:$F$123,2,FALSE)),\"-\",VLOOKUP(J423,'Information Page'!$C$24:$F$123,2,FALSE))","v":"-"},{"$f":"IF(ISERROR(VLOOKUP(J423,'Information Page'!$C$24:$F$123,3,FALSE)),\"-\",VLOOKUP(J423,'Information Page'!$C$24:$F$123,3,FALSE))","v":"-"},{"$f":"IF(ISERROR(VLOOKUP(J423,'Information Page'!$C$24:$F$123,4,FALSE)),\"-\",VLOOKUP(J423,'Information Page'!$C$24:$F$123,4,FALSE))","v":"-"},null,"0"]
[null,null,404,null,null,null,null,null,null,null,{"$f":"IF(ISERROR(VLOOKUP(J424,'Information Page'!$C$24:$F$123,2,FALSE)),\"-\",VLOOKUP(J424,'Information Page'!$C$24:$F$123,2,FALSE))","v":"-"},{"$f":"IF(ISERROR(VLOOKUP(J424,'Information Page'!$C$24:$F$123,3,FALSE)),\"-\",VLOOKUP(J424,'Information Page'!$C$24:$F$123,3,FALSE))","v":"-"},{"$f":"IF(ISERROR(VLOOKUP(J424,'Information Page'!$C$24:$F$123,4,FALSE)),\"-\",VLOOKUP(J424,'Information Page'!$C$24:$F$123,4,FALSE))","v":"-"},null,"0"]
[null,null,405,null,null,null,null,null,null,null,{"$f":"IF(ISERROR(VLOOKUP(J425,'Information Page'!$C$24:$F$123,2,FALSE)),\"-\",VLOOKUP(J425,'Information Page'!$C$24:$F$123,2,FALSE))","v":"-"},{"$f":"IF(ISERROR(VLOOKUP(J425,'Information Page'!$C$24:$F$123,3,FALSE)),\"-\",VLOOKUP(J425,'Information Page'!$C$24:$F$123,3,FALSE))","v":"-"},{"$f":"IF(ISERROR(VLOOKUP(J425,'Information Page'!$C$24:$F$123,4,FALSE)),\"-\",VLOOKUP(J425,'Information Page'!$C$24:$F$123,4,FALSE))","v":"-"},null,"0"]
[null,null,406,null,null,null,null,null,null,null,{"$f":"IF(ISERROR(VLOOKUP(J426,'Information Page'!$C$24:$F$123,2,FALSE)),\"-\",VLOOKUP(J426,'Information Page'!$C$24:$F$123,2,FALSE))","v":"-"},{"$f":"IF(ISERROR(VLOOKUP(J426,'Information Page'!$C$24:$F$123,3,FALSE)),\"-\",VLOOKUP(J426,'Information Page'!$C$24:$F$123,3,FALSE))","v":"-"},{"$f":"IF(ISERROR(VLOOKUP(J426,'Information Page'!$C$24:$F$123,4,FALSE)),\"-\",VLOOKUP(J426,'Information Page'!$C$24:$F$123,4,FALSE))","v":"-"},null,"0"]
[null,null,407,null,null,null,null,null,null,null,{"$f":"IF(ISERROR(VLOOKUP(J427,'Information Page'!$C$24:$F$123,2,FALSE)),\"-\",VLOOKUP(J427,'Information Page'!$C$24:$F$123,2,FALSE))","v":"-"},{"$f":"IF(ISERROR(VLOOKUP(J427,'Information Page'!$C$24:$F$123,3,FALSE)),\"-\",VLOOKUP(J427,'Information Page'!$C$24:$F$123,3,FALSE))","v":"-"},{"$f":"IF(ISERROR(VLOOKUP(J427,'Information Page'!$C$24:$F$123,4,FALSE)),\"-\",VLOOKUP(J427,'Information Page'!$C$24:$F$123,4,FALSE))","v":"-"},null,"0"]
[null,null,408,null,null,null,null,null,null,null,{"$f":"IF(ISERROR(VLOOKUP(J428,'Information Page'!$C$24:$F$123,2,FALSE)),\"-\",VLOOKUP(J428,'Information Page'!$C$24:$F$123,2,FALSE))","v":"-"},{"$f":"IF(ISERROR(VLOOKUP(J428,'Information Page'!$C$24:$F$123,3,FALSE)),\"-\",VLOOKUP(J428,'Information Page'!$C$24:$F$123,3,FALSE))","v":"-"},{"$f":"IF(ISERROR(VLOOKUP(J428,'Information Page'!$C$24:$F$123,4,FALSE)),\"-\",VLOOKUP(J428,'Information Page'!$C$24:$F$123,4,FALSE))","v":"-"},null,"0"]
[null,null,409,null,null,null,null,null,null,null,{"$f":"IF(ISERROR(VLOOKUP(J429,'Information Page'!$C$24:$F$123,2,FALSE)),\"-\",VLOOKUP(J429,'Information Page'!$C$24:$F$123,2,FALSE))","v":"-"},{"$f":"IF(ISERROR(VLOOKUP(J429,'Information Page'!$C$24:$F$123,3,FALSE)),\"-\",VLOOKUP(J429,'Information Page'!$C$24:$F$123,3,FALSE))","v":"-"},{"$f":"IF(ISERROR(VLOOKUP(J429,'Information Page'!$C$24:$F$123,4,FALSE)),\"-\",VLOOKUP(J429,'Information Page'!$C$24:$F$123,4,FALSE))","v":"-"},null,"0"]
[null,null,410,null,null,null,null,null,null,null,{"$f":"IF(ISERROR(VLOOKUP(J430,'Information Page'!$C$24:$F$123,2,FALSE)),\"-\",VLOOKUP(J430,'Information Page'!$C$24:$F$123,2,FALSE))","v":"-"},{"$f":"IF(ISERROR(VLOOKUP(J430,'Information Page'!$C$24:$F$123,3,FALSE)),\"-\",VLOOKUP(J430,'Information Page'!$C$24:$F$123,3,FALSE))","v":"-"},{"$f":"IF(ISERROR(VLOOKUP(J430,'Information Page'!$C$24:$F$123,4,FALSE)),\"-\",VLOOKUP(J430,'Information Page'!$C$24:$F$123,4,FALSE))","v":"-"},null,"0"]
[null,null,411,null,null,null,null,null,null,null,{"$f":"IF(ISERROR(VLOOKUP(J431,'Information Page'!$C$24:$F$123,2,FALSE)),\"-\",VLOOKUP(J431,'Information Page'!$C$24:$F$123,2,FALSE))","v":"-"},{"$f":"IF(ISERROR(VLOOKUP(J431,'Information Page'!$C$24:$F$123,3,FALSE)),\"-\",VLOOKUP(J431,'Information Page'!$C$24:$F$123,3,FALSE))","v":"-"},{"$f":"IF(ISERROR(VLOOKUP(J431,'Information Page'!$C$24:$F$123,4,FALSE)),\"-\",VLOOKUP(J431,'Information Page'!$C$24:$F$123,4,FALSE))","v":"-"},null,"0"]
[null,null,412,null,null,null,null,null,null,null,{"$f":"IF(ISERROR(VLOOKUP(J432,'Information Page'!$C$24:$F$123,2,FALSE)),\"-\",VLOOKUP(J432,'Information Page'!$C$24:$F$123,2,FALSE))","v":"-"},{"$f":"IF(ISERROR(VLOOKUP(J432,'Information Page'!$C$24:$F$123,3,FALSE)),\"-\",VLOOKUP(J432,'Information Page'!$C$24:$F$123,3,FALSE))","v":"-"},{"$f":"IF(ISERROR(VLOOKUP(J432,'Information Page'!$C$24:$F$123,4,FALSE)),\"-\",VLOOKUP(J432,'Information Page'!$C$24:$F$123,4,FALSE))","v":"-"},null,"0"]
[null,null,413,null,null,null,null,null,null,null,{"$f":"IF(ISERROR(VLOOKUP(J433,'Information Page'!$C$24:$F$123,2,FALSE)),\"-\",VLOOKUP(J433,'Information Page'!$C$24:$F$123,2,FALSE))","v":"-"},{"$f":"IF(ISERROR(VLOOKUP(J433,'Information Page'!$C$24:$F$123,3,FALSE)),\"-\",VLOOKUP(J433,'Information Page'!$C$24:$F$123,3,FALSE))","v":"-"},{"$f":"IF(ISERROR(VLOOKUP(J433,'Information Page'!$C$24:$F$123,4,FALSE)),\"-\",VLOOKUP(J433,'Information Page'!$C$24:$F$123,4,FALSE))","v":"-"},null,"0"]
[null,null,414,null,null,null,null,null,null,null,{"$f":"IF(ISERROR(VLOOKUP(J434,'Information Page'!$C$24:$F$123,2,FALSE)),\"-\",VLOOKUP(J434,'Information Page'!$C$24:$F$123,2,FALSE))","v":"-"},{"$f":"IF(ISERROR(VLOOKUP(J434,'Information Page'!$C$24:$F$123,3,FALSE)),\"-\",VLOOKUP(J434,'Information Page'!$C$24:$F$123,3,FALSE))","v":"-"},{"$f":"IF(ISERROR(VLOOKUP(J434,'Information Page'!$C$24:$F$123,4,FALSE)),\"-\",VLOOKUP(J434,'Information Page'!$C$24:$F$123,4,FALSE))","v":"-"},null,"0"]
[null,null,415,null,null,null,null,null,null,null,{"$f":"IF(ISERROR(VLOOKUP(J435,'Information Page'!$C$24:$F$123,2,FALSE)),\"-\",VLOOKUP(J435,'Information Page'!$C$24:$F$123,2,FALSE))","v":"-"},{"$f":"IF(ISERROR(VLOOKUP(J435,'Information Page'!$C$24:$F$123,3,FALSE)),\"-\",VLOOKUP(J435,'Information Page'!$C$24:$F$123,3,FALSE))","v":"-"},{"$f":"IF(ISERROR(VLOOKUP(J435,'Information Page'!$C$24:$F$123,4,FALSE)),\"-\",VLOOKUP(J435,'Information Page'!$C$24:$F$123,4,FALSE))","v":"-"},null,"0"]
[null,null,416,null,null,null,null,null,null,null,{"$f":"IF(ISERROR(VLOOKUP(J436,'Information Page'!$C$24:$F$123,2,FALSE)),\"-\",VLOOKUP(J436,'Information Page'!$C$24:$F$123,2,FALSE))","v":"-"},{"$f":"IF(ISERROR(VLOOKUP(J436,'Information Page'!$C$24:$F$123,3,FALSE)),\"-\",VLOOKUP(J436,'Information Page'!$C$24:$F$123,3,FALSE))","v":"-"},{"$f":"IF(ISERROR(VLOOKUP(J436,'Information Page'!$C$24:$F$123,4,FALSE)),\"-\",VLOOKUP(J436,'Information Page'!$C$24:$F$123,4,FALSE))","v":"-"},null,"0"]
[null,null,417,null,null,null,null,null,null,null,{"$f":"IF(ISERROR(VLOOKUP(J437,'Information Page'!$C$24:$F$123,2,FALSE)),\"-\",VLOOKUP(J437,'Information Page'!$C$24:$F$123,2,FALSE))","v":"-"},{"$f":"IF(ISERROR(VLOOKUP(J437,'Information Page'!$C$24:$F$123,3,FALSE)),\"-\",VLOOKUP(J437,'Information Page'!$C$24:$F$123,3,FALSE))","v":"-"},{"$f":"IF(ISERROR(VLOOKUP(J437,'Information Page'!$C$24:$F$123,4,FALSE)),\"-\",VLOOKUP(J437,'Information Page'!$C$24:$F$123,4,FALSE))","v":"-"},null,"0"]
[null,null,418,null,null,null,null,null,null,null,{"$f":"IF(ISERROR(VLOOKUP(J438,'Information Page'!$C$24:$F$123,2,FALSE)),\"-\",VLOOKUP(J438,'Information Page'!$C$24:$F$123,2,FALSE))","v":"-"},{"$f":"IF(ISERROR(VLOOKUP(J438,'Information Page'!$C$24:$F$123,3,FALSE)),\"-\",VLOOKUP(J438,'Information Page'!$C$24:$F$123,3,FALSE))","v":"-"},{"$f":"IF(ISERROR(VLOOKUP(J438,'Information Page'!$C$24:$F$123,4,FALSE)),\"-\",VLOOKUP(J438,'Information Page'!$C$24:$F$123,4,FALSE))","v":"-"},null,"0"]
[null,null,419,null,null,null,null,null,null,null,{"$f":"IF(ISERROR(VLOOKUP(J439,'Information Page'!$C$24:$F$123,2,FALSE)),\"-\",VLOOKUP(J439,'Information Page'!$C$24:$F$123,2,FALSE))","v":"-"},{"$f":"IF(ISERROR(VLOOKUP(J439,'Information Page'!$C$24:$F$123,3,FALSE)),\"-\",VLOOKUP(J439,'Information Page'!$C$24:$F$123,3,FALSE))","v":"-"},{"$f":"IF(ISERROR(VLOOKUP(J439,'Information Page'!$C$24:$F$123,4,FALSE)),\"-\",VLOOKUP(J439,'Information Page'!$C$24:$F$123,4,FALSE))","v":"-"},null,"0"]
[null,null,420,null,null,null,null,null,null,null,{"$f":"IF(ISERROR(VLOOKUP(J440,'Information Page'!$C$24:$F$123,2,FALSE)),\"-\",VLOOKUP(J440,'Information Page'!$C$24:$F$123,2,FALSE))","v":"-"},{"$f":"IF(ISERROR(VLOOKUP(J440,'Information Page'!$C$24:$F$123,3,FALSE)),\"-\",VLOOKUP(J440,'Information Page'!$C$24:$F$123,3,FALSE))","v":"-"},{"$f":"IF(ISERROR(VLOOKUP(J440,'Information Page'!$C$24:$F$123,4,FALSE)),\"-\",VLOOKUP(J440,'Information Page'!$C$24:$F$123,4,FALSE))","v":"-"},null,"0"]
[null,null,421,null,null,null,null,null,null,null,{"$f":"IF(ISERROR(VLOOKUP(J441,'Information Page'!$C$24:$F$123,2,FALSE)),\"-\",VLOOKUP(J441,'Information Page'!$C$24:$F$123,2,FALSE))","v":"-"},{"$f":"IF(ISERROR(VLOOKUP(J441,'Information Page'!$C$24:$F$123,3,FALSE)),\"-\",VLOOKUP(J441,'Information Page'!$C$24:$F$123,3,FALSE))","v":"-"},{"$f":"IF(ISERROR(VLOOKUP(J441,'Information Page'!$C$24:$F$123,4,FALSE)),\"-\",VLOOKUP(J441,'Information Page'!$C$24:$F$123,4,FALSE))","v":"-"},null,"0"]
[null,null,422,null,null,null,null,null,null,null,{"$f":"IF(ISERROR(VLOOKUP(J442,'Information Page'!$C$24:$F$123,2,FALSE)),\"-\",VLOOKUP(J442,'Information Page'!$C$24:$F$123,2,FALSE))","v":"-"},{"$f":"IF(ISERROR(VLOOKUP(J442,'Information Page'!$C$24:$F$123,3,FALSE)),\"-\",VLOOKUP(J442,'Information Page'!$C$24:$F$123,3,FALSE))","v":"-"},{"$f":"IF(ISERROR(VLOOKUP(J442,'Information Page'!$C$24:$F$123,4,FALSE)),\"-\",VLOOKUP(J442,'Information Page'!$C$24:$F$123,4,FALSE))","v":"-"},null,"0"]
[null,null,423,null,null,null,null,null,null,null,{"$f":"IF(ISERROR(VLOOKUP(J443,'Information Page'!$C$24:$F$123,2,FALSE)),\"-\",VLOOKUP(J443,'Information Page'!$C$24:$F$123,2,FALSE))","v":"-"},{"$f":"IF(ISERROR(VLOOKUP(J443,'Information Page'!$C$24:$F$123,3,FALSE)),\"-\",VLOOKUP(J443,'Information Page'!$C$24:$F$123,3,FALSE))","v":"-"},{"$f":"IF(ISERROR(VLOOKUP(J443,'Information Page'!$C$24:$F$123,4,FALSE)),\"-\",VLOOKUP(J443,'Information Page'!$C$24:$F$123,4,FALSE))","v":"-"},null,"0"]
[null,null,424,null,null,null,null,null,null,null,{"$f":"IF(ISERROR(VLOOKUP(J444,'Information Page'!$C$24:$F$123,2,FALSE)),\"-\",VLOOKUP(J444,'Information Page'!$C$24:$F$123,2,FALSE))","v":"-"},{"$f":"IF(ISERROR(VLOOKUP(J444,'Information Page'!$C$24:$F$123,3,FALSE)),\"-\",VLOOKUP(J444,'Information Page'!$C$24:$F$123,3,FALSE))","v":"-"},{"$f":"IF(ISERROR(VLOOKUP(J444,'Information Page'!$C$24:$F$123,4,FALSE)),\"-\",VLOOKUP(J444,'Information Page'!$C$24:$F$123,4,FALSE))","v":"-"},null,"0"]
[null,null,425,null,null,null,null,null,null,null,{"$f":"IF(ISERROR(VLOOKUP(J445,'Information Page'!$C$24:$F$123,2,FALSE)),\"-\",VLOOKUP(J445,'Information Page'!$C$24:$F$123,2,FALSE))","v":"-"},{"$f":"IF(ISERROR(VLOOKUP(J445,'Information Page'!$C$24:$F$123,3,FALSE)),\"-\",VLOOKUP(J445,'Information Page'!$C$24:$F$123,3,FALSE))","v":"-"},{"$f":"IF(ISERROR(VLOOKUP(J445,'Information Page'!$C$24:$F$123,4,FALSE)),\"-\",VLOOKUP(J445,'Information Page'!$C$24:$F$123,4,FALSE))","v":"-"},null,"0"]
[null,null,426,null,null,null,null,null,null,null,{"$f":"IF(ISERROR(VLOOKUP(J446,'Information Page'!$C$24:$F$123,2,FALSE)),\"-\",VLOOKUP(J446,'Information Page'!$C$24:$F$123,2,FALSE))","v":"-"},{"$f":"IF(ISERROR(VLOOKUP(J446,'Information Page'!$C$24:$F$123,3,FALSE)),\"-\",VLOOKUP(J446,'Information Page'!$C$24:$F$123,3,FALSE))","v":"-"},{"$f":"IF(ISERROR(VLOOKUP(J446,'Information Page'!$C$24:$F$123,4,FALSE)),\"-\",VLOOKUP(J446,'Information Page'!$C$24:$F$123,4,FALSE))","v":"-"},null,"0"]
[null,null,427,null,null,null,null,null,null,null,{"$f":"IF(ISERROR(VLOOKUP(J447,'Information Page'!$C$24:$F$123,2,FALSE)),\"-\",VLOOKUP(J447,'Information Page'!$C$24:$F$123,2,FALSE))","v":"-"},{"$f":"IF(ISERROR(VLOOKUP(J447,'Information Page'!$C$24:$F$123,3,FALSE)),\"-\",VLOOKUP(J447,'Information Page'!$C$24:$F$123,3,FALSE))","v":"-"},{"$f":"IF(ISERROR(VLOOKUP(J447,'Information Page'!$C$24:$F$123,4,FALSE)),\"-\",VLOOKUP(J447,'Information Page'!$C$24:$F$123,4,FALSE))","v":"-"},null,"0"]
[null,null,428,null,null,null,null,null,null,null,{"$f":"IF(ISERROR(VLOOKUP(J448,'Information Page'!$C$24:$F$123,2,FALSE)),\"-\",VLOOKUP(J448,'Information Page'!$C$24:$F$123,2,FALSE))","v":"-"},{"$f":"IF(ISERROR(VLOOKUP(J448,'Information Page'!$C$24:$F$123,3,FALSE)),\"-\",VLOOKUP(J448,'Information Page'!$C$24:$F$123,3,FALSE))","v":"-"},{"$f":"IF(ISERROR(VLOOKUP(J448,'Information Page'!$C$24:$F$123,4,FALSE)),\"-\",VLOOKUP(J448,'Information Page'!$C$24:$F$123,4,FALSE))","v":"-"},null,"0"]
[null,null,429,null,null,null,null,null,null,null,{"$f":"IF(ISERROR(VLOOKUP(J449,'Information Page'!$C$24:$F$123,2,FALSE)),\"-\",VLOOKUP(J449,'Information Page'!$C$24:$F$123,2,FALSE))","v":"-"},{"$f":"IF(ISERROR(VLOOKUP(J449,'Information Page'!$C$24:$F$123,3,FALSE)),\"-\",VLOOKUP(J449,'Information Page'!$C$24:$F$123,3,FALSE))","v":"-"},{"$f":"IF(ISERROR(VLOOKUP(J449,'Information Page'!$C$24:$F$123,4,FALSE)),\"-\",VLOOKUP(J449,'Information Page'!$C$24:$F$123,4,FALSE))","v":"-"},null,"0"]
[null,null,430,null,null,null,null,null,null,null,{"$f":"IF(ISERROR(VLOOKUP(J450,'Information Page'!$C$24:$F$123,2,FALSE)),\"-\",VLOOKUP(J450,'Information Page'!$C$24:$F$123,2,FALSE))","v":"-"},{"$f":"IF(ISERROR(VLOOKUP(J450,'Information Page'!$C$24:$F$123,3,FALSE)),\"-\",VLOOKUP(J450,'Information Page'!$C$24:$F$123,3,FALSE))","v":"-"},{"$f":"IF(ISERROR(VLOOKUP(J450,'Information Page'!$C$24:$F$123,4,FALSE)),\"-\",VLOOKUP(J450,'Information Page'!$C$24:$F$123,4,FALSE))","v":"-"},null,"0"]
[null,null,431,null,null,null,null,null,null,null,{"$f":"IF(ISERROR(VLOOKUP(J451,'Information Page'!$C$24:$F$123,2,FALSE)),\"-\",VLOOKUP(J451,'Information Page'!$C$24:$F$123,2,FALSE))","v":"-"},{"$f":"IF(ISERROR(VLOOKUP(J451,'Information Page'!$C$24:$F$123,3,FALSE)),\"-\",VLOOKUP(J451,'Information Page'!$C$24:$F$123,3,FALSE))","v":"-"},{"$f":"IF(ISERROR(VLOOKUP(J451,'Information Page'!$C$24:$F$123,4,FALSE)),\"-\",VLOOKUP(J451,'Information Page'!$C$24:$F$123,4,FALSE))","v":"-"},null,"0"]
[null,null,432,null,null,null,null,null,null,null,{"$f":"IF(ISERROR(VLOOKUP(J452,'Information Page'!$C$24:$F$123,2,FALSE)),\"-\",VLOOKUP(J452,'Information Page'!$C$24:$F$123,2,FALSE))","v":"-"},{"$f":"IF(ISERROR(VLOOKUP(J452,'Information Page'!$C$24:$F$123,3,FALSE)),\"-\",VLOOKUP(J452,'Information Page'!$C$24:$F$123,3,FALSE))","v":"-"},{"$f":"IF(ISERROR(VLOOKUP(J452,'Information Page'!$C$24:$F$123,4,FALSE)),\"-\",VLOOKUP(J452,'Information Page'!$C$24:$F$123,4,FALSE))","v":"-"},null,"0"]
[null,null,433,null,null,null,null,null,null,null,{"$f":"IF(ISERROR(VLOOKUP(J453,'Information Page'!$C$24:$F$123,2,FALSE)),\"-\",VLOOKUP(J453,'Information Page'!$C$24:$F$123,2,FALSE))","v":"-"},{"$f":"IF(ISERROR(VLOOKUP(J453,'Information Page'!$C$24:$F$123,3,FALSE)),\"-\",VLOOKUP(J453,'Information Page'!$C$24:$F$123,3,FALSE))","v":"-"},{"$f":"IF(ISERROR(VLOOKUP(J453,'Information Page'!$C$24:$F$123,4,FALSE)),\"-\",VLOOKUP(J453,'Information Page'!$C$24:$F$123,4,FALSE))","v":"-"},null,"0"]
[null,null,434,null,null,null,null,null,null,null,{"$f":"IF(ISERROR(VLOOKUP(J454,'Information Page'!$C$24:$F$123,2,FALSE)),\"-\",VLOOKUP(J454,'Information Page'!$C$24:$F$123,2,FALSE))","v":"-"},{"$f":"IF(ISERROR(VLOOKUP(J454,'Information Page'!$C$24:$F$123,3,FALSE)),\"-\",VLOOKUP(J454,'Information Page'!$C$24:$F$123,3,FALSE))","v":"-"},{"$f":"IF(ISERROR(VLOOKUP(J454,'Information Page'!$C$24:$F$123,4,FALSE)),\"-\",VLOOKUP(J454,'Information Page'!$C$24:$F$123,4,FALSE))","v":"-"},null,"0"]
[null,null,435,null,null,null,null,null,null,null,{"$f":"IF(ISERROR(VLOOKUP(J455,'Information Page'!$C$24:$F$123,2,FALSE)),\"-\",VLOOKUP(J455,'Information Page'!$C$24:$F$123,2,FALSE))","v":"-"},{"$f":"IF(ISERROR(VLOOKUP(J455,'Information Page'!$C$24:$F$123,3,FALSE)),\"-\",VLOOKUP(J455,'Information Page'!$C$24:$F$123,3,FALSE))","v":"-"},{"$f":"IF(ISERROR(VLOOKUP(J455,'Information Page'!$C$24:$F$123,4,FALSE)),\"-\",VLOOKUP(J455,'Information Page'!$C$24:$F$123,4,FALSE))","v":"-"},null,"0"]
[null,null,436,null,null,null,null,null,null,null,{"$f":"IF(ISERROR(VLOOKUP(J456,'Information Page'!$C$24:$F$123,2,FALSE)),\"-\",VLOOKUP(J456,'Information Page'!$C$24:$F$123,2,FALSE))","v":"-"},{"$f":"IF(ISERROR(VLOOKUP(J456,'Information Page'!$C$24:$F$123,3,FALSE)),\"-\",VLOOKUP(J456,'Information Page'!$C$24:$F$123,3,FALSE))","v":"-"},{"$f":"IF(ISERROR(VLOOKUP(J456,'Information Page'!$C$24:$F$123,4,FALSE)),\"-\",VLOOKUP(J456,'Information Page'!$C$24:$F$123,4,FALSE))","v":"-"},null,"0"]
[null,null,437,null,null,null,null,null,null,null,{"$f":"IF(ISERROR(VLOOKUP(J457,'Information Page'!$C$24:$F$123,2,FALSE)),\"-\",VLOOKUP(J457,'Information Page'!$C$24:$F$123,2,FALSE))","v":"-"},{"$f":"IF(ISERROR(VLOOKUP(J457,'Information Page'!$C$24:$F$123,3,FALSE)),\"-\",VLOOKUP(J457,'Information Page'!$C$24:$F$123,3,FALSE))","v":"-"},{"$f":"IF(ISERROR(VLOOKUP(J457,'Information Page'!$C$24:$F$123,4,FALSE)),\"-\",VLOOKUP(J457,'Information Page'!$C$24:$F$123,4,FALSE))","v":"-"},null,"0"]
[null,null,438,null,null,null,null,null,null,null,{"$f":"IF(ISERROR(VLOOKUP(J458,'Information Page'!$C$24:$F$123,2,FALSE)),\"-\",VLOOKUP(J458,'Information Page'!$C$24:$F$123,2,FALSE))","v":"-"},{"$f":"IF(ISERROR(VLOOKUP(J458,'Information Page'!$C$24:$F$123,3,FALSE)),\"-\",VLOOKUP(J458,'Information Page'!$C$24:$F$123,3,FALSE))","v":"-"},{"$f":"IF(ISERROR(VLOOKUP(J458,'Information Page'!$C$24:$F$123,4,FALSE)),\"-\",VLOOKUP(J458,'Information Page'!$C$24:$F$123,4,FALSE))","v":"-"},null,"0"]
[null,null,439,null,null,null,null,null,null,null,{"$f":"IF(ISERROR(VLOOKUP(J459,'Information Page'!$C$24:$F$123,2,FALSE)),\"-\",VLOOKUP(J459,'Information Page'!$C$24:$F$123,2,FALSE))","v":"-"},{"$f":"IF(ISERROR(VLOOKUP(J459,'Information Page'!$C$24:$F$123,3,FALSE)),\"-\",VLOOKUP(J459,'Information Page'!$C$24:$F$123,3,FALSE))","v":"-"},{"$f":"IF(ISERROR(VLOOKUP(J459,'Information Page'!$C$24:$F$123,4,FALSE)),\"-\",VLOOKUP(J459,'Information Page'!$C$24:$F$123,4,FALSE))","v":"-"},null,"0"]
[null,null,440,null,null,null,null,null,null,null,{"$f":"IF(ISERROR(VLOOKUP(J460,'Information Page'!$C$24:$F$123,2,FALSE)),\"-\",VLOOKUP(J460,'Information Page'!$C$24:$F$123,2,FALSE))","v":"-"},{"$f":"IF(ISERROR(VLOOKUP(J460,'Information Page'!$C$24:$F$123,3,FALSE)),\"-\",VLOOKUP(J460,'Information Page'!$C$24:$F$123,3,FALSE))","v":"-"},{"$f":"IF(ISERROR(VLOOKUP(J460,'Information Page'!$C$24:$F$123,4,FALSE)),\"-\",VLOOKUP(J460,'Information Page'!$C$24:$F$123,4,FALSE))","v":"-"},null,"0"]
[null,null,441,null,null,null,null,null,null,null,{"$f":"IF(ISERROR(VLOOKUP(J461,'Information Page'!$C$24:$F$123,2,FALSE)),\"-\",VLOOKUP(J461,'Information Page'!$C$24:$F$123,2,FALSE))","v":"-"},{"$f":"IF(ISERROR(VLOOKUP(J461,'Information Page'!$C$24:$F$123,3,FALSE)),\"-\",VLOOKUP(J461,'Information Page'!$C$24:$F$123,3,FALSE))","v":"-"},{"$f":"IF(ISERROR(VLOOKUP(J461,'Information Page'!$C$24:$F$123,4,FALSE)),\"-\",VLOOKUP(J461,'Information Page'!$C$24:$F$123,4,FALSE))","v":"-"},null,"0"]
[null,null,442,null,null,null,null,null,null,null,{"$f":"IF(ISERROR(VLOOKUP(J462,'Information Page'!$C$24:$F$123,2,FALSE)),\"-\",VLOOKUP(J462,'Information Page'!$C$24:$F$123,2,FALSE))","v":"-"},{"$f":"IF(ISERROR(VLOOKUP(J462,'Information Page'!$C$24:$F$123,3,FALSE)),\"-\",VLOOKUP(J462,'Information Page'!$C$24:$F$123,3,FALSE))","v":"-"},{"$f":"IF(ISERROR(VLOOKUP(J462,'Information Page'!$C$24:$F$123,4,FALSE)),\"-\",VLOOKUP(J462,'Information Page'!$C$24:$F$123,4,FALSE))","v":"-"},null,"0"]
[null,null,443,null,null,null,null,null,null,null,{"$f":"IF(ISERROR(VLOOKUP(J463,'Information Page'!$C$24:$F$123,2,FALSE)),\"-\",VLOOKUP(J463,'Information Page'!$C$24:$F$123,2,FALSE))","v":"-"},{"$f":"IF(ISERROR(VLOOKUP(J463,'Information Page'!$C$24:$F$123,3,FALSE)),\"-\",VLOOKUP(J463,'Information Page'!$C$24:$F$123,3,FALSE))","v":"-"},{"$f":"IF(ISERROR(VLOOKUP(J463,'Information Page'!$C$24:$F$123,4,FALSE)),\"-\",VLOOKUP(J463,'Information Page'!$C$24:$F$123,4,FALSE))","v":"-"},null,"0"]
[null,null,444,null,null,null,null,null,null,null,{"$f":"IF(ISERROR(VLOOKUP(J464,'Information Page'!$C$24:$F$123,2,FALSE)),\"-\",VLOOKUP(J464,'Information Page'!$C$24:$F$123,2,FALSE))","v":"-"},{"$f":"IF(ISERROR(VLOOKUP(J464,'Information Page'!$C$24:$F$123,3,FALSE)),\"-\",VLOOKUP(J464,'Information Page'!$C$24:$F$123,3,FALSE))","v":"-"},{"$f":"IF(ISERROR(VLOOKUP(J464,'Information Page'!$C$24:$F$123,4,FALSE)),\"-\",VLOOKUP(J464,'Information Page'!$C$24:$F$123,4,FALSE))","v":"-"},null,"0"]
[null,null,445,null,null,null,null,null,null,null,{"$f":"IF(ISERROR(VLOOKUP(J465,'Information Page'!$C$24:$F$123,2,FALSE)),\"-\",VLOOKUP(J465,'Information Page'!$C$24:$F$123,2,FALSE))","v":"-"},{"$f":"IF(ISERROR(VLOOKUP(J465,'Information Page'!$C$24:$F$123,3,FALSE)),\"-\",VLOOKUP(J465,'Information Page'!$C$24:$F$123,3,FALSE))","v":"-"},{"$f":"IF(ISERROR(VLOOKUP(J465,'Information Page'!$C$24:$F$123,4,FALSE)),\"-\",VLOOKUP(J465,'Information Page'!$C$24:$F$123,4,FALSE))","v":"-"},null,"0"]
[null,null,446,null,null,null,null,null,null,null,{"$f":"IF(ISERROR(VLOOKUP(J466,'Information Page'!$C$24:$F$123,2,FALSE)),\"-\",VLOOKUP(J466,'Information Page'!$C$24:$F$123,2,FALSE))","v":"-"},{"$f":"IF(ISERROR(VLOOKUP(J466,'Information Page'!$C$24:$F$123,3,FALSE)),\"-\",VLOOKUP(J466,'Information Page'!$C$24:$F$123,3,FALSE))","v":"-"},{"$f":"IF(ISERROR(VLOOKUP(J466,'Information Page'!$C$24:$F$123,4,FALSE)),\"-\",VLOOKUP(J466,'Information Page'!$C$24:$F$123,4,FALSE))","v":"-"},null,"0"]
[null,null,447,null,null,null,null,null,null,null,{"$f":"IF(ISERROR(VLOOKUP(J467,'Information Page'!$C$24:$F$123,2,FALSE)),\"-\",VLOOKUP(J467,'Information Page'!$C$24:$F$123,2,FALSE))","v":"-"},{"$f":"IF(ISERROR(VLOOKUP(J467,'Information Page'!$C$24:$F$123,3,FALSE)),\"-\",VLOOKUP(J467,'Information Page'!$C$24:$F$123,3,FALSE))","v":"-"},{"$f":"IF(ISERROR(VLOOKUP(J467,'Information Page'!$C$24:$F$123,4,FALSE)),\"-\",VLOOKUP(J467,'Information Page'!$C$24:$F$123,4,FALSE))","v":"-"},null,"0"]
[null,null,448,null,null,null,null,null,null,null,{"$f":"IF(ISERROR(VLOOKUP(J468,'Information Page'!$C$24:$F$123,2,FALSE)),\"-\",VLOOKUP(J468,'Information Page'!$C$24:$F$123,2,FALSE))","v":"-"},{"$f":"IF(ISERROR(VLOOKUP(J468,'Information Page'!$C$24:$F$123,3,FALSE)),\"-\",VLOOKUP(J468,'Information Page'!$C$24:$F$123,3,FALSE))","v":"-"},{"$f":"IF(ISERROR(VLOOKUP(J468,'Information Page'!$C$24:$F$123,4,FALSE)),\"-\",VLOOKUP(J468,'Information Page'!$C$24:$F$123,4,FALSE))","v":"-"},null,"0"]
[null,null,449,null,null,null,null,null,null,null,{"$f":"IF(ISERROR(VLOOKUP(J469,'Information Page'!$C$24:$F$123,2,FALSE)),\"-\",VLOOKUP(J469,'Information Page'!$C$24:$F$123,2,FALSE))","v":"-"},{"$f":"IF(ISERROR(VLOOKUP(J469,'Information Page'!$C$24:$F$123,3,FALSE)),\"-\",VLOOKUP(J469,'Information Page'!$C$24:$F$123,3,FALSE))","v":"-"},{"$f":"IF(ISERROR(VLOOKUP(J469,'Information Page'!$C$24:$F$123,4,FALSE)),\"-\",VLOOKUP(J469,'Information Page'!$C$24:$F$123,4,FALSE))","v":"-"},null,"0"]
[null,null,450,null,null,null,null,null,null,null,{"$f":"IF(ISERROR(VLOOKUP(J470,'Information Page'!$C$24:$F$123,2,FALSE)),\"-\",VLOOKUP(J470,'Information Page'!$C$24:$F$123,2,FALSE))","v":"-"},{"$f":"IF(ISERROR(VLOOKUP(J470,'Information Page'!$C$24:$F$123,3,FALSE)),\"-\",VLOOKUP(J470,'Information Page'!$C$24:$F$123,3,FALSE))","v":"-"},{"$f":"IF(ISERROR(VLOOKUP(J470,'Information Page'!$C$24:$F$123,4,FALSE)),\"-\",VLOOKUP(J470,'Information Page'!$C$24:$F$123,4,FALSE))","v":"-"},null,{"$f":"IF(M470=\"-\",\"0\",M470*N470)","v":"0"}]
[null,null,451,null,null,null,null,null,null,null,{"$f":"IF(ISERROR(VLOOKUP(J471,'Information Page'!$C$24:$F$123,2,FALSE)),\"-\",VLOOKUP(J471,'Information Page'!$C$24:$F$123,2,FALSE))","v":"-"},{"$f":"IF(ISERROR(VLOOKUP(J471,'Information Page'!$C$24:$F$123,3,FALSE)),\"-\",VLOOKUP(J471,'Information Page'!$C$24:$F$123,3,FALSE))","v":"-"},{"$f":"IF(ISERROR(VLOOKUP(J471,'Information Page'!$C$24:$F$123,4,FALSE)),\"-\",VLOOKUP(J471,'Information Page'!$C$24:$F$123,4,FALSE))","v":"-"},null,"0"]
[null,null,452,null,null,null,null,null,null,null,{"$f":"IF(ISERROR(VLOOKUP(J472,'Information Page'!$C$24:$F$123,2,FALSE)),\"-\",VLOOKUP(J472,'Information Page'!$C$24:$F$123,2,FALSE))","v":"-"},{"$f":"IF(ISERROR(VLOOKUP(J472,'Information Page'!$C$24:$F$123,3,FALSE)),\"-\",VLOOKUP(J472,'Information Page'!$C$24:$F$123,3,FALSE))","v":"-"},{"$f":"IF(ISERROR(VLOOKUP(J472,'Information Page'!$C$24:$F$123,4,FALSE)),\"-\",VLOOKUP(J472,'Information Page'!$C$24:$F$123,4,FALSE))","v":"-"},null,"0"]
[null,null,453,null,null,null,null,null,null,null,{"$f":"IF(ISERROR(VLOOKUP(J473,'Information Page'!$C$24:$F$123,2,FALSE)),\"-\",VLOOKUP(J473,'Information Page'!$C$24:$F$123,2,FALSE))","v":"-"},{"$f":"IF(ISERROR(VLOOKUP(J473,'Information Page'!$C$24:$F$123,3,FALSE)),\"-\",VLOOKUP(J473,'Information Page'!$C$24:$F$123,3,FALSE))","v":"-"},{"$f":"IF(ISERROR(VLOOKUP(J473,'Information Page'!$C$24:$F$123,4,FALSE)),\"-\",VLOOKUP(J473,'Information Page'!$C$24:$F$123,4,FALSE))","v":"-"},null,"0"]
[null,null,454,null,null,null,null,null,null,null,{"$f":"IF(ISERROR(VLOOKUP(J474,'Information Page'!$C$24:$F$123,2,FALSE)),\"-\",VLOOKUP(J474,'Information Page'!$C$24:$F$123,2,FALSE))","v":"-"},{"$f":"IF(ISERROR(VLOOKUP(J474,'Information Page'!$C$24:$F$123,3,FALSE)),\"-\",VLOOKUP(J474,'Information Page'!$C$24:$F$123,3,FALSE))","v":"-"},{"$f":"IF(ISERROR(VLOOKUP(J474,'Information Page'!$C$24:$F$123,4,FALSE)),\"-\",VLOOKUP(J474,'Information Page'!$C$24:$F$123,4,FALSE))","v":"-"},null,"0"]
[null,null,455,null,null,null,null,null,null,null,{"$f":"IF(ISERROR(VLOOKUP(J475,'Information Page'!$C$24:$F$123,2,FALSE)),\"-\",VLOOKUP(J475,'Information Page'!$C$24:$F$123,2,FALSE))","v":"-"},{"$f":"IF(ISERROR(VLOOKUP(J475,'Information Page'!$C$24:$F$123,3,FALSE)),\"-\",VLOOKUP(J475,'Information Page'!$C$24:$F$123,3,FALSE))","v":"-"},{"$f":"IF(ISERROR(VLOOKUP(J475,'Information Page'!$C$24:$F$123,4,FALSE)),\"-\",VLOOKUP(J475,'Information Page'!$C$24:$F$123,4,FALSE))","v":"-"},null,"0"]
[null,null,456,null,null,null,null,null,null,null,{"$f":"IF(ISERROR(VLOOKUP(J476,'Information Page'!$C$24:$F$123,2,FALSE)),\"-\",VLOOKUP(J476,'Information Page'!$C$24:$F$123,2,FALSE))","v":"-"},{"$f":"IF(ISERROR(VLOOKUP(J476,'Information Page'!$C$24:$F$123,3,FALSE)),\"-\",VLOOKUP(J476,'Information Page'!$C$24:$F$123,3,FALSE))","v":"-"},{"$f":"IF(ISERROR(VLOOKUP(J476,'Information Page'!$C$24:$F$123,4,FALSE)),\"-\",VLOOKUP(J476,'Information Page'!$C$24:$F$123,4,FALSE))","v":"-"},null,"0"]
[null,null,457,null,null,null,null,null,null,null,{"$f":"IF(ISERROR(VLOOKUP(J477,'Information Page'!$C$24:$F$123,2,FALSE)),\"-\",VLOOKUP(J477,'Information Page'!$C$24:$F$123,2,FALSE))","v":"-"},{"$f":"IF(ISERROR(VLOOKUP(J477,'Information Page'!$C$24:$F$123,3,FALSE)),\"-\",VLOOKUP(J477,'Information Page'!$C$24:$F$123,3,FALSE))","v":"-"},{"$f":"IF(ISERROR(VLOOKUP(J477,'Information Page'!$C$24:$F$123,4,FALSE)),\"-\",VLOOKUP(J477,'Information Page'!$C$24:$F$123,4,FALSE))","v":"-"},null,"0"]
[null,null,458,null,null,null,null,null,null,null,{"$f":"IF(ISERROR(VLOOKUP(J478,'Information Page'!$C$24:$F$123,2,FALSE)),\"-\",VLOOKUP(J478,'Information Page'!$C$24:$F$123,2,FALSE))","v":"-"},{"$f":"IF(ISERROR(VLOOKUP(J478,'Information Page'!$C$24:$F$123,3,FALSE)),\"-\",VLOOKUP(J478,'Information Page'!$C$24:$F$123,3,FALSE))","v":"-"},{"$f":"IF(ISERROR(VLOOKUP(J478,'Information Page'!$C$24:$F$123,4,FALSE)),\"-\",VLOOKUP(J478,'Information Page'!$C$24:$F$123,4,FALSE))","v":"-"},null,"0"]
[null,null,459,null,null,null,null,null,null,null,{"$f":"IF(ISERROR(VLOOKUP(J479,'Information Page'!$C$24:$F$123,2,FALSE)),\"-\",VLOOKUP(J479,'Information Page'!$C$24:$F$123,2,FALSE))","v":"-"},{"$f":"IF(ISERROR(VLOOKUP(J479,'Information Page'!$C$24:$F$123,3,FALSE)),\"-\",VLOOKUP(J479,'Information Page'!$C$24:$F$123,3,FALSE))","v":"-"},{"$f":"IF(ISERROR(VLOOKUP(J479,'Information Page'!$C$24:$F$123,4,FALSE)),\"-\",VLOOKUP(J479,'Information Page'!$C$24:$F$123,4,FALSE))","v":"-"},null,"0"]
[null,null,460,null,null,null,null,null,null,null,{"$f":"IF(ISERROR(VLOOKUP(J480,'Information Page'!$C$24:$F$123,2,FALSE)),\"-\",VLOOKUP(J480,'Information Page'!$C$24:$F$123,2,FALSE))","v":"-"},{"$f":"IF(ISERROR(VLOOKUP(J480,'Information Page'!$C$24:$F$123,3,FALSE)),\"-\",VLOOKUP(J480,'Information Page'!$C$24:$F$123,3,FALSE))","v":"-"},{"$f":"IF(ISERROR(VLOOKUP(J480,'Information Page'!$C$24:$F$123,4,FALSE)),\"-\",VLOOKUP(J480,'Information Page'!$C$24:$F$123,4,FALSE))","v":"-"},null,"0"]
[null,null,461,null,null,null,null,null,null,null,{"$f":"IF(ISERROR(VLOOKUP(J481,'Information Page'!$C$24:$F$123,2,FALSE)),\"-\",VLOOKUP(J481,'Information Page'!$C$24:$F$123,2,FALSE))","v":"-"},{"$f":"IF(ISERROR(VLOOKUP(J481,'Information Page'!$C$24:$F$123,3,FALSE)),\"-\",VLOOKUP(J481,'Information Page'!$C$24:$F$123,3,FALSE))","v":"-"},{"$f":"IF(ISERROR(VLOOKUP(J481,'Information Page'!$C$24:$F$123,4,FALSE)),\"-\",VLOOKUP(J481,'Information Page'!$C$24:$F$123,4,FALSE))","v":"-"},null,"0"]
[null,null,462,null,null,null,null,null,null,null,{"$f":"IF(ISERROR(VLOOKUP(J482,'Information Page'!$C$24:$F$123,2,FALSE)),\"-\",VLOOKUP(J482,'Information Page'!$C$24:$F$123,2,FALSE))","v":"-"},{"$f":"IF(ISERROR(VLOOKUP(J482,'Information Page'!$C$24:$F$123,3,FALSE)),\"-\",VLOOKUP(J482,'Information Page'!$C$24:$F$123,3,FALSE))","v":"-"},{"$f":"IF(ISERROR(VLOOKUP(J482,'Information Page'!$C$24:$F$123,4,FALSE)),\"-\",VLOOKUP(J482,'Information Page'!$C$24:$F$123,4,FALSE))","v":"-"},null,"0"]
[null,null,463,null,null,null,null,null,null,null,{"$f":"IF(ISERROR(VLOOKUP(J483,'Information Page'!$C$24:$F$123,2,FALSE)),\"-\",VLOOKUP(J483,'Information Page'!$C$24:$F$123,2,FALSE))","v":"-"},{"$f":"IF(ISERROR(VLOOKUP(J483,'Information Page'!$C$24:$F$123,3,FALSE)),\"-\",VLOOKUP(J483,'Information Page'!$C$24:$F$123,3,FALSE))","v":"-"},{"$f":"IF(ISERROR(VLOOKUP(J483,'Information Page'!$C$24:$F$123,4,FALSE)),\"-\",VLOOKUP(J483,'Information Page'!$C$24:$F$123,4,FALSE))","v":"-"},null,"0"]
[null,null,464,null,null,null,null,null,null,null,{"$f":"IF(ISERROR(VLOOKUP(J484,'Information Page'!$C$24:$F$123,2,FALSE)),\"-\",VLOOKUP(J484,'Information Page'!$C$24:$F$123,2,FALSE))","v":"-"},{"$f":"IF(ISERROR(VLOOKUP(J484,'Information Page'!$C$24:$F$123,3,FALSE)),\"-\",VLOOKUP(J484,'Information Page'!$C$24:$F$123,3,FALSE))","v":"-"},{"$f":"IF(ISERROR(VLOOKUP(J484,'Information Page'!$C$24:$F$123,4,FALSE)),\"-\",VLOOKUP(J484,'Information Page'!$C$24:$F$123,4,FALSE))","v":"-"},null,"0"]
[null,null,465,null,null,null,null,null,null,null,{"$f":"IF(ISERROR(VLOOKUP(J485,'Information Page'!$C$24:$F$123,2,FALSE)),\"-\",VLOOKUP(J485,'Information Page'!$C$24:$F$123,2,FALSE))","v":"-"},{"$f":"IF(ISERROR(VLOOKUP(J485,'Information Page'!$C$24:$F$123,3,FALSE)),\"-\",VLOOKUP(J485,'Information Page'!$C$24:$F$123,3,FALSE))","v":"-"},{"$f":"IF(ISERROR(VLOOKUP(J485,'Information Page'!$C$24:$F$123,4,FALSE)),\"-\",VLOOKUP(J485,'Information Page'!$C$24:$F$123,4,FALSE))","v":"-"},null,"0"]
[null,null,466,null,null,null,null,null,null,null,{"$f":"IF(ISERROR(VLOOKUP(J486,'Information Page'!$C$24:$F$123,2,FALSE)),\"-\",VLOOKUP(J486,'Information Page'!$C$24:$F$123,2,FALSE))","v":"-"},{"$f":"IF(ISERROR(VLOOKUP(J486,'Information Page'!$C$24:$F$123,3,FALSE)),\"-\",VLOOKUP(J486,'Information Page'!$C$24:$F$123,3,FALSE))","v":"-"},{"$f":"IF(ISERROR(VLOOKUP(J486,'Information Page'!$C$24:$F$123,4,FALSE)),\"-\",VLOOKUP(J486,'Information Page'!$C$24:$F$123,4,FALSE))","v":"-"},null,"0"]
[null,null,467,null,null,null,null,null,null,null,{"$f":"IF(ISERROR(VLOOKUP(J487,'Information Page'!$C$24:$F$123,2,FALSE)),\"-\",VLOOKUP(J487,'Information Page'!$C$24:$F$123,2,FALSE))","v":"-"},{"$f":"IF(ISERROR(VLOOKUP(J487,'Information Page'!$C$24:$F$123,3,FALSE)),\"-\",VLOOKUP(J487,'Information Page'!$C$24:$F$123,3,FALSE))","v":"-"},{"$f":"IF(ISERROR(VLOOKUP(J487,'Information Page'!$C$24:$F$123,4,FALSE)),\"-\",VLOOKUP(J487,'Information Page'!$C$24:$F$123,4,FALSE))","v":"-"},null,"0"]
[null,null,468,null,null,null,null,null,null,null,{"$f":"IF(ISERROR(VLOOKUP(J488,'Information Page'!$C$24:$F$123,2,FALSE)),\"-\",VLOOKUP(J488,'Information Page'!$C$24:$F$123,2,FALSE))","v":"-"},{"$f":"IF(ISERROR(VLOOKUP(J488,'Information Page'!$C$24:$F$123,3,FALSE)),\"-\",VLOOKUP(J488,'Information Page'!$C$24:$F$123,3,FALSE))","v":"-"},{"$f":"IF(ISERROR(VLOOKUP(J488,'Information Page'!$C$24:$F$123,4,FALSE)),\"-\",VLOOKUP(J488,'Information Page'!$C$24:$F$123,4,FALSE))","v":"-"},null,"0"]
[null,null,469,null,null,null,null,null,null,null,{"$f":"IF(ISERROR(VLOOKUP(J489,'Information Page'!$C$24:$F$123,2,FALSE)),\"-\",VLOOKUP(J489,'Information Page'!$C$24:$F$123,2,FALSE))","v":"-"},{"$f":"IF(ISERROR(VLOOKUP(J489,'Information Page'!$C$24:$F$123,3,FALSE)),\"-\",VLOOKUP(J489,'Information Page'!$C$24:$F$123,3,FALSE))","v":"-"},{"$f":"IF(ISERROR(VLOOKUP(J489,'Information Page'!$C$24:$F$123,4,FALSE)),\"-\",VLOOKUP(J489,'Information Page'!$C$24:$F$123,4,FALSE))","v":"-"},null,"0"]
[null,null,470,null,null,null,null,null,null,null,{"$f":"IF(ISERROR(VLOOKUP(J490,'Information Page'!$C$24:$F$123,2,FALSE)),\"-\",VLOOKUP(J490,'Information Page'!$C$24:$F$123,2,FALSE))","v":"-"},{"$f":"IF(ISERROR(VLOOKUP(J490,'Information Page'!$C$24:$F$123,3,FALSE)),\"-\",VLOOKUP(J490,'Information Page'!$C$24:$F$123,3,FALSE))","v":"-"},{"$f":"IF(ISERROR(VLOOKUP(J490,'Information Page'!$C$24:$F$123,4,FALSE)),\"-\",VLOOKUP(J490,'Information Page'!$C$24:$F$123,4,FALSE))","v":"-"},null,"0"]
[null,null,471,null,null,null,null,null,null,null,{"$f":"IF(ISERROR(VLOOKUP(J491,'Information Page'!$C$24:$F$123,2,FALSE)),\"-\",VLOOKUP(J491,'Information Page'!$C$24:$F$123,2,FALSE))","v":"-"},{"$f":"IF(ISERROR(VLOOKUP(J491,'Information Page'!$C$24:$F$123,3,FALSE)),\"-\",VLOOKUP(J491,'Information Page'!$C$24:$F$123,3,FALSE))","v":"-"},{"$f":"IF(ISERROR(VLOOKUP(J491,'Information Page'!$C$24:$F$123,4,FALSE)),\"-\",VLOOKUP(J491,'Information Page'!$C$24:$F$123,4,FALSE))","v":"-"},null,"0"]
[null,null,472,null,null,null,null,null,null,null,{"$f":"IF(ISERROR(VLOOKUP(J492,'Information Page'!$C$24:$F$123,2,FALSE)),\"-\",VLOOKUP(J492,'Information Page'!$C$24:$F$123,2,FALSE))","v":"-"},{"$f":"IF(ISERROR(VLOOKUP(J492,'Information Page'!$C$24:$F$123,3,FALSE)),\"-\",VLOOKUP(J492,'Information Page'!$C$24:$F$123,3,FALSE))","v":"-"},{"$f":"IF(ISERROR(VLOOKUP(J492,'Information Page'!$C$24:$F$123,4,FALSE)),\"-\",VLOOKUP(J492,'Information Page'!$C$24:$F$123,4,FALSE))","v":"-"},null,"0"]
[null,null,473,null,null,null,null,null,null,null,{"$f":"IF(ISERROR(VLOOKUP(J493,'Information Page'!$C$24:$F$123,2,FALSE)),\"-\",VLOOKUP(J493,'Information Page'!$C$24:$F$123,2,FALSE))","v":"-"},{"$f":"IF(ISERROR(VLOOKUP(J493,'Information Page'!$C$24:$F$123,3,FALSE)),\"-\",VLOOKUP(J493,'Information Page'!$C$24:$F$123,3,FALSE))","v":"-"},{"$f":"IF(ISERROR(VLOOKUP(J493,'Information Page'!$C$24:$F$123,4,FALSE)),\"-\",VLOOKUP(J493,'Information Page'!$C$24:$F$123,4,FALSE))","v":"-"},null,"0"]
[null,null,474,null,null,null,null,null,null,null,{"$f":"IF(ISERROR(VLOOKUP(J494,'Information Page'!$C$24:$F$123,2,FALSE)),\"-\",VLOOKUP(J494,'Information Page'!$C$24:$F$123,2,FALSE))","v":"-"},{"$f":"IF(ISERROR(VLOOKUP(J494,'Information Page'!$C$24:$F$123,3,FALSE)),\"-\",VLOOKUP(J494,'Information Page'!$C$24:$F$123,3,FALSE))","v":"-"},{"$f":"IF(ISERROR(VLOOKUP(J494,'Information Page'!$C$24:$F$123,4,FALSE)),\"-\",VLOOKUP(J494,'Information Page'!$C$24:$F$123,4,FALSE))","v":"-"},null,"0"]
[null,null,475,null,null,null,null,null,null,null,{"$f":"IF(ISERROR(VLOOKUP(J495,'Information Page'!$C$24:$F$123,2,FALSE)),\"-\",VLOOKUP(J495,'Information Page'!$C$24:$F$123,2,FALSE))","v":"-"},{"$f":"IF(ISERROR(VLOOKUP(J495,'Information Page'!$C$24:$F$123,3,FALSE)),\"-\",VLOOKUP(J495,'Information Page'!$C$24:$F$123,3,FALSE))","v":"-"},{"$f":"IF(ISERROR(VLOOKUP(J495,'Information Page'!$C$24:$F$123,4,FALSE)),\"-\",VLOOKUP(J495,'Information Page'!$C$24:$F$123,4,FALSE))","v":"-"},null,"0"]
[null,null,476,null,null,null,null,null,null,null,{"$f":"IF(ISERROR(VLOOKUP(J496,'Information Page'!$C$24:$F$123,2,FALSE)),\"-\",VLOOKUP(J496,'Information Page'!$C$24:$F$123,2,FALSE))","v":"-"},{"$f":"IF(ISERROR(VLOOKUP(J496,'Information Page'!$C$24:$F$123,3,FALSE)),\"-\",VLOOKUP(J496,'Information Page'!$C$24:$F$123,3,FALSE))","v":"-"},{"$f":"IF(ISERROR(VLOOKUP(J496,'Information Page'!$C$24:$F$123,4,FALSE)),\"-\",VLOOKUP(J496,'Information Page'!$C$24:$F$123,4,FALSE))","v":"-"},null,"0"]
[null,null,477,null,null,null,null,null,null,null,{"$f":"IF(ISERROR(VLOOKUP(J497,'Information Page'!$C$24:$F$123,2,FALSE)),\"-\",VLOOKUP(J497,'Information Page'!$C$24:$F$123,2,FALSE))","v":"-"},{"$f":"IF(ISERROR(VLOOKUP(J497,'Information Page'!$C$24:$F$123,3,FALSE)),\"-\",VLOOKUP(J497,'Information Page'!$C$24:$F$123,3,FALSE))","v":"-"},{"$f":"IF(ISERROR(VLOOKUP(J497,'Information Page'!$C$24:$F$123,4,FALSE)),\"-\",VLOOKUP(J497,'Information Page'!$C$24:$F$123,4,FALSE))","v":"-"},null,"0"]
[null,null,478,null,null,null,null,null,null,null,{"$f":"IF(ISERROR(VLOOKUP(J498,'Information Page'!$C$24:$F$123,2,FALSE)),\"-\",VLOOKUP(J498,'Information Page'!$C$24:$F$123,2,FALSE))","v":"-"},{"$f":"IF(ISERROR(VLOOKUP(J498,'Information Page'!$C$24:$F$123,3,FALSE)),\"-\",VLOOKUP(J498,'Information Page'!$C$24:$F$123,3,FALSE))","v":"-"},{"$f":"IF(ISERROR(VLOOKUP(J498,'Information Page'!$C$24:$F$123,4,FALSE)),\"-\",VLOOKUP(J498,'Information Page'!$C$24:$F$123,4,FALSE))","v":"-"},null,"0"]
[null,null,479,null,null,null,null,null,null,null,{"$f":"IF(ISERROR(VLOOKUP(J499,'Information Page'!$C$24:$F$123,2,FALSE)),\"-\",VLOOKUP(J499,'Information Page'!$C$24:$F$123,2,FALSE))","v":"-"},{"$f":"IF(ISERROR(VLOOKUP(J499,'Information Page'!$C$24:$F$123,3,FALSE)),\"-\",VLOOKUP(J499,'Information Page'!$C$24:$F$123,3,FALSE))","v":"-"},{"$f":"IF(ISERROR(VLOOKUP(J499,'Information Page'!$C$24:$F$123,4,FALSE)),\"-\",VLOOKUP(J499,'Information Page'!$C$24:$F$123,4,FALSE))","v":"-"},null,"0"]
[null,null,480,null,null,null,null,null,null,null,{"$f":"IF(ISERROR(VLOOKUP(J500,'Information Page'!$C$24:$F$123,2,FALSE)),\"-\",VLOOKUP(J500,'Information Page'!$C$24:$F$123,2,FALSE))","v":"-"},{"$f":"IF(ISERROR(VLOOKUP(J500,'Information Page'!$C$24:$F$123,3,FALSE)),\"-\",VLOOKUP(J500,'Information Page'!$C$24:$F$123,3,FALSE))","v":"-"},{"$f":"IF(ISERROR(VLOOKUP(J500,'Information Page'!$C$24:$F$123,4,FALSE)),\"-\",VLOOKUP(J500,'Information Page'!$C$24:$F$123,4,FALSE))","v":"-"},null,"0"]
[null,null,481,null,null,null,null,null,null,null,{"$f":"IF(ISERROR(VLOOKUP(J501,'Information Page'!$C$24:$F$123,2,FALSE)),\"-\",VLOOKUP(J501,'Information Page'!$C$24:$F$123,2,FALSE))","v":"-"},{"$f":"IF(ISERROR(VLOOKUP(J501,'Information Page'!$C$24:$F$123,3,FALSE)),\"-\",VLOOKUP(J501,'Information Page'!$C$24:$F$123,3,FALSE))","v":"-"},{"$f":"IF(ISERROR(VLOOKUP(J501,'Information Page'!$C$24:$F$123,4,FALSE)),\"-\",VLOOKUP(J501,'Information Page'!$C$24:$F$123,4,FALSE))","v":"-"},null,"0"]
[null,null,482,null,null,null,null,null,null,null,{"$f":"IF(ISERROR(VLOOKUP(J502,'Information Page'!$C$24:$F$123,2,FALSE)),\"-\",VLOOKUP(J502,'Information Page'!$C$24:$F$123,2,FALSE))","v":"-"},{"$f":"IF(ISERROR(VLOOKUP(J502,'Information Page'!$C$24:$F$123,3,FALSE)),\"-\",VLOOKUP(J502,'Information Page'!$C$24:$F$123,3,FALSE))","v":"-"},{"$f":"IF(ISERROR(VLOOKUP(J502,'Information Page'!$C$24:$F$123,4,FALSE)),\"-\",VLOOKUP(J502,'Information Page'!$C$24:$F$123,4,FALSE))","v":"-"},null,"0"]
[null,null,483,null,null,null,null,null,null,null,{"$f":"IF(ISERROR(VLOOKUP(J503,'Information Page'!$C$24:$F$123,2,FALSE)),\"-\",VLOOKUP(J503,'Information Page'!$C$24:$F$123,2,FALSE))","v":"-"},{"$f":"IF(ISERROR(VLOOKUP(J503,'Information Page'!$C$24:$F$123,3,FALSE)),\"-\",VLOOKUP(J503,'Information Page'!$C$24:$F$123,3,FALSE))","v":"-"},{"$f":"IF(ISERROR(VLOOKUP(J503,'Information Page'!$C$24:$F$123,4,FALSE)),\"-\",VLOOKUP(J503,'Information Page'!$C$24:$F$123,4,FALSE))","v":"-"},null,"0"]
[null,null,484,null,null,null,null,null,null,null,{"$f":"IF(ISERROR(VLOOKUP(J504,'Information Page'!$C$24:$F$123,2,FALSE)),\"-\",VLOOKUP(J504,'Information Page'!$C$24:$F$123,2,FALSE))","v":"-"},{"$f":"IF(ISERROR(VLOOKUP(J504,'Information Page'!$C$24:$F$123,3,FALSE)),\"-\",VLOOKUP(J504,'Information Page'!$C$24:$F$123,3,FALSE))","v":"-"},{"$f":"IF(ISERROR(VLOOKUP(J504,'Information Page'!$C$24:$F$123,4,FALSE)),\"-\",VLOOKUP(J504,'Information Page'!$C$24:$F$123,4,FALSE))","v":"-"},null,"0"]
[null,null,485,null,null,null,null,null,null,null,{"$f":"IF(ISERROR(VLOOKUP(J505,'Information Page'!$C$24:$F$123,2,FALSE)),\"-\",VLOOKUP(J505,'Information Page'!$C$24:$F$123,2,FALSE))","v":"-"},{"$f":"IF(ISERROR(VLOOKUP(J505,'Information Page'!$C$24:$F$123,3,FALSE)),\"-\",VLOOKUP(J505,'Information Page'!$C$24:$F$123,3,FALSE))","v":"-"},{"$f":"IF(ISERROR(VLOOKUP(J505,'Information Page'!$C$24:$F$123,4,FALSE)),\"-\",VLOOKUP(J505,'Information Page'!$C$24:$F$123,4,FALSE))","v":"-"},null,"0"]
[null,null,486,null,null,null,null,null,null,null,{"$f":"IF(ISERROR(VLOOKUP(J506,'Information Page'!$C$24:$F$123,2,FALSE)),\"-\",VLOOKUP(J506,'Information Page'!$C$24:$F$123,2,FALSE))","v":"-"},{"$f":"IF(ISERROR(VLOOKUP(J506,'Information Page'!$C$24:$F$123,3,FALSE)),\"-\",VLOOKUP(J506,'Information Page'!$C$24:$F$123,3,FALSE))","v":"-"},{"$f":"IF(ISERROR(VLOOKUP(J506,'Information Page'!$C$24:$F$123,4,FALSE)),\"-\",VLOOKUP(J506,'Information Page'!$C$24:$F$123,4,FALSE))","v":"-"},null,"0"]
[null,null,487,null,null,null,null,null,null,null,{"$f":"IF(ISERROR(VLOOKUP(J507,'Information Page'!$C$24:$F$123,2,FALSE)),\"-\",VLOOKUP(J507,'Information Page'!$C$24:$F$123,2,FALSE))","v":"-"},{"$f":"IF(ISERROR(VLOOKUP(J507,'Information Page'!$C$24:$F$123,3,FALSE)),\"-\",VLOOKUP(J507,'Information Page'!$C$24:$F$123,3,FALSE))","v":"-"},{"$f":"IF(ISERROR(VLOOKUP(J507,'Information Page'!$C$24:$F$123,4,FALSE)),\"-\",VLOOKUP(J507,'Information Page'!$C$24:$F$123,4,FALSE))","v":"-"},null,"0"]
[null,null,488,null,null,null,null,null,null,null,{"$f":"IF(ISERROR(VLOOKUP(J508,'Information Page'!$C$24:$F$123,2,FALSE)),\"-\",VLOOKUP(J508,'Information Page'!$C$24:$F$123,2,FALSE))","v":"-"},{"$f":"IF(ISERROR(VLOOKUP(J508,'Information Page'!$C$24:$F$123,3,FALSE)),\"-\",VLOOKUP(J508,'Information Page'!$C$24:$F$123,3,FALSE))","v":"-"},{"$f":"IF(ISERROR(VLOOKUP(J508,'Information Page'!$C$24:$F$123,4,FALSE)),\"-\",VLOOKUP(J508,'Information Page'!$C$24:$F$123,4,FALSE))","v":"-"},null,"0"]
[null,null,489,null,null,null,null,null,null,null,{"$f":"IF(ISERROR(VLOOKUP(J509,'Information Page'!$C$24:$F$123,2,FALSE)),\"-\",VLOOKUP(J509,'Information Page'!$C$24:$F$123,2,FALSE))","v":"-"},{"$f":"IF(ISERROR(VLOOKUP(J509,'Information Page'!$C$24:$F$123,3,FALSE)),\"-\",VLOOKUP(J509,'Information Page'!$C$24:$F$123,3,FALSE))","v":"-"},{"$f":"IF(ISERROR(VLOOKUP(J509,'Information Page'!$C$24:$F$123,4,FALSE)),\"-\",VLOOKUP(J509,'Information Page'!$C$24:$F$123,4,FALSE))","v":"-"},null,"0"]
[null,null,490,null,null,null,null,null,null,null,{"$f":"IF(ISERROR(VLOOKUP(J510,'Information Page'!$C$24:$F$123,2,FALSE)),\"-\",VLOOKUP(J510,'Information Page'!$C$24:$F$123,2,FALSE))","v":"-"},{"$f":"IF(ISERROR(VLOOKUP(J510,'Information Page'!$C$24:$F$123,3,FALSE)),\"-\",VLOOKUP(J510,'Information Page'!$C$24:$F$123,3,FALSE))","v":"-"},{"$f":"IF(ISERROR(VLOOKUP(J510,'Information Page'!$C$24:$F$123,4,FALSE)),\"-\",VLOOKUP(J510,'Information Page'!$C$24:$F$123,4,FALSE))","v":"-"},null,"0"]
[null,null,491,null,null,null,null,null,null,null,{"$f":"IF(ISERROR(VLOOKUP(J511,'Information Page'!$C$24:$F$123,2,FALSE)),\"-\",VLOOKUP(J511,'Information Page'!$C$24:$F$123,2,FALSE))","v":"-"},{"$f":"IF(ISERROR(VLOOKUP(J511,'Information Page'!$C$24:$F$123,3,FALSE)),\"-\",VLOOKUP(J511,'Information Page'!$C$24:$F$123,3,FALSE))","v":"-"},{"$f":"IF(ISERROR(VLOOKUP(J511,'Information Page'!$C$24:$F$123,4,FALSE)),\"-\",VLOOKUP(J511,'Information Page'!$C$24:$F$123,4,FALSE))","v":"-"},null,"0"]
[null,null,492,null,null,null,null,null,null,null,{"$f":"IF(ISERROR(VLOOKUP(J512,'Information Page'!$C$24:$F$123,2,FALSE)),\"-\",VLOOKUP(J512,'Information Page'!$C$24:$F$123,2,FALSE))","v":"-"},{"$f":"IF(ISERROR(VLOOKUP(J512,'Information Page'!$C$24:$F$123,3,FALSE)),\"-\",VLOOKUP(J512,'Information Page'!$C$24:$F$123,3,FALSE))","v":"-"},{"$f":"IF(ISERROR(VLOOKUP(J512,'Information Page'!$C$24:$F$123,4,FALSE)),\"-\",VLOOKUP(J512,'Information Page'!$C$24:$F$123,4,FALSE))","v":"-"},null,"0"]
[null,null,493,null,null,null,null,null,null,null,{"$f":"IF(ISERROR(VLOOKUP(J513,'Information Page'!$C$24:$F$123,2,FALSE)),\"-\",VLOOKUP(J513,'Information Page'!$C$24:$F$123,2,FALSE))","v":"-"},{"$f":"IF(ISERROR(VLOOKUP(J513,'Information Page'!$C$24:$F$123,3,FALSE)),\"-\",VLOOKUP(J513,'Information Page'!$C$24:$F$123,3,FALSE))","v":"-"},{"$f":"IF(ISERROR(VLOOKUP(J513,'Information Page'!$C$24:$F$123,4,FALSE)),\"-\",VLOOKUP(J513,'Information Page'!$C$24:$F$123,4,FALSE))","v":"-"},null,"0"]
[null,null,494,null,null,null,null,null,null,null,{"$f":"IF(ISERROR(VLOOKUP(J514,'Information Page'!$C$24:$F$123,2,FALSE)),\"-\",VLOOKUP(J514,'Information Page'!$C$24:$F$123,2,FALSE))","v":"-"},{"$f":"IF(ISERROR(VLOOKUP(J514,'Information Page'!$C$24:$F$123,3,FALSE)),\"-\",VLOOKUP(J514,'Information Page'!$C$24:$F$123,3,FALSE))","v":"-"},{"$f":"IF(ISERROR(VLOOKUP(J514,'Information Page'!$C$24:$F$123,4,FALSE)),\"-\",VLOOKUP(J514,'Information Page'!$C$24:$F$123,4,FALSE))","v":"-"},null,"0"]
[null,null,495,null,null,null,null,null,null,null,{"$f":"IF(ISERROR(VLOOKUP(J515,'Information Page'!$C$24:$F$123,2,FALSE)),\"-\",VLOOKUP(J515,'Information Page'!$C$24:$F$123,2,FALSE))","v":"-"},{"$f":"IF(ISERROR(VLOOKUP(J515,'Information Page'!$C$24:$F$123,3,FALSE)),\"-\",VLOOKUP(J515,'Information Page'!$C$24:$F$123,3,FALSE))","v":"-"},{"$f":"IF(ISERROR(VLOOKUP(J515,'Information Page'!$C$24:$F$123,4,FALSE)),\"-\",VLOOKUP(J515,'Information Page'!$C$24:$F$123,4,FALSE))","v":"-"},null,"0"]
[null,null,496,null,null,null,null,null,null,null,{"$f":"IF(ISERROR(VLOOKUP(J516,'Information Page'!$C$24:$F$123,2,FALSE)),\"-\",VLOOKUP(J516,'Information Page'!$C$24:$F$123,2,FALSE))","v":"-"},{"$f":"IF(ISERROR(VLOOKUP(J516,'Information Page'!$C$24:$F$123,3,FALSE)),\"-\",VLOOKUP(J516,'Information Page'!$C$24:$F$123,3,FALSE))","v":"-"},{"$f":"IF(ISERROR(VLOOKUP(J516,'Information Page'!$C$24:$F$123,4,FALSE)),\"-\",VLOOKUP(J516,'Information Page'!$C$24:$F$123,4,FALSE))","v":"-"},null,"0"]
[null,null,497,null,null,null,null,null,null,null,{"$f":"IF(ISERROR(VLOOKUP(J517,'Information Page'!$C$24:$F$123,2,FALSE)),\"-\",VLOOKUP(J517,'Information Page'!$C$24:$F$123,2,FALSE))","v":"-"},{"$f":"IF(ISERROR(VLOOKUP(J517,'Information Page'!$C$24:$F$123,3,FALSE)),\"-\",VLOOKUP(J517,'Information Page'!$C$24:$F$123,3,FALSE))","v":"-"},{"$f":"IF(ISERROR(VLOOKUP(J517,'Information Page'!$C$24:$F$123,4,FALSE)),\"-\",VLOOKUP(J517,'Information Page'!$C$24:$F$123,4,FALSE))","v":"-"},null,"0"]
[null,null,498,null,null,null,null,null,null,null,{"$f":"IF(ISERROR(VLOOKUP(J518,'Information Page'!$C$24:$F$123,2,FALSE)),\"-\",VLOOKUP(J518,'Information Page'!$C$24:$F$123,2,FALSE))","v":"-"},{"$f":"IF(ISERROR(VLOOKUP(J518,'Information Page'!$C$24:$F$123,3,FALSE)),\"-\",VLOOKUP(J518,'Information Page'!$C$24:$F$123,3,FALSE))","v":"-"},{"$f":"IF(ISERROR(VLOOKUP(J518,'Information Page'!$C$24:$F$123,4,FALSE)),\"-\",VLOOKUP(J518,'Information Page'!$C$24:$F$123,4,FALSE))","v":"-"},null,"0"]
[null,null,499,null,null,null,null,null,null,null,{"$f":"IF(ISERROR(VLOOKUP(J519,'Information Page'!$C$24:$F$123,2,FALSE)),\"-\",VLOOKUP(J519,'Information Page'!$C$24:$F$123,2,FALSE))","v":"-"},{"$f":"IF(ISERROR(VLOOKUP(J519,'Information Page'!$C$24:$F$123,3,FALSE)),\"-\",VLOOKUP(J519,'Information Page'!$C$24:$F$123,3,FALSE))","v":"-"},{"$f":"IF(ISERROR(VLOOKUP(J519,'Information Page'!$C$24:$F$123,4,FALSE)),\"-\",VLOOKUP(J519,'Information Page'!$C$24:$F$123,4,FALSE))","v":"-"},null,"0"]
[null,null,500,null,null,null,null,null,null,null,{"$f":"IF(ISERROR(VLOOKUP(J520,'Information Page'!$C$24:$F$123,2,FALSE)),\"-\",VLOOKUP(J520,'Information Page'!$C$24:$F$123,2,FALSE))","v":"-"},{"$f":"IF(ISERROR(VLOOKUP(J520,'Information Page'!$C$24:$F$123,3,FALSE)),\"-\",VLOOKUP(J520,'Information Page'!$C$24:$F$123,3,FALSE))","v":"-"},{"$f":"IF(ISERROR(VLOOKUP(J520,'Information Page'!$C$24:$F$123,4,FALSE)),\"-\",VLOOKUP(J520,'Information Page'!$C$24:$F$123,4,FALSE))","v":"-"},null,"0",null,null,null,null,null,null,null,null,null,null,null,null,null,null,null,null,null,null,null,null,null,null,null,null,null,null,null,null,null,null,null,null,null,null,null,null,null,null,null,null,null,null,null,null,null,null,null,null,null,null,null,null,null,null,null,null,null,null,null,null,null,null,null,null,null,null,null,null,null,null,null,null,null,null,null,null,null,null,null,null,null,null,null,null,null,null,null,null,null,null,null,null,null,null,null,null,null,null,null,null,null,null,null,null,null,null,null,null,null,null,null,null,null,null,null,null,null,null,null,null,null,null,null,null,null,null,null,null,null,null,null,null,null,null,null,null,null,null,null,null,null,null,null,null,null,null,null,null,null,null,null,null,null,null,null,null,null,null,null,null,null,null,null,null,null,null,null,null,null,null,null,null,null,null,null,null,null,null,null,null,null,null,null,null,null,null,null,null,null,null,null,null,null,null,null,null,null,null,null,null,null,null,null,null,null,null,null,null,null,null,null,null,null,null,null,null,null,null,null,null,null,null,null,null,null,null,null,null,null,null,null,null,null,null,null,{"$f":"#REF!","v":{"$error":"#REF!"}}]
[null,null,"TOTAL",null,null,null,null,{"$f":"SUM(H21:H520)","v":0},null,null,null,null,null,{"$f":"SUM(N21:N520)","v":0},{"$f":"SUM(O21:O520)","v":0}]

{"sheet":"Summary - Building Method","index":6,"n_rows":27,"n_cols":259,"rows_kept":27,"cut":false,"hidden":true,"merged":[[17,19,17,21],[17,17,17,18],[23,2,23,8],[19,3,19,6],[20,3,20,6],[17,12,17,16],[17,2,17,11],[21,3,21,6],[16,2,16,21],[12,2,12,3],[12,4,12,9],[10,19,10,20],[11,19,11,20],[10,4,10,9],[11,4,11,9],[12,11,12,12],[10,2,10,3],[11,2,11,3],[12,19,12,21],[9,19,9,20],[7,4,7,9],[8,4,8,9],[9,4,9,9],[7,2,7,3],[8,2,8,3],[9,2,9,3],[8,11,8,12],[9,11,9,12],[4,2,4,3],[6,2,6,9],[6,19,6,21],[7,19,7,20],[8,19,8,20]]}
[]
[]
[null,null,null,null,{"$f":"'Information Page'!D3","v":"New Construction Design-Based Lighting Worksheet"}]
[null,null,null,null,"New Construction Program"]
[null,null,null,null,{"$f":"\"Tool Version # \" &TEXT('Version Tracking'!$B$2,\"00000000\")","v":"Tool Version # 06232026"}]
[]
[null,null,"Required General Project Information",null,null,null,null,null,null,null,null,null,null,null,null,null,null,null,null,"Building method summary"]
[null,null,"Project Name",null,{"$f":"'Information Page'!D8:D8","v":0},null,null,null,null,null,null,null,null,null,null,null,null,null,null,"Project ID",null,{"$f":"'Information Page'!J8","v":0}]
[null,null,"Building Type",null,{"$f":"'Information Page'!D9:D9","v":"Use Drop Down Menu to Select "},null,null,null,null,null,null,null,null,null,null,null,null,null,null,"Total Incentive",null,{"$f":"IF('Information Page'!F9=\"Building Area Method\",V21,0)+IF(ISERROR(FIND(\"Secondary\",'Information Page'!G13)),0,V22)","v":0}]
[null,null,"Project address",null,{"$f":"'Information Page'!D10:D10","v":0},null,null,null,null,null,null,null,null,null,null,null,null,null,null,"Total kWh Saved",null,{"$f":"IF('Information Page'!F9=\"Building Area Method\",SUM(D26:G27),0)","v":0}]
[null,null,"Project contact",null,{"$f":"'Information Page'!D11:D11","v":0},null,null,null,null,null,null,null,null,null,null,null,null,null,null,"Total kW Saved",null,{"$f":"IF('Information Page'!F9=\"Building Area Method\",I26+I27,0)","v":0}]
[null,null,"Email",null,{"$f":"'Information Page'!D12:D12","v":0},null,null,null,null,null,null,null,null,null,null,null,null,null,null,"Total kW (PJM) Saved",null,{"$f":"IF('Information Page'!F9=\"Building Area Method\",H26+H27,0)","v":0}]
[null,null,"Phone number",null,{"$f":"'Information Page'!D13:D13","v":0}]
[]
[null,null,"Input Cells","Data input allowed in shaded cells only."]
[]
[null,null,"Building Area Method"]
[null,null,"General Project information",null,null,null,null,null,null,null,null,null,"LPD Analysis",null,null,null,null,"Approved Reduction (50% max)",null,"Incentive calculations"]
[null,null,"Entry","Building Type              \n",null,null,null,"Lighting Location Interior / Exterior","Lighted Building Area \n(Sq. ft.)","Est. Annual Hours of Operation","Installed Wattage\n(W)","Total Number \nOf Luminaires","Base Lighting Power Density (W/Sq. Ft.) "," Installed Lighting Power Density \n(W/sq. ft.)        ","Lighting Power Allowance (W)"," Power Reduction from Baseline (W)"," LPD Percentage Reduction","Approved Percentage Reduction","Approved Wattage Reduction","Incentive for Tier1, ≥10% and <20% reduction","Incentive for Tier 2, ≥ 20% reduction","Total Incentive",null,null,null,null,null,null,null,null,null,null,null,null,null,null,null,null,null,null,null,null,null,null,null,null,null,null,null,null,null,null,null,null,null,null,null,null,null,null,null,null,null,null,null,null,null,null,null,null,null,null,null,null,null,null,null,null,null,null,null,null,null,null,null,null,null,null,null,null,null,null,null,null,null,null,null,null,null,null,null,null,null,null,null,null,null,null,null,null,null,null,null,null,null,null,null,null,null,null,null,null,null,null,null,null,null,null,null,null,null,null,null,null,null,null,null,null,null,null,null,null,null,null,null,null,null,null,null,null,null,null,null,null,null,null,null,null,null,null,null,null,null,null,null,null,null,null,null,null,null,null,null,null,null,null,null,null,null,null,null,null,null,null,null,null,null,null,null,null,null,null,null,null,null,null,null,null,null,null,null,null,null,null,null,null,null,null,null,null,null,null,null,null,null,null,null,null,null,null,null,null,null,null,null,null,null,null,null,null,null,null,null,null,null,null,null,null,null,null,null,null,null,null,null,null,null,null,null,null,null,null,null,null,null,null,null,null,"Minimum Efficiency"]
[null,null,"EX","Office",null,null,null,"Interior",1870,8760,1224,50,{"$f":"IF(D20=\"\",\"\",INDEX(baselinebuilding,MATCH(D20,buildingtype,0)))","v":0.64},{"$f":"IFERROR(IF(ISBLANK(I20),\"\",K20/I20),0)","v":0.65454545454545454},{"$f":"IF(M20=\"\",\"\",M20*I20)","v":1196.8},{"$f":"IF(ISERROR(O20-K20),\"\",O20-K20)","v":-27.200000000000045},{"$f":"IF(ISERROR(P20/O20),\"\",P20/O20)","v":-2.2727272727272766E-2},{"$f":"IF(Q20>50%,50%,Q20)","v":-2.2727272727272766E-2},{"$f":"O20*R20","v":-27.200000000000045},{"$f":"IF(R20>=20%,O20*20%*0.4,IF(R20>=10%,O20*R20*0.4,\"\"))","v":""},{"$f":"IF(R20>=20%,O20*(R20-20%)*0.8,\"0\")","v":"0"},{"$f":"T20+U20","v":{"$error":"#VALUE!"}},null,null,null,null,null,null,null,null,null,null,null,null,null,null,null,null,null,null,null,null,null,null,null,null,null,null,null,null,null,null,null,null,null,null,null,null,null,null,null,null,null,null,null,null,null,null,null,null,null,null,null,null,null,null,null,null,null,null,null,null,null,null,null,null,null,null,null,null,null,null,null,null,null,null,null,null,null,null,null,null,null,null,null,null,null,null,null,null,null,null,null,null,null,null,null,null,null,null,null,null,null,null,null,null,null,null,null,null,null,null,null,null,null,null,null,null,null,null,null,null,null,null,null,null,null,null,null,null,null,null,null,null,null,null,null,null,null,null,null,null,null,null,null,null,null,null,null,null,null,null,null,null,null,null,null,null,null,null,null,null,null,null,null,null,null,null,null,null,null,null,null,null,null,null,null,null,null,null,null,null,null,null,null,null,null,null,null,null,null,null,null,null,null,null,null,null,null,null,null,null,null,null,null,null,null,null,null,null,null,null,null,null,null,null,null,null,null,null,null,null,null,null,null,null,null,null,null,null,null,null,null,null,null,null,null,null,{"$f":"#REF!","v":{"$error":"#REF!"}}]
[null,null,1,{"$f":"'Interior Lighting Inventory'!$D$9","v":0},null,null,null,"Interior",{"$f":"'Interior Lighting Inventory'!$K$10","v":0},{"$f":"'Information Page'!F11","v":0},{"$f":"'Interior Lighting Inventory'!O521","v":0},{"$f":"'Interior Lighting Inventory'!N521","v":0},{"$f":"IF(D21=\"\",0,INDEX(baselinebuilding,MATCH(D21,buildingtype,0)))","v":{"$error":"#N/A"}},{"$f":"IFERROR(IF(ISBLANK(I21),\"\",K21/I21),0)","v":0},{"$f":"IF(M21=\"\",0,M21*I21)","v":{"$error":"#N/A"}},{"$f":"IF(K21=0,0,O21-K21)","v":0},{"$f":"IF(ISERROR(P21/O21),0,P21/O21)","v":0},{"$f":"IF(Q21>50%,50%,Q21)","v":0},{"$f":"O21*Q21","v":{"$error":"#N/A"}},{"$f":"IF(R21>=20%,O21*20%*0.4,IF(R21>=10%,O21*R21*0.4,\"0\"))","v":"0"},{"$f":"IF(R21>=20%,O21*(R21-20%)*0.8,\"0\")","v":"0"},{"$f":"T21+U21","v":0}]
[null,null,2,{"$f":"'Secondary Lighting Inventory'!$D$9 & IF(ISERROR(FIND(\"Secondary\",'Information Page'!G13)),\" (secondary space not enabled)\",\"\")","v":"0 (secondary space not enabled)"},null,null,null,"Interior",{"$f":"'Secondary Lighting Inventory'!$K$10","v":0},{"$f":"'Information Page'!G11","v":0},{"$f":"'Secondary Lighting Inventory'!O521","v":0},{"$f":"'Secondary Lighting Inventory'!N521","v":0},{"$f":"IF(D22=\"\",0,INDEX(baselinebuilding,MATCH(D22,buildingtype,0)))","v":{"$error":"#N/A"}},{"$f":"IFERROR(IF(ISBLANK(I22),\"\",K22/I22),0)","v":0},{"$f":"IF(M22=\"\",0,M22*I22)","v":{"$error":"#N/A"}},{"$f":"IF(K22=0,0,O22-K22)","v":0},{"$f":"IF(ISERROR(P22/O22),0,P22/O22)","v":0},{"$f":"IF(Q22>50%,50%,Q22)","v":0},{"$f":"O22*Q22","v":{"$error":"#N/A"}},{"$f":"IF(R22>=20%,O22*20%*0.4,IF(R22>=10%,O22*R22*0.4,\"0\"))","v":"0"},{"$f":"IF(R22>=20%,O22*(R22-20%)*0.8,\"0\")","v":"0"},{"$f":"T22+U22","v":0}]
[]
[null,null,"Estimated Program Savings"]
[null,null,"Entry","Summer Peak (kWh)","Summer \nOff-Peak \n(kWh)","Winter \nPeak \n(kWh)","Winter \nOff-Peak \n(kWh)","Summer PJM Peak (kW)","Summer Coincident Peak (kW)"]
[null,null,1,{"$f":"IF(ISERROR('Calculations TRM'!AR14),0,'Calculations TRM'!AR14)+IF(ISERROR('Calculations TRM'!Z263),0,'Calculations TRM'!Z263)","v":0},{"$f":"IF(ISERROR('Calculations TRM'!AS14),0,'Calculations TRM'!AS14)+IF(ISERROR('Calculations TRM'!AA263),0,'Calculations TRM'!AA263)","v":0},{"$f":"IF(ISERROR('Calculations TRM'!AT14),0,'Calculations TRM'!AT14)+IF(ISERROR('Calculations TRM'!AB263),0,'Calculations TRM'!AB263)","v":0},{"$f":"IF(ISERROR('Calculations TRM'!AU14),0,'Calculations TRM'!AU14)+IF(ISERROR('Calculations TRM'!AC263),0,'Calculations TRM'!AC263)","v":0},{"$f":"IF(ISERROR('Calculations TRM'!AV14),0,'Calculations TRM'!AV14)+IF(ISERROR('Calculations TRM'!AD263),0,'Calculations TRM'!AD263)","v":0},{"$f":"IF(ISERROR('Calculations TRM'!AW14),0,'Calculations TRM'!AW14)+IF(ISERROR('Calculations TRM'!AE263),0,'Calculations TRM'!AE263)","v":0}]
[null,null,2,{"$f":"IF(ISERROR('Calculations TRM'!AR15),0,'Calculations TRM'!AR15)+IF(ISERROR('Calculations TRM'!Z264),0,'Calculations TRM'!Z264)","v":0},{"$f":"IF(ISERROR('Calculations TRM'!AS15),0,'Calculations TRM'!AS15)+IF(ISERROR('Calculations TRM'!AA264),0,'Calculations TRM'!AA264)","v":0},{"$f":"IF(ISERROR('Calculations TRM'!AT15),0,'Calculations TRM'!AT15)+IF(ISERROR('Calculations TRM'!AB264),0,'Calculations TRM'!AB264)","v":0},{"$f":"IF(ISERROR('Calculations TRM'!AU15),0,'Calculations TRM'!AU15)+IF(ISERROR('Calculations TRM'!AC264),0,'Calculations TRM'!AC264)","v":0},{"$f":"IF(ISERROR('Calculations TRM'!AV15),0,'Calculations TRM'!AV15)+IF(ISERROR('Calculations TRM'!AD264),0,'Calculations TRM'!AD264)","v":0},{"$f":"IF(ISERROR('Calculations TRM'!AW15),0,'Calculations TRM'!AW15)+IF(ISERROR('Calculations TRM'!AE264),0,'Calculations TRM'!AE264)","v":0}]

{"sheet":"Summary - Space Method","index":7,"n_rows":128,"n_cols":245,"rows_kept":128,"cut":false,"hidden":true,"merged":[[65,3,65,6],[66,3,66,6],[67,3,67,6],[68,3,68,6],[69,3,69,6],[58,3,58,6],[59,3,59,6],[60,3,60,6],[51,3,51,6],[52,3,52,6],[53,3,53,6],[54,3,54,6],[55,3,55,6],[61,3,61,6],[62,3,62,6],[63,3,63,6],[64,3,64,6],[41,3,41,6],[42,3,42,6],[43,3,43,6],[44,3,44,6],[45,3,45,6],[46,3,46,6],[47,3,47,6],[48,3,48,6],[49,3,49,6],[50,3,50,6],[56,3,56,6],[57,3,57,6],[31,3,31,6],[32,3,32,6],[33,3,33,6],[34,3,34,6],[35,3,35,6],[36,3,36,6],[37,3,37,6],[38,3,38,6],[39,3,39,6],[40,3,40,6],[21,3,21,6],[22,3,22,6],[23,3,23,6],[24,3,24,6],[25,3,25,6],[26,3,26,6],[27,3,27,6],[28,3,28,6],[29,3,29,6],[30,3,30,6],[10,2,10,3],[11,19,11,20],[11,4,11,7],[17,17,17,18],[17,19,17,21],[16,2,16,21],[17,11,17,16],[12,19,12,21],[11,2,11,3],[12,2,12,3],[12,4,12,7],[6,19,6,21],[20,3,20,6],[18,3,18,6],[1,2,1,3],[17,2,17,10],[19,3,19,6],[4,2,4,3],[9,9,9,10],[10,9,10,10],[11,9,11,10],[7,2,7,3],[8,2,8,3],[9,2,9,3],[6,2,6,7],[7,4,7,7],[8,4,8,7],[9,4,9,7],[10,4,10,7],[7,19,7,20],[8,19,8,20],[9,19,9,20],[10,19,10,20]]}
[]
[]
[null,null,null,null,{"$f":"'Information Page'!D3","v":"New Construction Design-Based Lighting Worksheet"}]
[null,null,null,null,"New Construction Measures - Custom Program"]
[null,null,null,null,{"$f":"\"Tool Version # \" &TEXT('Version Tracking'!$B$2,\"00000000\")","v":"Tool Version # 06232026"}]
[]
[null,null,"Required General Project Information",null,null,null,null,null,null,null,null,null,null,null,null,null,null,null,null,"Space method summary"]
[null,null,"Project Name",null,{"$f":"'Information Page'!D8:D8","v":0},null,null,null,null,null,null,null,null,null,null,null,null,null,null,"Project ID",null,{"$f":"'Information Page'!J8","v":0}]
[null,null,"Building Type",null,{"$f":"'Information Page'!D9:D9","v":"Use Drop Down Menu to Select "},null,null,null,null,null,null,null,null,null,null,null,null,null,null,"Total Incentive",null,{"$f":"IF('Information Page'!F9=\"Space-by-Space Method\",SUM(V21:V70),0)","v":0}]
[null,null,"Project address",null,{"$f":"'Information Page'!D10:D10","v":0},null,null,null,null,null,null,null,null,null,null,null,null,null,null,"Total kWh Saved",null,{"$f":"IF('Information Page'!F9=\"Space-by-Space Method\",SUM(D74:G74),0)","v":0}]
[null,null,"Project contact",null,{"$f":"'Information Page'!D11:D11","v":0},null,null,null,null,null,null,null,null,null,null,null,null,null,null,"Total kW Saved",null,{"$f":"IF('Information Page'!F9=\"Space-by-Space Method\",I74,0)","v":0}]
[null,null,"Email",null,{"$f":"'Information Page'!D12:D12","v":0},null,null,null,null,null,null,null,null,null,null,null,null,null,null,"Total kW (PJM) Saved",null,{"$f":"IF('Information Page'!F9=\"Space-by-Space Method\",H74,0)","v":0}]
[null,null,"Phone number",null,{"$f":"'Information Page'!D13:D13","v":0}]
[]
[null,null,"Input Cells","Data input allowed in shaded cells only."]
[]
[null,null,"Space Type Method"]
[null,null,"Required Inputs",null,null,null,null,null,null,null,null,"Lighting Power Density (LPD) analysis",null,null,null,null,null,"Approved Reduction (50% max)",null,"Incentive calculations"]
[null,null,"Line Item","\nIndividual Space Types\n(see Space-by-Space LPD tab)",null,null,null,"Lighted Area for Space Type (sq ft.)","Est. Annual Hours of Operation","Installed Wattage\n(W)","Total Number of Luminaires","Base Lighting Power Density (W/Sq. Ft.) ","Lighting Power Allowance (W)","Installed Lighting Power Density \n(W/sq. ft.)        ","Installed Lighting Power\n(W)","Power Reduction from Baseline (W)","Power Density Percentage Reduction (%)","Approved Percentage Reduction","Approved Wattage Reduction","Incentive for Tier1, ≥10% and <20% reduction","Incentive for Tier 2, ≥ 20% reduction","Total Incentive",null,null,null,null,null,null,null,null,null,null,null,null,null,null,null,null,null,null,null,null,null,null,null,null,null,null,null,null,null,null,null,null,null,null,null,null,null,null,null,null,null,null,null,null,null,null,null,null,null,null,null,null,null,null,null,null,null,null,null,null,null,null,null,null,null,null,null,null,null,null,null,null,null,null,null,null,null,null,null,null,null,null,null,null,null,null,null,null,null,null,null,null,null,null,null,null,null,null,null,null,null,null,null,null,null,null,null,null,null,null,null,null,null,null,null,null,null,null,null,null,null,null,null,null,null,null,null,null,null,null,null,null,null,null,null,null,null,null,null,null,null,null,null,null,null,null,null,null,null,null,null,null,null,null,null,null,null,null,null,null,null,null,null,null,null,null,null,null,null,null,null,null,null,null,null,null,null,null,null,null,null,null,null,null,null,null,null,null,null,null,null,null,null,null,null,null,null,null,null,null,null,null,null,null,null,null,null,null,null,null,null,null,null,null,null,null,null,null,null,null,null,null,"Minimum Efficiency"]
[null,null,"EX","Office - Open Plan",null,null,null,2000,4200,1500,32,{"$f":"IF(D20=\"\",\"\",INDEX(baselineSpace,MATCH(D20,SpaceType,0)))","v":0.61},{"$f":"IF(D20=\"\",\"\",(L20*H20))","v":1220},{"$f":"IF(ISERROR(J20/H20),\"\",J20/H20)","v":0.75},{"$f":"J20","v":1500},{"$f":"IF(ISERROR(M20-O20),\"\",M20-O20)","v":-280},{"$f":"IF(ISERROR(P20/M20),\"\",P20/M20)","v":-0.22950819672131148},{"$f":"IF(Q20=\"\",\"\",IF(Q20>50%,50%,Q20))","v":-0.22950819672131148},{"$f":"IF(R20=\"\",\"\",R20*M20)","v":-280},{"$f":"IF(R20=\"\",\"\",IF(R20>=20%,M20*20%*0.4,IF(R20>=10%,M20*R20*0.4,\"0\")))","v":"0"},{"$f":"IF(R20=\"\",\"\",IF(R20>=20%,M20*(R20-20%)*0.8,\"0\"))","v":"0"},{"$f":"IF(R20=\"\",\"\",T20+U20)","v":0},null,null,null,null,null,null,null,null,null,null,null,null,null,null,null,null,null,null,null,null,null,null,null,null,null,null,null,null,null,null,null,null,null,null,null,null,null,null,null,null,null,null,null,null,null,null,null,null,null,null,null,null,null,null,null,null,null,null,null,null,null,null,null,null,null,null,null,null,null,null,null,null,null,null,null,null,null,null,null,null,null,null,null,null,null,null,null,null,null,null,null,null,null,null,null,null,null,null,null,null,null,null,null,null,null,null,null,null,null,null,null,null,null,null,null,null,null,null,null,null,null,null,null,null,null,null,null,null,null,null,null,null,null,null,null,null,null,null,null,null,null,null,null,null,null,null,null,null,null,null,null,null,null,null,null,null,null,null,null,null,null,null,null,null,null,null,null,null,null,null,null,null,null,null,null,null,null,null,null,null,null,null,null,null,null,null,null,null,null,null,null,null,null,null,null,null,null,null,null,null,null,null,null,null,null,null,null,null,null,null,null,null,null,null,null,null,null,null,null,null,null,null,{"$f":"#REF!","v":{"$error":"#REF!"}}]
[null,null,"S1",{"$f":"IF(AND('Input Summary'!P3<>\"Grand Total\",'Input Summary'!P3<>\"\"),'Input Summary'!P3,\"\")","v":0},null,null,null,{"$f":"IFERROR(GETPIVOTDATA(\"Sum of Area of space / sqft.\",'Input Summary'!$P2,\"Space type\",D21),0)","v":0},{"$f":"IFERROR(GETPIVOTDATA(\"Average of Annual hours of operation\",'Input Summary'!$P2,\"Space type\",D21),0)","v":0},{"$f":"IFERROR(GETPIVOTDATA(\"Sum of Total Wattage\",'Input Summary'!$P2,\"Space type\",D21),0)","v":0},{"$f":"IFERROR(GETPIVOTDATA(\"Sum of Fixture Quantity\",'Input Summary'!$P2,\"Space type\",D21),0)","v":0},{"$f":"IF(D21=0,\"\",INDEX(baselineSpace,MATCH(D21,SpaceType,0)))","v":""},{"$f":"IF(D21=0,\"\",(L21*H21))","v":""},"",{"$f":"IF(D21=0,\"\",J21)","v":""},{"$f":"IF(ISERROR(M21-O21),\"\",M21-O21)","v":""},{"$f":"IF(ISERROR(P21/M21),\"\",P21/M21)","v":""},{"$f":"IF(Q21=\"\",\"\",IF(Q21>50%,50%,Q21))","v":""},{"$f":"IF(Q21=\"\",\"\",Q21*M21)","v":""},{"$f":"IF(R21=\"\",\"\",IF(R21>=20%,M21*20%*0.4,IF(R21>=10%,M21*R21*0.4,\"0\")))","v":""},{"$f":"IF(R21=\"\",\"\",IF(R21>=20%,M21*(R21-20%)*0.8,\"0\"))","v":""},{"$f":"IF(R21=\"\",0,T21+U21)","v":0},null,null,null,null,null,null,null,null,null,null,null,null,null,null,null,null,null,null,null,null,null,null,null,null,null,null,null,null,null,null,null,null,null,null,null,null,null,null,null,null,null,null,null,null,null,null,null,null,null,null,null,null,null,null,null,null,null,null,null,null,null,null,null,null,null,null,null,null,null,null,null,null,null,null,null,null,null,null,null,null,null,null,null,null,null,null,null,null,null,null,null,null,null,null,null,null,null,null,null,null,null,null,null,null,null,null,null,null,null,null,null,null,null,null,null,null,null,null,null,null,null,null,null,null,null,null,null,null,null,null,null,null,null,null,null,null,null,null,null,null,null,null,null,null,null,null,null,null,null,null,null,null,null,null,null,null,null,null,null,null,null,null,null,null,null,null,null,null,null,null,null,null,null,null,null,null,null,null,null,null,null,null,null,null,null,null,null,null,null,null,null,null,null,null,null,null,null,null,null,null,null,null,null,null,null,null,null,null,null,null,null,null,null,null,null,null,null,null,null,null,null,null,{"$f":"#REF!","v":{"$error":"#REF!"}}]
[null,null,"S2",{"$f":"IF(AND('Input Summary'!P4<>\"Grand Total\",'Input Summary'!P4<>\"\"),'Input Summary'!P4,\"\")","v":""},null,null,null,{"$f":"IFERROR(GETPIVOTDATA(\"Sum of Area of space / sqft.\",'Input Summary'!$P3,\"Space type\",D22),0)","v":0},{"$f":"IFERROR(GETPIVOTDATA(\"Average of Annual hours of operation\",'Input Summary'!$P3,\"Space type\",D22),0)","v":0},{"$f":"IFERROR(GETPIVOTDATA(\"Sum of Total Wattage\",'Input Summary'!$P3,\"Space type\",D22),0)","v":0},{"$f":"IFERROR(GETPIVOTDATA(\"Sum of Fixture Quantity\",'Input Summary'!$P3,\"Space type\",D22),0)","v":0},"","","",{"$f":"IF(D22=\"\",\"\",J22)","v":""},{"$f":"IF(ISERROR(M22-O22),\"\",M22-O22)","v":""},{"$f":"IF(ISERROR(P22/M22),\"\",P22/M22)","v":""},{"$f":"IF(Q22=\"\",\"\",IF(Q22>50%,50%,Q22))","v":""},{"$f":"IF(Q22=\"\",\"\",Q22*M22)","v":""},{"$f":"IF(R22=\"\",\"\",IF(R22>=20%,M22*20%*0.4,IF(R22>=10%,M22*R22*0.4,\"0\")))","v":""},{"$f":"IF(R22=\"\",\"\",IF(R22>=20%,M22*(R22-20%)*0.8,\"0\"))","v":""},{"$f":"IF(R22=\"\",0,T22+U22)","v":0},null,null,null,null,null,null,null,null,null,null,null,null,null,null,null,null,null,null,null,null,null,null,null,null,null,null,null,null,null,null,null,null,null,null,null,null,null,null,null,null,null,null,null,null,null,null,null,null,null,null,null,null,null,null,null,null,null,null,null,null,null,null,null,null,null,null,null,null,null,null,null,null,null,null,null,null,null,null,null,null,null,null,null,null,null,null,null,null,null,null,null,null,null,null,null,null,null,null,null,null,null,null,null,null,null,null,null,null,null,null,null,null,null,null,null,null,null,null,null,null,null,null,null,null,null,null,null,null,null,null,null,null,null,null,null,null,null,null,null,null,null,null,null,null,null,null,null,null,null,null,null,null,null,null,null,null,null,null,null,null,null,null,null,null,null,null,null,null,null,null,null,null,null,null,null,null,null,null,null,null,null,null,null,null,null,null,null,null,null,null,null,null,null,null,null,null,null,null,null,null,null,null,null,null,null,null,null,null,null,null,null,null,null,null,null,null,null,null,null,null,null,null,{"$f":"#REF!","v":{"$error":"#REF!"}}]
[null,null,"S3",{"$f":"IF(AND('Input Summary'!P5<>\"Grand Total\",'Input Summary'!P5<>\"\"),'Input Summary'!P5,\"\")","v":""},null,null,null,{"$f":"IFERROR(GETPIVOTDATA(\"Sum of Area of space / sqft.\",'Input Summary'!$P4,\"Space type\",D23),0)","v":0},{"$f":"IFERROR(GETPIVOTDATA(\"Average of Annual hours of operation\",'Input Summary'!$P4,\"Space type\",D23),0)","v":0},{"$f":"IFERROR(GETPIVOTDATA(\"Sum of Total Wattage\",'Input Summary'!$P4,\"Space type\",D23),0)","v":0},{"$f":"IFERROR(GETPIVOTDATA(\"Sum of Fixture Quantity\",'Input Summary'!$P4,\"Space type\",D23),0)","v":0},"","","","","","","","","","",0,null,null,null,null,null,null,null,null,null,null,null,null,null,null,null,null,null,null,null,null,null,null,null,null,null,null,null,null,null,null,null,null,null,null,null,null,null,null,null,null,null,null,null,null,null,null,null,null,null,null,null,null,null,null,null,null,null,null,null,null,null,null,null,null,null,null,null,null,null,null,null,null,null,null,null,null,null,null,null,null,null,null,null,null,null,null,null,null,null,null,null,null,null,null,null,null,null,null,null,null,null,null,null,null,null,null,null,null,null,null,null,null,null,null,null,null,null,null,null,null,null,null,null,null,null,null,null,null,null,null,null,null,null,null,null,null,null,null,null,null,null,null,null,null,null,null,null,null,null,null,null,null,null,null,null,null,null,null,null,null,null,null,null,null,null,null,null,null,null,null,null,null,null,null,null,null,null,null,null,null,null,null,null,null,null,null,null,null,null,null,null,null,null,null,null,null,null,null,null,null,null,null,null,null,null,null,null,null,null,null,null,null,null,null,null,null,null,null,null,null,null,null,{"$f":"#REF!","v":{"$error":"#REF!"}}]
[null,null,"S4",{"$f":"IF(AND('Input Summary'!P6<>\"Grand Total\",'Input Summary'!P6<>\"\"),'Input Summary'!P6,\"\")","v":""},null,null,null,{"$f":"IFERROR(GETPIVOTDATA(\"Sum of Area of space / sqft.\",'Input Summary'!$P5,\"Space type\",D24),0)","v":0},{"$f":"IFERROR(GETPIVOTDATA(\"Average of Annual hours of operation\",'Input Summary'!$P5,\"Space type\",D24),0)","v":0},{"$f":"IFERROR(GETPIVOTDATA(\"Sum of Total Wattage\",'Input Summary'!$P5,\"Space type\",D24),0)","v":0},{"$f":"IFERROR(GETPIVOTDATA(\"Sum of Fixture Quantity\",'Input Summary'!$P5,\"Space type\",D24),0)","v":0},"","","","","","","","","","",0]
[null,null,"S5",{"$f":"IF(AND('Input Summary'!P7<>\"Grand Total\",'Input Summary'!P7<>\"\"),'Input Summary'!P7,\"\")","v":""},null,null,null,{"$f":"IFERROR(GETPIVOTDATA(\"Sum of Area of space / sqft.\",'Input Summary'!$P6,\"Space type\",D25),0)","v":0},{"$f":"IFERROR(GETPIVOTDATA(\"Average of Annual hours of operation\",'Input Summary'!$P6,\"Space type\",D25),0)","v":0},{"$f":"IFERROR(GETPIVOTDATA(\"Sum of Total Wattage\",'Input Summary'!$P6,\"Space type\",D25),0)","v":0},{"$f":"IFERROR(GETPIVOTDATA(\"Sum of Fixture Quantity\",'Input Summary'!$P6,\"Space type\",D25),0)","v":0},"","","","","","","","","","",0]
[null,null,"S6",{"$f":"IF(AND('Input Summary'!P8<>\"Grand Total\",'Input Summary'!P8<>\"\"),'Input Summary'!P8,\"\")","v":""},null,null,null,{"$f":"IFERROR(GETPIVOTDATA(\"Sum of Area of space / sqft.\",'Input Summary'!$P7,\"Space type\",D26),0)","v":0},{"$f":"IFERROR(GETPIVOTDATA(\"Average of Annual hours of operation\",'Input Summary'!$P7,\"Space type\",D26),0)","v":0},{"$f":"IFERROR(GETPIVOTDATA(\"Sum of Total Wattage\",'Input Summary'!$P7,\"Space type\",D26),0)","v":0},{"$f":"IFERROR(GETPIVOTDATA(\"Sum of Fixture Quantity\",'Input Summary'!$P7,\"Space type\",D26),0)","v":0},"","","","","","","","","","",0]
[null,null,"S7",{"$f":"IF(AND('Input Summary'!P9<>\"Grand Total\",'Input Summary'!P9<>\"\"),'Input Summary'!P9,\"\")","v":""},null,null,null,{"$f":"IFERROR(GETPIVOTDATA(\"Sum of Area of space / sqft.\",'Input Summary'!$P8,\"Space type\",D27),0)","v":0},{"$f":"IFERROR(GETPIVOTDATA(\"Average of Annual hours of operation\",'Input Summary'!$P8,\"Space type\",D27),0)","v":0},{"$f":"IFERROR(GETPIVOTDATA(\"Sum of Total Wattage\",'Input Summary'!$P8,\"Space type\",D27),0)","v":0},{"$f":"IFERROR(GETPIVOTDATA(\"Sum of Fixture Quantity\",'Input Summary'!$P8,\"Space type\",D27),0)","v":0},"","","","","","","","","","",0]
[null,null,"S8",{"$f":"IF(AND('Input Summary'!P10<>\"Grand Total\",'Input Summary'!P10<>\"\"),'Input Summary'!P10,\"\")","v":""},null,null,null,{"$f":"IFERROR(GETPIVOTDATA(\"Sum of Area of space / sqft.\",'Input Summary'!$P9,\"Space type\",D28),0)","v":0},{"$f":"IFERROR(GETPIVOTDATA(\"Average of Annual hours of operation\",'Input Summary'!$P9,\"Space type\",D28),0)","v":0},{"$f":"IFERROR(GETPIVOTDATA(\"Sum of Total Wattage\",'Input Summary'!$P9,\"Space type\",D28),0)","v":0},{"$f":"IFERROR(GETPIVOTDATA(\"Sum of Fixture Quantity\",'Input Summary'!$P9,\"Space type\",D28),0)","v":0},"","","","","","","","","","",0]
[null,null,"S9",{"$f":"IF(AND('Input Summary'!P11<>\"Grand Total\",'Input Summary'!P11<>\"\"),'Input Summary'!P11,\"\")","v":""},null,null,null,{"$f":"IFERROR(GETPIVOTDATA(\"Sum of Area of space / sqft.\",'Input Summary'!$P10,\"Space type\",D29),0)","v":0},{"$f":"IFERROR(GETPIVOTDATA(\"Average of Annual hours of operation\",'Input Summary'!$P10,\"Space type\",D29),0)","v":0},{"$f":"IFERROR(GETPIVOTDATA(\"Sum of Total Wattage\",'Input Summary'!$P10,\"Space type\",D29),0)","v":0},{"$f":"IFERROR(GETPIVOTDATA(\"Sum of Fixture Quantity\",'Input Summary'!$P10,\"Space type\",D29),0)","v":0},"","","","","","","","","","",0]
[null,null,"S10",{"$f":"IF(AND('Input Summary'!P12<>\"Grand Total\",'Input Summary'!P12<>\"\"),'Input Summary'!P12,\"\")","v":""},null,null,null,{"$f":"IFERROR(GETPIVOTDATA(\"Sum of Area of space / sqft.\",'Input Summary'!$P11,\"Space type\",D30),0)","v":0},{"$f":"IFERROR(GETPIVOTDATA(\"Average of Annual hours of operation\",'Input Summary'!$P11,\"Space type\",D30),0)","v":0},{"$f":"IFERROR(GETPIVOTDATA(\"Sum of Total Wattage\",'Input Summary'!$P11,\"Space type\",D30),0)","v":0},{"$f":"IFERROR(GETPIVOTDATA(\"Sum of Fixture Quantity\",'Input Summary'!$P11,\"Space type\",D30),0)","v":0},"","","","","","","","","","",0]
[null,null,"S11",{"$f":"IF(AND('Input Summary'!P13<>\"Grand Total\",'Input Summary'!P13<>\"\"),'Input Summary'!P13,\"\")","v":""},null,null,null,{"$f":"IFERROR(GETPIVOTDATA(\"Sum of Area of space / sqft.\",'Input Summary'!$P12,\"Space type\",D31),0)","v":0},{"$f":"IFERROR(GETPIVOTDATA(\"Average of Annual hours of operation\",'Input Summary'!$P12,\"Space type\",D31),0)","v":0},{"$f":"IFERROR(GETPIVOTDATA(\"Sum of Total Wattage\",'Input Summary'!$P12,\"Space type\",D31),0)","v":0},{"$f":"IFERROR(GETPIVOTDATA(\"Sum of Fixture Quantity\",'Input Summary'!$P12,\"Space type\",D31),0)","v":0},"","","","","","","","","","",0]
[null,null,"S12",{"$f":"IF(AND('Input Summary'!P14<>\"Grand Total\",'Input Summary'!P14<>\"\"),'Input Summary'!P14,\"\")","v":""},null,null,null,{"$f":"IFERROR(GETPIVOTDATA(\"Sum of Area of space / sqft.\",'Input Summary'!$P13,\"Space type\",D32),0)","v":0},{"$f":"IFERROR(GETPIVOTDATA(\"Average of Annual hours of operation\",'Input Summary'!$P13,\"Space type\",D32),0)","v":0},{"$f":"IFERROR(GETPIVOTDATA(\"Sum of Total Wattage\",'Input Summary'!$P13,\"Space type\",D32),0)","v":0},{"$f":"IFERROR(GETPIVOTDATA(\"Sum of Fixture Quantity\",'Input Summary'!$P13,\"Space type\",D32),0)","v":0},"","","","","","","","","","",0]
[null,null,"S13",{"$f":"IF(AND('Input Summary'!P15<>\"Grand Total\",'Input Summary'!P15<>\"\"),'Input Summary'!P15,\"\")","v":""},null,null,null,{"$f":"IFERROR(GETPIVOTDATA(\"Sum of Area of space / sqft.\",'Input Summary'!$P14,\"Space type\",D33),0)","v":0},{"$f":"IFERROR(GETPIVOTDATA(\"Average of Annual hours of operation\",'Input Summary'!$P14,\"Space type\",D33),0)","v":0},{"$f":"IFERROR(GETPIVOTDATA(\"Sum of Total Wattage\",'Input Summary'!$P14,\"Space type\",D33),0)","v":0},{"$f":"IFERROR(GETPIVOTDATA(\"Sum of Fixture Quantity\",'Input Summary'!$P14,\"Space type\",D33),0)","v":0},"","","","","","","","","","",0]
[null,null,"S14",{"$f":"IF(AND('Input Summary'!P16<>\"Grand Total\",'Input Summary'!P16<>\"\"),'Input Summary'!P16,\"\")","v":""},null,null,null,{"$f":"IFERROR(GETPIVOTDATA(\"Sum of Area of space / sqft.\",'Input Summary'!$P15,\"Space type\",D34),0)","v":0},{"$f":"IFERROR(GETPIVOTDATA(\"Average of Annual hours of operation\",'Input Summary'!$P15,\"Space type\",D34),0)","v":0},{"$f":"IFERROR(GETPIVOTDATA(\"Sum of Total Wattage\",'Input Summary'!$P15,\"Space type\",D34),0)","v":0},{"$f":"IFERROR(GETPIVOTDATA(\"Sum of Fixture Quantity\",'Input Summary'!$P15,\"Space type\",D34),0)","v":0},"","","","","","","","","","",0]
[null,null,"S15",{"$f":"IF(AND('Input Summary'!P17<>\"Grand Total\",'Input Summary'!P17<>\"\"),'Input Summary'!P17,\"\")","v":""},null,null,null,{"$f":"IFERROR(GETPIVOTDATA(\"Sum of Area of space / sqft.\",'Input Summary'!$P16,\"Space type\",D35),0)","v":0},{"$f":"IFERROR(GETPIVOTDATA(\"Average of Annual hours of operation\",'Input Summary'!$P16,\"Space type\",D35),0)","v":0},{"$f":"IFERROR(GETPIVOTDATA(\"Sum of Total Wattage\",'Input Summary'!$P16,\"Space type\",D35),0)","v":0},{"$f":"IFERROR(GETPIVOTDATA(\"Sum of Fixture Quantity\",'Input Summary'!$P16,\"Space type\",D35),0)","v":0},"","","","","","","","","","",0]
[null,null,"S16",{"$f":"IF(AND('Input Summary'!P18<>\"Grand Total\",'Input Summary'!P18<>\"\"),'Input Summary'!P18,\"\")","v":""},null,null,null,{"$f":"IFERROR(GETPIVOTDATA(\"Sum of Area of space / sqft.\",'Input Summary'!$P17,\"Space type\",D36),0)","v":0},{"$f":"IFERROR(GETPIVOTDATA(\"Average of Annual hours of operation\",'Input Summary'!$P17,\"Space type\",D36),0)","v":0},{"$f":"IFERROR(GETPIVOTDATA(\"Sum of Total Wattage\",'Input Summary'!$P17,\"Space type\",D36),0)","v":0},{"$f":"IFERROR(GETPIVOTDATA(\"Sum of Fixture Quantity\",'Input Summary'!$P17,\"Space type\",D36),0)","v":0},"","","","","","","","","","",0]
[null,null,"S17",{"$f":"IF(AND('Input Summary'!P19<>\"Grand Total\",'Input Summary'!P19<>\"\"),'Input Summary'!P19,\"\")","v":""},null,null,null,{"$f":"IFERROR(GETPIVOTDATA(\"Sum of Area of space / sqft.\",'Input Summary'!$P18,\"Space type\",D37),0)","v":0},{"$f":"IFERROR(GETPIVOTDATA(\"Average of Annual hours of operation\",'Input Summary'!$P18,\"Space type\",D37),0)","v":0},{"$f":"IFERROR(GETPIVOTDATA(\"Sum of Total Wattage\",'Input Summary'!$P18,\"Space type\",D37),0)","v":0},{"$f":"IFERROR(GETPIVOTDATA(\"Sum of Fixture Quantity\",'Input Summary'!$P18,\"Space type\",D37),0)","v":0},"","","","","","","","","","",0]
[null,null,"S18",{"$f":"IF(AND('Input Summary'!P20<>\"Grand Total\",'Input Summary'!P20<>\"\"),'Input Summary'!P20,\"\")","v":""},null,null,null,{"$f":"IFERROR(GETPIVOTDATA(\"Sum of Area of space / sqft.\",'Input Summary'!$P19,\"Space type\",D38),0)","v":0},{"$f":"IFERROR(GETPIVOTDATA(\"Average of Annual hours of operation\",'Input Summary'!$P19,\"Space type\",D38),0)","v":0},{"$f":"IFERROR(GETPIVOTDATA(\"Sum of Total Wattage\",'Input Summary'!$P19,\"Space type\",D38),0)","v":0},{"$f":"IFERROR(GETPIVOTDATA(\"Sum of Fixture Quantity\",'Input Summary'!$P19,\"Space type\",D38),0)","v":0},"","","","","","","","","","",0]
[null,null,"S19",{"$f":"IF(AND('Input Summary'!P21<>\"Grand Total\",'Input Summary'!P21<>\"\"),'Input Summary'!P21,\"\")","v":""},null,null,null,{"$f":"IFERROR(GETPIVOTDATA(\"Sum of Area of space / sqft.\",'Input Summary'!$P20,\"Space type\",D39),0)","v":0},{"$f":"IFERROR(GETPIVOTDATA(\"Average of Annual hours of operation\",'Input Summary'!$P20,\"Space type\",D39),0)","v":0},{"$f":"IFERROR(GETPIVOTDATA(\"Sum of Total Wattage\",'Input Summary'!$P20,\"Space type\",D39),0)","v":0},{"$f":"IFERROR(GETPIVOTDATA(\"Sum of Fixture Quantity\",'Input Summary'!$P20,\"Space type\",D39),0)","v":0},"","","","","","","","","","",0]
[null,null,"S20",{"$f":"IF(AND('Input Summary'!P22<>\"Grand Total\",'Input Summary'!P22<>\"\"),'Input Summary'!P22,\"\")","v":""},null,null,null,{"$f":"IFERROR(GETPIVOTDATA(\"Sum of Area of space / sqft.\",'Input Summary'!$P21,\"Space type\",D40),0)","v":0},{"$f":"IFERROR(GETPIVOTDATA(\"Average of Annual hours of operation\",'Input Summary'!$P21,\"Space type\",D40),0)","v":0},{"$f":"IFERROR(GETPIVOTDATA(\"Sum of Total Wattage\",'Input Summary'!$P21,\"Space type\",D40),0)","v":0},{"$f":"IFERROR(GETPIVOTDATA(\"Sum of Fixture Quantity\",'Input Summary'!$P21,\"Space type\",D40),0)","v":0},"","","","","","","","","","",0]
[null,null,"S21",{"$f":"IF(AND('Input Summary'!P23<>\"Grand Total\",'Input Summary'!P23<>\"\"),'Input Summary'!P23,\"\")","v":""},null,null,null,{"$f":"IFERROR(GETPIVOTDATA(\"Sum of Area of space / sqft.\",'Input Summary'!$P22,\"Space type\",D41),0)","v":0},{"$f":"IFERROR(GETPIVOTDATA(\"Average of Annual hours of operation\",'Input Summary'!$P22,\"Space type\",D41),0)","v":0},{"$f":"IFERROR(GETPIVOTDATA(\"Sum of Total Wattage\",'Input Summary'!$P22,\"Space type\",D41),0)","v":0},{"$f":"IFERROR(GETPIVOTDATA(\"Sum of Fixture Quantity\",'Input Summary'!$P22,\"Space type\",D41),0)","v":0},"","","","","","","","","","",0]
[null,null,"S22",{"$f":"IF(AND('Input Summary'!P24<>\"Grand Total\",'Input Summary'!P24<>\"\"),'Input Summary'!P24,\"\")","v":""},null,null,null,{"$f":"IFERROR(GETPIVOTDATA(\"Sum of Area of space / sqft.\",'Input Summary'!$P23,\"Space type\",D42),0)","v":0},{"$f":"IFERROR(GETPIVOTDATA(\"Average of Annual hours of operation\",'Input Summary'!$P23,\"Space type\",D42),0)","v":0},{"$f":"IFERROR(GETPIVOTDATA(\"Sum of Total Wattage\",'Input Summary'!$P23,\"Space type\",D42),0)","v":0},{"$f":"IFERROR(GETPIVOTDATA(\"Sum of Fixture Quantity\",'Input Summary'!$P23,\"Space type\",D42),0)","v":0},"","","","","","","","","","",0]
[null,null,"S23",{"$f":"IF(AND('Input Summary'!P25<>\"Grand Total\",'Input Summary'!P25<>\"\"),'Input Summary'!P25,\"\")","v":""},null,null,null,{"$f":"IFERROR(GETPIVOTDATA(\"Sum of Area of space / sqft.\",'Input Summary'!$P24,\"Space type\",D43),0)","v":0},{"$f":"IFERROR(GETPIVOTDATA(\"Average of Annual hours of operation\",'Input Summary'!$P24,\"Space type\",D43),0)","v":0},{"$f":"IFERROR(GETPIVOTDATA(\"Sum of Total Wattage\",'Input Summary'!$P24,\"Space type\",D43),0)","v":0},{"$f":"IFERROR(GETPIVOTDATA(\"Sum of Fixture Quantity\",'Input Summary'!$P24,\"Space type\",D43),0)","v":0},"","","","","","","","","","",0]
[null,null,"S24",{"$f":"IF(AND('Input Summary'!P26<>\"Grand Total\",'Input Summary'!P26<>\"\"),'Input Summary'!P26,\"\")","v":""},null,null,null,{"$f":"IFERROR(GETPIVOTDATA(\"Sum of Area of space / sqft.\",'Input Summary'!$P25,\"Space type\",D44),0)","v":0},{"$f":"IFERROR(GETPIVOTDATA(\"Average of Annual hours of operation\",'Input Summary'!$P25,\"Space type\",D44),0)","v":0},{"$f":"IFERROR(GETPIVOTDATA(\"Sum of Total Wattage\",'Input Summary'!$P25,\"Space type\",D44),0)","v":0},{"$f":"IFERROR(GETPIVOTDATA(\"Sum of Fixture Quantity\",'Input Summary'!$P25,\"Space type\",D44),0)","v":0},"","","","","","","","","","",0]
[null,null,"S25",{"$f":"IF(AND('Input Summary'!P27<>\"Grand Total\",'Input Summary'!P27<>\"\"),'Input Summary'!P27,\"\")","v":""},null,null,null,{"$f":"IFERROR(GETPIVOTDATA(\"Sum of Area of space / sqft.\",'Input Summary'!$P26,\"Space type\",D45),0)","v":0},{"$f":"IFERROR(GETPIVOTDATA(\"Average of Annual hours of operation\",'Input Summary'!$P26,\"Space type\",D45),0)","v":0},{"$f":"IFERROR(GETPIVOTDATA(\"Sum of Total Wattage\",'Input Summary'!$P26,\"Space type\",D45),0)","v":0},{"$f":"IFERROR(GETPIVOTDATA(\"Sum of Fixture Quantity\",'Input Summary'!$P26,\"Space type\",D45),0)","v":0},"","","","","","","","","","",0]
[null,null,"S26",{"$f":"IF(AND('Input Summary'!P28<>\"Grand Total\",'Input Summary'!P28<>\"\"),'Input Summary'!P28,\"\")","v":""},null,null,null,{"$f":"IFERROR(GETPIVOTDATA(\"Sum of Area of space / sqft.\",'Input Summary'!$P27,\"Space type\",D46),0)","v":0},{"$f":"IFERROR(GETPIVOTDATA(\"Average of Annual hours of operation\",'Input Summary'!$P27,\"Space type\",D46),0)","v":0},{"$f":"IFERROR(GETPIVOTDATA(\"Sum of Total Wattage\",'Input Summary'!$P27,\"Space type\",D46),0)","v":0},{"$f":"IFERROR(GETPIVOTDATA(\"Sum of Fixture Quantity\",'Input Summary'!$P27,\"Space type\",D46),0)","v":0},"","","","","","","","","","",0]
[null,null,"S27",{"$f":"IF(AND('Input Summary'!P29<>\"Grand Total\",'Input Summary'!P29<>\"\"),'Input Summary'!P29,\"\")","v":""},null,null,null,{"$f":"IFERROR(GETPIVOTDATA(\"Sum of Area of space / sqft.\",'Input Summary'!$P28,\"Space type\",D47),0)","v":0},{"$f":"IFERROR(GETPIVOTDATA(\"Average of Annual hours of operation\",'Input Summary'!$P28,\"Space type\",D47),0)","v":0},{"$f":"IFERROR(GETPIVOTDATA(\"Sum of Total Wattage\",'Input Summary'!$P28,\"Space type\",D47),0)","v":0},{"$f":"IFERROR(GETPIVOTDATA(\"Sum of Fixture Quantity\",'Input Summary'!$P28,\"Space type\",D47),0)","v":0},"","","","","","","","","","",0]
[null,null,"S28",{"$f":"IF(AND('Input Summary'!P30<>\"Grand Total\",'Input Summary'!P30<>\"\"),'Input Summary'!P30,\"\")","v":""},null,null,null,{"$f":"IFERROR(GETPIVOTDATA(\"Sum of Area of space / sqft.\",'Input Summary'!$P29,\"Space type\",D48),0)","v":0},{"$f":"IFERROR(GETPIVOTDATA(\"Average of Annual hours of operation\",'Input Summary'!$P29,\"Space type\",D48),0)","v":0},{"$f":"IFERROR(GETPIVOTDATA(\"Sum of Total Wattage\",'Input Summary'!$P29,\"Space type\",D48),0)","v":0},{"$f":"IFERROR(GETPIVOTDATA(\"Sum of Fixture Quantity\",'Input Summary'!$P29,\"Space type\",D48),0)","v":0},"","","","","","","","","","",0]
[null,null,"S29",{"$f":"IF(AND('Input Summary'!P31<>\"Grand Total\",'Input Summary'!P31<>\"\"),'Input Summary'!P31,\"\")","v":""},null,null,null,{"$f":"IFERROR(GETPIVOTDATA(\"Sum of Area of space / sqft.\",'Input Summary'!$P30,\"Space type\",D49),0)","v":0},{"$f":"IFERROR(GETPIVOTDATA(\"Average of Annual hours of operation\",'Input Summary'!$P30,\"Space type\",D49),0)","v":0},{"$f":"IFERROR(GETPIVOTDATA(\"Sum of Total Wattage\",'Input Summary'!$P30,\"Space type\",D49),0)","v":0},{"$f":"IFERROR(GETPIVOTDATA(\"Sum of Fixture Quantity\",'Input Summary'!$P30,\"Space type\",D49),0)","v":0},"","","","","","","","","","",0]
[null,null,"S30",{"$f":"IF(AND('Input Summary'!P32<>\"Grand Total\",'Input Summary'!P32<>\"\"),'Input Summary'!P32,\"\")","v":""},null,null,null,{"$f":"IFERROR(GETPIVOTDATA(\"Sum of Area of space / sqft.\",'Input Summary'!$P31,\"Space type\",D50),0)","v":0},{"$f":"IFERROR(GETPIVOTDATA(\"Average of Annual hours of operation\",'Input Summary'!$P31,\"Space type\",D50),0)","v":0},{"$f":"IFERROR(GETPIVOTDATA(\"Sum of Total Wattage\",'Input Summary'!$P31,\"Space type\",D50),0)","v":0},{"$f":"IFERROR(GETPIVOTDATA(\"Sum of Fixture Quantity\",'Input Summary'!$P31,\"Space type\",D50),0)","v":0},"","","","","","","","","","",0]
[null,null,"S31",{"$f":"IF(AND('Input Summary'!P33<>\"Grand Total\",'Input Summary'!P33<>\"\"),'Input Summary'!P33,\"\")","v":""},null,null,null,{"$f":"IFERROR(GETPIVOTDATA(\"Sum of Area of space / sqft.\",'Input Summary'!$P32,\"Space type\",D51),0)","v":0},{"$f":"IFERROR(GETPIVOTDATA(\"Average of Annual hours of operation\",'Input Summary'!$P32,\"Space type\",D51),0)","v":0},{"$f":"IFERROR(GETPIVOTDATA(\"Sum of Total Wattage\",'Input Summary'!$P32,\"Space type\",D51),0)","v":0},{"$f":"IFERROR(GETPIVOTDATA(\"Sum of Fixture Quantity\",'Input Summary'!$P32,\"Space type\",D51),0)","v":0},"","","","","","","","","","",0]
[null,null,"S32",{"$f":"IF(AND('Input Summary'!P34<>\"Grand Total\",'Input Summary'!P34<>\"\"),'Input Summary'!P34,\"\")","v":""},null,null,null,{"$f":"IFERROR(GETPIVOTDATA(\"Sum of Area of space / sqft.\",'Input Summary'!$P33,\"Space type\",D52),0)","v":0},{"$f":"IFERROR(GETPIVOTDATA(\"Average of Annual hours of operation\",'Input Summary'!$P33,\"Space type\",D52),0)","v":0},{"$f":"IFERROR(GETPIVOTDATA(\"Sum of Total Wattage\",'Input Summary'!$P33,\"Space type\",D52),0)","v":0},{"$f":"IFERROR(GETPIVOTDATA(\"Sum of Fixture Quantity\",'Input Summary'!$P33,\"Space type\",D52),0)","v":0},{"$f":"IF(D52=\"\",\"\",INDEX(baselineSpace,MATCH(D52,SpaceType,0)))","v":""},{"$f":"IF(D52=\"\",\"\",(L52*H52))","v":""},{"$f":"IF(ISERROR(J52/H52),\"\",J52/H52)","v":""},"","","","","","","",0]
[null,null,"S33",{"$f":"IF(AND('Input Summary'!P35<>\"Grand Total\",'Input Summary'!P35<>\"\"),'Input Summary'!P35,\"\")","v":""},null,null,null,{"$f":"IFERROR(GETPIVOTDATA(\"Sum of Area of space / sqft.\",'Input Summary'!$P34,\"Space type\",D53),0)","v":0},{"$f":"IFERROR(GETPIVOTDATA(\"Average of Annual hours of operation\",'Input Summary'!$P34,\"Space type\",D53),0)","v":0},{"$f":"IFERROR(GETPIVOTDATA(\"Sum of Total Wattage\",'Input Summary'!$P34,\"Space type\",D53),0)","v":0},{"$f":"IFERROR(GETPIVOTDATA(\"Sum of Fixture Quantity\",'Input Summary'!$P34,\"Space type\",D53),0)","v":0},"","","",{"$f":"IF(D53=\"\",\"\",J53)","v":""},"","","","","","",0]
[null,null,"S34",{"$f":"IF(AND('Input Summary'!P36<>\"Grand Total\",'Input Summary'!P36<>\"\"),'Input Summary'!P36,\"\")","v":""},null,null,null,{"$f":"IFERROR(GETPIVOTDATA(\"Sum of Area of space / sqft.\",'Input Summary'!$P35,\"Space type\",D54),0)","v":0},{"$f":"IFERROR(GETPIVOTDATA(\"Average of Annual hours of operation\",'Input Summary'!$P35,\"Space type\",D54),0)","v":0},{"$f":"IFERROR(GETPIVOTDATA(\"Sum of Total Wattage\",'Input Summary'!$P35,\"Space type\",D54),0)","v":0},{"$f":"IFERROR(GETPIVOTDATA(\"Sum of Fixture Quantity\",'Input Summary'!$P35,\"Space type\",D54),0)","v":0},"","","","","","","","","","",0]
[null,null,"S35",{"$f":"IF(AND('Input Summary'!P37<>\"Grand Total\",'Input Summary'!P37<>\"\"),'Input Summary'!P37,\"\")","v":""},null,null,null,{"$f":"IFERROR(GETPIVOTDATA(\"Sum of Area of space / sqft.\",'Input Summary'!$P36,\"Space type\",D55),0)","v":0},{"$f":"IFERROR(GETPIVOTDATA(\"Average of Annual hours of operation\",'Input Summary'!$P36,\"Space type\",D55),0)","v":0},{"$f":"IFERROR(GETPIVOTDATA(\"Sum of Total Wattage\",'Input Summary'!$P36,\"Space type\",D55),0)","v":0},{"$f":"IFERROR(GETPIVOTDATA(\"Sum of Fixture Quantity\",'Input Summary'!$P36,\"Space type\",D55),0)","v":0},"","","","","","","","","","",0]
[null,null,"S36",{"$f":"IF(AND('Input Summary'!P38<>\"Grand Total\",'Input Summary'!P38<>\"\"),'Input Summary'!P38,\"\")","v":""},null,null,null,{"$f":"IFERROR(GETPIVOTDATA(\"Sum of Area of space / sqft.\",'Input Summary'!$P37,\"Space type\",D56),0)","v":0},{"$f":"IFERROR(GETPIVOTDATA(\"Average of Annual hours of operation\",'Input Summary'!$P37,\"Space type\",D56),0)","v":0},{"$f":"IFERROR(GETPIVOTDATA(\"Sum of Total Wattage\",'Input Summary'!$P37,\"Space type\",D56),0)","v":0},{"$f":"IFERROR(GETPIVOTDATA(\"Sum of Fixture Quantity\",'Input Summary'!$P37,\"Space type\",D56),0)","v":0},"","","","","","","","","","",0]
[null,null,"S37",{"$f":"IF(AND('Input Summary'!P39<>\"Grand Total\",'Input Summary'!P39<>\"\"),'Input Summary'!P39,\"\")","v":""},null,null,null,{"$f":"IFERROR(GETPIVOTDATA(\"Sum of Area of space / sqft.\",'Input Summary'!$P38,\"Space type\",D57),0)","v":0},{"$f":"IFERROR(GETPIVOTDATA(\"Average of Annual hours of operation\",'Input Summary'!$P38,\"Space type\",D57),0)","v":0},{"$f":"IFERROR(GETPIVOTDATA(\"Sum of Total Wattage\",'Input Summary'!$P38,\"Space type\",D57),0)","v":0},{"$f":"IFERROR(GETPIVOTDATA(\"Sum of Fixture Quantity\",'Input Summary'!$P38,\"Space type\",D57),0)","v":0},"","","","","","","","","","",0]
[null,null,"S38",{"$f":"IF(AND('Input Summary'!P40<>\"Grand Total\",'Input Summary'!P40<>\"\"),'Input Summary'!P40,\"\")","v":""},null,null,null,{"$f":"IFERROR(GETPIVOTDATA(\"Sum of Area of space / sqft.\",'Input Summary'!$P39,\"Space type\",D58),0)","v":0},{"$f":"IFERROR(GETPIVOTDATA(\"Average of Annual hours of operation\",'Input Summary'!$P39,\"Space type\",D58),0)","v":0},{"$f":"IFERROR(GETPIVOTDATA(\"Sum of Total Wattage\",'Input Summary'!$P39,\"Space type\",D58),0)","v":0},{"$f":"IFERROR(GETPIVOTDATA(\"Sum of Fixture Quantity\",'Input Summary'!$P39,\"Space type\",D58),0)","v":0},"","","","","","","","","","",0]
[null,null,"S39",{"$f":"IF(AND('Input Summary'!P41<>\"Grand Total\",'Input Summary'!P41<>\"\"),'Input Summary'!P41,\"\")","v":""},null,null,null,{"$f":"IFERROR(GETPIVOTDATA(\"Sum of Area of space / sqft.\",'Input Summary'!$P40,\"Space type\",D59),0)","v":0},{"$f":"IFERROR(GETPIVOTDATA(\"Average of Annual hours of operation\",'Input Summary'!$P40,\"Space type\",D59),0)","v":0},{"$f":"IFERROR(GETPIVOTDATA(\"Sum of Total Wattage\",'Input Summary'!$P40,\"Space type\",D59),0)","v":0},{"$f":"IFERROR(GETPIVOTDATA(\"Sum of Fixture Quantity\",'Input Summary'!$P40,\"Space type\",D59),0)","v":0},"","","","","","","","","","",0]
[null,null,"S40",{"$f":"IF(AND('Input Summary'!P42<>\"Grand Total\",'Input Summary'!P42<>\"\"),'Input Summary'!P42,\"\")","v":""},null,null,null,{"$f":"IFERROR(GETPIVOTDATA(\"Sum of Area of space / sqft.\",'Input Summary'!$P41,\"Space type\",D60),0)","v":0},{"$f":"IFERROR(GETPIVOTDATA(\"Average of Annual hours of operation\",'Input Summary'!$P41,\"Space type\",D60),0)","v":0},{"$f":"IFERROR(GETPIVOTDATA(\"Sum of Total Wattage\",'Input Summary'!$P41,\"Space type\",D60),0)","v":0},{"$f":"IFERROR(GETPIVOTDATA(\"Sum of Fixture Quantity\",'Input Summary'!$P41,\"Space type\",D60),0)","v":0},"","","","","","","","","","",0]
[null,null,"S41",{"$f":"IF(AND('Input Summary'!P43<>\"Grand Total\",'Input Summary'!P43<>\"\"),'Input Summary'!P43,\"\")","v":""},null,null,null,{"$f":"IFERROR(GETPIVOTDATA(\"Sum of Area of space / sqft.\",'Input Summary'!$P42,\"Space type\",D61),0)","v":0},{"$f":"IFERROR(GETPIVOTDATA(\"Average of Annual hours of operation\",'Input Summary'!$P42,\"Space type\",D61),0)","v":0},{"$f":"IFERROR(GETPIVOTDATA(\"Sum of Total Wattage\",'Input Summary'!$P42,\"Space type\",D61),0)","v":0},{"$f":"IFERROR(GETPIVOTDATA(\"Sum of Fixture Quantity\",'Input Summary'!$P42,\"Space type\",D61),0)","v":0},"","","","","","","","","","",0]
[null,null,"S42",{"$f":"IF(AND('Input Summary'!P44<>\"Grand Total\",'Input Summary'!P44<>\"\"),'Input Summary'!P44,\"\")","v":""},null,null,null,{"$f":"IFERROR(GETPIVOTDATA(\"Sum of Area of space / sqft.\",'Input Summary'!$P43,\"Space type\",D62),0)","v":0},{"$f":"IFERROR(GETPIVOTDATA(\"Average of Annual hours of operation\",'Input Summary'!$P43,\"Space type\",D62),0)","v":0},{"$f":"IFERROR(GETPIVOTDATA(\"Sum of Total Wattage\",'Input Summary'!$P43,\"Space type\",D62),0)","v":0},{"$f":"IFERROR(GETPIVOTDATA(\"Sum of Fixture Quantity\",'Input Summary'!$P43,\"Space type\",D62),0)","v":0},"","","","","","","","","","",0]
[null,null,"S43",{"$f":"IF(AND('Input Summary'!P45<>\"Grand Total\",'Input Summary'!P45<>\"\"),'Input Summary'!P45,\"\")","v":""},null,null,null,{"$f":"IFERROR(GETPIVOTDATA(\"Sum of Area of space / sqft.\",'Input Summary'!$P44,\"Space type\",D63),0)","v":0},{"$f":"IFERROR(GETPIVOTDATA(\"Average of Annual hours of operation\",'Input Summary'!$P44,\"Space type\",D63),0)","v":0},{"$f":"IFERROR(GETPIVOTDATA(\"Sum of Total Wattage\",'Input Summary'!$P44,\"Space type\",D63),0)","v":0},{"$f":"IFERROR(GETPIVOTDATA(\"Sum of Fixture Quantity\",'Input Summary'!$P44,\"Space type\",D63),0)","v":0},"","","","","","","","","","",0]
[null,null,"S44",{"$f":"IF(AND('Input Summary'!P46<>\"Grand Total\",'Input Summary'!P46<>\"\"),'Input Summary'!P46,\"\")","v":""},null,null,null,{"$f":"IFERROR(GETPIVOTDATA(\"Sum of Area of space / sqft.\",'Input Summary'!$P45,\"Space type\",D64),0)","v":0},{"$f":"IFERROR(GETPIVOTDATA(\"Average of Annual hours of operation\",'Input Summary'!$P45,\"Space type\",D64),0)","v":0},{"$f":"IFERROR(GETPIVOTDATA(\"Sum of Total Wattage\",'Input Summary'!$P45,\"Space type\",D64),0)","v":0},{"$f":"IFERROR(GETPIVOTDATA(\"Sum of Fixture Quantity\",'Input Summary'!$P45,\"Space type\",D64),0)","v":0},"","","","","","","","","","",0]
[null,null,"S45",{"$f":"IF(AND('Input Summary'!P47<>\"Grand Total\",'Input Summary'!P47<>\"\"),'Input Summary'!P47,\"\")","v":""},null,null,null,{"$f":"IFERROR(GETPIVOTDATA(\"Sum of Area of space / sqft.\",'Input Summary'!$P46,\"Space type\",D65),0)","v":0},{"$f":"IFERROR(GETPIVOTDATA(\"Average of Annual hours of operation\",'Input Summary'!$P46,\"Space type\",D65),0)","v":0},{"$f":"IFERROR(GETPIVOTDATA(\"Sum of Total Wattage\",'Input Summary'!$P46,\"Space type\",D65),0)","v":0},{"$f":"IFERROR(GETPIVOTDATA(\"Sum of Fixture Quantity\",'Input Summary'!$P46,\"Space type\",D65),0)","v":0},"","","","","","","","","","",0]
[null,null,"S46",{"$f":"IF(AND('Input Summary'!P48<>\"Grand Total\",'Input Summary'!P48<>\"\"),'Input Summary'!P48,\"\")","v":""},null,null,null,{"$f":"IFERROR(GETPIVOTDATA(\"Sum of Area of space / sqft.\",'Input Summary'!$P47,\"Space type\",D66),0)","v":0},{"$f":"IFERROR(GETPIVOTDATA(\"Average of Annual hours of operation\",'Input Summary'!$P47,\"Space type\",D66),0)","v":0},{"$f":"IFERROR(GETPIVOTDATA(\"Sum of Total Wattage\",'Input Summary'!$P47,\"Space type\",D66),0)","v":0},{"$f":"IFERROR(GETPIVOTDATA(\"Sum of Fixture Quantity\",'Input Summary'!$P47,\"Space type\",D66),0)","v":0},"","","","","","","","","","",0]
[null,null,"S47",{"$f":"IF(AND('Input Summary'!P49<>\"Grand Total\",'Input Summary'!P49<>\"\"),'Input Summary'!P49,\"\")","v":""},null,null,null,{"$f":"IFERROR(GETPIVOTDATA(\"Sum of Area of space / sqft.\",'Input Summary'!$P48,\"Space type\",D67),0)","v":0},{"$f":"IFERROR(GETPIVOTDATA(\"Average of Annual hours of operation\",'Input Summary'!$P48,\"Space type\",D67),0)","v":0},{"$f":"IFERROR(GETPIVOTDATA(\"Sum of Total Wattage\",'Input Summary'!$P48,\"Space type\",D67),0)","v":0},{"$f":"IFERROR(GETPIVOTDATA(\"Sum of Fixture Quantity\",'Input Summary'!$P48,\"Space type\",D67),0)","v":0},"","","","","","","","","","",0]
[null,null,"S48",{"$f":"IF(AND('Input Summary'!P50<>\"Grand Total\",'Input Summary'!P50<>\"\"),'Input Summary'!P50,\"\")","v":""},null,null,null,{"$f":"IFERROR(GETPIVOTDATA(\"Sum of Area of space / sqft.\",'Input Summary'!$P49,\"Space type\",D68),0)","v":0},{"$f":"IFERROR(GETPIVOTDATA(\"Average of Annual hours of operation\",'Input Summary'!$P49,\"Space type\",D68),0)","v":0},{"$f":"IFERROR(GETPIVOTDATA(\"Sum of Total Wattage\",'Input Summary'!$P49,\"Space type\",D68),0)","v":0},{"$f":"IFERROR(GETPIVOTDATA(\"Sum of Fixture Quantity\",'Input Summary'!$P49,\"Space type\",D68),0)","v":0},"","","","","","","","","","",0,null,null,null,null,null,null,null,null,null,null,null,null,null,null,null,null,null,null,null,null,null,null,null,null,null,null,null,null,null,null,null,null,null,null,null,null,null,null,null,null,null,null,null,null,null,null,null,null,null,null,null,null,null,null,null,null,null,null,null,null,null,null,null,null,null,null,null,null,null,null,null,null,null,null,null,null,null,null,null,null,null,null,null,null,null,null,null,null,null,null,null,null,null,null,null,null,null,null,null,null,null,null,null,null,null,null,null,null,null,null,null,null,null,null,null,null,null,null,null,null,null,null,null,null,null,null,null,null,null,null,null,null,null,null,null,null,null,null,null,null,null,null,null,null,null,null,null,null,null,null,null,null,null,null,null,null,null,null,null,null,null,null,null,null,null,null,null,null,null,null,null,null,null,null,null,null,null,null,null,null,null,null,null,null,null,null,null,null,null,null,null,null,null,null,null,null,null,null,null,null,null,null,null,null,null,null,null,null,null,null,null,null,null,null,null,null,null,null,null,null,null,null,{"$f":"#REF!","v":{"$error":"#REF!"}}]
[null,null,"S49",{"$f":"IF(AND('Input Summary'!P51<>\"Grand Total\",'Input Summary'!P51<>\"\"),'Input Summary'!P51,\"\")","v":""},null,null,null,{"$f":"IFERROR(GETPIVOTDATA(\"Sum of Area of space / sqft.\",'Input Summary'!$P50,\"Space type\",D69),0)","v":0},{"$f":"IFERROR(GETPIVOTDATA(\"Average of Annual hours of operation\",'Input Summary'!$P50,\"Space type\",D69),0)","v":0},{"$f":"IFERROR(GETPIVOTDATA(\"Sum of Total Wattage\",'Input Summary'!$P50,\"Space type\",D69),0)","v":0},{"$f":"IFERROR(GETPIVOTDATA(\"Sum of Fixture Quantity\",'Input Summary'!$P50,\"Space type\",D69),0)","v":0},"","","","","","","","","","",0,null,null,null,null,null,null,null,null,null,null,null,null,null,null,null,null,null,null,null,null,null,null,null,null,null,null,null,null,null,null,null,null,null,null,null,null,null,null,null,null,null,null,null,null,null,null,null,null,null,null,null,null,null,null,null,null,null,null,null,null,null,null,null,null,null,null,null,null,null,null,null,null,null,null,null,null,null,null,null,null,null,null,null,null,null,null,null,null,null,null,null,null,null,null,null,null,null,null,null,null,null,null,null,null,null,null,null,null,null,null,null,null,null,null,null,null,null,null,null,null,null,null,null,null,null,null,null,null,null,null,null,null,null,null,null,null,null,null,null,null,null,null,null,null,null,null,null,null,null,null,null,null,null,null,null,null,null,null,null,null,null,null,null,null,null,null,null,null,null,null,null,null,null,null,null,null,null,null,null,null,null,null,null,null,null,null,null,null,null,null,null,null,null,null,null,null,null,null,null,null,null,null,null,null,null,null,null,null,null,null,null,null,null,null,null,null,null,null,null,null,null,null,{"$f":"#REF!","v":{"$error":"#REF!"}}]
[null,null,"S50",{"$f":"IF(AND('Input Summary'!P52<>\"Grand Total\",'Input Summary'!P52<>\"\"),'Input Summary'!P52,\"\")","v":""},null,null,null,{"$f":"IFERROR(GETPIVOTDATA(\"Sum of Area of space / sqft.\",'Input Summary'!$P51,\"Space type\",D70),0)","v":0},{"$f":"IFERROR(GETPIVOTDATA(\"Average of Annual hours of operation\",'Input Summary'!$P51,\"Space type\",D70),0)","v":0},{"$f":"IFERROR(GETPIVOTDATA(\"Sum of Total Wattage\",'Input Summary'!$P51,\"Space type\",D70),0)","v":0},{"$f":"IFERROR(GETPIVOTDATA(\"Sum of Fixture Quantity\",'Input Summary'!$P51,\"Space type\",D70),0)","v":0},"","","","","","","","","","",0,null,null,null,null,null,null,null,null,null,null,null,null,null,null,null,null,null,null,null,null,null,null,null,null,null,null,null,null,null,null,null,null,null,null,null,null,null,null,null,null,null,null,null,null,null,null,null,null,null,null,null,null,null,null,null,null,null,null,null,null,null,null,null,null,null,null,null,null,null,null,null,null,null,null,null,null,null,null,null,null,null,null,null,null,null,null,null,null,null,null,null,null,null,null,null,null,null,null,null,null,null,null,null,null,null,null,null,null,null,null,null,null,null,null,null,null,null,null,null,null,null,null,null,null,null,null,null,null,null,null,null,null,null,null,null,null,null,null,null,null,null,null,null,null,null,null,null,null,null,null,null,null,null,null,null,null,null,null,null,null,null,null,null,null,null,null,null,null,null,null,null,null,null,null,null,null,null,null,null,null,null,null,null,null,null,null,null,null,null,null,null,null,null,null,null,null,null,null,null,null,null,null,null,null,null,null,null,null,null,null,null,null,null,null,null,null,null,null,null,null,null,null,{"$f":"#REF!","v":{"$error":"#REF!"}}]
[null,null,null,null,null,null,null,null,null,null,null,null,null,null,null,null,null,"",{"$f":"IF(R71=\"\",\"\",R71*M71)","v":""},"",""]
[null,null,null,"Total Program Savings from Project",null,null,null,null,null,null,null,null,null,null,null,null,null,"","","",""]
[null,null,null,"Summer Peak (kWh)","Summer \nOff-Peak \n(kWh)","Winter \nPeak \n(kWh)","Winter \nOff-Peak \n(kWh)","Summer PJM Peak (kW)","Summer Coincident Peak (kW)",null,null,null,null,null,null,null,null,"","","",""]
[null,null,null,{"$f":"SUM(D$78:D$127)","v":0},0,0,0,0,0,null,null,null,null,null,null,null,null,"","","",""]
[null,null,null,null,null,null,null,null,null,null,null,null,null,null,null,null,null,"","","",""]
[null,null,"Estimated Program Savings by Space Type",null,null,null,null,null,null,null,null,null,null,null,null,null,null,"","","",""]
[null,null,"Entry","Summer Peak (kWh)","Summer \nOff-Peak \n(kWh)","Winter \nPeak \n(kWh)","Winter \nOff-Peak \n(kWh)","Summer Coincident Peak (kW)","Summer PJM Peak (kW)",null,null,null,null,null,null,null,null,"","","",""]
[null,null,{"$f":"C21","v":"S1"},{"$f":"IF(ISERROR('Calculations TRM'!AR19),0,'Calculations TRM'!AR19)+IF(ISERROR('Calculations TRM'!Z224),0,'Calculations TRM'!Z224)","v":0},{"$f":"IF(ISERROR('Calculations TRM'!AS19),0,'Calculations TRM'!AS19)+IF(ISERROR('Calculations TRM'!AA224),0,'Calculations TRM'!AA224)","v":0},{"$f":"IF(ISERROR('Calculations TRM'!AT19),0,'Calculations TRM'!AT19)+IF(ISERROR('Calculations TRM'!AB224),0,'Calculations TRM'!AB224)","v":0},{"$f":"IF(ISERROR('Calculations TRM'!AU19),0,'Calculations TRM'!AU19)+IF(ISERROR('Calculations TRM'!AC224),0,'Calculations TRM'!AC224)","v":0},{"$f":"IF(ISERROR('Calculations TRM'!AV19),0,'Calculations TRM'!AV19)+IF(ISERROR('Calculations TRM'!AD224),0,'Calculations TRM'!AD224)","v":0},{"$f":"IF(ISERROR('Calculations TRM'!AW19),0,'Calculations TRM'!AW19)+IF(ISERROR('Calculations TRM'!AE224),0,'Calculations TRM'!AE224)","v":0},null,null,null,null,null,null,null,null,"","","",""]
[null,null,{"$f":"C22","v":"S2"},{"$f":"IF(ISERROR('Calculations TRM'!AR20),0,'Calculations TRM'!AR20)+IF(ISERROR('Calculations TRM'!Z225),0,'Calculations TRM'!Z225)","v":0},{"$f":"IF(ISERROR('Calculations TRM'!AS20),0,'Calculations TRM'!AS20)+IF(ISERROR('Calculations TRM'!AA225),0,'Calculations TRM'!AA225)","v":0},{"$f":"IF(ISERROR('Calculations TRM'!AT20),0,'Calculations TRM'!AT20)+IF(ISERROR('Calculations TRM'!AB225),0,'Calculations TRM'!AB225)","v":0},{"$f":"IF(ISERROR('Calculations TRM'!AU20),0,'Calculations TRM'!AU20)+IF(ISERROR('Calculations TRM'!AC225),0,'Calculations TRM'!AC225)","v":0},{"$f":"IF(ISERROR('Calculations TRM'!AV20),0,'Calculations TRM'!AV20)+IF(ISERROR('Calculations TRM'!AD225),0,'Calculations TRM'!AD225)","v":0},{"$f":"IF(ISERROR('Calculations TRM'!AW20),0,'Calculations TRM'!AW20)+IF(ISERROR('Calculations TRM'!AE225),0,'Calculations TRM'!AE225)","v":0},null,null,null,null,null,null,null,null,"","","",""]
[null,null,"S3",{"$f":"IF(ISERROR('Calculations TRM'!AR21),0,'Calculations TRM'!AR21)+IF(ISERROR('Calculations TRM'!Z226),0,'Calculations TRM'!Z226)","v":0},{"$f":"IF(ISERROR('Calculations TRM'!AS21),0,'Calculations TRM'!AS21)+IF(ISERROR('Calculations TRM'!AA226),0,'Calculations TRM'!AA226)","v":0},{"$f":"IF(ISERROR('Calculations TRM'!AT21),0,'Calculations TRM'!AT21)+IF(ISERROR('Calculations TRM'!AB226),0,'Calculations TRM'!AB226)","v":0},{"$f":"IF(ISERROR('Calculations TRM'!AU21),0,'Calculations TRM'!AU21)+IF(ISERROR('Calculations TRM'!AC226),0,'Calculations TRM'!AC226)","v":0},{"$f":"IF(ISERROR('Calculations TRM'!AV21),0,'Calculations TRM'!AV21)+IF(ISERROR('Calculations TRM'!AD226),0,'Calculations TRM'!AD226)","v":0},{"$f":"IF(ISERROR('Calculations TRM'!AW21),0,'Calculations TRM'!AW21)+IF(ISERROR('Calculations TRM'!AE226),0,'Calculations TRM'!AE226)","v":0},null,null,null,null,null,null,null,null,"","","",""]
[null,null,"S4",{"$f":"IF(ISERROR('Calculations TRM'!AR22),0,'Calculations TRM'!AR22)+IF(ISERROR('Calculations TRM'!Z227),0,'Calculations TRM'!Z227)","v":0},{"$f":"IF(ISERROR('Calculations TRM'!AS22),0,'Calculations TRM'!AS22)+IF(ISERROR('Calculations TRM'!AA227),0,'Calculations TRM'!AA227)","v":0},{"$f":"IF(ISERROR('Calculations TRM'!AT22),0,'Calculations TRM'!AT22)+IF(ISERROR('Calculations TRM'!AB227),0,'Calculations TRM'!AB227)","v":0},{"$f":"IF(ISERROR('Calculations TRM'!AU22),0,'Calculations TRM'!AU22)+IF(ISERROR('Calculations TRM'!AC227),0,'Calculations TRM'!AC227)","v":0},{"$f":"IF(ISERROR('Calculations TRM'!AV22),0,'Calculations TRM'!AV22)+IF(ISERROR('Calculations TRM'!AD227),0,'Calculations TRM'!AD227)","v":0},{"$f":"IF(ISERROR('Calculations TRM'!AW22),0,'Calculations TRM'!AW22)+IF(ISERROR('Calculations TRM'!AE227),0,'Calculations TRM'!AE227)","v":0},null,null,null,null,null,null,null,null,"","","",""]
[null,null,"S5",{"$f":"IF(ISERROR('Calculations TRM'!AR23),0,'Calculations TRM'!AR23)+IF(ISERROR('Calculations TRM'!Z228),0,'Calculations TRM'!Z228)","v":0},{"$f":"IF(ISERROR('Calculations TRM'!AS23),0,'Calculations TRM'!AS23)+IF(ISERROR('Calculations TRM'!AA228),0,'Calculations TRM'!AA228)","v":0},{"$f":"IF(ISERROR('Calculations TRM'!AT23),0,'Calculations TRM'!AT23)+IF(ISERROR('Calculations TRM'!AB228),0,'Calculations TRM'!AB228)","v":0},{"$f":"IF(ISERROR('Calculations TRM'!AU23),0,'Calculations TRM'!AU23)+IF(ISERROR('Calculations TRM'!AC228),0,'Calculations TRM'!AC228)","v":0},{"$f":"IF(ISERROR('Calculations TRM'!AV23),0,'Calculations TRM'!AV23)+IF(ISERROR('Calculations TRM'!AD228),0,'Calculations TRM'!AD228)","v":0},{"$f":"IF(ISERROR('Calculations TRM'!AW23),0,'Calculations TRM'!AW23)+IF(ISERROR('Calculations TRM'!AE228),0,'Calculations TRM'!AE228)","v":0}]
[null,null,"S6",{"$f":"IF(ISERROR('Calculations TRM'!AR24),0,'Calculations TRM'!AR24)+IF(ISERROR('Calculations TRM'!Z229),0,'Calculations TRM'!Z229)","v":0},{"$f":"IF(ISERROR('Calculations TRM'!AS24),0,'Calculations TRM'!AS24)+IF(ISERROR('Calculations TRM'!AA229),0,'Calculations TRM'!AA229)","v":0},{"$f":"IF(ISERROR('Calculations TRM'!AT24),0,'Calculations TRM'!AT24)+IF(ISERROR('Calculations TRM'!AB229),0,'Calculations TRM'!AB229)","v":0},{"$f":"IF(ISERROR('Calculations TRM'!AU24),0,'Calculations TRM'!AU24)+IF(ISERROR('Calculations TRM'!AC229),0,'Calculations TRM'!AC229)","v":0},{"$f":"IF(ISERROR('Calculations TRM'!AV24),0,'Calculations TRM'!AV24)+IF(ISERROR('Calculations TRM'!AD229),0,'Calculations TRM'!AD229)","v":0},{"$f":"IF(ISERROR('Calculations TRM'!AW24),0,'Calculations TRM'!AW24)+IF(ISERROR('Calculations TRM'!AE229),0,'Calculations TRM'!AE229)","v":0}]
[null,null,"S7",{"$f":"IF(ISERROR('Calculations TRM'!AR25),0,'Calculations TRM'!AR25)+IF(ISERROR('Calculations TRM'!Z230),0,'Calculations TRM'!Z230)","v":0},{"$f":"IF(ISERROR('Calculations TRM'!AS25),0,'Calculations TRM'!AS25)+IF(ISERROR('Calculations TRM'!AA230),0,'Calculations TRM'!AA230)","v":0},{"$f":"IF(ISERROR('Calculations TRM'!AT25),0,'Calculations TRM'!AT25)+IF(ISERROR('Calculations TRM'!AB230),0,'Calculations TRM'!AB230)","v":0},{"$f":"IF(ISERROR('Calculations TRM'!AU25),0,'Calculations TRM'!AU25)+IF(ISERROR('Calculations TRM'!AC230),0,'Calculations TRM'!AC230)","v":0},{"$f":"IF(ISERROR('Calculations TRM'!AV25),0,'Calculations TRM'!AV25)+IF(ISERROR('Calculations TRM'!AD230),0,'Calculations TRM'!AD230)","v":0},{"$f":"IF(ISERROR('Calculations TRM'!AW25),0,'Calculations TRM'!AW25)+IF(ISERROR('Calculations TRM'!AE230),0,'Calculations TRM'!AE230)","v":0}]
[null,null,"S8",{"$f":"IF(ISERROR('Calculations TRM'!AR26),0,'Calculations TRM'!AR26)+IF(ISERROR('Calculations TRM'!Z231),0,'Calculations TRM'!Z231)","v":0},{"$f":"IF(ISERROR('Calculations TRM'!AS26),0,'Calculations TRM'!AS26)+IF(ISERROR('Calculations TRM'!AA231),0,'Calculations TRM'!AA231)","v":0},{"$f":"IF(ISERROR('Calculations TRM'!AT26),0,'Calculations TRM'!AT26)+IF(ISERROR('Calculations TRM'!AB231),0,'Calculations TRM'!AB231)","v":0},{"$f":"IF(ISERROR('Calculations TRM'!AU26),0,'Calculations TRM'!AU26)+IF(ISERROR('Calculations TRM'!AC231),0,'Calculations TRM'!AC231)","v":0},{"$f":"IF(ISERROR('Calculations TRM'!AV26),0,'Calculations TRM'!AV26)+IF(ISERROR('Calculations TRM'!AD231),0,'Calculations TRM'!AD231)","v":0},{"$f":"IF(ISERROR('Calculations TRM'!AW26),0,'Calculations TRM'!AW26)+IF(ISERROR('Calculations TRM'!AE231),0,'Calculations TRM'!AE231)","v":0}]
[null,null,"S9",{"$f":"IF(ISERROR('Calculations TRM'!AR27),0,'Calculations TRM'!AR27)+IF(ISERROR('Calculations TRM'!Z232),0,'Calculations TRM'!Z232)","v":0},{"$f":"IF(ISERROR('Calculations TRM'!AS27),0,'Calculations TRM'!AS27)+IF(ISERROR('Calculations TRM'!AA232),0,'Calculations TRM'!AA232)","v":0},{"$f":"IF(ISERROR('Calculations TRM'!AT27),0,'Calculations TRM'!AT27)+IF(ISERROR('Calculations TRM'!AB232),0,'Calculations TRM'!AB232)","v":0},{"$f":"IF(ISERROR('Calculations TRM'!AU27),0,'Calculations TRM'!AU27)+IF(ISERROR('Calculations TRM'!AC232),0,'Calculations TRM'!AC232)","v":0},{"$f":"IF(ISERROR('Calculations TRM'!AV27),0,'Calculations TRM'!AV27)+IF(ISERROR('Calculations TRM'!AD232),0,'Calculations TRM'!AD232)","v":0},{"$f":"IF(ISERROR('Calculations TRM'!AW27),0,'Calculations TRM'!AW27)+IF(ISERROR('Calculations TRM'!AE232),0,'Calculations TRM'!AE232)","v":0}]
[null,null,"S10",{"$f":"IF(ISERROR('Calculations TRM'!AR28),0,'Calculations TRM'!AR28)+IF(ISERROR('Calculations TRM'!Z233),0,'Calculations TRM'!Z233)","v":0},{"$f":"IF(ISERROR('Calculations TRM'!AS28),0,'Calculations TRM'!AS28)+IF(ISERROR('Calculations TRM'!AA233),0,'Calculations TRM'!AA233)","v":0},{"$f":"IF(ISERROR('Calculations TRM'!AT28),0,'Calculations TRM'!AT28)+IF(ISERROR('Calculations TRM'!AB233),0,'Calculations TRM'!AB233)","v":0},{"$f":"IF(ISERROR('Calculations TRM'!AU28),0,'Calculations TRM'!AU28)+IF(ISERROR('Calculations TRM'!AC233),0,'Calculations TRM'!AC233)","v":0},{"$f":"IF(ISERROR('Calculations TRM'!AV28),0,'Calculations TRM'!AV28)+IF(ISERROR('Calculations TRM'!AD233),0,'Calculations TRM'!AD233)","v":0},{"$f":"IF(ISERROR('Calculations TRM'!AW28),0,'Calculations TRM'!AW28)+IF(ISERROR('Calculations TRM'!AE233),0,'Calculations TRM'!AE233)","v":0}]
[null,null,"S11",{"$f":"IF(ISERROR('Calculations TRM'!AR29),0,'Calculations TRM'!AR29)+IF(ISERROR('Calculations TRM'!Z234),0,'Calculations TRM'!Z234)","v":0},{"$f":"IF(ISERROR('Calculations TRM'!AS29),0,'Calculations TRM'!AS29)+IF(ISERROR('Calculations TRM'!AA234),0,'Calculations TRM'!AA234)","v":0},{"$f":"IF(ISERROR('Calculations TRM'!AT29),0,'Calculations TRM'!AT29)+IF(ISERROR('Calculations TRM'!AB234),0,'Calculations TRM'!AB234)","v":0},{"$f":"IF(ISERROR('Calculations TRM'!AU29),0,'Calculations TRM'!AU29)+IF(ISERROR('Calculations TRM'!AC234),0,'Calculations TRM'!AC234)","v":0},{"$f":"IF(ISERROR('Calculations TRM'!AV29),0,'Calculations TRM'!AV29)+IF(ISERROR('Calculations TRM'!AD234),0,'Calculations TRM'!AD234)","v":0},{"$f":"IF(ISERROR('Calculations TRM'!AW29),0,'Calculations TRM'!AW29)+IF(ISERROR('Calculations TRM'!AE234),0,'Calculations TRM'!AE234)","v":0}]
[null,null,"S12",{"$f":"IF(ISERROR('Calculations TRM'!AR30),0,'Calculations TRM'!AR30)+IF(ISERROR('Calculations TRM'!Z235),0,'Calculations TRM'!Z235)","v":0},{"$f":"IF(ISERROR('Calculations TRM'!AS30),0,'Calculations TRM'!AS30)+IF(ISERROR('Calculations TRM'!AA235),0,'Calculations TRM'!AA235)","v":0},{"$f":"IF(ISERROR('Calculations TRM'!AT30),0,'Calculations TRM'!AT30)+IF(ISERROR('Calculations TRM'!AB235),0,'Calculations TRM'!AB235)","v":0},{"$f":"IF(ISERROR('Calculations TRM'!AU30),0,'Calculations TRM'!AU30)+IF(ISERROR('Calculations TRM'!AC235),0,'Calculations TRM'!AC235)","v":0},{"$f":"IF(ISERROR('Calculations TRM'!AV30),0,'Calculations TRM'!AV30)+IF(ISERROR('Calculations TRM'!AD235),0,'Calculations TRM'!AD235)","v":0},{"$f":"IF(ISERROR('Calculations TRM'!AW30),0,'Calculations TRM'!AW30)+IF(ISERROR('Calculations TRM'!AE235),0,'Calculations TRM'!AE235)","v":0}]
[null,null,"S13",{"$f":"IF(ISERROR('Calculations TRM'!AR31),0,'Calculations TRM'!AR31)+IF(ISERROR('Calculations TRM'!Z236),0,'Calculations TRM'!Z236)","v":0},{"$f":"IF(ISERROR('Calculations TRM'!AS31),0,'Calculations TRM'!AS31)+IF(ISERROR('Calculations TRM'!AA236),0,'Calculations TRM'!AA236)","v":0},{"$f":"IF(ISERROR('Calculations TRM'!AT31),0,'Calculations TRM'!AT31)+IF(ISERROR('Calculations TRM'!AB236),0,'Calculations TRM'!AB236)","v":0},{"$f":"IF(ISERROR('Calculations TRM'!AU31),0,'Calculations TRM'!AU31)+IF(ISERROR('Calculations TRM'!AC236),0,'Calculations TRM'!AC236)","v":0},{"$f":"IF(ISERROR('Calculations TRM'!AV31),0,'Calculations TRM'!AV31)+IF(ISERROR('Calculations TRM'!AD236),0,'Calculations TRM'!AD236)","v":0},{"$f":"IF(ISERROR('Calculations TRM'!AW31),0,'Calculations TRM'!AW31)+IF(ISERROR('Calculations TRM'!AE236),0,'Calculations TRM'!AE236)","v":0}]
[null,null,"S14",{"$f":"IF(ISERROR('Calculations TRM'!AR32),0,'Calculations TRM'!AR32)+IF(ISERROR('Calculations TRM'!Z237),0,'Calculations TRM'!Z237)","v":0},{"$f":"IF(ISERROR('Calculations TRM'!AS32),0,'Calculations TRM'!AS32)+IF(ISERROR('Calculations TRM'!AA237),0,'Calculations TRM'!AA237)","v":0},{"$f":"IF(ISERROR('Calculations TRM'!AT32),0,'Calculations TRM'!AT32)+IF(ISERROR('Calculations TRM'!AB237),0,'Calculations TRM'!AB237)","v":0},{"$f":"IF(ISERROR('Calculations TRM'!AU32),0,'Calculations TRM'!AU32)+IF(ISERROR('Calculations TRM'!AC237),0,'Calculations TRM'!AC237)","v":0},{"$f":"IF(ISERROR('Calculations TRM'!AV32),0,'Calculations TRM'!AV32)+IF(ISERROR('Calculations TRM'!AD237),0,'Calculations TRM'!AD237)","v":0},{"$f":"IF(ISERROR('Calculations TRM'!AW32),0,'Calculations TRM'!AW32)+IF(ISERROR('Calculations TRM'!AE237),0,'Calculations TRM'!AE237)","v":0}]
[null,null,"S15",{"$f":"IF(ISERROR('Calculations TRM'!AR33),0,'Calculations TRM'!AR33)+IF(ISERROR('Calculations TRM'!Z238),0,'Calculations TRM'!Z238)","v":0},{"$f":"IF(ISERROR('Calculations TRM'!AS33),0,'Calculations TRM'!AS33)+IF(ISERROR('Calculations TRM'!AA238),0,'Calculations TRM'!AA238)","v":0},{"$f":"IF(ISERROR('Calculations TRM'!AT33),0,'Calculations TRM'!AT33)+IF(ISERROR('Calculations TRM'!AB238),0,'Calculations TRM'!AB238)","v":0},{"$f":"IF(ISERROR('Calculations TRM'!AU33),0,'Calculations TRM'!AU33)+IF(ISERROR('Calculations TRM'!AC238),0,'Calculations TRM'!AC238)","v":0},{"$f":"IF(ISERROR('Calculations TRM'!AV33),0,'Calculations TRM'!AV33)+IF(ISERROR('Calculations TRM'!AD238),0,'Calculations TRM'!AD238)","v":0},{"$f":"IF(ISERROR('Calculations TRM'!AW33),0,'Calculations TRM'!AW33)+IF(ISERROR('Calculations TRM'!AE238),0,'Calculations TRM'!AE238)","v":0}]
[null,null,"S16",{"$f":"IF(ISERROR('Calculations TRM'!AR34),0,'Calculations TRM'!AR34)+IF(ISERROR('Calculations TRM'!Z239),0,'Calculations TRM'!Z239)","v":0},{"$f":"IF(ISERROR('Calculations TRM'!AS34),0,'Calculations TRM'!AS34)+IF(ISERROR('Calculations TRM'!AA239),0,'Calculations TRM'!AA239)","v":0},{"$f":"IF(ISERROR('Calculations TRM'!AT34),0,'Calculations TRM'!AT34)+IF(ISERROR('Calculations TRM'!AB239),0,'Calculations TRM'!AB239)","v":0},{"$f":"IF(ISERROR('Calculations TRM'!AU34),0,'Calculations TRM'!AU34)+IF(ISERROR('Calculations TRM'!AC239),0,'Calculations TRM'!AC239)","v":0},{"$f":"IF(ISERROR('Calculations TRM'!AV34),0,'Calculations TRM'!AV34)+IF(ISERROR('Calculations TRM'!AD239),0,'Calculations TRM'!AD239)","v":0},{"$f":"IF(ISERROR('Calculations TRM'!AW34),0,'Calculations TRM'!AW34)+IF(ISERROR('Calculations TRM'!AE239),0,'Calculations TRM'!AE239)","v":0}]
[null,null,"S17",{"$f":"IF(ISERROR('Calculations TRM'!AR35),0,'Calculations TRM'!AR35)+IF(ISERROR('Calculations TRM'!Z240),0,'Calculations TRM'!Z240)","v":0},{"$f":"IF(ISERROR('Calculations TRM'!AS35),0,'Calculations TRM'!AS35)+IF(ISERROR('Calculations TRM'!AA240),0,'Calculations TRM'!AA240)","v":0},{"$f":"IF(ISERROR('Calculations TRM'!AT35),0,'Calculations TRM'!AT35)+IF(ISERROR('Calculations TRM'!AB240),0,'Calculations TRM'!AB240)","v":0},{"$f":"IF(ISERROR('Calculations TRM'!AU35),0,'Calculations TRM'!AU35)+IF(ISERROR('Calculations TRM'!AC240),0,'Calculations TRM'!AC240)","v":0},{"$f":"IF(ISERROR('Calculations TRM'!AV35),0,'Calculations TRM'!AV35)+IF(ISERROR('Calculations TRM'!AD240),0,'Calculations TRM'!AD240)","v":0},{"$f":"IF(ISERROR('Calculations TRM'!AW35),0,'Calculations TRM'!AW35)+IF(ISERROR('Calculations TRM'!AE240),0,'Calculations TRM'!AE240)","v":0}]
[null,null,"S18",{"$f":"IF(ISERROR('Calculations TRM'!AR36),0,'Calculations TRM'!AR36)+IF(ISERROR('Calculations TRM'!Z241),0,'Calculations TRM'!Z241)","v":0},{"$f":"IF(ISERROR('Calculations TRM'!AS36),0,'Calculations TRM'!AS36)+IF(ISERROR('Calculations TRM'!AA241),0,'Calculations TRM'!AA241)","v":0},{"$f":"IF(ISERROR('Calculations TRM'!AT36),0,'Calculations TRM'!AT36)+IF(ISERROR('Calculations TRM'!AB241),0,'Calculations TRM'!AB241)","v":0},{"$f":"IF(ISERROR('Calculations TRM'!AU36),0,'Calculations TRM'!AU36)+IF(ISERROR('Calculations TRM'!AC241),0,'Calculations TRM'!AC241)","v":0},{"$f":"IF(ISERROR('Calculations TRM'!AV36),0,'Calculations TRM'!AV36)+IF(ISERROR('Calculations TRM'!AD241),0,'Calculations TRM'!AD241)","v":0},{"$f":"IF(ISERROR('Calculations TRM'!AW36),0,'Calculations TRM'!AW36)+IF(ISERROR('Calculations TRM'!AE241),0,'Calculations TRM'!AE241)","v":0}]
[null,null,"S19",{"$f":"IF(ISERROR('Calculations TRM'!AR37),0,'Calculations TRM'!AR37)+IF(ISERROR('Calculations TRM'!Z242),0,'Calculations TRM'!Z242)","v":0},{"$f":"IF(ISERROR('Calculations TRM'!AS37),0,'Calculations TRM'!AS37)+IF(ISERROR('Calculations TRM'!AA242),0,'Calculations TRM'!AA242)","v":0},{"$f":"IF(ISERROR('Calculations TRM'!AT37),0,'Calculations TRM'!AT37)+IF(ISERROR('Calculations TRM'!AB242),0,'Calculations TRM'!AB242)","v":0},{"$f":"IF(ISERROR('Calculations TRM'!AU37),0,'Calculations TRM'!AU37)+IF(ISERROR('Calculations TRM'!AC242),0,'Calculations TRM'!AC242)","v":0},{"$f":"IF(ISERROR('Calculations TRM'!AV37),0,'Calculations TRM'!AV37)+IF(ISERROR('Calculations TRM'!AD242),0,'Calculations TRM'!AD242)","v":0},{"$f":"IF(ISERROR('Calculations TRM'!AW37),0,'Calculations TRM'!AW37)+IF(ISERROR('Calculations TRM'!AE242),0,'Calculations TRM'!AE242)","v":0}]
[null,null,"S20",{"$f":"IF(ISERROR('Calculations TRM'!AR38),0,'Calculations TRM'!AR38)+IF(ISERROR('Calculations TRM'!Z243),0,'Calculations TRM'!Z243)","v":0},{"$f":"IF(ISERROR('Calculations TRM'!AS38),0,'Calculations TRM'!AS38)+IF(ISERROR('Calculations TRM'!AA243),0,'Calculations TRM'!AA243)","v":0},{"$f":"IF(ISERROR('Calculations TRM'!AT38),0,'Calculations TRM'!AT38)+IF(ISERROR('Calculations TRM'!AB243),0,'Calculations TRM'!AB243)","v":0},{"$f":"IF(ISERROR('Calculations TRM'!AU38),0,'Calculations TRM'!AU38)+IF(ISERROR('Calculations TRM'!AC243),0,'Calculations TRM'!AC243)","v":0},{"$f":"IF(ISERROR('Calculations TRM'!AV38),0,'Calculations TRM'!AV38)+IF(ISERROR('Calculations TRM'!AD243),0,'Calculations TRM'!AD243)","v":0},{"$f":"IF(ISERROR('Calculations TRM'!AW38),0,'Calculations TRM'!AW38)+IF(ISERROR('Calculations TRM'!AE243),0,'Calculations TRM'!AE243)","v":0}]
[null,null,"S21",{"$f":"IF(ISERROR('Calculations TRM'!AR39),0,'Calculations TRM'!AR39)+IF(ISERROR('Calculations TRM'!Z244),0,'Calculations TRM'!Z244)","v":0},{"$f":"IF(ISERROR('Calculations TRM'!AS39),0,'Calculations TRM'!AS39)+IF(ISERROR('Calculations TRM'!AA244),0,'Calculations TRM'!AA244)","v":0},{"$f":"IF(ISERROR('Calculations TRM'!AT39),0,'Calculations TRM'!AT39)+IF(ISERROR('Calculations TRM'!AB244),0,'Calculations TRM'!AB244)","v":0},{"$f":"IF(ISERROR('Calculations TRM'!AU39),0,'Calculations TRM'!AU39)+IF(ISERROR('Calculations TRM'!AC244),0,'Calculations TRM'!AC244)","v":0},{"$f":"IF(ISERROR('Calculations TRM'!AV39),0,'Calculations TRM'!AV39)+IF(ISERROR('Calculations TRM'!AD244),0,'Calculations TRM'!AD244)","v":0},{"$f":"IF(ISERROR('Calculations TRM'!AW39),0,'Calculations TRM'!AW39)+IF(ISERROR('Calculations TRM'!AE244),0,'Calculations TRM'!AE244)","v":0}]
[null,null,"S22",{"$f":"IF(ISERROR('Calculations TRM'!AR40),0,'Calculations TRM'!AR40)+IF(ISERROR('Calculations TRM'!Z245),0,'Calculations TRM'!Z245)","v":0},{"$f":"IF(ISERROR('Calculations TRM'!AS40),0,'Calculations TRM'!AS40)+IF(ISERROR('Calculations TRM'!AA245),0,'Calculations TRM'!AA245)","v":0},{"$f":"IF(ISERROR('Calculations TRM'!AT40),0,'Calculations TRM'!AT40)+IF(ISERROR('Calculations TRM'!AB245),0,'Calculations TRM'!AB245)","v":0},{"$f":"IF(ISERROR('Calculations TRM'!AU40),0,'Calculations TRM'!AU40)+IF(ISERROR('Calculations TRM'!AC245),0,'Calculations TRM'!AC245)","v":0},{"$f":"IF(ISERROR('Calculations TRM'!AV40),0,'Calculations TRM'!AV40)+IF(ISERROR('Calculations TRM'!AD245),0,'Calculations TRM'!AD245)","v":0},{"$f":"IF(ISERROR('Calculations TRM'!AW40),0,'Calculations TRM'!AW40)+IF(ISERROR('Calculations TRM'!AE245),0,'Calculations TRM'!AE245)","v":0}]
[null,null,"S23",{"$f":"IF(ISERROR('Calculations TRM'!AR41),0,'Calculations TRM'!AR41)+IF(ISERROR('Calculations TRM'!Z246),0,'Calculations TRM'!Z246)","v":0},{"$f":"IF(ISERROR('Calculations TRM'!AS41),0,'Calculations TRM'!AS41)+IF(ISERROR('Calculations TRM'!AA246),0,'Calculations TRM'!AA246)","v":0},{"$f":"IF(ISERROR('Calculations TRM'!AT41),0,'Calculations TRM'!AT41)+IF(ISERROR('Calculations TRM'!AB246),0,'Calculations TRM'!AB246)","v":0},{"$f":"IF(ISERROR('Calculations TRM'!AU41),0,'Calculations TRM'!AU41)+IF(ISERROR('Calculations TRM'!AC246),0,'Calculations TRM'!AC246)","v":0},{"$f":"IF(ISERROR('Calculations TRM'!AV41),0,'Calculations TRM'!AV41)+IF(ISERROR('Calculations TRM'!AD246),0,'Calculations TRM'!AD246)","v":0},{"$f":"IF(ISERROR('Calculations TRM'!AW41),0,'Calculations TRM'!AW41)+IF(ISERROR('Calculations TRM'!AE246),0,'Calculations TRM'!AE246)","v":0},null,null,null,null,null,null,null,null,"","","","",{"$f":"IF(R100=\"\",\"\",T100+U100)","v":""}]
[null,null,"S24",{"$f":"IF(ISERROR('Calculations TRM'!AR42),0,'Calculations TRM'!AR42)+IF(ISERROR('Calculations TRM'!Z247),0,'Calculations TRM'!Z247)","v":0},{"$f":"IF(ISERROR('Calculations TRM'!AS42),0,'Calculations TRM'!AS42)+IF(ISERROR('Calculations TRM'!AA247),0,'Calculations TRM'!AA247)","v":0},{"$f":"IF(ISERROR('Calculations TRM'!AT42),0,'Calculations TRM'!AT42)+IF(ISERROR('Calculations TRM'!AB247),0,'Calculations TRM'!AB247)","v":0},{"$f":"IF(ISERROR('Calculations TRM'!AU42),0,'Calculations TRM'!AU42)+IF(ISERROR('Calculations TRM'!AC247),0,'Calculations TRM'!AC247)","v":0},{"$f":"IF(ISERROR('Calculations TRM'!AV42),0,'Calculations TRM'!AV42)+IF(ISERROR('Calculations TRM'!AD247),0,'Calculations TRM'!AD247)","v":0},{"$f":"IF(ISERROR('Calculations TRM'!AW42),0,'Calculations TRM'!AW42)+IF(ISERROR('Calculations TRM'!AE247),0,'Calculations TRM'!AE247)","v":0},null,null,null,null,null,null,null,null,"","","","",""]
[null,null,"S25",{"$f":"IF(ISERROR('Calculations TRM'!AR43),0,'Calculations TRM'!AR43)+IF(ISERROR('Calculations TRM'!Z248),0,'Calculations TRM'!Z248)","v":0},{"$f":"IF(ISERROR('Calculations TRM'!AS43),0,'Calculations TRM'!AS43)+IF(ISERROR('Calculations TRM'!AA248),0,'Calculations TRM'!AA248)","v":0},{"$f":"IF(ISERROR('Calculations TRM'!AT43),0,'Calculations TRM'!AT43)+IF(ISERROR('Calculations TRM'!AB248),0,'Calculations TRM'!AB248)","v":0},{"$f":"IF(ISERROR('Calculations TRM'!AU43),0,'Calculations TRM'!AU43)+IF(ISERROR('Calculations TRM'!AC248),0,'Calculations TRM'!AC248)","v":0},{"$f":"IF(ISERROR('Calculations TRM'!AV43),0,'Calculations TRM'!AV43)+IF(ISERROR('Calculations TRM'!AD248),0,'Calculations TRM'!AD248)","v":0},{"$f":"IF(ISERROR('Calculations TRM'!AW43),0,'Calculations TRM'!AW43)+IF(ISERROR('Calculations TRM'!AE248),0,'Calculations TRM'!AE248)","v":0},null,null,null,null,null,null,null,null,"","","","",""]
[null,null,"S26",{"$f":"IF(ISERROR('Calculations TRM'!AR44),0,'Calculations TRM'!AR44)+IF(ISERROR('Calculations TRM'!Z249),0,'Calculations TRM'!Z249)","v":0},{"$f":"IF(ISERROR('Calculations TRM'!AS44),0,'Calculations TRM'!AS44)+IF(ISERROR('Calculations TRM'!AA249),0,'Calculations TRM'!AA249)","v":0},{"$f":"IF(ISERROR('Calculations TRM'!AT44),0,'Calculations TRM'!AT44)+IF(ISERROR('Calculations TRM'!AB249),0,'Calculations TRM'!AB249)","v":0},{"$f":"IF(ISERROR('Calculations TRM'!AU44),0,'Calculations TRM'!AU44)+IF(ISERROR('Calculations TRM'!AC249),0,'Calculations TRM'!AC249)","v":0},{"$f":"IF(ISERROR('Calculations TRM'!AV44),0,'Calculations TRM'!AV44)+IF(ISERROR('Calculations TRM'!AD249),0,'Calculations TRM'!AD249)","v":0},{"$f":"IF(ISERROR('Calculations TRM'!AW44),0,'Calculations TRM'!AW44)+IF(ISERROR('Calculations TRM'!AE249),0,'Calculations TRM'!AE249)","v":0},null,null,null,null,null,null,null,null,"","","","",""]
[null,null,"S27",{"$f":"IF(ISERROR('Calculations TRM'!AR45),0,'Calculations TRM'!AR45)+IF(ISERROR('Calculations TRM'!Z250),0,'Calculations TRM'!Z250)","v":0},{"$f":"IF(ISERROR('Calculations TRM'!AS45),0,'Calculations TRM'!AS45)+IF(ISERROR('Calculations TRM'!AA250),0,'Calculations TRM'!AA250)","v":0},{"$f":"IF(ISERROR('Calculations TRM'!AT45),0,'Calculations TRM'!AT45)+IF(ISERROR('Calculations TRM'!AB250),0,'Calculations TRM'!AB250)","v":0},{"$f":"IF(ISERROR('Calculations TRM'!AU45),0,'Calculations TRM'!AU45)+IF(ISERROR('Calculations TRM'!AC250),0,'Calculations TRM'!AC250)","v":0},{"$f":"IF(ISERROR('Calculations TRM'!AV45),0,'Calculations TRM'!AV45)+IF(ISERROR('Calculations TRM'!AD250),0,'Calculations TRM'!AD250)","v":0},{"$f":"IF(ISERROR('Calculations TRM'!AW45),0,'Calculations TRM'!AW45)+IF(ISERROR('Calculations TRM'!AE250),0,'Calculations TRM'!AE250)","v":0},null,null,null,null,null,null,null,null,{"$f":"IF(Q104=\"\",\"\",IF(Q104>50%,50%,Q104))","v":""},{"$f":"IF(R104=\"\",\"\",R104*M104)","v":""},{"$f":"IF(R104=\"\",\"\",IF(R104>=20%,M104*20%*0.4,IF(R104>=10%,M104*R104*0.4,\"0\")))","v":""},{"$f":"IF(R104=\"\",\"\",IF(R104>=20%,M104*(R104-20%)*0.8,\"0\"))","v":""},{"$f":"IF(R104=\"\",\"\",T104+U104)","v":""}]
[null,null,"S28",{"$f":"IF(ISERROR('Calculations TRM'!AR46),0,'Calculations TRM'!AR46)+IF(ISERROR('Calculations TRM'!Z251),0,'Calculations TRM'!Z251)","v":0},{"$f":"IF(ISERROR('Calculations TRM'!AS46),0,'Calculations TRM'!AS46)+IF(ISERROR('Calculations TRM'!AA251),0,'Calculations TRM'!AA251)","v":0},{"$f":"IF(ISERROR('Calculations TRM'!AT46),0,'Calculations TRM'!AT46)+IF(ISERROR('Calculations TRM'!AB251),0,'Calculations TRM'!AB251)","v":0},{"$f":"IF(ISERROR('Calculations TRM'!AU46),0,'Calculations TRM'!AU46)+IF(ISERROR('Calculations TRM'!AC251),0,'Calculations TRM'!AC251)","v":0},{"$f":"IF(ISERROR('Calculations TRM'!AV46),0,'Calculations TRM'!AV46)+IF(ISERROR('Calculations TRM'!AD251),0,'Calculations TRM'!AD251)","v":0},{"$f":"IF(ISERROR('Calculations TRM'!AW46),0,'Calculations TRM'!AW46)+IF(ISERROR('Calculations TRM'!AE251),0,'Calculations TRM'!AE251)","v":0},null,null,null,null,null,null,null,null,"","","","",""]
[null,null,"S29",{"$f":"IF(ISERROR('Calculations TRM'!AR47),0,'Calculations TRM'!AR47)+IF(ISERROR('Calculations TRM'!Z252),0,'Calculations TRM'!Z252)","v":0},{"$f":"IF(ISERROR('Calculations TRM'!AS47),0,'Calculations TRM'!AS47)+IF(ISERROR('Calculations TRM'!AA252),0,'Calculations TRM'!AA252)","v":0},{"$f":"IF(ISERROR('Calculations TRM'!AT47),0,'Calculations TRM'!AT47)+IF(ISERROR('Calculations TRM'!AB252),0,'Calculations TRM'!AB252)","v":0},{"$f":"IF(ISERROR('Calculations TRM'!AU47),0,'Calculations TRM'!AU47)+IF(ISERROR('Calculations TRM'!AC252),0,'Calculations TRM'!AC252)","v":0},{"$f":"IF(ISERROR('Calculations TRM'!AV47),0,'Calculations TRM'!AV47)+IF(ISERROR('Calculations TRM'!AD252),0,'Calculations TRM'!AD252)","v":0},{"$f":"IF(ISERROR('Calculations TRM'!AW47),0,'Calculations TRM'!AW47)+IF(ISERROR('Calculations TRM'!AE252),0,'Calculations TRM'!AE252)","v":0},null,null,null,null,null,null,null,null,"","","","",""]
[null,null,"S30",{"$f":"IF(ISERROR('Calculations TRM'!AR48),0,'Calculations TRM'!AR48)+IF(ISERROR('Calculations TRM'!Z253),0,'Calculations TRM'!Z253)","v":0},{"$f":"IF(ISERROR('Calculations TRM'!AS48),0,'Calculations TRM'!AS48)+IF(ISERROR('Calculations TRM'!AA253),0,'Calculations TRM'!AA253)","v":0},{"$f":"IF(ISERROR('Calculations TRM'!AT48),0,'Calculations TRM'!AT48)+IF(ISERROR('Calculations TRM'!AB253),0,'Calculations TRM'!AB253)","v":0},{"$f":"IF(ISERROR('Calculations TRM'!AU48),0,'Calculations TRM'!AU48)+IF(ISERROR('Calculations TRM'!AC253),0,'Calculations TRM'!AC253)","v":0},{"$f":"IF(ISERROR('Calculations TRM'!AV48),0,'Calculations TRM'!AV48)+IF(ISERROR('Calculations TRM'!AD253),0,'Calculations TRM'!AD253)","v":0},{"$f":"IF(ISERROR('Calculations TRM'!AW48),0,'Calculations TRM'!AW48)+IF(ISERROR('Calculations TRM'!AE253),0,'Calculations TRM'!AE253)","v":0},null,null,null,null,null,null,null,null,"","","","",""]
[null,null,"S31",{"$f":"IF(ISERROR('Calculations TRM'!AR49),0,'Calculations TRM'!AR49)+IF(ISERROR('Calculations TRM'!Z254),0,'Calculations TRM'!Z254)","v":0},{"$f":"IF(ISERROR('Calculations TRM'!AS49),0,'Calculations TRM'!AS49)+IF(ISERROR('Calculations TRM'!AA254),0,'Calculations TRM'!AA254)","v":0},{"$f":"IF(ISERROR('Calculations TRM'!AT49),0,'Calculations TRM'!AT49)+IF(ISERROR('Calculations TRM'!AB254),0,'Calculations TRM'!AB254)","v":0},{"$f":"IF(ISERROR('Calculations TRM'!AU49),0,'Calculations TRM'!AU49)+IF(ISERROR('Calculations TRM'!AC254),0,'Calculations TRM'!AC254)","v":0},{"$f":"IF(ISERROR('Calculations TRM'!AV49),0,'Calculations TRM'!AV49)+IF(ISERROR('Calculations TRM'!AD254),0,'Calculations TRM'!AD254)","v":0},{"$f":"IF(ISERROR('Calculations TRM'!AW49),0,'Calculations TRM'!AW49)+IF(ISERROR('Calculations TRM'!AE254),0,'Calculations TRM'!AE254)","v":0},null,null,null,null,null,null,null,null,"","","","",""]
[null,null,"S32",{"$f":"IF(ISERROR('Calculations TRM'!AR50),0,'Calculations TRM'!AR50)+IF(ISERROR('Calculations TRM'!Z255),0,'Calculations TRM'!Z255)","v":0},{"$f":"IF(ISERROR('Calculations TRM'!AS50),0,'Calculations TRM'!AS50)+IF(ISERROR('Calculations TRM'!AA255),0,'Calculations TRM'!AA255)","v":0},{"$f":"IF(ISERROR('Calculations TRM'!AT50),0,'Calculations TRM'!AT50)+IF(ISERROR('Calculations TRM'!AB255),0,'Calculations TRM'!AB255)","v":0},{"$f":"IF(ISERROR('Calculations TRM'!AU50),0,'Calculations TRM'!AU50)+IF(ISERROR('Calculations TRM'!AC255),0,'Calculations TRM'!AC255)","v":0},{"$f":"IF(ISERROR('Calculations TRM'!AV50),0,'Calculations TRM'!AV50)+IF(ISERROR('Calculations TRM'!AD255),0,'Calculations TRM'!AD255)","v":0},{"$f":"IF(ISERROR('Calculations TRM'!AW50),0,'Calculations TRM'!AW50)+IF(ISERROR('Calculations TRM'!AE255),0,'Calculations TRM'!AE255)","v":0},null,null,null,null,null,null,null,null,"","","","",""]
[null,null,"S33",{"$f":"IF(ISERROR('Calculations TRM'!AR51),0,'Calculations TRM'!AR51)+IF(ISERROR('Calculations TRM'!Z256),0,'Calculations TRM'!Z256)","v":0},{"$f":"IF(ISERROR('Calculations TRM'!AS51),0,'Calculations TRM'!AS51)+IF(ISERROR('Calculations TRM'!AA256),0,'Calculations TRM'!AA256)","v":0},{"$f":"IF(ISERROR('Calculations TRM'!AT51),0,'Calculations TRM'!AT51)+IF(ISERROR('Calculations TRM'!AB256),0,'Calculations TRM'!AB256)","v":0},{"$f":"IF(ISERROR('Calculations TRM'!AU51),0,'Calculations TRM'!AU51)+IF(ISERROR('Calculations TRM'!AC256),0,'Calculations TRM'!AC256)","v":0},{"$f":"IF(ISERROR('Calculations TRM'!AV51),0,'Calculations TRM'!AV51)+IF(ISERROR('Calculations TRM'!AD256),0,'Calculations TRM'!AD256)","v":0},{"$f":"IF(ISERROR('Calculations TRM'!AW51),0,'Calculations TRM'!AW51)+IF(ISERROR('Calculations TRM'!AE256),0,'Calculations TRM'!AE256)","v":0},null,null,null,null,null,null,null,null,"","","","",""]
[null,null,"S34",{"$f":"IF(ISERROR('Calculations TRM'!AR52),0,'Calculations TRM'!AR52)+IF(ISERROR('Calculations TRM'!Z257),0,'Calculations TRM'!Z257)","v":0},{"$f":"IF(ISERROR('Calculations TRM'!AS52),0,'Calculations TRM'!AS52)+IF(ISERROR('Calculations TRM'!AA257),0,'Calculations TRM'!AA257)","v":0},{"$f":"IF(ISERROR('Calculations TRM'!AT52),0,'Calculations TRM'!AT52)+IF(ISERROR('Calculations TRM'!AB257),0,'Calculations TRM'!AB257)","v":0},{"$f":"IF(ISERROR('Calculations TRM'!AU52),0,'Calculations TRM'!AU52)+IF(ISERROR('Calculations TRM'!AC257),0,'Calculations TRM'!AC257)","v":0},{"$f":"IF(ISERROR('Calculations TRM'!AV52),0,'Calculations TRM'!AV52)+IF(ISERROR('Calculations TRM'!AD257),0,'Calculations TRM'!AD257)","v":0},{"$f":"IF(ISERROR('Calculations TRM'!AW52),0,'Calculations TRM'!AW52)+IF(ISERROR('Calculations TRM'!AE257),0,'Calculations TRM'!AE257)","v":0},null,null,null,null,null,null,null,null,"","","","",""]
[null,null,"S35",{"$f":"IF(ISERROR('Calculations TRM'!AR53),0,'Calculations TRM'!AR53)+IF(ISERROR('Calculations TRM'!Z258),0,'Calculations TRM'!Z258)","v":0},{"$f":"IF(ISERROR('Calculations TRM'!AS53),0,'Calculations TRM'!AS53)+IF(ISERROR('Calculations TRM'!AA258),0,'Calculations TRM'!AA258)","v":0},{"$f":"IF(ISERROR('Calculations TRM'!AT53),0,'Calculations TRM'!AT53)+IF(ISERROR('Calculations TRM'!AB258),0,'Calculations TRM'!AB258)","v":0},{"$f":"IF(ISERROR('Calculations TRM'!AU53),0,'Calculations TRM'!AU53)+IF(ISERROR('Calculations TRM'!AC258),0,'Calculations TRM'!AC258)","v":0},{"$f":"IF(ISERROR('Calculations TRM'!AV53),0,'Calculations TRM'!AV53)+IF(ISERROR('Calculations TRM'!AD258),0,'Calculations TRM'!AD258)","v":0},{"$f":"IF(ISERROR('Calculations TRM'!AW53),0,'Calculations TRM'!AW53)+IF(ISERROR('Calculations TRM'!AE258),0,'Calculations TRM'!AE258)","v":0},null,null,null,null,null,null,null,null,"","","","",""]
[null,null,"S36",{"$f":"IF(ISERROR('Calculations TRM'!AR54),0,'Calculations TRM'!AR54)+IF(ISERROR('Calculations TRM'!Z259),0,'Calculations TRM'!Z259)","v":0},{"$f":"IF(ISERROR('Calculations TRM'!AS54),0,'Calculations TRM'!AS54)+IF(ISERROR('Calculations TRM'!AA259),0,'Calculations TRM'!AA259)","v":0},{"$f":"IF(ISERROR('Calculations TRM'!AT54),0,'Calculations TRM'!AT54)+IF(ISERROR('Calculations TRM'!AB259),0,'Calculations TRM'!AB259)","v":0},{"$f":"IF(ISERROR('Calculations TRM'!AU54),0,'Calculations TRM'!AU54)+IF(ISERROR('Calculations TRM'!AC259),0,'Calculations TRM'!AC259)","v":0},{"$f":"IF(ISERROR('Calculations TRM'!AV54),0,'Calculations TRM'!AV54)+IF(ISERROR('Calculations TRM'!AD259),0,'Calculations TRM'!AD259)","v":0},{"$f":"IF(ISERROR('Calculations TRM'!AW54),0,'Calculations TRM'!AW54)+IF(ISERROR('Calculations TRM'!AE259),0,'Calculations TRM'!AE259)","v":0},null,null,null,null,null,null,null,null,"","","","",""]
[null,null,"S37",{"$f":"IF(ISERROR('Calculations TRM'!AR55),0,'Calculations TRM'!AR55)+IF(ISERROR('Calculations TRM'!Z260),0,'Calculations TRM'!Z260)","v":0},{"$f":"IF(ISERROR('Calculations TRM'!AS55),0,'Calculations TRM'!AS55)+IF(ISERROR('Calculations TRM'!AA260),0,'Calculations TRM'!AA260)","v":0},{"$f":"IF(ISERROR('Calculations TRM'!AT55),0,'Calculations TRM'!AT55)+IF(ISERROR('Calculations TRM'!AB260),0,'Calculations TRM'!AB260)","v":0},{"$f":"IF(ISERROR('Calculations TRM'!AU55),0,'Calculations TRM'!AU55)+IF(ISERROR('Calculations TRM'!AC260),0,'Calculations TRM'!AC260)","v":0},{"$f":"IF(ISERROR('Calculations TRM'!AV55),0,'Calculations TRM'!AV55)+IF(ISERROR('Calculations TRM'!AD260),0,'Calculations TRM'!AD260)","v":0},{"$f":"IF(ISERROR('Calculations TRM'!AW55),0,'Calculations TRM'!AW55)+IF(ISERROR('Calculations TRM'!AE260),0,'Calculations TRM'!AE260)","v":0},null,null,null,null,null,null,null,null,"","","","",""]
[null,null,"S38",{"$f":"IF(ISERROR('Calculations TRM'!AR56),0,'Calculations TRM'!AR56)+IF(ISERROR('Calculations TRM'!Z261),0,'Calculations TRM'!Z261)","v":0},{"$f":"IF(ISERROR('Calculations TRM'!AS56),0,'Calculations TRM'!AS56)+IF(ISERROR('Calculations TRM'!AA261),0,'Calculations TRM'!AA261)","v":0},{"$f":"IF(ISERROR('Calculations TRM'!AT56),0,'Calculations TRM'!AT56)+IF(ISERROR('Calculations TRM'!AB261),0,'Calculations TRM'!AB261)","v":0},{"$f":"IF(ISERROR('Calculations TRM'!AU56),0,'Calculations TRM'!AU56)+IF(ISERROR('Calculations TRM'!AC261),0,'Calculations TRM'!AC261)","v":0},{"$f":"IF(ISERROR('Calculations TRM'!AV56),0,'Calculations TRM'!AV56)+IF(ISERROR('Calculations TRM'!AD261),0,'Calculations TRM'!AD261)","v":0},{"$f":"IF(ISERROR('Calculations TRM'!AW56),0,'Calculations TRM'!AW56)+IF(ISERROR('Calculations TRM'!AE261),0,'Calculations TRM'!AE261)","v":0},null,null,null,null,null,null,null,null,"","","","",""]
[null,null,"S39",{"$f":"IF(ISERROR('Calculations TRM'!AR57),0,'Calculations TRM'!AR57)+IF(ISERROR('Calculations TRM'!Z262),0,'Calculations TRM'!Z262)","v":0},{"$f":"IF(ISERROR('Calculations TRM'!AS57),0,'Calculations TRM'!AS57)+IF(ISERROR('Calculations TRM'!AA262),0,'Calculations TRM'!AA262)","v":0},{"$f":"IF(ISERROR('Calculations TRM'!AT57),0,'Calculations TRM'!AT57)+IF(ISERROR('Calculations TRM'!AB262),0,'Calculations TRM'!AB262)","v":0},{"$f":"IF(ISERROR('Calculations TRM'!AU57),0,'Calculations TRM'!AU57)+IF(ISERROR('Calculations TRM'!AC262),0,'Calculations TRM'!AC262)","v":0},{"$f":"IF(ISERROR('Calculations TRM'!AV57),0,'Calculations TRM'!AV57)+IF(ISERROR('Calculations TRM'!AD262),0,'Calculations TRM'!AD262)","v":0},{"$f":"IF(ISERROR('Calculations TRM'!AW57),0,'Calculations TRM'!AW57)+IF(ISERROR('Calculations TRM'!AE262),0,'Calculations TRM'!AE262)","v":0},null,null,null,null,null,null,null,null,"","","","",""]
[null,null,"S40",{"$f":"IF(ISERROR('Calculations TRM'!AR58),0,'Calculations TRM'!AR58)+IF(ISERROR('Calculations TRM'!Z263),0,'Calculations TRM'!Z263)","v":0},{"$f":"IF(ISERROR('Calculations TRM'!AS58),0,'Calculations TRM'!AS58)+IF(ISERROR('Calculations TRM'!AA263),0,'Calculations TRM'!AA263)","v":0},{"$f":"IF(ISERROR('Calculations TRM'!AT58),0,'Calculations TRM'!AT58)+IF(ISERROR('Calculations TRM'!AB263),0,'Calculations TRM'!AB263)","v":0},{"$f":"IF(ISERROR('Calculations TRM'!AU58),0,'Calculations TRM'!AU58)+IF(ISERROR('Calculations TRM'!AC263),0,'Calculations TRM'!AC263)","v":0},{"$f":"IF(ISERROR('Calculations TRM'!AV58),0,'Calculations TRM'!AV58)+IF(ISERROR('Calculations TRM'!AD263),0,'Calculations TRM'!AD263)","v":0},{"$f":"IF(ISERROR('Calculations TRM'!AW58),0,'Calculations TRM'!AW58)+IF(ISERROR('Calculations TRM'!AE263),0,'Calculations TRM'!AE263)","v":0},null,null,null,null,null,null,null,null,"","","","",""]
[null,null,"S41",{"$f":"IF(ISERROR('Calculations TRM'!AR59),0,'Calculations TRM'!AR59)+IF(ISERROR('Calculations TRM'!Z264),0,'Calculations TRM'!Z264)","v":0},{"$f":"IF(ISERROR('Calculations TRM'!AS59),0,'Calculations TRM'!AS59)+IF(ISERROR('Calculations TRM'!AA264),0,'Calculations TRM'!AA264)","v":0},{"$f":"IF(ISERROR('Calculations TRM'!AT59),0,'Calculations TRM'!AT59)+IF(ISERROR('Calculations TRM'!AB264),0,'Calculations TRM'!AB264)","v":0},{"$f":"IF(ISERROR('Calculations TRM'!AU59),0,'Calculations TRM'!AU59)+IF(ISERROR('Calculations TRM'!AC264),0,'Calculations TRM'!AC264)","v":0},{"$f":"IF(ISERROR('Calculations TRM'!AV59),0,'Calculations TRM'!AV59)+IF(ISERROR('Calculations TRM'!AD264),0,'Calculations TRM'!AD264)","v":0},{"$f":"IF(ISERROR('Calculations TRM'!AW59),0,'Calculations TRM'!AW59)+IF(ISERROR('Calculations TRM'!AE264),0,'Calculations TRM'!AE264)","v":0},null,null,null,null,null,null,null,null,"","","","",""]
[null,null,"S42",{"$f":"IF(ISERROR('Calculations TRM'!AR60),0,'Calculations TRM'!AR60)+IF(ISERROR('Calculations TRM'!Z265),0,'Calculations TRM'!Z265)","v":0},{"$f":"IF(ISERROR('Calculations TRM'!AS60),0,'Calculations TRM'!AS60)+IF(ISERROR('Calculations TRM'!AA265),0,'Calculations TRM'!AA265)","v":0},{"$f":"IF(ISERROR('Calculations TRM'!AT60),0,'Calculations TRM'!AT60)+IF(ISERROR('Calculations TRM'!AB265),0,'Calculations TRM'!AB265)","v":0},{"$f":"IF(ISERROR('Calculations TRM'!AU60),0,'Calculations TRM'!AU60)+IF(ISERROR('Calculations TRM'!AC265),0,'Calculations TRM'!AC265)","v":0},{"$f":"IF(ISERROR('Calculations TRM'!AV60),0,'Calculations TRM'!AV60)+IF(ISERROR('Calculations TRM'!AD265),0,'Calculations TRM'!AD265)","v":0},{"$f":"IF(ISERROR('Calculations TRM'!AW60),0,'Calculations TRM'!AW60)+IF(ISERROR('Calculations TRM'!AE265),0,'Calculations TRM'!AE265)","v":0}]
[null,null,"S43",{"$f":"IF(ISERROR('Calculations TRM'!AR61),0,'Calculations TRM'!AR61)+IF(ISERROR('Calculations TRM'!Z266),0,'Calculations TRM'!Z266)","v":0},{"$f":"IF(ISERROR('Calculations TRM'!AS61),0,'Calculations TRM'!AS61)+IF(ISERROR('Calculations TRM'!AA266),0,'Calculations TRM'!AA266)","v":0},{"$f":"IF(ISERROR('Calculations TRM'!AT61),0,'Calculations TRM'!AT61)+IF(ISERROR('Calculations TRM'!AB266),0,'Calculations TRM'!AB266)","v":0},{"$f":"IF(ISERROR('Calculations TRM'!AU61),0,'Calculations TRM'!AU61)+IF(ISERROR('Calculations TRM'!AC266),0,'Calculations TRM'!AC266)","v":0},{"$f":"IF(ISERROR('Calculations TRM'!AV61),0,'Calculations TRM'!AV61)+IF(ISERROR('Calculations TRM'!AD266),0,'Calculations TRM'!AD266)","v":0},{"$f":"IF(ISERROR('Calculations TRM'!AW61),0,'Calculations TRM'!AW61)+IF(ISERROR('Calculations TRM'!AE266),0,'Calculations TRM'!AE266)","v":0}]
[null,null,"S44",{"$f":"IF(ISERROR('Calculations TRM'!AR62),0,'Calculations TRM'!AR62)+IF(ISERROR('Calculations TRM'!Z267),0,'Calculations TRM'!Z267)","v":0},{"$f":"IF(ISERROR('Calculations TRM'!AS62),0,'Calculations TRM'!AS62)+IF(ISERROR('Calculations TRM'!AA267),0,'Calculations TRM'!AA267)","v":0},{"$f":"IF(ISERROR('Calculations TRM'!AT62),0,'Calculations TRM'!AT62)+IF(ISERROR('Calculations TRM'!AB267),0,'Calculations TRM'!AB267)","v":0},{"$f":"IF(ISERROR('Calculations TRM'!AU62),0,'Calculations TRM'!AU62)+IF(ISERROR('Calculations TRM'!AC267),0,'Calculations TRM'!AC267)","v":0},{"$f":"IF(ISERROR('Calculations TRM'!AV62),0,'Calculations TRM'!AV62)+IF(ISERROR('Calculations TRM'!AD267),0,'Calculations TRM'!AD267)","v":0},{"$f":"IF(ISERROR('Calculations TRM'!AW62),0,'Calculations TRM'!AW62)+IF(ISERROR('Calculations TRM'!AE267),0,'Calculations TRM'!AE267)","v":0}]
[null,null,"S45",{"$f":"IF(ISERROR('Calculations TRM'!AR63),0,'Calculations TRM'!AR63)+IF(ISERROR('Calculations TRM'!Z268),0,'Calculations TRM'!Z268)","v":0},{"$f":"IF(ISERROR('Calculations TRM'!AS63),0,'Calculations TRM'!AS63)+IF(ISERROR('Calculations TRM'!AA268),0,'Calculations TRM'!AA268)","v":0},{"$f":"IF(ISERROR('Calculations TRM'!AT63),0,'Calculations TRM'!AT63)+IF(ISERROR('Calculations TRM'!AB268),0,'Calculations TRM'!AB268)","v":0},{"$f":"IF(ISERROR('Calculations TRM'!AU63),0,'Calculations TRM'!AU63)+IF(ISERROR('Calculations TRM'!AC268),0,'Calculations TRM'!AC268)","v":0},{"$f":"IF(ISERROR('Calculations TRM'!AV63),0,'Calculations TRM'!AV63)+IF(ISERROR('Calculations TRM'!AD268),0,'Calculations TRM'!AD268)","v":0},{"$f":"IF(ISERROR('Calculations TRM'!AW63),0,'Calculations TRM'!AW63)+IF(ISERROR('Calculations TRM'!AE268),0,'Calculations TRM'!AE268)","v":0}]
[null,null,"S46",{"$f":"IF(ISERROR('Calculations TRM'!AR64),0,'Calculations TRM'!AR64)+IF(ISERROR('Calculations TRM'!Z269),0,'Calculations TRM'!Z269)","v":0},{"$f":"IF(ISERROR('Calculations TRM'!AS64),0,'Calculations TRM'!AS64)+IF(ISERROR('Calculations TRM'!AA269),0,'Calculations TRM'!AA269)","v":0},{"$f":"IF(ISERROR('Calculations TRM'!AT64),0,'Calculations TRM'!AT64)+IF(ISERROR('Calculations TRM'!AB269),0,'Calculations TRM'!AB269)","v":0},{"$f":"IF(ISERROR('Calculations TRM'!AU64),0,'Calculations TRM'!AU64)+IF(ISERROR('Calculations TRM'!AC269),0,'Calculations TRM'!AC269)","v":0},{"$f":"IF(ISERROR('Calculations TRM'!AV64),0,'Calculations TRM'!AV64)+IF(ISERROR('Calculations TRM'!AD269),0,'Calculations TRM'!AD269)","v":0},{"$f":"IF(ISERROR('Calculations TRM'!AW64),0,'Calculations TRM'!AW64)+IF(ISERROR('Calculations TRM'!AE269),0,'Calculations TRM'!AE269)","v":0}]
[null,null,"S47",{"$f":"IF(ISERROR('Calculations TRM'!AR65),0,'Calculations TRM'!AR65)+IF(ISERROR('Calculations TRM'!Z270),0,'Calculations TRM'!Z270)","v":0},{"$f":"IF(ISERROR('Calculations TRM'!AS65),0,'Calculations TRM'!AS65)+IF(ISERROR('Calculations TRM'!AA270),0,'Calculations TRM'!AA270)","v":0},{"$f":"IF(ISERROR('Calculations TRM'!AT65),0,'Calculations TRM'!AT65)+IF(ISERROR('Calculations TRM'!AB270),0,'Calculations TRM'!AB270)","v":0},{"$f":"IF(ISERROR('Calculations TRM'!AU65),0,'Calculations TRM'!AU65)+IF(ISERROR('Calculations TRM'!AC270),0,'Calculations TRM'!AC270)","v":0},{"$f":"IF(ISERROR('Calculations TRM'!AV65),0,'Calculations TRM'!AV65)+IF(ISERROR('Calculations TRM'!AD270),0,'Calculations TRM'!AD270)","v":0},{"$f":"IF(ISERROR('Calculations TRM'!AW65),0,'Calculations TRM'!AW65)+IF(ISERROR('Calculations TRM'!AE270),0,'Calculations TRM'!AE270)","v":0}]
[null,null,"S48",{"$f":"IF(ISERROR('Calculations TRM'!AR66),0,'Calculations TRM'!AR66)+IF(ISERROR('Calculations TRM'!Z271),0,'Calculations TRM'!Z271)","v":0},{"$f":"IF(ISERROR('Calculations TRM'!AS66),0,'Calculations TRM'!AS66)+IF(ISERROR('Calculations TRM'!AA271),0,'Calculations TRM'!AA271)","v":0},{"$f":"IF(ISERROR('Calculations TRM'!AT66),0,'Calculations TRM'!AT66)+IF(ISERROR('Calculations TRM'!AB271),0,'Calculations TRM'!AB271)","v":0},{"$f":"IF(ISERROR('Calculations TRM'!AU66),0,'Calculations TRM'!AU66)+IF(ISERROR('Calculations TRM'!AC271),0,'Calculations TRM'!AC271)","v":0},{"$f":"IF(ISERROR('Calculations TRM'!AV66),0,'Calculations TRM'!AV66)+IF(ISERROR('Calculations TRM'!AD271),0,'Calculations TRM'!AD271)","v":0},{"$f":"IF(ISERROR('Calculations TRM'!AW66),0,'Calculations TRM'!AW66)+IF(ISERROR('Calculations TRM'!AE271),0,'Calculations TRM'!AE271)","v":0}]
[null,null,"S49",{"$f":"IF(ISERROR('Calculations TRM'!AR67),0,'Calculations TRM'!AR67)+IF(ISERROR('Calculations TRM'!Z272),0,'Calculations TRM'!Z272)","v":0},{"$f":"IF(ISERROR('Calculations TRM'!AS67),0,'Calculations TRM'!AS67)+IF(ISERROR('Calculations TRM'!AA272),0,'Calculations TRM'!AA272)","v":0},{"$f":"IF(ISERROR('Calculations TRM'!AT67),0,'Calculations TRM'!AT67)+IF(ISERROR('Calculations TRM'!AB272),0,'Calculations TRM'!AB272)","v":0},{"$f":"IF(ISERROR('Calculations TRM'!AU67),0,'Calculations TRM'!AU67)+IF(ISERROR('Calculations TRM'!AC272),0,'Calculations TRM'!AC272)","v":0},{"$f":"IF(ISERROR('Calculations TRM'!AV67),0,'Calculations TRM'!AV67)+IF(ISERROR('Calculations TRM'!AD272),0,'Calculations TRM'!AD272)","v":0},{"$f":"IF(ISERROR('Calculations TRM'!AW67),0,'Calculations TRM'!AW67)+IF(ISERROR('Calculations TRM'!AE272),0,'Calculations TRM'!AE272)","v":0}]
[null,null,"S50",{"$f":"IF(ISERROR('Calculations TRM'!AR68),0,'Calculations TRM'!AR68)+IF(ISERROR('Calculations TRM'!Z273),0,'Calculations TRM'!Z273)","v":0},{"$f":"IF(ISERROR('Calculations TRM'!AS68),0,'Calculations TRM'!AS68)+IF(ISERROR('Calculations TRM'!AA273),0,'Calculations TRM'!AA273)","v":0},{"$f":"IF(ISERROR('Calculations TRM'!AT68),0,'Calculations TRM'!AT68)+IF(ISERROR('Calculations TRM'!AB273),0,'Calculations TRM'!AB273)","v":0},{"$f":"IF(ISERROR('Calculations TRM'!AU68),0,'Calculations TRM'!AU68)+IF(ISERROR('Calculations TRM'!AC273),0,'Calculations TRM'!AC273)","v":0},{"$f":"IF(ISERROR('Calculations TRM'!AV68),0,'Calculations TRM'!AV68)+IF(ISERROR('Calculations TRM'!AD273),0,'Calculations TRM'!AD273)","v":0},{"$f":"IF(ISERROR('Calculations TRM'!AW68),0,'Calculations TRM'!AW68)+IF(ISERROR('Calculations TRM'!AE273),0,'Calculations TRM'!AE273)","v":0},null,null,null,null,null,null,null,null,"","","","",""]
[null,null,null,null,null,null,null,null,null,null,null,null,null,null,null,null,null,"","","","",""]

{"sheet":"Exterior Lighting Inventory","index":8,"n_rows":65,"n_cols":25,"rows_kept":65,"cut":false,"hidden":true,"merged":[[13,22,13,24],[42,2,42,8],[9,22,9,23],[10,22,10,23],[11,22,11,23],[12,22,12,23],[10,4,10,5],[11,4,11,5],[12,4,12,5],[10,2,10,3],[10,13,10,14],[11,2,11,3],[11,13,11,14],[12,2,12,3],[12,13,12,14],[13,2,13,3],[7,22,7,24],[7,2,7,5],[8,22,8,23],[8,4,8,5],[9,4,9,5],[7,16,7,17],[8,2,8,3],[8,13,8,14],[9,2,9,3],[9,13,9,14],[13,12,13,14],[13,16,13,17],[13,4,13,5],[17,2,18,2],[17,3,18,3],[17,4,18,4],[17,5,18,5],[17,20,17,21],[17,22,17,24],[17,14,17,19],[17,6,18,6],[17,7,18,7],[17,8,18,8],[17,9,17,13]]}
[]
[]
[]
[null,null,null,null,"New Construction Design-Based Lighting Worksheet"]
[null,null,null,null,"New Construction Measures - Custom Program"]
[null,null," ",null,{"$f":"\"Tool Version # \" &TEXT('Version Tracking'!$B$2,\"00000000\")","v":"Tool Version # 06232026"}]
[]
[null,null,"Required General Project Information",null,null,null,null,null,null,null,null,null,null,null,null,null,null,null,null,null,null,null,"Exterior Lighting Summary "]
[null,null,"Project Name",null,{"$f":"'Information Page'!D8:D8","v":0},null,null,null,null,null,null,null,null,null,null,null,null,null,null,null,null,null,"Project ID",null,{"$f":"'Information Page'!J8","v":0}]
[null,null,"Building Type",null,{"$f":"'Information Page'!D9:D9","v":"Use Drop Down Menu to Select "},null,null,null,null,null,null,null,null,null,null,null,null,null,null,null,null,null,"Total Incentive",null,{"$f":"IF(ISERROR(FIND(\"Exterior\",'Information Page'!F13)),0,SUM(Y21:Y40))","v":0}]
[null,null,"Project address",null,{"$f":"'Information Page'!D10:D10","v":0},null,null,null,null,null,null,null,null,null,null,null,null,null,null,null,null,null,"Total kWh Saved",null,{"$f":"IF(ISERROR(FIND(\"Exterior\",'Information Page'!F13)),0,SUM(D45:G45))","v":0}]
[null,null,"Project contact",null,{"$f":"'Information Page'!D11:D11","v":0},null,null,null,null,null,null,null,null,null,null,null,null,null,null,null,null,null,"Total kW Saved",null,{"$f":"IF(ISERROR(FIND(\"Exterior\",'Information Page'!F13)),0,I45)","v":0}]
[null,null,"Email",null,{"$f":"'Information Page'!D12","v":0},null,null,null,null,null,null,null,null,null,null,null,null,null,null,null,null,null,"Total kW (PJM) Saved",null,{"$f":"IF(ISERROR(FIND(\"Exterior\",'Information Page'!F13)),0,H45)","v":0}]
[null,null,"Phone number",null,{"$f":"'Information Page'!D13:D13","v":0}]
[]
[null,null,"Input Cells","Data input allowed in shaded cells only."]
[]
[null,null,"Line  \nItem","Location"," Select the Appropriate Zone\n\nZoning Area Where Business Located","Space Type\n","Space Dimension or Quantity\n\nPlease enter based on measurement indicated in Column H.","Unit of Measurement","Annual Hours\nof Operation","Proposed Fixture Information",null,null,null,null,"LPD Analysis",null,null,null,null,null,"Approved Reduction (50% max)",null,"Incentive calculations"]
[null,null,null,null,null,null,null,"Unit of Measurement",null,"Fixture type as shown on lighting plan","Fixture Manufacturer"," Model Number exactly as listed on DLC or ENERGY STAR","Proposed Fixture Quantity"," Watts per Proposed Fixture \n \n","Base Power Allowance   (Watts)","Base LPD Allowance (W/Unit)","Total Allowed Power (Watts)","Installed Power (Watts)","Wattage Reduced from Baseline","Percentage Reduction","Approved Percentage Reduction","Approved Wattage Reduction","Incentive for Tier1, ≥10% and <20% reduction","Incentive for Tier 2, ≥ 20% reduction","Total Incentive"]
[null,null,"EX","Front Car lot","High activity commercial zone-metropolitan area","Outdoor Sales- Open Sales Areas",40000,"Square Feet",4380,"Type A","ABC Manufacturer","ABC-123-xx-xx-xxx",60,180,{"$f":"IFERROR(INDEX('Exterior LPD'!$Z$5:$AC$5,1,MATCH($E20,'Exterior LPD'!$Z$4:$AC$4,0)),\"\")","v":900},{"$f":"IFERROR((INDEX('Exterior LPD'!$Z$5:$AC$29,MATCH($F20,'Exterior LPD'!$Y$5:$Y$29,0),MATCH($E20,'Exterior LPD'!$Z$4:$AC$4,0))),\"-\")","v":0.5},{"$f":"(P20*G20)+O20","v":20900},{"$f":"M20*N20","v":10800},{"$f":"Q20-R20","v":10100},{"$f":"S20/Q20","v":0.48325358851674644},{"$f":"IF(T20=\"\",\"\",IF(T20>50%,50%,T20))","v":0.48325358851674644},{"$f":"IF(U20=\"\",\"\",U20*Q20)","v":10100},{"$f":"IF(U20=\"\",\"\",IF(U20>=20%,Q20*20%*0.4,IF(U20>=10%,Q20*U20*0.4,\"0\")))","v":1672},{"$f":"IF(U20=\"\",\"\",IF(U20>=20%,Q20*(U20-20%)*0.8,\"0\"))","v":4736},{"$f":"IF(U20=\"\",\"\",W20+X20)","v":6408}]
[null,null,"E1",null,null,null,null,{"$f":"IFERROR(INDEX('Exterior LPD'!$AE$6:$AE$30,MATCH(F21,ExtSpaceType,0)),\"-\")","v":"-"},null,null,{"$f":"IF(ISERROR(VLOOKUP(J21,'Information Page'!$C$24:$F$123,3,FALSE)),\"-\",VLOOKUP(J21,'Information Page'!$C$24:$F$123,3,FALSE))","v":"-"},{"$f":"IF(ISERROR(VLOOKUP(J21,'Information Page'!$C$24:$F$123,3,FALSE)),\"-\",VLOOKUP(J21,'Information Page'!$C$24:$F$123,3,FALSE))","v":"-"},null,{"$f":"IF(ISERROR(VLOOKUP(J21,'Information Page'!$C$24:$F$123,4,FALSE)),\"-\",VLOOKUP(J21,'Information Page'!$C$24:$F$123,4,FALSE))","v":"-"},{"$f":"IFERROR(INDEX('Exterior LPD'!$Z$5:$AC$5,1,MATCH($E21,'Exterior LPD'!$Z$4:$AC$4,0))/COUNTIF($N$21:$N$40,\">\"&0),\"\")","v":""},{"$f":"IFERROR((INDEX('Exterior LPD'!$Z$5:$AC$29,MATCH($F21,'Exterior LPD'!$Y$5:$Y$29,0),MATCH($E21,'Exterior LPD'!$Z$4:$AC$4,0))),\"-\")","v":"-"},{"$f":"IF(O21=\"\",\"-\",(P21*G21)+O21)","v":"-"},{"$f":"IF(M21=\"\",\"-\",M21*N21)","v":"-"},{"$f":"IF(Q21=\"-\",\"-\",Q21-R21)","v":"-"},{"$f":"IF(Q21=\"-\",\"-\",S21/Q21)","v":"-"},{"$f":"IF(T21=\"-\",\"-\",IF(T21>50%,50%,T21))","v":"-"},{"$f":"IF(OR(T21=\"-\",T21<0.1),\"0\",T21*Q21)","v":"0"},{"$f":"IF(U21=\"-\",\"-\",IF(U21>=20%,Q21*20%*0.4,IF(U21>=10%,Q21*U21*0.4,\"0\")))","v":"-"},{"$f":"IF(U21=\"-\",\"-\",IF(U21>=20%,Q21*(U21-20%)*0.8,\"0\"))","v":"-"},{"$f":"IF(U21=\"-\",0,W21+X21)","v":0}]
[null,null,"E2",null,null,null,null,{"$f":"IFERROR(INDEX('Exterior LPD'!$AE$6:$AE$30,MATCH(F22,ExtSpaceType,0)),\"-\")","v":"-"},null,null,{"$f":"IF(ISERROR(VLOOKUP(J22,'Information Page'!$C$24:$F$123,3,FALSE)),\"-\",VLOOKUP(J22,'Information Page'!$C$24:$F$123,3,FALSE))","v":"-"},{"$f":"IF(ISERROR(VLOOKUP(J22,'Information Page'!$C$24:$F$123,3,FALSE)),\"-\",VLOOKUP(J22,'Information Page'!$C$24:$F$123,3,FALSE))","v":"-"},null,{"$f":"IF(ISERROR(VLOOKUP(J22,'Information Page'!$C$24:$F$123,4,FALSE)),\"-\",VLOOKUP(J22,'Information Page'!$C$24:$F$123,4,FALSE))","v":"-"},{"$f":"IFERROR(INDEX('Exterior LPD'!$Z$5:$AC$5,1,MATCH($E22,'Exterior LPD'!$Z$4:$AC$4,0))/COUNTIF($N$21:$N$40,\">\"&0),\"\")","v":""},{"$f":"IFERROR((INDEX('Exterior LPD'!$Z$5:$AC$29,MATCH($F22,'Exterior LPD'!$Y$5:$Y$29,0),MATCH($E22,'Exterior LPD'!$Z$4:$AC$4,0))),\"-\")","v":"-"},{"$f":"IF(O22=\"\",\"-\",(P22*G22)+O22)","v":"-"},{"$f":"IF(M22=\"\",\"-\",M22*N22)","v":"-"},{"$f":"IF(Q22=\"-\",\"-\",Q22-R22)","v":"-"},{"$f":"IF(Q22=\"-\",\"-\",S22/Q22)","v":"-"},{"$f":"IF(T22=\"-\",\"-\",IF(T22>50%,50%,T22))","v":"-"},{"$f":"IF(OR(T22=\"-\",T22<0.1),\"0\",T22*Q22)","v":"0"},{"$f":"IF(U22=\"-\",\"-\",IF(U22>=20%,Q22*20%*0.4,IF(U22>=10%,Q22*U22*0.4,\"0\")))","v":"-"},{"$f":"IF(U22=\"-\",\"-\",IF(U22>=20%,Q22*(U22-20%)*0.8,\"0\"))","v":"-"},{"$f":"IF(U22=\"-\",0,W22+X22)","v":0}]
[null,null,"E3",null,null,null,null,{"$f":"IFERROR(INDEX('Exterior LPD'!$AE$6:$AE$30,MATCH(F23,ExtSpaceType,0)),\"-\")","v":"-"},null,null,{"$f":"IF(ISERROR(VLOOKUP(J23,'Information Page'!$C$24:$F$123,3,FALSE)),\"-\",VLOOKUP(J23,'Information Page'!$C$24:$F$123,3,FALSE))","v":"-"},{"$f":"IF(ISERROR(VLOOKUP(J23,'Information Page'!$C$24:$F$123,3,FALSE)),\"-\",VLOOKUP(J23,'Information Page'!$C$24:$F$123,3,FALSE))","v":"-"},null,{"$f":"IF(ISERROR(VLOOKUP(J23,'Information Page'!$C$24:$F$123,4,FALSE)),\"-\",VLOOKUP(J23,'Information Page'!$C$24:$F$123,4,FALSE))","v":"-"},{"$f":"IFERROR(INDEX('Exterior LPD'!$Z$5:$AC$5,1,MATCH($E23,'Exterior LPD'!$Z$4:$AC$4,0))/COUNTIF($N$21:$N$40,\">\"&0),\"\")","v":""},{"$f":"IFERROR((INDEX('Exterior LPD'!$Z$5:$AC$29,MATCH($F23,'Exterior LPD'!$Y$5:$Y$29,0),MATCH($E23,'Exterior LPD'!$Z$4:$AC$4,0))),\"-\")","v":"-"},"-","-","-","-","-","0","-","-",0]
[null,null,"E4",null,null,null,null,{"$f":"IFERROR(INDEX('Exterior LPD'!$AE$6:$AE$30,MATCH(F24,ExtSpaceType,0)),\"-\")","v":"-"},null,null,{"$f":"IF(ISERROR(VLOOKUP(J24,'Information Page'!$C$24:$F$123,3,FALSE)),\"-\",VLOOKUP(J24,'Information Page'!$C$24:$F$123,3,FALSE))","v":"-"},{"$f":"IF(ISERROR(VLOOKUP(J24,'Information Page'!$C$24:$F$123,3,FALSE)),\"-\",VLOOKUP(J24,'Information Page'!$C$24:$F$123,3,FALSE))","v":"-"},null,{"$f":"IF(ISERROR(VLOOKUP(J24,'Information Page'!$C$24:$F$123,4,FALSE)),\"-\",VLOOKUP(J24,'Information Page'!$C$24:$F$123,4,FALSE))","v":"-"},{"$f":"IFERROR(INDEX('Exterior LPD'!$Z$5:$AC$5,1,MATCH($E24,'Exterior LPD'!$Z$4:$AC$4,0))/COUNTIF($N$21:$N$40,\">\"&0),\"\")","v":""},{"$f":"IFERROR((INDEX('Exterior LPD'!$Z$5:$AC$29,MATCH($F24,'Exterior LPD'!$Y$5:$Y$29,0),MATCH($E24,'Exterior LPD'!$Z$4:$AC$4,0))),\"-\")","v":"-"},"-","-","-","-","-","0","-","-",0]
[null,null,"E5",null,null,null,null,{"$f":"IFERROR(INDEX('Exterior LPD'!$AE$6:$AE$30,MATCH(F25,ExtSpaceType,0)),\"-\")","v":"-"},null,null,{"$f":"IF(ISERROR(VLOOKUP(J25,'Information Page'!$C$24:$F$123,3,FALSE)),\"-\",VLOOKUP(J25,'Information Page'!$C$24:$F$123,3,FALSE))","v":"-"},{"$f":"IF(ISERROR(VLOOKUP(J25,'Information Page'!$C$24:$F$123,3,FALSE)),\"-\",VLOOKUP(J25,'Information Page'!$C$24:$F$123,3,FALSE))","v":"-"},null,{"$f":"IF(ISERROR(VLOOKUP(J25,'Information Page'!$C$24:$F$123,4,FALSE)),\"-\",VLOOKUP(J25,'Information Page'!$C$24:$F$123,4,FALSE))","v":"-"},{"$f":"IFERROR(INDEX('Exterior LPD'!$Z$5:$AC$5,1,MATCH($E25,'Exterior LPD'!$Z$4:$AC$4,0))/COUNTIF($N$21:$N$40,\">\"&0),\"\")","v":""},{"$f":"IFERROR((INDEX('Exterior LPD'!$Z$5:$AC$29,MATCH($F25,'Exterior LPD'!$Y$5:$Y$29,0),MATCH($E25,'Exterior LPD'!$Z$4:$AC$4,0))),\"-\")","v":"-"},"-","-","-","-","-","0","-","-",0]
[null,null,"E6",null,null,null,null,{"$f":"IFERROR(INDEX('Exterior LPD'!$AE$6:$AE$30,MATCH(F26,ExtSpaceType,0)),\"-\")","v":"-"},null,null,{"$f":"IF(ISERROR(VLOOKUP(J26,'Information Page'!$C$24:$F$123,3,FALSE)),\"-\",VLOOKUP(J26,'Information Page'!$C$24:$F$123,3,FALSE))","v":"-"},{"$f":"IF(ISERROR(VLOOKUP(J26,'Information Page'!$C$24:$F$123,3,FALSE)),\"-\",VLOOKUP(J26,'Information Page'!$C$24:$F$123,3,FALSE))","v":"-"},null,{"$f":"IF(ISERROR(VLOOKUP(J26,'Information Page'!$C$24:$F$123,4,FALSE)),\"-\",VLOOKUP(J26,'Information Page'!$C$24:$F$123,4,FALSE))","v":"-"},{"$f":"IFERROR(INDEX('Exterior LPD'!$Z$5:$AC$5,1,MATCH($E26,'Exterior LPD'!$Z$4:$AC$4,0))/COUNTIF($N$21:$N$40,\">\"&0),\"\")","v":""},{"$f":"IFERROR((INDEX('Exterior LPD'!$Z$5:$AC$29,MATCH($F26,'Exterior LPD'!$Y$5:$Y$29,0),MATCH($E26,'Exterior LPD'!$Z$4:$AC$4,0))),\"-\")","v":"-"},"-","-","-","-","-","0","-","-",0]
[null,null,"E7",null,null,null,null,{"$f":"IFERROR(INDEX('Exterior LPD'!$AE$6:$AE$30,MATCH(F27,ExtSpaceType,0)),\"-\")","v":"-"},null,null,{"$f":"IF(ISERROR(VLOOKUP(J27,'Information Page'!$C$24:$F$123,3,FALSE)),\"-\",VLOOKUP(J27,'Information Page'!$C$24:$F$123,3,FALSE))","v":"-"},{"$f":"IF(ISERROR(VLOOKUP(J27,'Information Page'!$C$24:$F$123,3,FALSE)),\"-\",VLOOKUP(J27,'Information Page'!$C$24:$F$123,3,FALSE))","v":"-"},null,{"$f":"IF(ISERROR(VLOOKUP(J27,'Information Page'!$C$24:$F$123,4,FALSE)),\"-\",VLOOKUP(J27,'Information Page'!$C$24:$F$123,4,FALSE))","v":"-"},{"$f":"IFERROR(INDEX('Exterior LPD'!$Z$5:$AC$5,1,MATCH($E27,'Exterior LPD'!$Z$4:$AC$4,0))/COUNTIF($N$21:$N$40,\">\"&0),\"\")","v":""},{"$f":"IFERROR((INDEX('Exterior LPD'!$Z$5:$AC$29,MATCH($F27,'Exterior LPD'!$Y$5:$Y$29,0),MATCH($E27,'Exterior LPD'!$Z$4:$AC$4,0))),\"-\")","v":"-"},"-","-","-","-","-","0","-","-",0]
[null,null,"E8",null,null,null,null,{"$f":"IFERROR(INDEX('Exterior LPD'!$AE$6:$AE$30,MATCH(F28,ExtSpaceType,0)),\"-\")","v":"-"},null,null,{"$f":"IF(ISERROR(VLOOKUP(J28,'Information Page'!$C$24:$F$123,3,FALSE)),\"-\",VLOOKUP(J28,'Information Page'!$C$24:$F$123,3,FALSE))","v":"-"},{"$f":"IF(ISERROR(VLOOKUP(J28,'Information Page'!$C$24:$F$123,3,FALSE)),\"-\",VLOOKUP(J28,'Information Page'!$C$24:$F$123,3,FALSE))","v":"-"},null,{"$f":"IF(ISERROR(VLOOKUP(J28,'Information Page'!$C$24:$F$123,4,FALSE)),\"-\",VLOOKUP(J28,'Information Page'!$C$24:$F$123,4,FALSE))","v":"-"},{"$f":"IFERROR(INDEX('Exterior LPD'!$Z$5:$AC$5,1,MATCH($E28,'Exterior LPD'!$Z$4:$AC$4,0))/COUNTIF($N$21:$N$40,\">\"&0),\"\")","v":""},{"$f":"IFERROR((INDEX('Exterior LPD'!$Z$5:$AC$29,MATCH($F28,'Exterior LPD'!$Y$5:$Y$29,0),MATCH($E28,'Exterior LPD'!$Z$4:$AC$4,0))),\"-\")","v":"-"},"-","-","-","-","-","0","-","-",0]
[null,null,"E9",null,null,null,null,{"$f":"IFERROR(INDEX('Exterior LPD'!$AE$6:$AE$30,MATCH(F29,ExtSpaceType,0)),\"-\")","v":"-"},null,null,{"$f":"IF(ISERROR(VLOOKUP(J29,'Information Page'!$C$24:$F$123,3,FALSE)),\"-\",VLOOKUP(J29,'Information Page'!$C$24:$F$123,3,FALSE))","v":"-"},{"$f":"IF(ISERROR(VLOOKUP(J29,'Information Page'!$C$24:$F$123,3,FALSE)),\"-\",VLOOKUP(J29,'Information Page'!$C$24:$F$123,3,FALSE))","v":"-"},null,{"$f":"IF(ISERROR(VLOOKUP(J29,'Information Page'!$C$24:$F$123,4,FALSE)),\"-\",VLOOKUP(J29,'Information Page'!$C$24:$F$123,4,FALSE))","v":"-"},{"$f":"IFERROR(INDEX('Exterior LPD'!$Z$5:$AC$5,1,MATCH($E29,'Exterior LPD'!$Z$4:$AC$4,0))/COUNTIF($N$21:$N$40,\">\"&0),\"\")","v":""},{"$f":"IFERROR((INDEX('Exterior LPD'!$Z$5:$AC$29,MATCH($F29,'Exterior LPD'!$Y$5:$Y$29,0),MATCH($E29,'Exterior LPD'!$Z$4:$AC$4,0))),\"-\")","v":"-"},"-","-","-","-","-","0","-","-",0]
[null,null,"E10",null,null,null,null,{"$f":"IFERROR(INDEX('Exterior LPD'!$AE$6:$AE$30,MATCH(F30,ExtSpaceType,0)),\"-\")","v":"-"},null,null,{"$f":"IF(ISERROR(VLOOKUP(J30,'Information Page'!$C$24:$F$123,3,FALSE)),\"-\",VLOOKUP(J30,'Information Page'!$C$24:$F$123,3,FALSE))","v":"-"},{"$f":"IF(ISERROR(VLOOKUP(J30,'Information Page'!$C$24:$F$123,3,FALSE)),\"-\",VLOOKUP(J30,'Information Page'!$C$24:$F$123,3,FALSE))","v":"-"},null,{"$f":"IF(ISERROR(VLOOKUP(J30,'Information Page'!$C$24:$F$123,4,FALSE)),\"-\",VLOOKUP(J30,'Information Page'!$C$24:$F$123,4,FALSE))","v":"-"},{"$f":"IFERROR(INDEX('Exterior LPD'!$Z$5:$AC$5,1,MATCH($E30,'Exterior LPD'!$Z$4:$AC$4,0))/COUNTIF($N$21:$N$40,\">\"&0),\"\")","v":""},{"$f":"IFERROR((INDEX('Exterior LPD'!$Z$5:$AC$29,MATCH($F30,'Exterior LPD'!$Y$5:$Y$29,0),MATCH($E30,'Exterior LPD'!$Z$4:$AC$4,0))),\"-\")","v":"-"},"-","-","-","-","-","0","-","-",0]
[null,null,"E11",null,null,null,null,{"$f":"IFERROR(INDEX('Exterior LPD'!$AE$6:$AE$30,MATCH(F31,ExtSpaceType,0)),\"-\")","v":"-"},null,null,{"$f":"IF(ISERROR(VLOOKUP(J31,'Information Page'!$C$24:$F$123,3,FALSE)),\"-\",VLOOKUP(J31,'Information Page'!$C$24:$F$123,3,FALSE))","v":"-"},{"$f":"IF(ISERROR(VLOOKUP(J31,'Information Page'!$C$24:$F$123,3,FALSE)),\"-\",VLOOKUP(J31,'Information Page'!$C$24:$F$123,3,FALSE))","v":"-"},null,{"$f":"IF(ISERROR(VLOOKUP(J31,'Information Page'!$C$24:$F$123,4,FALSE)),\"-\",VLOOKUP(J31,'Information Page'!$C$24:$F$123,4,FALSE))","v":"-"},{"$f":"IFERROR(INDEX('Exterior LPD'!$Z$5:$AC$5,1,MATCH($E31,'Exterior LPD'!$Z$4:$AC$4,0))/COUNTIF($N$21:$N$40,\">\"&0),\"\")","v":""},{"$f":"IFERROR((INDEX('Exterior LPD'!$Z$5:$AC$29,MATCH($F31,'Exterior LPD'!$Y$5:$Y$29,0),MATCH($E31,'Exterior LPD'!$Z$4:$AC$4,0))),\"-\")","v":"-"},"-","-","-","-","-","0","-","-",0]
[null,null,"E12",null,null,null,null,{"$f":"IFERROR(INDEX('Exterior LPD'!$AE$6:$AE$30,MATCH(F32,ExtSpaceType,0)),\"-\")","v":"-"},null,null,{"$f":"IF(ISERROR(VLOOKUP(J32,'Information Page'!$C$24:$F$123,3,FALSE)),\"-\",VLOOKUP(J32,'Information Page'!$C$24:$F$123,3,FALSE))","v":"-"},{"$f":"IF(ISERROR(VLOOKUP(J32,'Information Page'!$C$24:$F$123,3,FALSE)),\"-\",VLOOKUP(J32,'Information Page'!$C$24:$F$123,3,FALSE))","v":"-"},null,{"$f":"IF(ISERROR(VLOOKUP(J32,'Information Page'!$C$24:$F$123,4,FALSE)),\"-\",VLOOKUP(J32,'Information Page'!$C$24:$F$123,4,FALSE))","v":"-"},{"$f":"IFERROR(INDEX('Exterior LPD'!$Z$5:$AC$5,1,MATCH($E32,'Exterior LPD'!$Z$4:$AC$4,0))/COUNTIF($N$21:$N$40,\">\"&0),\"\")","v":""},{"$f":"IFERROR((INDEX('Exterior LPD'!$Z$5:$AC$29,MATCH($F32,'Exterior LPD'!$Y$5:$Y$29,0),MATCH($E32,'Exterior LPD'!$Z$4:$AC$4,0))),\"-\")","v":"-"},"-","-","-","-","-","0","-","-",0]
[null,null,"E13",null,null,null,null,{"$f":"IFERROR(INDEX('Exterior LPD'!$AE$6:$AE$30,MATCH(F33,ExtSpaceType,0)),\"-\")","v":"-"},null,null,{"$f":"IF(ISERROR(VLOOKUP(J33,'Information Page'!$C$24:$F$123,3,FALSE)),\"-\",VLOOKUP(J33,'Information Page'!$C$24:$F$123,3,FALSE))","v":"-"},{"$f":"IF(ISERROR(VLOOKUP(J33,'Information Page'!$C$24:$F$123,3,FALSE)),\"-\",VLOOKUP(J33,'Information Page'!$C$24:$F$123,3,FALSE))","v":"-"},null,{"$f":"IF(ISERROR(VLOOKUP(J33,'Information Page'!$C$24:$F$123,4,FALSE)),\"-\",VLOOKUP(J33,'Information Page'!$C$24:$F$123,4,FALSE))","v":"-"},{"$f":"IFERROR(INDEX('Exterior LPD'!$Z$5:$AC$5,1,MATCH($E33,'Exterior LPD'!$Z$4:$AC$4,0))/COUNTIF($N$21:$N$40,\">\"&0),\"\")","v":""},{"$f":"IFERROR((INDEX('Exterior LPD'!$Z$5:$AC$29,MATCH($F33,'Exterior LPD'!$Y$5:$Y$29,0),MATCH($E33,'Exterior LPD'!$Z$4:$AC$4,0))),\"-\")","v":"-"},"-","-","-","-","-","0","-","-",0]
[null,null,"E14",null,null,null,null,{"$f":"IFERROR(INDEX('Exterior LPD'!$AE$6:$AE$30,MATCH(F34,ExtSpaceType,0)),\"-\")","v":"-"},null,null,{"$f":"IF(ISERROR(VLOOKUP(J34,'Information Page'!$C$24:$F$123,3,FALSE)),\"-\",VLOOKUP(J34,'Information Page'!$C$24:$F$123,3,FALSE))","v":"-"},{"$f":"IF(ISERROR(VLOOKUP(J34,'Information Page'!$C$24:$F$123,3,FALSE)),\"-\",VLOOKUP(J34,'Information Page'!$C$24:$F$123,3,FALSE))","v":"-"},null,{"$f":"IF(ISERROR(VLOOKUP(J34,'Information Page'!$C$24:$F$123,4,FALSE)),\"-\",VLOOKUP(J34,'Information Page'!$C$24:$F$123,4,FALSE))","v":"-"},{"$f":"IFERROR(INDEX('Exterior LPD'!$Z$5:$AC$5,1,MATCH($E34,'Exterior LPD'!$Z$4:$AC$4,0))/COUNTIF($N$21:$N$40,\">\"&0),\"\")","v":""},{"$f":"IFERROR((INDEX('Exterior LPD'!$Z$5:$AC$29,MATCH($F34,'Exterior LPD'!$Y$5:$Y$29,0),MATCH($E34,'Exterior LPD'!$Z$4:$AC$4,0))),\"-\")","v":"-"},"-","-","-","-","-","0","-","-",0]
[null,null,"E15",null,null,null,null,{"$f":"IFERROR(INDEX('Exterior LPD'!$AE$6:$AE$30,MATCH(F35,ExtSpaceType,0)),\"-\")","v":"-"},null,null,{"$f":"IF(ISERROR(VLOOKUP(J35,'Information Page'!$C$24:$F$123,3,FALSE)),\"-\",VLOOKUP(J35,'Information Page'!$C$24:$F$123,3,FALSE))","v":"-"},{"$f":"IF(ISERROR(VLOOKUP(J35,'Information Page'!$C$24:$F$123,3,FALSE)),\"-\",VLOOKUP(J35,'Information Page'!$C$24:$F$123,3,FALSE))","v":"-"},null,{"$f":"IF(ISERROR(VLOOKUP(J35,'Information Page'!$C$24:$F$123,4,FALSE)),\"-\",VLOOKUP(J35,'Information Page'!$C$24:$F$123,4,FALSE))","v":"-"},{"$f":"IFERROR(INDEX('Exterior LPD'!$Z$5:$AC$5,1,MATCH($E35,'Exterior LPD'!$Z$4:$AC$4,0))/COUNTIF($N$21:$N$40,\">\"&0),\"\")","v":""},{"$f":"IFERROR((INDEX('Exterior LPD'!$Z$5:$AC$29,MATCH($F35,'Exterior LPD'!$Y$5:$Y$29,0),MATCH($E35,'Exterior LPD'!$Z$4:$AC$4,0))),\"-\")","v":"-"},"-","-","-","-","-","0","-","-",0]
[null,null,"E16",null,null,null,null,{"$f":"IFERROR(INDEX('Exterior LPD'!$AE$6:$AE$30,MATCH(F36,ExtSpaceType,0)),\"-\")","v":"-"},null,null,{"$f":"IF(ISERROR(VLOOKUP(J36,'Information Page'!$C$24:$F$123,3,FALSE)),\"-\",VLOOKUP(J36,'Information Page'!$C$24:$F$123,3,FALSE))","v":"-"},{"$f":"IF(ISERROR(VLOOKUP(J36,'Information Page'!$C$24:$F$123,3,FALSE)),\"-\",VLOOKUP(J36,'Information Page'!$C$24:$F$123,3,FALSE))","v":"-"},null,{"$f":"IF(ISERROR(VLOOKUP(J36,'Information Page'!$C$24:$F$123,4,FALSE)),\"-\",VLOOKUP(J36,'Information Page'!$C$24:$F$123,4,FALSE))","v":"-"},{"$f":"IFERROR(INDEX('Exterior LPD'!$Z$5:$AC$5,1,MATCH($E36,'Exterior LPD'!$Z$4:$AC$4,0))/COUNTIF($N$21:$N$40,\">\"&0),\"\")","v":""},{"$f":"IFERROR((INDEX('Exterior LPD'!$Z$5:$AC$29,MATCH($F36,'Exterior LPD'!$Y$5:$Y$29,0),MATCH($E36,'Exterior LPD'!$Z$4:$AC$4,0))),\"-\")","v":"-"},"-","-","-","-","-","0","-","-",0]
[null,null,"E17",null,null,null,null,{"$f":"IFERROR(INDEX('Exterior LPD'!$AE$6:$AE$30,MATCH(F37,ExtSpaceType,0)),\"-\")","v":"-"},null,null,{"$f":"IF(ISERROR(VLOOKUP(J37,'Information Page'!$C$24:$F$123,3,FALSE)),\"-\",VLOOKUP(J37,'Information Page'!$C$24:$F$123,3,FALSE))","v":"-"},{"$f":"IF(ISERROR(VLOOKUP(J37,'Information Page'!$C$24:$F$123,3,FALSE)),\"-\",VLOOKUP(J37,'Information Page'!$C$24:$F$123,3,FALSE))","v":"-"},null,{"$f":"IF(ISERROR(VLOOKUP(J37,'Information Page'!$C$24:$F$123,4,FALSE)),\"-\",VLOOKUP(J37,'Information Page'!$C$24:$F$123,4,FALSE))","v":"-"},{"$f":"IFERROR(INDEX('Exterior LPD'!$Z$5:$AC$5,1,MATCH($E37,'Exterior LPD'!$Z$4:$AC$4,0))/COUNTIF($N$21:$N$40,\">\"&0),\"\")","v":""},{"$f":"IFERROR((INDEX('Exterior LPD'!$Z$5:$AC$29,MATCH($F37,'Exterior LPD'!$Y$5:$Y$29,0),MATCH($E37,'Exterior LPD'!$Z$4:$AC$4,0))),\"-\")","v":"-"},"-","-","-","-","-","0","-","-",0]
[null,null,"E18",null,null,null,null,{"$f":"IFERROR(INDEX('Exterior LPD'!$AE$6:$AE$30,MATCH(F38,ExtSpaceType,0)),\"-\")","v":"-"},null,null,{"$f":"IF(ISERROR(VLOOKUP(J38,'Information Page'!$C$24:$F$123,3,FALSE)),\"-\",VLOOKUP(J38,'Information Page'!$C$24:$F$123,3,FALSE))","v":"-"},{"$f":"IF(ISERROR(VLOOKUP(J38,'Information Page'!$C$24:$F$123,3,FALSE)),\"-\",VLOOKUP(J38,'Information Page'!$C$24:$F$123,3,FALSE))","v":"-"},null,{"$f":"IF(ISERROR(VLOOKUP(J38,'Information Page'!$C$24:$F$123,4,FALSE)),\"-\",VLOOKUP(J38,'Information Page'!$C$24:$F$123,4,FALSE))","v":"-"},{"$f":"IFERROR(INDEX('Exterior LPD'!$Z$5:$AC$5,1,MATCH($E38,'Exterior LPD'!$Z$4:$AC$4,0))/COUNTIF($N$21:$N$40,\">\"&0),\"\")","v":""},{"$f":"IFERROR((INDEX('Exterior LPD'!$Z$5:$AC$29,MATCH($F38,'Exterior LPD'!$Y$5:$Y$29,0),MATCH($E38,'Exterior LPD'!$Z$4:$AC$4,0))),\"-\")","v":"-"},"-","-","-","-","-","0","-","-",0]
[null,null,"E19",null,null,null,null,{"$f":"IFERROR(INDEX('Exterior LPD'!$AE$6:$AE$30,MATCH(F39,ExtSpaceType,0)),\"-\")","v":"-"},null,null,{"$f":"IF(ISERROR(VLOOKUP(J39,'Information Page'!$C$24:$F$123,3,FALSE)),\"-\",VLOOKUP(J39,'Information Page'!$C$24:$F$123,3,FALSE))","v":"-"},{"$f":"IF(ISERROR(VLOOKUP(J39,'Information Page'!$C$24:$F$123,3,FALSE)),\"-\",VLOOKUP(J39,'Information Page'!$C$24:$F$123,3,FALSE))","v":"-"},null,{"$f":"IF(ISERROR(VLOOKUP(J39,'Information Page'!$C$24:$F$123,4,FALSE)),\"-\",VLOOKUP(J39,'Information Page'!$C$24:$F$123,4,FALSE))","v":"-"},{"$f":"IFERROR(INDEX('Exterior LPD'!$Z$5:$AC$5,1,MATCH($E39,'Exterior LPD'!$Z$4:$AC$4,0))/COUNTIF($N$21:$N$40,\">\"&0),\"\")","v":""},{"$f":"IFERROR((INDEX('Exterior LPD'!$Z$5:$AC$29,MATCH($F39,'Exterior LPD'!$Y$5:$Y$29,0),MATCH($E39,'Exterior LPD'!$Z$4:$AC$4,0))),\"-\")","v":"-"},"-","-","-","-","-","0","-","-",0]
[null,null,"E20",null,null,null,null,{"$f":"IFERROR(INDEX('Exterior LPD'!$AE$6:$AE$30,MATCH(F40,ExtSpaceType,0)),\"-\")","v":"-"},null,null,{"$f":"IF(ISERROR(VLOOKUP(J40,'Information Page'!$C$24:$F$123,3,FALSE)),\"-\",VLOOKUP(J40,'Information Page'!$C$24:$F$123,3,FALSE))","v":"-"},{"$f":"IF(ISERROR(VLOOKUP(J40,'Information Page'!$C$24:$F$123,3,FALSE)),\"-\",VLOOKUP(J40,'Information Page'!$C$24:$F$123,3,FALSE))","v":"-"},null,{"$f":"IF(ISERROR(VLOOKUP(J40,'Information Page'!$C$24:$F$123,4,FALSE)),\"-\",VLOOKUP(J40,'Information Page'!$C$24:$F$123,4,FALSE))","v":"-"},{"$f":"IFERROR(INDEX('Exterior LPD'!$Z$5:$AC$5,1,MATCH($E40,'Exterior LPD'!$Z$4:$AC$4,0))/COUNTIF($N$21:$N$40,\">\"&0),\"\")","v":""},{"$f":"IFERROR((INDEX('Exterior LPD'!$Z$5:$AC$29,MATCH($F40,'Exterior LPD'!$Y$5:$Y$29,0),MATCH($E40,'Exterior LPD'!$Z$4:$AC$4,0))),\"-\")","v":"-"},"-","-","-","-","-","0","-","-",0]
[]
[]
[null,null,"Estimated Program Savings "]
[null,null,"Entry"," Summer Peak / kWh","Summer Off-Peak / kWh","Winter Peak / kWh","Winter Off-peak / kWh","Summer PJM Peak (kW)","Summer Coincident Peak (kW)"]
[null,null,"Total",{"$f":"SUM(D46:D65)","v":0},{"$f":"SUM(E46:E65)","v":0},{"$f":"SUM(F46:F65)","v":0},{"$f":"SUM(G46:G65)","v":0},{"$f":"SUM(H46:H65)","v":0},{"$f":"SUM(LED_Speak)","v":0}]
[null,null,"L1",{"$f":"'Calculations TRM'!AR72","v":0},{"$f":"'Calculations TRM'!AS72","v":0},{"$f":"'Calculations TRM'!AT72","v":0},{"$f":"'Calculations TRM'!AU72","v":0},{"$f":"'Calculations TRM'!AV72","v":0},{"$f":"'Calculations TRM'!AW72","v":0}]
[null,null,"L2",{"$f":"'Calculations TRM'!AR73","v":0},{"$f":"'Calculations TRM'!AS73","v":0},{"$f":"'Calculations TRM'!AT73","v":0},{"$f":"'Calculations TRM'!AU73","v":0},{"$f":"'Calculations TRM'!AV73","v":0},{"$f":"'Calculations TRM'!AW73","v":0}]
[null,null,"L3",{"$f":"'Calculations TRM'!AR74","v":0},{"$f":"'Calculations TRM'!AS74","v":0},{"$f":"'Calculations TRM'!AT74","v":0},{"$f":"'Calculations TRM'!AU74","v":0},{"$f":"'Calculations TRM'!AV74","v":0},{"$f":"'Calculations TRM'!AW74","v":0}]
[null,null,"L4",{"$f":"'Calculations TRM'!AR75","v":0},{"$f":"'Calculations TRM'!AS75","v":0},{"$f":"'Calculations TRM'!AT75","v":0},{"$f":"'Calculations TRM'!AU75","v":0},{"$f":"'Calculations TRM'!AV75","v":0},{"$f":"'Calculations TRM'!AW75","v":0}]
[null,null,"L5",{"$f":"'Calculations TRM'!AR76","v":0},{"$f":"'Calculations TRM'!AS76","v":0},{"$f":"'Calculations TRM'!AT76","v":0},{"$f":"'Calculations TRM'!AU76","v":0},{"$f":"'Calculations TRM'!AV76","v":0},{"$f":"'Calculations TRM'!AW76","v":0}]
[null,null,"L6",{"$f":"'Calculations TRM'!AR77","v":0},{"$f":"'Calculations TRM'!AS77","v":0},{"$f":"'Calculations TRM'!AT77","v":0},{"$f":"'Calculations TRM'!AU77","v":0},{"$f":"'Calculations TRM'!AV77","v":0},{"$f":"'Calculations TRM'!AW77","v":0}]
[null,null,"L7",{"$f":"'Calculations TRM'!AR78","v":0},{"$f":"'Calculations TRM'!AS78","v":0},{"$f":"'Calculations TRM'!AT78","v":0},{"$f":"'Calculations TRM'!AU78","v":0},{"$f":"'Calculations TRM'!AV78","v":0},{"$f":"'Calculations TRM'!AW78","v":0}]
[null,null,"L8",{"$f":"'Calculations TRM'!AR79","v":0},{"$f":"'Calculations TRM'!AS79","v":0},{"$f":"'Calculations TRM'!AT79","v":0},{"$f":"'Calculations TRM'!AU79","v":0},{"$f":"'Calculations TRM'!AV79","v":0},{"$f":"'Calculations TRM'!AW79","v":0}]
[null,null,"L9",{"$f":"'Calculations TRM'!AR80","v":0},{"$f":"'Calculations TRM'!AS80","v":0},{"$f":"'Calculations TRM'!AT80","v":0},{"$f":"'Calculations TRM'!AU80","v":0},{"$f":"'Calculations TRM'!AV80","v":0},{"$f":"'Calculations TRM'!AW80","v":0}]
[null,null,"L10",{"$f":"'Calculations TRM'!AR81","v":0},{"$f":"'Calculations TRM'!AS81","v":0},{"$f":"'Calculations TRM'!AT81","v":0},{"$f":"'Calculations TRM'!AU81","v":0},{"$f":"'Calculations TRM'!AV81","v":0},{"$f":"'Calculations TRM'!AW81","v":0}]
[null,null,"L11",{"$f":"'Calculations TRM'!AR82","v":0},{"$f":"'Calculations TRM'!AS82","v":0},{"$f":"'Calculations TRM'!AT82","v":0},{"$f":"'Calculations TRM'!AU82","v":0},{"$f":"'Calculations TRM'!AV82","v":0},{"$f":"'Calculations TRM'!AW82","v":0}]
[null,null,"L12",{"$f":"'Calculations TRM'!AR83","v":0},{"$f":"'Calculations TRM'!AS83","v":0},{"$f":"'Calculations TRM'!AT83","v":0},{"$f":"'Calculations TRM'!AU83","v":0},{"$f":"'Calculations TRM'!AV83","v":0},{"$f":"'Calculations TRM'!AW83","v":0}]
[null,null,"L13",{"$f":"'Calculations TRM'!AR84","v":0},{"$f":"'Calculations TRM'!AS84","v":0},{"$f":"'Calculations TRM'!AT84","v":0},{"$f":"'Calculations TRM'!AU84","v":0},{"$f":"'Calculations TRM'!AV84","v":0},{"$f":"'Calculations TRM'!AW84","v":0}]
[null,null,"L14",{"$f":"'Calculations TRM'!AR85","v":0},{"$f":"'Calculations TRM'!AS85","v":0},{"$f":"'Calculations TRM'!AT85","v":0},{"$f":"'Calculations TRM'!AU85","v":0},{"$f":"'Calculations TRM'!AV85","v":0},{"$f":"'Calculations TRM'!AW85","v":0}]
[null,null,"L15",{"$f":"'Calculations TRM'!AR86","v":0},{"$f":"'Calculations TRM'!AS86","v":0},{"$f":"'Calculations TRM'!AT86","v":0},{"$f":"'Calculations TRM'!AU86","v":0},{"$f":"'Calculations TRM'!AV86","v":0},{"$f":"'Calculations TRM'!AW86","v":0}]
[null,null,"L16",{"$f":"'Calculations TRM'!AR87","v":0},{"$f":"'Calculations TRM'!AS87","v":0},{"$f":"'Calculations TRM'!AT87","v":0},{"$f":"'Calculations TRM'!AU87","v":0},{"$f":"'Calculations TRM'!AV87","v":0},{"$f":"'Calculations TRM'!AW87","v":0}]
[null,null,"L17",{"$f":"'Calculations TRM'!AR88","v":0},{"$f":"'Calculations TRM'!AS88","v":0},{"$f":"'Calculations TRM'!AT88","v":0},{"$f":"'Calculations TRM'!AU88","v":0},{"$f":"'Calculations TRM'!AV88","v":0},{"$f":"'Calculations TRM'!AW88","v":0}]
[null,null,"L18",{"$f":"'Calculations TRM'!AR89","v":0},{"$f":"'Calculations TRM'!AS89","v":0},{"$f":"'Calculations TRM'!AT89","v":0},{"$f":"'Calculations TRM'!AU89","v":0},{"$f":"'Calculations TRM'!AV89","v":0},{"$f":"'Calculations TRM'!AW89","v":0}]
[null,null,"L19",{"$f":"'Calculations TRM'!AR90","v":0},{"$f":"'Calculations TRM'!AS90","v":0},{"$f":"'Calculations TRM'!AT90","v":0},{"$f":"'Calculations TRM'!AU90","v":0},{"$f":"'Calculations TRM'!AV90","v":0},{"$f":"'Calculations TRM'!AW90","v":0}]
[null,null,"L20",{"$f":"'Calculations TRM'!AR91","v":0},{"$f":"'Calculations TRM'!AS91","v":0},{"$f":"'Calculations TRM'!AT91","v":0},{"$f":"'Calculations TRM'!AU91","v":0},{"$f":"'Calculations TRM'!AV91","v":0},{"$f":"'Calculations TRM'!AW91","v":0}]

{"sheet":"Lookup","index":9,"n_rows":114,"n_cols":16,"rows_kept":114,"cut":false,"hidden":true,"merged":[[1,4,1,15],[113,2,113,3]]}
[null,1,2,3,4,5,6,7,8,9,10,11,12,13,14,15]
[null,null,"OLD (Not Used)","OLD (Not Used)","Control Scenario Number"]
[null,"SPACE TYPE","Base LPD Watts/Sq. Ft.\n(Atrium values are per ft. of height)","Room Cavity Ratio (RCR) Threshold\n(Corridor values are for corridor width in ft.)",1,2,3,4,5,6,7,8,9,10,11,12]
[null,"Atrium-Each Additional Floor (above 40 ft height)",0.02,0,0,0.1,0,0,0,0,0.1,0.2,0.1,0.1,0.2,0.1]
[null,"Atrium-First Three Floors (up to 40 ft height)",0.03,0,0,0.1,0,0,0,0,0.1,0.2,0.1,0.1,0.2,0.1]
[null,"Audience /Seating Area - Auditorium",0.76,6,0,0,0,0,0,0,0,0,0,0,0,0]
[null,"Audience /Seating Area - Convention Center",0.82,4,0,0,0,0,0,0,0,0,0,0,0,0]
[null,"Audience /Seating Area - Gymnasium/Fitness Center",0.43,6,0,0,0,0,0,0,0,0,0,0,0,0]
[null,"Audience /Seating Area - Motion Picture Theater",1.1399999999999999,4,0,0,0,0,0,0,0,0,0,0,0,0]
[null,"Audience /Seating Area - Penitentiary",0.43,4,0,0,0,0,0,0,0,0,0,0,0,0]
[null,"Audience /Seating Area - Performing Arts Theater",2.4300000000000002,8,0,0,0,0,0,0,0,0,0,0,0,0]
[null,"Audience /Seating Area - Religious Buildings",1.53,4,0,0,0,0,0,0,0,0,0,0,0,0]
[null,"Audience /Seating Area - Sports Arena",0.43,4,0,0,0,0,0,0,0,0,0,0,0,0]
[null,"Audience /Seating Area -Transportation",0.54,4,0,0,0,0,0,0,0,0,0,0,0,0]
[null,"Automotive - Service/Repair",0.67,4,0,0,0,0,0,0,0,0,0,0,0,0]
[null,"Bank/Office - Banking Activity Area",1.38,6,0,0,0,0,0,0,0,0,0,0,0,0]
[null,"Classroom / Lecture Hall / Training room",1.24,4,0.1,0.1,0.05,0,0,0,0.1,0.2,0.1,0.1,0.2,0.1]
[null,"Conference / Meeting Room / Multipurpose",1.23,6,0.1,0.1,0.05,0,0,0,0.1,0.2,0.1,0.1,0.2,0.1]
[null,"Convention Center - Audience Seating",0.82,4,0,0,0,0,0,0,0,0,0,0,0,0]
[null,"Convention Center - Exhibit Space",1.45,4,0,0,0,0,0,0,0,0,0,0,0,0]
[null,"Corridor / Transition",0.66,8,0,0.1,0,0,0,0,0.1,0.2,0.1,0.1,0.2,0.1]
[null,"Corridor / Transition - Hospital",0.89,8,0,0.1,0,0,0,0,0.1,0.2,0.1,0.1,0.2,0.1]
[null,"Corridor / Transition - Manufacturing Facility",0.41,8,0,0.1,0,0,0,0,0.1,0.2,0.1,0.1,0.2,0.1]
[null,"Courthouse/Police Station/Penitentiary - Classroom",1.34,4,0.1,0.1,0.05,0,0,0,0.1,0.2,0.1,0.1,0.2,0.1]
[null,"Courthouse/Police Station/Penitentiary - Dining",1.07,6,0,0,0,0,0,0,0,0,0,0,0,0]
[null,"Courthouse/Police Station/Penitentiary-Audience Seating",0.43,4,0,0,0,0,0,0,0,0,0,0,0,0]
[null,"Courthouse/Police Station/Penitentiary-Courtroom",1.72,6,0,0,0,0,0,0,0,0,0,0,0,0]
[null,"Courthouse/Police Station/Penitentiary-Judges Chambers",1.17,8,0,0,0,0,0,0,0,0,0,0,0,0]
[null,"Courtroom/Police Station/Penitentiary-Confinement Cells",1.1000000000000001,6,0,0,0,0,0,0,0,0,0,0,0,0]
[null,"Dining Area",0.65,4,0,0.1,0,0,0,0,0.1,0.2,0.1,0.1,0.2,0.1]
[null,"Dining Area - Bar/Lounge/Leisure Dining",1.31,4,0,0.1,0,0,0,0,0.1,0.2,0.1,0.1,0.2,0.1]
[null,"Dining Area - Courthouse/Police Station/Penitentiary",1.07,6,0,0.1,0,0,0,0,0.1,0.2,0.1,0.1,0.2,0.1]
[null,"Dining Area - Family Dining",0.89,4,0,0.1,0,0,0,0,0.1,0.2,0.1,0.1,0.2,0.1]
[null,"Dining Area - Hotel",0.82,4,0,0.1,0,0,0,0,0.1,0.2,0.1,0.1,0.2,0.1]
[null,"Dining Area - Motel/Highway Lodging",0.88,4,0,0.1,0,0,0,0,0.1,0.2,0.1,0.1,0.2,0.1]
[null,"Dormitory - Living Quarters",0.38,8,0,0,0,0,0,0,0,0,0,0,0,0]
[null,"Dressing / Fitting Room for Performing Arts Theater",0.4,6,0,0,0,0,0,0,0,0,0,0,0,0]
[null,"Dressing / Fitting Room for Retail",0.87,8,0,0,0,0,0,0,0,0,0,0,0,0]
[null,"Electrical / Mechanical Area",0.95,6,0,0,0,0,0,0,0,0,0,0,0,0]
[null,"Exhibition Space - Convention Center",1.45,4,0,0,0,0,0,0,0,0,0,0,0,0]
[null,"Fire Stations - Engine Room",0.56000000000000005,4,0,0,0,0,0,0,0,0,0,0,0,0]
[null,"Fire Stations - Sleeping Quarters",0.25,6,0,0,0,0,0,0,0,0,0,0,0,0]
[null,"Food Preparation ",0.99,6,0,0,0,0,0,0,0,0,0,0,0,0]
[null,"Gymnasium/Fitness Center - Audience Seating",0.43,6,0,0.1,0,0,0,0,0.1,0.2,0.1,0.1,0.2,0.1]
[null,"Gymnasium/Fitness Center - Fitness Area",0.72,4,0,0.1,0,0,0,0,0.1,0.2,0.1,0.1,0.2,0.1]
[null,"Gymnasium/Fitness Center - Playing Area",1.2,4,0,0.1,0,0,0,0,0.1,0.2,0.1,0.1,0.2,0.1]
[null,"Highway Lodging / Motel - Guest Rooms",0.75,6,0,0,0,0,0,0,0,0,0,0,0,0]
[null,"Highway Lodging Motel - Dining",0.88,4,0,0,0,0,0,0,0,0,0,0,0,0]
[null,"Hospital - Emergency",2.2599999999999998,6,0,0,0,0,0,0,0,0,0,0,0,0]
[null,"Hospital - Exam/Treatment",1.66,8,0,0,0,0,0,0,0,0,0,0,0,0]
[null,"Hospital - Laundry Washing ",0.6,4,0,0,0,0,0,0,0,0,0,0,0,0]
[null,"Hospital - Lounge/Recreation",1.07,6,0,0,0,0,0,0,0,0,0,0,0,0]
[null,"Hospital - Medical Supply",1.27,6,0,0,0,0,0,0,0,0,0,0,0,0]
[null,"Hospital - Nursery",0.88,6,0,0,0,0,0,0,0,0,0,0,0,0]
[null,"Hospital - Nurses Stations",0.87,6,0,0,0,0,0,0,0,0,0,0,0,0]
[null,"Hospital - Operating Room",1.89,6,0,0,0,0,0,0,0,0,0,0,0,0]
[null,"Hospital - Patient Room",0.62,6,0,0,0,0,0,0,0,0,0,0,0,0]
[null,"Hospital - Pharmacy",1.1399999999999999,6,0,0,0,0,0,0,0,0,0,0,0,0]
[null,"Hospital - Physical Therapy",0.91,6,0,0,0,0,0,0,0,0,0,0,0,0]
[null,"Hospital - Radiology",1.32,6,0,0,0,0,0,0,0,0,0,0,0,0]
[null,"Hospital - Recovery Room",1.1499999999999999,6,0,0,0,0,0,0,0,0,0,0,0,0]
[null,"Hospital Corridor / Transition",0.89,8,0,0,0,0,0,0,0,0,0,0,0,0]
[null,"Hotel - Dining",0.82,4,0,0,0,0,0,0,0,0,0,0,0,0]
[null,"Hotel - Guest Rooms",1.1100000000000001,6,0,0,0,0,0,0,0,0,0,0,0,0]
[null,"Hotel - Lobby",1.06,4,0,0,0,0,0,0,0,0,0,0,0,0]
[null,"Laboratory - for Classrooms",1.28,6,0.1,0.1,0.05,0,0,0,0.1,0.2,0.1,0.1,0.2,0.1]
[null,"Laboratory - for Medical/Industrial Research",1.81,6,0,0,0,0,0,0,0,0,0,0,0,0]
[null,"Library - Card File & Cataloguing",0.72,4,0,0,0,0,0,0,0,0,0,0,0,0]
[null,"Library - Reading Area",0.93,4,0,0,0,0,0,0,0,0,0,0,0,0]
[null,"Library - Stacks",1.71,4,0,0,0,0,0,0,0,0,0,0,0,0]
[null,"Lobby ",0.9,4,0,0.1,0,0,0,0,0.1,0.2,0.1,0.1,0.2,0.1]
[null,"Lobby - for Elevator",0.64,6,0,0.1,0,0,0,0,0.1,0.2,0.1,0.1,0.2,0.1]
[null,"Lobby - Hotel",1.06,4,0,0.1,0,0,0,0,0.1,0.2,0.1,0.1,0.2,0.1]
[null,"Lobby - Motion Picture Theater",0.52,4,0,0.1,0,0,0,0,0.1,0.2,0.1,0.1,0.2,0.1]
[null,"Lobby - Performing Arts Theater",2,6,0,0.1,0,0,0,0,0.1,0.2,0.1,0.1,0.2,0.1]
[null,"Locker Room",0.75,6,0,0.1,0,0,0,0,0.1,0.2,0.1,0.1,0.2,0.1]
[null,"Lounge / Recreation",0.73,4,0,0,0,0,0,0,0,0,0,0,0,0]
[null,"Lounge / Recreation - Hospital",1.07,6,0,0,0,0,0,0,0,0,0,0,0,0]
[null,"Mall Concourse",1.1000000000000001,4,0,0.1,0,0,0,0,0.1,0.2,0.1,0.1,0.2,0.1]
[null,"Mall Sales Area (also see Retail Sales Area)",1.68,6,0,0,0,0,0,0,0,0,0,0,0,0]
[null,"Manufacturing - Corridor / Transition",0.41,8,0,0,0,0,0,0,0,0,0,0,0,0]
[null,"Manufacturing - Detailed Manufacturing",1.29,4,0,0,0,0,0,0,0,0,0,0,0,0]
[null,"Manufacturing - Equipment Room",0.95,6,0,0,0,0,0,0,0,0,0,0,0,0]
[null,"Manufacturing Extra High Bay (>50 FT Flr to Clg Hgt)",1.05,4,0,0,0,0,0,0,0,0,0,0,0,0]
[null,"Manufacturing High Bay (>25 FT Floor to Ceiling Hgt)",1.23,4,0,0,0,0,0,0,0,0,0,0,0,0]
[null,"Manufacturing Lowbay (<25 FT Floor to Ceiling Hgt)",1.19,4,0,0,0,0,0,0,0,0,0,0,0,0]
[null,"Museum - General Exhibition",1.05,6,0,0,0,0,0,0,0,0,0,0,0,0]
[null,"Museum - Restoration",1.02,6,0,0,0,0,0,0,0,0,0,0,0,0]
[null,"Office - Enclosed",1.1100000000000001,8,0.05,0.05,0.05,0,0,0,0.1,0.2,0.1,0.1,0.2,0.1]
[null,"Office - Open Plan",0.98,4,0.05,0.05,0.05,0.25,0.3,0,0.1,0.2,0.1,0.1,0.2,0.1]
[null,"Parking Garage - Garage Area",0.19,4,0,0.1,0,0,0,0,0.1,0.2,0.1,0.1,0.2,0.1]
[null,"Post Office - Sorting Area",0.94,4,0,0,0,0,0,0,0,0,0,0,0,0]
[null,"Religious Buildings - Audience Seating",1.53,4,0,0,0,0,0,0,0,0,0,0,0,0]
[null,"Religious Buildings - Fellowship Hall",0.64,4,0,0,0,0,0,0,0,0,0,0,0,0]
[null,"Religious Buildings - Worship Pulpit, Choir",1.53,4,0,0,0,0,0,0,0,0,0,0,0,0]
[null,"Restrooms",0.98,8,0,0,0,0,0,0,0,0,0,0,0,0]
[null,"Retail - Dressing / Fitting Room",0.87,8,0,0,0,0,0,0,0,0,0,0,0,0]
[null,"Retail - Mall Concourse",1.1000000000000001,4,0,0,0,0,0,0,0,0,0,0,0,0]
[null,"Retail - Sales Area",1.68,6,0.1,0.1,0,0,0,0.1,0.1,0.2,0.1,0.1,0.2,0.1]
[null,"Sports Arena-Court Sports Arena-Competition Minor Seating",1.2,4,0,0,0,0,0,0,0,0,0,0,0,0]
[null,"Sports Arena-Court Sports Arena-Competition<5,000 Seats",1.92,4,0,0,0,0,0,0,0,0,0,0,0,0]
[null,"Sports Arena-Court Sports Arena-Competition≥5,000 Seats",3.01,4,0,0,0,0,0,0,0,0,0,0,0,0]
[null,"Sports Arena-Court Sports Arena-Recreational",0.72,4,0,0,0,0,0,0,0,0,0,0,0,0]
[null,"Sports Arena-Ring Sports Arena",2.68,4,0,0,0,0,0,0,0,0,0,0,0,0]
[null,"Stairway",0.69,10,0,0.1,0,0,0,0,0.1,0.2,0.1,0.1,0.2,0.1]
[null,"Storage",0.63,6,0,0,0,0,0,0,0,0,0,0,0,0]
[null,"Transportation - Air/ Train/ Bus  Baggage Area",0.76,4,0,0,0,0,0,0,0,0,0,0,0,0]
[null,"Transportation - Airport Concourse",0.36,4,0,0,0,0,0,0,0,0,0,0,0,0]
[null,"Transportation - Audience Seating",0.54,4,0,0,0,0,0,0,0,0,0,0,0,0]
[null,"Transportation - Terminal Ticket Counter",1.08,4,0,0,0,0,0,0,0,0,0,0,0,0]
[null,"Warehouse Storage - Fine Material",0.95,6,0,0,0,0,0,0,0,0,0,0,0,0]
[null,"Warehouse Storage - Medium/ Bulky Material",0.57999999999999996,4,0,0,0,0,0,0,0,0,0,0,0,0]
[null,"Workshop",1.59,6,0,0,0,0,0,0,0,0,0,0,0,0]
[null,null,"Recreated in 'Space-by-Space LPD' and referenced there for calculations"]

{"sheet":"Validation Logic","index":10,"n_rows":153,"n_cols":15,"rows_kept":153,"cut":false,"hidden":true,"merged":[[130,3,130,5]]}
[]
[null,"Validation Ranges for Inputs"]
[null,"Field","Incentive Levels","Minimum Percentages Reduced","Controls Measures","Building Types",null,"Building Type ","HOURS ","CFPJM ","CFSSP ","CF outdoors","WHF-D-PJM","WHF-D-SSP","WHF-E**"]
[null,"Type","List","List","List","List",null,"College ",3416,0.56000000000000005,0.65,3.6999999999999998E-2,1.33,1.34,1.05]
[null,"Values","Tier 1",0.1,81,"Office",null,"Schools ",2456,0.42,0.5,3.6999999999999998E-2,1.44,1.44,1.07]
[null,null,"Tier 2",0.2,82,"Retail",null,"Grocery/Supermarket ",6019,0.9,1,3.6999999999999998E-2,1.33,1.34,1.05]
[null,null,null,null,83,"School",null,"Health ",4007,0.65,0.76,3.6999999999999998E-2,1.33,1.34,1.05]
[null,null,null,null,85,"Universities",null,"Hospital ",4007,0.65,0.76,3.6999999999999998E-2,1.33,1.34,1.05]
[null,null,null,null,86,"Church",null,"Lodging – Common Area ",7884,0.9,1,3.6999999999999998E-2,1.33,1.34,1.05]
[null,null,null,null,87,"Grocery",null,"Lodging – Guest Rooms ",914,0.09,0.11,3.6999999999999998E-2,1.33,1.34,1.05]
[null,null,null,null,88,"Restaurant",null,"Manufacturing ",4781,0.67,0.78,3.6999999999999998E-2,1.23,1.22,0.99]
[null,null,null,null,null,"Lodging",null,"Office ",3642,0.63,0.74,3.6999999999999998E-2,1.32,1.35,1]
[null,null,null,null,null,"Industrial",null,"Other/Misc. ",4268,0.62,0.73,3.6999999999999998E-2,1.33,1.34,1.05]
[null,null,null,null,null,"Warehouse",null,"Restaurant ",4089,0.73,0.86,3.6999999999999998E-2,1.33,1.34,1.05]
[null,null,null,null,null,"Health Facilities",null,"Retail ",4103,0.72,0.84,3.6999999999999998E-2,1.26,1.27,0.99]
[null,null,null,null,null,"Multifamily",null,"Warehouse ",4009,0.62,0.72,3.6999999999999998E-2,1.23,1.22,0.99]
[null,null,null,null,null,"Other"]
[]
[]
[null,null,null,null,null,null,null,"Inputs","TRM"]
[null,null,null,null,null,null,null,"Automotive Facility","Other/Misc. "]
[null,null,null,null,null,null,null,"Convention Center","Other/Misc. "]
[null,null,null,null,null,null,null,"Court House","Other/Misc. ",null,null,null,"Inputs","TRM"]
[null,null,null,null,null,null,null,"Dining: Bar Lounge/Leisure","Restaurant ",null,null,null,"Atrium-Each Additional Floor","Lodging – Common Area "]
[null,null,null,null,null,null,null,"Dining: Cafeteria/Fast Food","Restaurant ",null,null,null,"Atrium-First Three Floors","Lodging – Common Area "]
[null,null,null,null,null,null,null,"Dining: Family","Restaurant ",null,null,null,"Audience /Seating Area ","Other/Misc. "]
[null,null,null,null,null,null,null,"Dormitory","Lodging – Guest Rooms ",null,null,null,"Audience /Seating Area - Convention Center","Other/Misc. "]
[null,null,null,null,null,null,null,"Exercise Center","Other/Misc. ",null,null,null,"Audience /Seating Area - Exercise Center","Other/Misc. "]
[null,null,"Choose_BuildingOrSpace",null,"Secondary_Space",null,null,"Fire Station","Other/Misc. ",null,null,null,"Audience /Seating Area - Gymnasium","Other/Misc. "]
[null,null,"Select Interior Entry Type",null,"Use Drop Down Menu to Select",null,null,"Gymnasium","Other/Misc. ",null,null,null,"Audience /Seating Area - Penitentiary","Other/Misc. "]
[null,null,"Building Area Method",null,"None",null,null,"Healthcare-Clinic","Health ",null,null,null,"Audience /Seating Area - Performing Arts Theater","Other/Misc. "]
[null,null,"Space-by-Space Method",null,"Exterior",null,null,"Hospital","Hospital ",null,null,null,"Audience /Seating Area - Motion Picture Theater","Other/Misc. "]
[null,null,null,null,"Secondary Interior",null,null,"Hotel ","Lodging – Guest Rooms ",null,null,null,"Audience /Seating Area - Religious Buildings","Other/Misc. "]
[null,null,null,null,"Exterior and Secondary Interior",null,null,"Library","Other/Misc. ",null,null,null,"Audience /Seating Area - Sports Arena","Other/Misc. "]
[null,null,null,null,null,null,null,"Manufacturing Facility","Manufacturing ",null,null,null,"Audience /Seating Area -Transportation","Other/Misc. "]
[null,null,null,null,null,null,null,"Motel","Lodging – Guest Rooms ",null,null,null,"Automotive - Service/Repair","Other/Misc. "]
[null,null,null,null,null,null,null,"Motion Picture Theater","Other/Misc. ",null,null,null,"Banking/Office - Banking Activity Area","Office "]
[null,null,null,null,null,null,null,"Multi-Family","Lodging – Guest Rooms ",null,null,null,"Classroom / Lecture Hall / Training room","Schools "]
[null,null,null,null,null,null,null,"Museum","Other/Misc. ",null,null,null,"Conference / Meeting Room / Multipurpose","Office "]
[null,null,null,null,null,null,null,"Office","Office ",null,null,null,"Convention Center - Exhibit Space","Other/Misc. "]
[null,null,null,null,null,null,null,"Parking Garage","Other/Misc. ",null,null,null,"Corridor / Transition","Lodging – Common Area "]
[null,null,null,null,null,null,null,"Penitentiary","Other/Misc. ",null,null,null,"Corridor / Transition - Hospital","Lodging – Common Area "]
[null,null,null,null,null,null,null,"Performing Arts Theater","Other/Misc. ",null,null,null,"Corridor / Transition - Manufacturing Facility","Lodging – Common Area "]
[null,null,null,null,null,null,null,"Police Station","Other/Misc. ",null,null,null,"Courthouse - Judges Chambers","ting"]
[null,null,null,null,null,null,null,"Post Office","Other/Misc. ",null,null,null,"Courtroom","Other/Misc. "]
[null,null,null,null,null,null,null,"Religious Building","Other/Misc. ",null,null,null,"Dining Area","Restaurant "]
[null,null,null,null,null,null,null,"Retail","Retail ",null,null,null,"Dining Area - Bar/Lounge/Leisure Dining","Restaurant "]
[null,null,null,null,null,null,null,"School/University","College ",null,null,null,"Dining Area - Family Dining","Restaurant "]
[null,null,null,null,null,null,null,"Sports Arena","Other/Misc. ",null,null,null,"Dining Area - Hotel","Restaurant "]
[null,null,null,null,null,null,null,"Town Hall","Office ",null,null,null,"Dining Area - Motel","Restaurant "]
[null,null,null,null,null,null,null,"Transportation","Other/Misc. ",null,null,null,"Dining Area - Penitentiary","Restaurant "]
[null,null,null,null,null,null,null,"Warehouse","Warehouse ",null,null,null,"Dormitory-Living Quarters","Lodging – Guest Rooms "]
[null,null,null,null,null,null,null,"Workshop","Other/Misc. ",null,null,null,"Dressing / Locker / Fitting Room","Other/Misc. "]
[null,null,null,null,null,null,null,null,null,null,null,null,"Electrical / Mechanical Area","Other/Misc. "]
[null,null,null,null,null,null,null,null,null,null,null,null,"Exercise Area","Other/Misc. "]
[null,null,null,null,null,null,null,null,null,null,null,null,"Exhibition Space","Other/Misc. "]
[null,null,null,null,null,null,null,null,null,null,null,null,"Fire Stations-Engine Room","Other/Misc. "]
[null,null,null,null,null,null,null,null,null,null,null,null,"Fire Stations-Sleeping Quarters","Other/Misc. "]
[null,null,null,null,null,null,null,null,null,null,null,null,"Food Preparation ","Restaurant "]
[null,null,null,null,null,null,null,null,null,null,null,null,"Gymnasium Playing Area","Other/Misc. "]
[null,null,null,null,null,null,null,null,null,null,null,null,"Hospital Corridor","Hospital "]
[null,null,null,null,null,null,null,null,null,null,null,null,"Hospital Pharmacy","Hospital "]
[null,null,null,null,null,null,null,null,null,null,null,null,"Hospital-Emergency","Hospital "]
[null,null,null,null,null,null,null,null,null,null,null,null,"Hospital-Exam/Treatment","Hospital "]
[null,null,null,null,null,null,null,null,null,null,null,null,"Hospital-Laundry Washing ","Hospital "]
[null,null,null,null,null,null,null,null,null,null,null,null,"Hospital-Lounge/Recreation","Hospital "]
[null,null,null,null,null,null,null,null,null,null,null,null,"Hospital-Medical Supply","Hospital "]
[null,null,null,null,null,null,null,null,null,null,null,null,"Hospital-Nursery","Hospital "]
[null,null,null,null,null,null,null,null,null,null,null,null,"Hospital-Operating Room","Hospital "]
[null,null,null,null,null,null,null,null,null,null,null,null,"Hospital-Patient Room","Hospital "]
[null,null,null,null,null,null,null,null,null,null,null,null,"Hospital-Physical Therapy","Hospital "]
[null,null,null,null,null,null,null,null,null,null,null,null,"Hospital-Radiology","Hospital "]
[null,null,null,null,null,null,null,null,null,null,null,null,"Hospital-Recovery Room","Hospital "]
[null,null,null,null,null,null,null,null,null,null,null,null,"Hotel Dining","Restaurant "]
[null,null,null,null,null,null,null,null,null,null,null,null,"Hotel Lobby","Lodging – Common Area "]
[null,null,null,null,null,null,null,null,null,null,null,null,"Hotel/ Motel Guest Rooms","Lodging – Guest Rooms "]
[null,null,null,null,null,null,null,null,null,null,null,null,"Inactive Storage","Warehouse "]
[null,null,null,null,null,null,null,null,null,null,null,null,"Inactive Storage -Museum","Warehouse "]
[null,null,null,null,null,null,null,null,null,null,null,null,"Laboratory","Other/Misc. "]
[null,null,null,null,null,null,null,null,null,null,null,null,"Library - Stacks","Other/Misc. "]
[null,null,null,null,null,null,null,null,null,null,null,null,"Library - Reading Area","Other/Misc. "]
[null,null,null,null,null,null,null,null,null,null,null,null,"Library - Card File & Cataloguing","Other/Misc. "]
[null,null,null,null,null,null,null,null,null,null,null,null,"Lobby - Hotel","Lodging – Common Area "]
[null,null,null,null,null,null,null,null,null,null,null,null,"Lobby ","Lodging – Common Area "]
[null,null,null,null,null,null,null,null,null,null,null,null,"Lobby-Motion Picture Theater","Lodging – Common Area "]
[null,null,null,null,null,null,null,null,null,null,null,null,"Lobby-Performing Arts Theater","Lodging – Common Area "]
[null,null,null,null,null,null,null,null,null,null,null,null,"Lounge/ Recreation","Other/Misc. "]
[null,null,null,null,null,null,null,null,null,null,null,null,"Lounge/ Recreation-Hospital","Hospital "]
[null,null,null,null,null,null,null,null,null,null,null,null,"Mall Concourse","Other/Misc. "]
[null,null,null,null,null,null,null,null,null,null,null,null,"Mall Sales Area (see Retail Sales)","Other/Misc. "]
[null,null,null,null,null,null,null,null,null,null,null,null,"Manufacturing Lowbay (<25 FT Floor to Ceiling Hgt)","Manufacturing "]
[null,null,null,null,null,null,null,null,null,null,null,null,"Manufacturing High Bay (>25 FT Floor to Ceiling Hgt)","Manufacturing "]
[null,null,null,null,null,null,null,null,null,null,null,null,"Manufacturing-Control Room","Manufacturing "]
[null,null,null,null,null,null,null,null,null,null,null,null,"Manufacturing-Corridor","Manufacturing "]
[null,null,null,null,null,null,null,null,null,null,null,null,"Manufacturing-Detailed","Manufacturing "]
[null,null,null,null,null,null,null,null,null,null,null,null,"Manufacturing-Equipment Room","Manufacturing "]
[null,null,null,null,null,null,null,null,null,null,null,null,"Motel-Dining","Restaurant "]
[null,null,null,null,null,null,null,null,null,null,null,null,"Museum-General Exhibition","Other/Misc. "]
[null,null,null,null,null,null,null,null,null,null,null,null,"Museum-Restoration","Other/Misc. "]
[null,null,null,null,null,null,null,null,null,null,null,null,"Hospital-Nurses Stations","Hospital "]
[null,null,null,null,null,null,null,null,null,null,null,null,"Office-Open Plan","Office "]
[null,null,null,null,null,null,null,null,null,null,null,null,"Office-Enclosed","Office "]
[null,null,null,null,null,null,null,null,null,null,null,null,"Penitentiary-Dining","Restaurant "]
[null,null,null,null,null,null,null,null,null,null,null,null,"Penitentiary- Meeting/ Lecture/ Classroom","Other/Misc. "]
[null,null,null,null,null,null,null,null,null,null,null,null,"Courthouse/Police Station / Penitentiary","Other/Misc. "]
[null,null,null,null,null,null,null,null,null,null,null,null,"Parking Garage","Other/Misc. "]
[null,null,null,null,null,null,null,null,null,null,null,null,"Post Office-Sorting Area","Other/Misc. "]
[null,null,null,null,null,null,null,null,null,null,null,null,"Religious Buildings Fellowship Hall","Other/Misc. "]
[null,null,null,null,null,null,null,null,null,null,null,null,"Religious Buildings Worship","Other/Misc. "]
[null,null,null,null,null,null,null,null,null,null,null,null,"Restroom","Other/Misc. "]
[null,null,null,null,null,null,null,null,null,null,null,null,"Retail Sales Area ","Retail "]
[null,null,null,null,null,null,null,null,null,null,null,null,"Sports Arena (Court Type) ","Other/Misc. "]
[null,null,null,null,null,null,null,null,null,null,null,null,"Sports Arena (Indoor Playing Field)","Other/Misc. "]
[null,null,null,null,null,null,null,null,null,null,null,null,"Sports Arena (Ring Type) ","Other/Misc. "]
[null,null,null,null,null,null,null,null,null,null,null,null,"Stairs (Active)","Other/Misc. "]
[null,null,null,null,null,null,null,null,null,null,null,null,"Storage - Hospital","Hospital "]
[null,null,null,null,null,null,null,null,null,null,null,null,"Storage (Active)","Warehouse "]
[null,null,null,null,null,null,null,null,null,null,null,null,"Storage (Inactive)","Warehouse "]
[null,null,null,null,null,null,null,null,null,null,null,null,"Transportation (Air/ Train/ Bus  Baggage Area)","Other/Misc. "]
[null,null,null,null,null,null,null,null,null,null,null,null,"Transportation (Airport Concourse)","Other/Misc. "]
[null,null,null,null,null,null,null,null,null,null,null,null,"Transportation (Terminal Ticket Counter )","Other/Misc. "]
[null,null,null,null,null,null,null,null,null,null,null,null,"Warehouse Storage (Fine Material)","Warehouse "]
[null,null,null,null,null,null,null,null,null,null,null,null,"Warehouse Storage (Medium/ Bulky Material)","Warehouse "]
[null,null,null,null,null,null,null,null,null,null,null,null,"Workshop","Other/Misc. "]
[]
[]
[]
[]
[]
[null,null,"FOR REFERENCE:","2013 CI Update Values"]
[null,null,null,"Non-CFL Measures",null,null,"CFL Measures",null,null,"Waste Heat Factors (All measures)*"]
[null,null,"Building Type","Hours","CF-PJM","CF-SSP","Hours","CF-PJM","CF-SSP","WHF-D-PJM","WHF-D-SSP","WHF-E**","WHF-E-Gas","WHF-E-Elec","WHF-E-HP"]
[null,null,"Education",2456,0.42,0.5,2513,0.56000000000000005,0.18,1.44,1.44,1.07,1.1000000000000001,0.81,0.96]
[null,null,"Grocery",6019,0.9,1,5010,0.9,0.28999999999999998,1.33,1.34,1.05,1.08,0.82,0.96]
[null,null,"Lodging - Common Area",7884,0.9,1,3984,0.43,0.14000000000000001,1.33,1.34,1.05,1.08,0.82,0.96]
[null,null,"Lodging - Guest Room",914,0.09,0.11,766,0.09,0.03,1.33,1.34,1.05,1.08,0.82,0.96]
[null,null,"Manufacturing",4781,0.67,0.78,2034,0.4,0.13,1.23,1.22,0.99,1.02,0.75,0.89]
[null,null,"Medical",4007,0.65,0.76,2849,0.52,0.17,1.33,1.34,1.05,1.08,0.82,0.96]
[null,null,"Municipal",3116,0.43,0.5,2491,0.37,0.12,1.33,1.34,1.05,1.08,0.82,0.96]
[null,null,"Office",3642,0.63,0.74,3516,0.44,0.14000000000000001,1.32,1.35,1,1.1000000000000001,0.85,0.98]
[null,null,"Other",4268,0.62,0.73,4444,0.6,0.19,1.33,1.34,1.05,1.08,0.82,0.96]
[null,null,"Public Assembly",3035,0.56999999999999995,0.66,2426,0.48,0.15,1.33,1.34,1.05,1.08,0.82,0.96]
[null,null,"Religious",2648,0.36,0.42,2117,0.31,0.1,1.33,1.34,1.05,1.08,0.82,0.96]
[null,null,"Restaurant",4089,0.73,0.86,4261,0.7,0.22,1.33,1.34,1.05,1.08,0.82,0.96]
[null,null,"Retail",4103,0.72,0.84,4413,0.59,0.19,1.26,1.27,0.99,1.06,0.83,0.95]
[null,null,"Service",3521,0.67,0.78,2815,0.56999999999999995,0.18,1.33,1.34,1.05,1.08,0.82,0.96]
[null,null,"University/College",3416,0.56000000000000005,0.65,3484,0.56000000000000005,0.18,1.33,1.34,1.05,1.08,0.82,0.96]
[null,null,"Warehouse",4009,0.62,0.72,3571,0.66,0.21,1.23,1.22,0.99,1.02,0.75,0.89]
[null,null,"Unconditioned Space","N/A","N/A","N/A","N/A","N/A","N/A",1,1,1,1,1,1]
[null,null,"Source:","TRM v3","TRM v3","TRM v3","TRM v3","TRM v3","TRM v3","NCI 2012","NCI 2012","NCI 2012","NCI 2012","NCI 2012","NCI 2012"]
[null,null,"Note:",null,null,null,null,null,null,null,null,null,"Last three columns not used"]
[null,null,"* For comparison, the Mid-Atlantic TRM v3.0 assumes that WHF-D-PJM = 1.32, WHF-D-SSP = 1.36, and WHF-E = 1.14 for all building types. "]
[null,null,"** If the heating type is unknown, use the values in this column as default."]

{"sheet":"Calculations TRM","index":11,"n_rows":94,"n_cols":53,"rows_kept":94,"cut":false,"hidden":true,"merged":[[69,42,70,42],[68,1,68,48],[69,4,70,4],[69,5,70,5],[69,7,70,7],[69,8,70,8],[69,9,70,9],[69,10,70,10],[69,11,70,11],[69,12,69,15],[69,16,69,19],[69,20,69,23],[69,24,69,27],[69,40,70,40],[69,32,69,35],[16,16,16,19],[16,24,16,27],[11,5,12,5],[11,6,12,6],[69,41,70,41],[11,7,12,7],[11,8,12,8],[11,9,12,9],[69,36,69,39],[11,10,12,10],[11,11,12,11],[11,12,11,15],[16,20,16,23],[11,20,11,23],[11,24,11,27],[69,28,69,31],[16,4,17,4],[16,5,17,5],[16,7,17,7],[16,8,17,8],[16,9,17,9],[11,16,11,19],[16,10,17,10],[16,11,17,11],[16,12,16,15],[11,42,12,42],[16,42,17,42],[11,28,11,31],[11,32,11,35],[16,28,16,31],[11,40,12,40],[16,36,16,39],[11,41,12,41],[16,32,16,35],[16,40,17,40],[16,41,17,41],[11,36,11,39]]}
[]
[]
[null,"Assumptions"]
[null,"Summer Start Date",null,null,null,"2009-06-01"]
[null,"Summer End Date",null,null,null,"2009-09-30"]
[null,"Hours/day Peak",null,null,null,16]
[null,"Hours/day Off-peak",null,null,null,8]
[]
[]
[]
[null,"Building Method"]
[null,null,null,null,null,"Building Floor Area","Operating Hours","Watts Reduced","Peak Coincidence Factor SSP","Peak Coincidence Factor PJM","Operating Hours Check","# Bin Profile","Max Operating Hours by Bin Priority",null,null,null,"Operating Hours by Bin Priority",null,null,null,"Peak Summer Fractions",null,null,null,"Off-Peak Summer Fractions",null,null,null,"Peak Winter Fractions",null,null,null,"Off-Peak Winter Fractions",null,null,null,"Hours of operation by season",null,null,null,"Waste Heat Factor (WHFe)","Waste Heat Factor (WHFd) PJM","Waste Heat Factor (WHFd) SSP","Peak Summer","Off-Peak Summer","Peak Winter","Off-peak winter","Summer PJM Peak ","Summer Coincident Peak ","Therms "]
[null,"Entry","Location","Input Building Type","TRM Building Type",null,null,null,null,null,null,null,"Bin 1","Bin 2","Bin 3","Bin 4","Bin 1","Bin 2","Bin 3","Bin 4","Bin 1","Bin 2","Bin 3","Bin 4","Bin 1","Bin 2","Bin 3","Bin 4","Bin 1","Bin 2","Bin 3","Bin 4","Bin 1","Bin 2","Bin 3","Bin 4","Peak \nSummer","Off-Peak \nSummer","Peak \nWinter","Off-peak \nWinter",null,null,null,"kWh savings","kWh savings","kWh savings","kWh savings","kW savings","kW savings"]
[null,1,"Interior",{"$f":"'Summary - Building Method'!D21","v":0},{"$f":"VLOOKUP('Summary - Building Method'!D21,InputBldgType,2,FALSE)","v":{"$error":"#N/A"}},{"$f":"'Interior Lighting Inventory'!K10","v":0},{"$f":"'Information Page'!F11","v":0},{"$f":"'Summary - Building Method'!S21","v":{"$error":"#N/A"}},{"$f":"IF(C14=\"Interior\",VLOOKUP(E14,'Validation Logic'!$H$4:$L$16,4,FALSE),IF(C14=\"Exterior\",'Validation Logic'!$L$4,\"-\"))","v":{"$error":"#N/A"}},{"$f":"IF(C14=\"Interior\",VLOOKUP(E14,'Validation Logic'!$H$4:$L$16,3,FALSE),IF(C14=\"Exterior\",'Validation Logic'!$L$4,\"-\"))","v":{"$error":"#N/A"}},{"$f":"SUM(AK14:AN14)","v":{"$error":"#N/A"}},{"$f":"INDEX(BinProfileNumsLookup,MATCH($D14,BinBuildingType,0))","v":{"$error":"#N/A"}},{"$f":"OFFSET(INDEX(BinMaxHours,MATCH($L14,BinProfileNums,0)),0,0)","v":{"$error":"#N/A"}},{"$f":"OFFSET(INDEX(BinMaxHours,MATCH($L14,BinProfileNums,0)),1,0)","v":{"$error":"#N/A"}},{"$f":"OFFSET(INDEX(BinMaxHours,MATCH($L14,BinProfileNums,0)),2,0)","v":{"$error":"#N/A"}},{"$f":"OFFSET(INDEX(BinMaxHours,MATCH($L14,BinProfileNums,0)),3,0)","v":{"$error":"#N/A"}},{"$f":"IF(G14>M14,M14,G14)","v":{"$error":"#N/A"}},{"$f":"IF(SUM(Q14:Q14)=G14,0,IF(SUM(M14:N14)>G14,G14-SUM(Q14:Q14),N14))","v":{"$error":"#N/A"}},{"$f":"IF(SUM(Q14:R14)=G14,0,IF(SUM(M14:O14)>G14,G14-SUM(Q14:R14),O14))","v":{"$error":"#N/A"}},{"$f":"IF(SUM(Q14:S14)=G14,0,IF(SUM(M14:P14)>G14,G14-SUM(Q14:S14),P14))","v":{"$error":"#N/A"}},{"$f":"OFFSET(INDEX(BinPkSum,MATCH($L14,BinProfileNums,0)),0,0)","v":{"$error":"#N/A"}},{"$f":"OFFSET(INDEX(BinPkSum,MATCH($L14,BinProfileNums,0)),1,0)","v":{"$error":"#N/A"}},{"$f":"OFFSET(INDEX(BinPkSum,MATCH($L14,BinProfileNums,0)),2,0)","v":{"$error":"#N/A"}},{"$f":"OFFSET(INDEX(BinPkSum,MATCH($L14,BinProfileNums,0)),3,0)","v":{"$error":"#N/A"}},{"$f":"OFFSET(INDEX(BinOpkSum,MATCH($L14,BinProfileNums,0)),0,0)","v":{"$error":"#N/A"}},{"$f":"OFFSET(INDEX(BinOpkSum,MATCH($L14,BinProfileNums,0)),1,0)","v":{"$error":"#N/A"}},{"$f":"OFFSET(INDEX(BinOpkSum,MATCH($L14,BinProfileNums,0)),2,0)","v":{"$error":"#N/A"}},{"$f":"OFFSET(INDEX(BinOpkSum,MATCH($L14,BinProfileNums,0)),3,0)","v":{"$error":"#N/A"}},{"$f":"OFFSET(INDEX(BinPkWin,MATCH($L14,BinProfileNums,0)),0,0)","v":{"$error":"#N/A"}},{"$f":"OFFSET(INDEX(BinPkWin,MATCH($L14,BinProfileNums,0)),1,0)","v":{"$error":"#N/A"}},{"$f":"OFFSET(INDEX(BinPkWin,MATCH($L14,BinProfileNums,0)),2,0)","v":{"$error":"#N/A"}},{"$f":"OFFSET(INDEX(BinPkWin,MATCH($L14,BinProfileNums,0)),3,0)","v":{"$error":"#N/A"}},{"$f":"OFFSET(INDEX(BinOpkWin,MATCH($L14,BinProfileNums,0)),0,0)","v":{"$error":"#N/A"}},{"$f":"OFFSET(INDEX(BinOpkWin,MATCH($L14,BinProfileNums,0)),1,0)","v":{"$error":"#N/A"}},{"$f":"OFFSET(INDEX(BinOpkWin,MATCH($L14,BinProfileNums,0)),2,0)","v":{"$error":"#N/A"}},{"$f":"OFFSET(INDEX(BinOpkWin,MATCH($L14,BinProfileNums,0)),3,0)","v":{"$error":"#N/A"}},{"$f":"SUMPRODUCT($Q14:$T14,U14:X14)","v":{"$error":"#N/A"}},{"$f":"SUMPRODUCT($Q14:$T14,Y14:AB14)","v":{"$error":"#N/A"}},{"$f":"SUMPRODUCT($Q14:$T14,AC14:AF14)","v":{"$error":"#N/A"}},{"$f":"SUMPRODUCT($Q14:$T14,AG14:AJ14)","v":{"$error":"#N/A"}},{"$f":"VLOOKUP(E14,'Validation Logic'!$H$4:$O$16,8,FALSE)","v":{"$error":"#N/A"}},{"$f":"VLOOKUP(E14,'Validation Logic'!$H$4:$O$16,6,FALSE)","v":{"$error":"#N/A"}},{"$f":"VLOOKUP(E14,'Validation Logic'!$H$4:$O$16,7,FALSE)","v":{"$error":"#N/A"}},{"$f":"IF(AK14*$H14/1000*$AO14>0,AK14*$H14/1000*$AO14,0)","v":{"$error":"#N/A"}},{"$f":"IF(AL14*$H14/1000*$AO14>0,AL14*$H14/1000*$AO14,0)","v":{"$error":"#N/A"}},{"$error":"#N/A"},{"$error":"#N/A"},{"$f":"IF(AP14*$H14/1000*$J14>0,AP14*$H14/1000*$J14,0)","v":{"$error":"#N/A"}},{"$f":"IF(AQ14*$H14/1000*$I14>0,AQ14*$H14/1000*$I14,0)","v":{"$error":"#N/A"}},{"$f":"SUM(AR14:AU14)*-1*0.00065","v":{"$error":"#N/A"}}]
[null,2,"Interior",{"$f":"'Summary - Building Method'!D22","v":"0 (secondary space not enabled)"},{"$f":"VLOOKUP('Summary - Building Method'!D22,InputBldgType,2,FALSE)","v":{"$error":"#N/A"}},{"$f":"'Secondary Lighting Inventory'!K10","v":0},{"$f":"'Information Page'!G11","v":0},{"$f":"'Summary - Building Method'!S22","v":{"$error":"#N/A"}},{"$f":"IF(C15=\"Interior\",VLOOKUP(E15,'Validation Logic'!$H$4:$L$16,4,FALSE),IF(C15=\"Exterior\",'Validation Logic'!$L$4,\"-\"))","v":{"$error":"#N/A"}},{"$f":"IF(C15=\"Interior\",VLOOKUP(E15,'Validation Logic'!$H$4:$L$16,3,FALSE),IF(C15=\"Exterior\",'Validation Logic'!$L$4,\"-\"))","v":{"$error":"#N/A"}},{"$f":"SUM(AK15:AN15)","v":{"$error":"#N/A"}},{"$f":"INDEX(BinProfileNumsLookup,MATCH($D15,BinBuildingType,0))","v":{"$error":"#N/A"}},{"$f":"OFFSET(INDEX(BinMaxHours,MATCH($L15,BinProfileNums,0)),0,0)","v":{"$error":"#N/A"}},{"$f":"OFFSET(INDEX(BinMaxHours,MATCH($L15,BinProfileNums,0)),1,0)","v":{"$error":"#N/A"}},{"$f":"OFFSET(INDEX(BinMaxHours,MATCH($L15,BinProfileNums,0)),2,0)","v":{"$error":"#N/A"}},{"$f":"OFFSET(INDEX(BinMaxHours,MATCH($L15,BinProfileNums,0)),3,0)","v":{"$error":"#N/A"}},{"$f":"IF(G15>M15,M15,G15)","v":{"$error":"#N/A"}},{"$f":"IF(SUM(Q15:Q15)=G15,0,IF(SUM(M15:N15)>G15,G15-SUM(Q15:Q15),N15))","v":{"$error":"#N/A"}},{"$f":"IF(SUM(Q15:R15)=G15,0,IF(SUM(M15:O15)>G15,G15-SUM(Q15:R15),O15))","v":{"$error":"#N/A"}},{"$f":"IF(SUM(Q15:S15)=G15,0,IF(SUM(M15:P15)>G15,G15-SUM(Q15:S15),P15))","v":{"$error":"#N/A"}},{"$f":"OFFSET(INDEX(BinPkSum,MATCH($L15,BinProfileNums,0)),0,0)","v":{"$error":"#N/A"}},{"$f":"OFFSET(INDEX(BinPkSum,MATCH($L15,BinProfileNums,0)),1,0)","v":{"$error":"#N/A"}},{"$f":"OFFSET(INDEX(BinPkSum,MATCH($L15,BinProfileNums,0)),2,0)","v":{"$error":"#N/A"}},{"$f":"OFFSET(INDEX(BinPkSum,MATCH($L15,BinProfileNums,0)),3,0)","v":{"$error":"#N/A"}},{"$f":"OFFSET(INDEX(BinOpkSum,MATCH($L15,BinProfileNums,0)),0,0)","v":{"$error":"#N/A"}},{"$f":"OFFSET(INDEX(BinOpkSum,MATCH($L15,BinProfileNums,0)),1,0)","v":{"$error":"#N/A"}},{"$f":"OFFSET(INDEX(BinOpkSum,MATCH($L15,BinProfileNums,0)),2,0)","v":{"$error":"#N/A"}},{"$f":"OFFSET(INDEX(BinOpkSum,MATCH($L15,BinProfileNums,0)),3,0)","v":{"$error":"#N/A"}},{"$f":"OFFSET(INDEX(BinPkWin,MATCH($L15,BinProfileNums,0)),0,0)","v":{"$error":"#N/A"}},{"$f":"OFFSET(INDEX(BinPkWin,MATCH($L15,BinProfileNums,0)),1,0)","v":{"$error":"#N/A"}},{"$f":"OFFSET(INDEX(BinPkWin,MATCH($L15,BinProfileNums,0)),2,0)","v":{"$error":"#N/A"}},{"$f":"OFFSET(INDEX(BinPkWin,MATCH($L15,BinProfileNums,0)),3,0)","v":{"$error":"#N/A"}},{"$f":"OFFSET(INDEX(BinOpkWin,MATCH($L15,BinProfileNums,0)),0,0)","v":{"$error":"#N/A"}},{"$f":"OFFSET(INDEX(BinOpkWin,MATCH($L15,BinProfileNums,0)),1,0)","v":{"$error":"#N/A"}},{"$f":"OFFSET(INDEX(BinOpkWin,MATCH($L15,BinProfileNums,0)),2,0)","v":{"$error":"#N/A"}},{"$f":"OFFSET(INDEX(BinOpkWin,MATCH($L15,BinProfileNums,0)),3,0)","v":{"$error":"#N/A"}},{"$f":"SUMPRODUCT($Q15:$T15,U15:X15)","v":{"$error":"#N/A"}},{"$f":"SUMPRODUCT($Q15:$T15,Y15:AB15)","v":{"$error":"#N/A"}},{"$f":"SUMPRODUCT($Q15:$T15,AC15:AF15)","v":{"$error":"#N/A"}},{"$f":"SUMPRODUCT($Q15:$T15,AG15:AJ15)","v":{"$error":"#N/A"}},{"$f":"VLOOKUP(E15,'Validation Logic'!$H$4:$O$16,8,FALSE)","v":{"$error":"#N/A"}},{"$f":"VLOOKUP(E15,'Validation Logic'!$H$4:$O$16,6,FALSE)","v":{"$error":"#N/A"}},{"$f":"VLOOKUP(E15,'Validation Logic'!$H$4:$O$16,7,FALSE)","v":{"$error":"#N/A"}},{"$f":"IF(AK15*$H15/1000*$AO15>0,AK15*$H15/1000*$AO15,0)","v":{"$error":"#N/A"}},{"$f":"IF(AL15*$H15/1000*$AO15>0,AL15*$H15/1000*$AO15,0)","v":{"$error":"#N/A"}},{"$f":"IF(AM15*$H15/1000*$AO15>0,AM15*$H15/1000*$AO15,0)","v":{"$error":"#N/A"}},{"$f":"IF(AN15*$H15/1000*$AO15>0,AN15*$H15/1000*$AO15,0)","v":{"$error":"#N/A"}},{"$f":"IF(AP15*$H15/1000*$J15>0,AP15*$H15/1000*$J15,0)","v":{"$error":"#N/A"}},{"$f":"IF(AQ15*$H15/1000*$I15>0,AQ15*$H15/1000*$I15,0)","v":{"$error":"#N/A"}},{"$f":"SUM(AR15:AU15)*-1*0.00065","v":{"$error":"#N/A"}}]
[null,"Space Method"]
[null,null,null,null,"TRM Building Type","Space Floor Area Lit (sq. ft)",null,"Watts Reduced","Peak Coincidence Factor SSP","Peak Coincidence Factor PJM","Operating Hours Check","# Bin Profile","Max Operating Hours by Bin Priority",null,null,null,"Operating Hours by Bin Priority",null,null,null,"Peak Summer Fractions",null,null,null,"Off-Peak Summer Fractions",null,null,null,"Peak Winter Fractions",null,null,null,"Off-Peak Winter Fractions",null,null,null,"Hours of operation by season",null,null,null,"Waste Heat Factor (WHFe)","Waste Heat Factor (WHFd) PJM","Waste Heat Factor (WHFd) SSP","Peak Summer","Off-Peak Summer","Peak Winter","Off-peak winter","Summer PJM Peak ","Summer Coincident Peak ","Therms "]
[null,"Entry","Location","Input Building Type",null,null,"Operating Hours",null,null,null,null,null,"Bin 1","Bin 2","Bin 3","Bin 4","Bin 1","Bin 2","Bin 3","Bin 4","Bin 1","Bin 2","Bin 3","Bin 4","Bin 1","Bin 2","Bin 3","Bin 4","Bin 1","Bin 2","Bin 3","Bin 4","Bin 1","Bin 2","Bin 3","Bin 4","Peak \nSummer","Off-Peak \nSummer","Peak \nWinter","Off-peak \nWinter",null,null,null,"kWh savings","kWh savings","kWh savings","kWh savings","kW savings","kW savings"]
[null,{"$f":"'Summary - Space Method'!C21","v":"S1"},"Interior",{"$f":"'Summary - Building Method'!$D$21:$G$21","v":0},{"$f":"VLOOKUP(D19,InputBldgType,2,FALSE)","v":{"$error":"#N/A"}},{"$f":"'Summary - Space Method'!H21","v":0},{"$f":"'Summary - Space Method'!I21","v":0},{"$f":"'Summary - Space Method'!S21","v":""},{"$f":"IF(C19=\"Interior\",VLOOKUP(E19,'Validation Logic'!$H$4:$L$16,4,FALSE),IF(C19=\"Exterior\",'Validation Logic'!$L$4,\"-\"))","v":{"$error":"#N/A"}},{"$f":"IF(C19=\"Interior\",VLOOKUP(E19,'Validation Logic'!$H$4:$L$16,3,FALSE),IF(C19=\"Exterior\",'Validation Logic'!$L$4,\"-\"))","v":{"$error":"#N/A"}},{"$f":"SUM(AK19:AN19)","v":{"$error":"#N/A"}},{"$f":"INDEX(BinProfileNumsLookup,MATCH(D19,BinBuildingType,0))","v":{"$error":"#N/A"}},{"$f":"OFFSET(INDEX(BinMaxHours,MATCH($L19,BinProfileNums,0)),0,0)","v":{"$error":"#N/A"}},{"$f":"OFFSET(INDEX(BinMaxHours,MATCH($L19,BinProfileNums,0)),1,0)","v":{"$error":"#N/A"}},{"$f":"OFFSET(INDEX(BinMaxHours,MATCH($L19,BinProfileNums,0)),2,0)","v":{"$error":"#N/A"}},{"$f":"OFFSET(INDEX(BinMaxHours,MATCH($L19,BinProfileNums,0)),3,0)","v":{"$error":"#N/A"}},{"$f":"IF(G19>M19,M19,G19)","v":{"$error":"#N/A"}},{"$f":"IF(SUM(Q19:Q19)=G19,0,IF(SUM(M19:N19)>G19,G19-SUM(Q19:Q19),N19))","v":{"$error":"#N/A"}},{"$f":"IF(SUM(Q19:R19)=G19,0,IF(SUM(M19:O19)>G19,G19-SUM(Q19:R19),O19))","v":{"$error":"#N/A"}},{"$f":"IF(SUM(Q19:S19)=G19,0,IF(SUM(M19:P19)>G19,G19-SUM(Q19:S19),P19))","v":{"$error":"#N/A"}},{"$f":"OFFSET(INDEX(BinPkSum,MATCH($L19,BinProfileNums,0)),0,0)","v":{"$error":"#N/A"}},{"$f":"OFFSET(INDEX(BinPkSum,MATCH($L19,BinProfileNums,0)),1,0)","v":{"$error":"#N/A"}},{"$f":"OFFSET(INDEX(BinPkSum,MATCH($L19,BinProfileNums,0)),2,0)","v":{"$error":"#N/A"}},{"$f":"OFFSET(INDEX(BinPkSum,MATCH($L19,BinProfileNums,0)),3,0)","v":{"$error":"#N/A"}},{"$f":"OFFSET(INDEX(BinOpkSum,MATCH($L19,BinProfileNums,0)),0,0)","v":{"$error":"#N/A"}},{"$f":"OFFSET(INDEX(BinOpkSum,MATCH($L19,BinProfileNums,0)),1,0)","v":{"$error":"#N/A"}},{"$f":"OFFSET(INDEX(BinOpkSum,MATCH($L19,BinProfileNums,0)),2,0)","v":{"$error":"#N/A"}},{"$f":"OFFSET(INDEX(BinOpkSum,MATCH($L19,BinProfileNums,0)),3,0)","v":{"$error":"#N/A"}},{"$f":"OFFSET(INDEX(BinPkWin,MATCH($L19,BinProfileNums,0)),0,0)","v":{"$error":"#N/A"}},{"$f":"OFFSET(INDEX(BinPkWin,MATCH($L19,BinProfileNums,0)),1,0)","v":{"$error":"#N/A"}},{"$f":"OFFSET(INDEX(BinPkWin,MATCH($L19,BinProfileNums,0)),2,0)","v":{"$error":"#N/A"}},{"$f":"OFFSET(INDEX(BinPkWin,MATCH($L19,BinProfileNums,0)),3,0)","v":{"$error":"#N/A"}},{"$f":"OFFSET(INDEX(BinOpkWin,MATCH($L19,BinProfileNums,0)),0,0)","v":{"$error":"#N/A"}},{"$f":"OFFSET(INDEX(BinOpkWin,MATCH($L19,BinProfileNums,0)),1,0)","v":{"$error":"#N/A"}},{"$f":"OFFSET(INDEX(BinOpkWin,MATCH($L19,BinProfileNums,0)),2,0)","v":{"$error":"#N/A"}},{"$f":"OFFSET(INDEX(BinOpkWin,MATCH($L19,BinProfileNums,0)),3,0)","v":{"$error":"#N/A"}},{"$f":"SUMPRODUCT($Q19:$T19,U19:X19)","v":{"$error":"#N/A"}},{"$f":"SUMPRODUCT($Q19:$T19,Y19:AB19)","v":{"$error":"#N/A"}},{"$f":"SUMPRODUCT($Q19:$T19,AC19:AF19)","v":{"$error":"#N/A"}},{"$f":"SUMPRODUCT($Q19:$T19,AG19:AJ19)","v":{"$error":"#N/A"}},{"$f":"VLOOKUP(E19,'Validation Logic'!$H$4:$O$16,8,FALSE)","v":{"$error":"#N/A"}},{"$f":"VLOOKUP(E19,'Validation Logic'!$H$4:$O$16,6,FALSE)","v":{"$error":"#N/A"}},{"$f":"VLOOKUP(E19,'Validation Logic'!$H$4:$O$16,7,FALSE)","v":{"$error":"#N/A"}},{"$f":"IF(IF(ISERROR(AK19*$H19/1000*$AO19),0,(AK19*$H19/1000*$AO19))>0,IF(ISERROR(AK19*$H19/1000*$AO19),0,(AK19*$H19/1000*$AO19)),0)","v":0},{"$f":"IF(IF(ISERROR(AL19*$H19/1000*$AO19),0,(AL19*$H19/1000*$AO19))>0,IF(ISERROR(AL19*$H19/1000*$AO19),0,(AL19*$H19/1000*$AO19)),0)","v":0},0,0,{"$f":"IF(IF(ISERROR(AP19*$H19/1000*$J19),0,(AP19*$H19/1000*$J19))>0,IF(ISERROR(AP19*$H19/1000*$J19),0,(AP19*$H19/1000*$J19)),0)","v":0},{"$f":"IF(IF(ISERROR(AQ19*$H19/1000*$I19),0,(AQ19*$H19/1000*$I19))>0,IF(ISERROR(AQ19*$H19/1000*$I19),0,(AQ19*$H19/1000*$I19)),0)","v":0},{"$f":"SUM(AR19:AU19)*-1*0.00065","v":0}]
[null,{"$f":"'Summary - Space Method'!C22","v":"S2"},"Interior",{"$f":"'Summary - Building Method'!$D$21:$G$21","v":0},{"$f":"VLOOKUP(D20,InputBldgType,2,FALSE)","v":{"$error":"#N/A"}},{"$f":"'Summary - Space Method'!H22","v":0},{"$f":"'Summary - Space Method'!I22","v":0},{"$f":"'Summary - Space Method'!S22","v":""},{"$f":"IF(C20=\"Interior\",VLOOKUP(E20,'Validation Logic'!$H$4:$L$16,4,FALSE),IF(C20=\"Exterior\",'Validation Logic'!$L$4,\"-\"))","v":{"$error":"#N/A"}},{"$f":"IF(C20=\"Interior\",VLOOKUP(E20,'Validation Logic'!$H$4:$L$16,3,FALSE),IF(C20=\"Exterior\",'Validation Logic'!$L$4,\"-\"))","v":{"$error":"#N/A"}},{"$error":"#N/A"},{"$error":"#N/A"},{"$f":"OFFSET(INDEX(BinMaxHours,MATCH($L20,BinProfileNums,0)),0,0)","v":{"$error":"#N/A"}},{"$error":"#N/A"},{"$error":"#N/A"},{"$error":"#N/A"},{"$error":"#N/A"},{"$error":"#N/A"},{"$error":"#N/A"},{"$error":"#N/A"},{"$error":"#N/A"},{"$error":"#N/A"},{"$error":"#N/A"},{"$error":"#N/A"},{"$error":"#N/A"},{"$error":"#N/A"},{"$error":"#N/A"},{"$error":"#N/A"},{"$error":"#N/A"},{"$error":"#N/A"},{"$error":"#N/A"},{"$error":"#N/A"},{"$error":"#N/A"},{"$error":"#N/A"},{"$error":"#N/A"},{"$error":"#N/A"},{"$error":"#N/A"},{"$error":"#N/A"},{"$error":"#N/A"},{"$error":"#N/A"},{"$f":"VLOOKUP(E20,'Validation Logic'!$H$4:$O$16,8,FALSE)","v":{"$error":"#N/A"}},{"$f":"VLOOKUP(E20,'Validation Logic'!$H$4:$O$16,6,FALSE)","v":{"$error":"#N/A"}},{"$f":"VLOOKUP(E20,'Validation Logic'!$H$4:$O$16,7,FALSE)","v":{"$error":"#N/A"}},{"$f":"IF(IF(ISERROR(AK20*$H20/1000*$AO20),0,(AK20*$H20/1000*$AO20))>0,IF(ISERROR(AK20*$H20/1000*$AO20),0,(AK20*$H20/1000*$AO20)),0)","v":0},{"$f":"IF(IF(ISERROR(AL20*$H20/1000*$AO20),0,(AL20*$H20/1000*$AO20))>0,IF(ISERROR(AL20*$H20/1000*$AO20),0,(AL20*$H20/1000*$AO20)),0)","v":0},{"$f":"IF(IF(ISERROR(AM20*$H20/1000*$AO20),0,(AM20*$H20/1000*$AO20))>0,IF(ISERROR(AM20*$H20/1000*$AO20),0,(AM20*$H20/1000*$AO20)),0)","v":0},{"$f":"IF(IF(ISERROR(AN20*$H20/1000*$AO20),0,(AN20*$H20/1000*$AO20))>0,IF(ISERROR(AN20*$H20/1000*$AO20),0,(AN20*$H20/1000*$AO20)),0)","v":0},{"$f":"IF(IF(ISERROR(AP20*$H20/1000*$J20),0,(AP20*$H20/1000*$J20))>0,IF(ISERROR(AP20*$H20/1000*$J20),0,(AP20*$H20/1000*$J20)),0)","v":0},{"$f":"IF(IF(ISERROR(AQ20*$H20/1000*$I20),0,(AQ20*$H20/1000*$I20))>0,IF(ISERROR(AQ20*$H20/1000*$I20),0,(AQ20*$H20/1000*$I20)),0)","v":0},{"$f":"SUM(AR20:AU20)*-1*0.00065","v":0}]
[null,{"$f":"'Summary - Space Method'!C23","v":"S3"},"Interior",{"$f":"'Summary - Building Method'!$D$21:$G$21","v":0},{"$error":"#N/A"},{"$f":"'Summary - Space Method'!H23","v":0},{"$f":"'Summary - Space Method'!I23","v":0},{"$f":"'Summary - Space Method'!S23","v":""},{"$f":"IF(C21=\"Interior\",VLOOKUP(E21,'Validation Logic'!$H$4:$L$16,4,FALSE),IF(C21=\"Exterior\",'Validation Logic'!$L$4,\"-\"))","v":{"$error":"#N/A"}},{"$f":"IF(C21=\"Interior\",VLOOKUP(E21,'Validation Logic'!$H$4:$L$16,3,FALSE),IF(C21=\"Exterior\",'Validation Logic'!$L$4,\"-\"))","v":{"$error":"#N/A"}},{"$error":"#N/A"},{"$error":"#N/A"},{"$error":"#N/A"},{"$error":"#N/A"},{"$error":"#N/A"},{"$error":"#N/A"},{"$error":"#N/A"},{"$error":"#N/A"},{"$error":"#N/A"},{"$error":"#N/A"},{"$error":"#N/A"},{"$error":"#N/A"},{"$error":"#N/A"},{"$error":"#N/A"},{"$error":"#N/A"},{"$error":"#N/A"},{"$error":"#N/A"},{"$error":"#N/A"},{"$error":"#N/A"},{"$error":"#N/A"},{"$error":"#N/A"},{"$error":"#N/A"},{"$error":"#N/A"},{"$error":"#N/A"},{"$error":"#N/A"},{"$error":"#N/A"},{"$error":"#N/A"},{"$error":"#N/A"},{"$error":"#N/A"},{"$error":"#N/A"},{"$f":"VLOOKUP(E21,'Validation Logic'!$H$4:$O$16,8,FALSE)","v":{"$error":"#N/A"}},{"$f":"VLOOKUP(E21,'Validation Logic'!$H$4:$O$16,6,FALSE)","v":{"$error":"#N/A"}},{"$f":"VLOOKUP(E21,'Validation Logic'!$H$4:$O$16,7,FALSE)","v":{"$error":"#N/A"}},0,0,0,0,0,0,0]
[null,{"$f":"'Summary - Space Method'!C24","v":"S4"},"Interior",{"$f":"'Summary - Building Method'!$D$21:$G$21","v":0},{"$error":"#N/A"},{"$f":"'Summary - Space Method'!H24","v":0},{"$f":"'Summary - Space Method'!I24","v":0},{"$f":"'Summary - Space Method'!S24","v":""},{"$f":"IF(C22=\"Interior\",VLOOKUP(E22,'Validation Logic'!$H$4:$L$16,4,FALSE),IF(C22=\"Exterior\",'Validation Logic'!$L$4,\"-\"))","v":{"$error":"#N/A"}},{"$f":"IF(C22=\"Interior\",VLOOKUP(E22,'Validation Logic'!$H$4:$L$16,3,FALSE),IF(C22=\"Exterior\",'Validation Logic'!$L$4,\"-\"))","v":{"$error":"#N/A"}},{"$error":"#N/A"},{"$error":"#N/A"},{"$error":"#N/A"},{"$error":"#N/A"},{"$error":"#N/A"},{"$error":"#N/A"},{"$error":"#N/A"},{"$error":"#N/A"},{"$error":"#N/A"},{"$error":"#N/A"},{"$error":"#N/A"},{"$error":"#N/A"},{"$error":"#N/A"},{"$error":"#N/A"},{"$error":"#N/A"},{"$error":"#N/A"},{"$error":"#N/A"},{"$error":"#N/A"},{"$error":"#N/A"},{"$error":"#N/A"},{"$error":"#N/A"},{"$error":"#N/A"},{"$error":"#N/A"},{"$error":"#N/A"},{"$error":"#N/A"},{"$error":"#N/A"},{"$error":"#N/A"},{"$error":"#N/A"},{"$error":"#N/A"},{"$error":"#N/A"},{"$f":"VLOOKUP(E22,'Validation Logic'!$H$4:$O$16,8,FALSE)","v":{"$error":"#N/A"}},{"$f":"VLOOKUP(E22,'Validation Logic'!$H$4:$O$16,6,FALSE)","v":{"$error":"#N/A"}},{"$f":"VLOOKUP(E22,'Validation Logic'!$H$4:$O$16,7,FALSE)","v":{"$error":"#N/A"}},0,0,0,0,0,0,0]
[null,{"$f":"'Summary - Space Method'!C25","v":"S5"},"Interior",{"$f":"'Summary - Building Method'!$D$21:$G$21","v":0},{"$error":"#N/A"},{"$f":"'Summary - Space Method'!H25","v":0},{"$f":"'Summary - Space Method'!I25","v":0},{"$f":"'Summary - Space Method'!S25","v":""},{"$f":"IF(C23=\"Interior\",VLOOKUP(E23,'Validation Logic'!$H$4:$L$16,4,FALSE),IF(C23=\"Exterior\",'Validation Logic'!$L$4,\"-\"))","v":{"$error":"#N/A"}},{"$f":"IF(C23=\"Interior\",VLOOKUP(E23,'Validation Logic'!$H$4:$L$16,3,FALSE),IF(C23=\"Exterior\",'Validation Logic'!$L$4,\"-\"))","v":{"$error":"#N/A"}},{"$error":"#N/A"},{"$error":"#N/A"},{"$error":"#N/A"},{"$error":"#N/A"},{"$error":"#N/A"},{"$error":"#N/A"},{"$error":"#N/A"},{"$error":"#N/A"},{"$error":"#N/A"},{"$error":"#N/A"},{"$error":"#N/A"},{"$error":"#N/A"},{"$error":"#N/A"},{"$error":"#N/A"},{"$error":"#N/A"},{"$error":"#N/A"},{"$error":"#N/A"},{"$error":"#N/A"},{"$error":"#N/A"},{"$error":"#N/A"},{"$error":"#N/A"},{"$error":"#N/A"},{"$error":"#N/A"},{"$error":"#N/A"},{"$error":"#N/A"},{"$error":"#N/A"},{"$error":"#N/A"},{"$error":"#N/A"},{"$error":"#N/A"},{"$error":"#N/A"},{"$f":"VLOOKUP(E23,'Validation Logic'!$H$4:$O$16,8,FALSE)","v":{"$error":"#N/A"}},{"$f":"VLOOKUP(E23,'Validation Logic'!$H$4:$O$16,6,FALSE)","v":{"$error":"#N/A"}},{"$f":"VLOOKUP(E23,'Validation Logic'!$H$4:$O$16,7,FALSE)","v":{"$error":"#N/A"}},0,0,0,0,0,0,0]
[null,{"$f":"'Summary - Space Method'!C26","v":"S6"},"Interior",{"$f":"'Summary - Building Method'!$D$21:$G$21","v":0},{"$error":"#N/A"},{"$f":"'Summary - Space Method'!H26","v":0},{"$f":"'Summary - Space Method'!I26","v":0},{"$f":"'Summary - Space Method'!S26","v":""},{"$f":"IF(C24=\"Interior\",VLOOKUP(E24,'Validation Logic'!$H$4:$L$16,4,FALSE),IF(C24=\"Exterior\",'Validation Logic'!$L$4,\"-\"))","v":{"$error":"#N/A"}},{"$f":"IF(C24=\"Interior\",VLOOKUP(E24,'Validation Logic'!$H$4:$L$16,3,FALSE),IF(C24=\"Exterior\",'Validation Logic'!$L$4,\"-\"))","v":{"$error":"#N/A"}},{"$error":"#N/A"},{"$error":"#N/A"},{"$error":"#N/A"},{"$error":"#N/A"},{"$error":"#N/A"},{"$error":"#N/A"},{"$error":"#N/A"},{"$error":"#N/A"},{"$error":"#N/A"},{"$error":"#N/A"},{"$error":"#N/A"},{"$error":"#N/A"},{"$error":"#N/A"},{"$error":"#N/A"},{"$error":"#N/A"},{"$error":"#N/A"},{"$error":"#N/A"},{"$error":"#N/A"},{"$error":"#N/A"},{"$error":"#N/A"},{"$error":"#N/A"},{"$error":"#N/A"},{"$error":"#N/A"},{"$error":"#N/A"},{"$error":"#N/A"},{"$error":"#N/A"},{"$error":"#N/A"},{"$error":"#N/A"},{"$error":"#N/A"},{"$error":"#N/A"},{"$f":"VLOOKUP(E24,'Validation Logic'!$H$4:$O$16,8,FALSE)","v":{"$error":"#N/A"}},{"$f":"VLOOKUP(E24,'Validation Logic'!$H$4:$O$16,6,FALSE)","v":{"$error":"#N/A"}},{"$f":"VLOOKUP(E24,'Validation Logic'!$H$4:$O$16,7,FALSE)","v":{"$error":"#N/A"}},0,0,0,0,0,0,0]
[null,{"$f":"'Summary - Space Method'!C27","v":"S7"},"Interior",{"$f":"'Summary - Building Method'!$D$21:$G$21","v":0},{"$error":"#N/A"},{"$f":"'Summary - Space Method'!H27","v":0},{"$f":"'Summary - Space Method'!I27","v":0},{"$f":"'Summary - Space Method'!S27","v":""},{"$f":"IF(C25=\"Interior\",VLOOKUP(E25,'Validation Logic'!$H$4:$L$16,4,FALSE),IF(C25=\"Exterior\",'Validation Logic'!$L$4,\"-\"))","v":{"$error":"#N/A"}},{"$f":"IF(C25=\"Interior\",VLOOKUP(E25,'Validation Logic'!$H$4:$L$16,3,FALSE),IF(C25=\"Exterior\",'Validation Logic'!$L$4,\"-\"))","v":{"$error":"#N/A"}},{"$error":"#N/A"},{"$error":"#N/A"},{"$error":"#N/A"},{"$error":"#N/A"},{"$error":"#N/A"},{"$error":"#N/A"},{"$error":"#N/A"},{"$error":"#N/A"},{"$error":"#N/A"},{"$error":"#N/A"},{"$error":"#N/A"},{"$error":"#N/A"},{"$error":"#N/A"},{"$error":"#N/A"},{"$error":"#N/A"},{"$error":"#N/A"},{"$error":"#N/A"},{"$error":"#N/A"},{"$error":"#N/A"},{"$error":"#N/A"},{"$error":"#N/A"},{"$error":"#N/A"},{"$error":"#N/A"},{"$error":"#N/A"},{"$error":"#N/A"},{"$error":"#N/A"},{"$error":"#N/A"},{"$error":"#N/A"},{"$error":"#N/A"},{"$error":"#N/A"},{"$f":"VLOOKUP(E25,'Validation Logic'!$H$4:$O$16,8,FALSE)","v":{"$error":"#N/A"}},{"$f":"VLOOKUP(E25,'Validation Logic'!$H$4:$O$16,6,FALSE)","v":{"$error":"#N/A"}},{"$f":"VLOOKUP(E25,'Validation Logic'!$H$4:$O$16,7,FALSE)","v":{"$error":"#N/A"}},0,0,0,0,0,0,0]
[null,{"$f":"'Summary - Space Method'!C28","v":"S8"},"Interior",{"$f":"'Summary - Building Method'!$D$21:$G$21","v":0},{"$error":"#N/A"},{"$f":"'Summary - Space Method'!H28","v":0},{"$f":"'Summary - Space Method'!I28","v":0},{"$f":"'Summary - Space Method'!S28","v":""},{"$f":"IF(C26=\"Interior\",VLOOKUP(E26,'Validation Logic'!$H$4:$L$16,4,FALSE),IF(C26=\"Exterior\",'Validation Logic'!$L$4,\"-\"))","v":{"$error":"#N/A"}},{"$f":"IF(C26=\"Interior\",VLOOKUP(E26,'Validation Logic'!$H$4:$L$16,3,FALSE),IF(C26=\"Exterior\",'Validation Logic'!$L$4,\"-\"))","v":{"$error":"#N/A"}},{"$error":"#N/A"},{"$error":"#N/A"},{"$error":"#N/A"},{"$error":"#N/A"},{"$error":"#N/A"},{"$error":"#N/A"},{"$error":"#N/A"},{"$error":"#N/A"},{"$error":"#N/A"},{"$error":"#N/A"},{"$error":"#N/A"},{"$error":"#N/A"},{"$error":"#N/A"},{"$error":"#N/A"},{"$error":"#N/A"},{"$error":"#N/A"},{"$error":"#N/A"},{"$error":"#N/A"},{"$error":"#N/A"},{"$error":"#N/A"},{"$error":"#N/A"},{"$error":"#N/A"},{"$error":"#N/A"},{"$error":"#N/A"},{"$error":"#N/A"},{"$error":"#N/A"},{"$error":"#N/A"},{"$error":"#N/A"},{"$error":"#N/A"},{"$error":"#N/A"},{"$f":"VLOOKUP(E26,'Validation Logic'!$H$4:$O$16,8,FALSE)","v":{"$error":"#N/A"}},{"$f":"VLOOKUP(E26,'Validation Logic'!$H$4:$O$16,6,FALSE)","v":{"$error":"#N/A"}},{"$f":"VLOOKUP(E26,'Validation Logic'!$H$4:$O$16,7,FALSE)","v":{"$error":"#N/A"}},0,0,0,0,0,0,0]
[null,{"$f":"'Summary - Space Method'!C29","v":"S9"},"Interior",{"$f":"'Summary - Building Method'!$D$21:$G$21","v":0},{"$error":"#N/A"},{"$f":"'Summary - Space Method'!H29","v":0},{"$f":"'Summary - Space Method'!I29","v":0},{"$f":"'Summary - Space Method'!S29","v":""},{"$f":"IF(C27=\"Interior\",VLOOKUP(E27,'Validation Logic'!$H$4:$L$16,4,FALSE),IF(C27=\"Exterior\",'Validation Logic'!$L$4,\"-\"))","v":{"$error":"#N/A"}},{"$f":"IF(C27=\"Interior\",VLOOKUP(E27,'Validation Logic'!$H$4:$L$16,3,FALSE),IF(C27=\"Exterior\",'Validation Logic'!$L$4,\"-\"))","v":{"$error":"#N/A"}},{"$error":"#N/A"},{"$error":"#N/A"},{"$error":"#N/A"},{"$error":"#N/A"},{"$error":"#N/A"},{"$error":"#N/A"},{"$error":"#N/A"},{"$error":"#N/A"},{"$error":"#N/A"},{"$error":"#N/A"},{"$error":"#N/A"},{"$error":"#N/A"},{"$error":"#N/A"},{"$error":"#N/A"},{"$error":"#N/A"},{"$error":"#N/A"},{"$error":"#N/A"},{"$error":"#N/A"},{"$error":"#N/A"},{"$error":"#N/A"},{"$error":"#N/A"},{"$error":"#N/A"},{"$error":"#N/A"},{"$error":"#N/A"},{"$error":"#N/A"},{"$error":"#N/A"},{"$error":"#N/A"},{"$error":"#N/A"},{"$error":"#N/A"},{"$error":"#N/A"},{"$f":"VLOOKUP(E27,'Validation Logic'!$H$4:$O$16,8,FALSE)","v":{"$error":"#N/A"}},{"$f":"VLOOKUP(E27,'Validation Logic'!$H$4:$O$16,6,FALSE)","v":{"$error":"#N/A"}},{"$f":"VLOOKUP(E27,'Validation Logic'!$H$4:$O$16,7,FALSE)","v":{"$error":"#N/A"}},0,0,0,0,0,0,0]
[null,{"$f":"'Summary - Space Method'!C30","v":"S10"},"Interior",{"$f":"'Summary - Building Method'!$D$21:$G$21","v":0},{"$error":"#N/A"},{"$f":"'Summary - Space Method'!H30","v":0},{"$f":"'Summary - Space Method'!I30","v":0},{"$f":"'Summary - Space Method'!S30","v":""},{"$f":"IF(C28=\"Interior\",VLOOKUP(E28,'Validation Logic'!$H$4:$L$16,4,FALSE),IF(C28=\"Exterior\",'Validation Logic'!$L$4,\"-\"))","v":{"$error":"#N/A"}},{"$f":"IF(C28=\"Interior\",VLOOKUP(E28,'Validation Logic'!$H$4:$L$16,3,FALSE),IF(C28=\"Exterior\",'Validation Logic'!$L$4,\"-\"))","v":{"$error":"#N/A"}},{"$error":"#N/A"},{"$error":"#N/A"},{"$error":"#N/A"},{"$error":"#N/A"},{"$error":"#N/A"},{"$error":"#N/A"},{"$error":"#N/A"},{"$error":"#N/A"},{"$error":"#N/A"},{"$error":"#N/A"},{"$error":"#N/A"},{"$error":"#N/A"},{"$error":"#N/A"},{"$error":"#N/A"},{"$error":"#N/A"},{"$error":"#N/A"},{"$error":"#N/A"},{"$error":"#N/A"},{"$error":"#N/A"},{"$error":"#N/A"},{"$error":"#N/A"},{"$error":"#N/A"},{"$error":"#N/A"},{"$error":"#N/A"},{"$error":"#N/A"},{"$error":"#N/A"},{"$error":"#N/A"},{"$error":"#N/A"},{"$error":"#N/A"},{"$error":"#N/A"},{"$f":"VLOOKUP(E28,'Validation Logic'!$H$4:$O$16,8,FALSE)","v":{"$error":"#N/A"}},{"$f":"VLOOKUP(E28,'Validation Logic'!$H$4:$O$16,6,FALSE)","v":{"$error":"#N/A"}},{"$f":"VLOOKUP(E28,'Validation Logic'!$H$4:$O$16,7,FALSE)","v":{"$error":"#N/A"}},0,0,0,0,0,0,0]
[null,{"$f":"'Summary - Space Method'!C31","v":"S11"},"Interior",{"$f":"'Summary - Building Method'!$D$21:$G$21","v":0},{"$error":"#N/A"},{"$f":"'Summary - Space Method'!H31","v":0},{"$f":"'Summary - Space Method'!I31","v":0},{"$f":"'Summary - Space Method'!S31","v":""},{"$f":"IF(C29=\"Interior\",VLOOKUP(E29,'Validation Logic'!$H$4:$L$16,4,FALSE),IF(C29=\"Exterior\",'Validation Logic'!$L$4,\"-\"))","v":{"$error":"#N/A"}},{"$f":"IF(C29=\"Interior\",VLOOKUP(E29,'Validation Logic'!$H$4:$L$16,3,FALSE),IF(C29=\"Exterior\",'Validation Logic'!$L$4,\"-\"))","v":{"$error":"#N/A"}},{"$error":"#N/A"},{"$error":"#N/A"},{"$error":"#N/A"},{"$error":"#N/A"},{"$error":"#N/A"},{"$error":"#N/A"},{"$error":"#N/A"},{"$error":"#N/A"},{"$error":"#N/A"},{"$error":"#N/A"},{"$error":"#N/A"},{"$error":"#N/A"},{"$error":"#N/A"},{"$error":"#N/A"},{"$error":"#N/A"},{"$error":"#N/A"},{"$error":"#N/A"},{"$error":"#N/A"},{"$error":"#N/A"},{"$error":"#N/A"},{"$error":"#N/A"},{"$error":"#N/A"},{"$error":"#N/A"},{"$error":"#N/A"},{"$error":"#N/A"},{"$error":"#N/A"},{"$error":"#N/A"},{"$error":"#N/A"},{"$error":"#N/A"},{"$error":"#N/A"},{"$f":"VLOOKUP(E29,'Validation Logic'!$H$4:$O$16,8,FALSE)","v":{"$error":"#N/A"}},{"$f":"VLOOKUP(E29,'Validation Logic'!$H$4:$O$16,6,FALSE)","v":{"$error":"#N/A"}},{"$f":"VLOOKUP(E29,'Validation Logic'!$H$4:$O$16,7,FALSE)","v":{"$error":"#N/A"}},0,0,0,0,0,0,0]
[null,{"$f":"'Summary - Space Method'!C32","v":"S12"},"Interior",{"$f":"'Summary - Building Method'!$D$21:$G$21","v":0},{"$error":"#N/A"},{"$f":"'Summary - Space Method'!H32","v":0},{"$f":"'Summary - Space Method'!I32","v":0},{"$f":"'Summary - Space Method'!S32","v":""},{"$f":"IF(C30=\"Interior\",VLOOKUP(E30,'Validation Logic'!$H$4:$L$16,4,FALSE),IF(C30=\"Exterior\",'Validation Logic'!$L$4,\"-\"))","v":{"$error":"#N/A"}},{"$f":"IF(C30=\"Interior\",VLOOKUP(E30,'Validation Logic'!$H$4:$L$16,3,FALSE),IF(C30=\"Exterior\",'Validation Logic'!$L$4,\"-\"))","v":{"$error":"#N/A"}},{"$error":"#N/A"},{"$error":"#N/A"},{"$error":"#N/A"},{"$error":"#N/A"},{"$error":"#N/A"},{"$error":"#N/A"},{"$error":"#N/A"},{"$error":"#N/A"},{"$error":"#N/A"},{"$error":"#N/A"},{"$error":"#N/A"},{"$error":"#N/A"},{"$error":"#N/A"},{"$error":"#N/A"},{"$error":"#N/A"},{"$error":"#N/A"},{"$error":"#N/A"},{"$error":"#N/A"},{"$error":"#N/A"},{"$error":"#N/A"},{"$error":"#N/A"},{"$error":"#N/A"},{"$error":"#N/A"},{"$error":"#N/A"},{"$error":"#N/A"},{"$error":"#N/A"},{"$error":"#N/A"},{"$error":"#N/A"},{"$error":"#N/A"},{"$error":"#N/A"},{"$f":"VLOOKUP(E30,'Validation Logic'!$H$4:$O$16,8,FALSE)","v":{"$error":"#N/A"}},{"$f":"VLOOKUP(E30,'Validation Logic'!$H$4:$O$16,6,FALSE)","v":{"$error":"#N/A"}},{"$f":"VLOOKUP(E30,'Validation Logic'!$H$4:$O$16,7,FALSE)","v":{"$error":"#N/A"}},0,0,0,0,0,0,0]
[null,{"$f":"'Summary - Space Method'!C33","v":"S13"},"Interior",{"$f":"'Summary - Building Method'!$D$21:$G$21","v":0},{"$error":"#N/A"},{"$f":"'Summary - Space Method'!H33","v":0},{"$f":"'Summary - Space Method'!I33","v":0},{"$f":"'Summary - Space Method'!S33","v":""},{"$f":"IF(C31=\"Interior\",VLOOKUP(E31,'Validation Logic'!$H$4:$L$16,4,FALSE),IF(C31=\"Exterior\",'Validation Logic'!$L$4,\"-\"))","v":{"$error":"#N/A"}},{"$f":"IF(C31=\"Interior\",VLOOKUP(E31,'Validation Logic'!$H$4:$L$16,3,FALSE),IF(C31=\"Exterior\",'Validation Logic'!$L$4,\"-\"))","v":{"$error":"#N/A"}},{"$error":"#N/A"},{"$error":"#N/A"},{"$error":"#N/A"},{"$error":"#N/A"},{"$error":"#N/A"},{"$error":"#N/A"},{"$error":"#N/A"},{"$error":"#N/A"},{"$error":"#N/A"},{"$error":"#N/A"},{"$error":"#N/A"},{"$error":"#N/A"},{"$error":"#N/A"},{"$error":"#N/A"},{"$error":"#N/A"},{"$error":"#N/A"},{"$error":"#N/A"},{"$error":"#N/A"},{"$error":"#N/A"},{"$error":"#N/A"},{"$error":"#N/A"},{"$error":"#N/A"},{"$error":"#N/A"},{"$error":"#N/A"},{"$error":"#N/A"},{"$error":"#N/A"},{"$error":"#N/A"},{"$error":"#N/A"},{"$error":"#N/A"},{"$error":"#N/A"},{"$f":"VLOOKUP(E31,'Validation Logic'!$H$4:$O$16,8,FALSE)","v":{"$error":"#N/A"}},{"$f":"VLOOKUP(E31,'Validation Logic'!$H$4:$O$16,6,FALSE)","v":{"$error":"#N/A"}},{"$f":"VLOOKUP(E31,'Validation Logic'!$H$4:$O$16,7,FALSE)","v":{"$error":"#N/A"}},0,0,0,0,0,0,0]
[null,{"$f":"'Summary - Space Method'!C34","v":"S14"},"Interior",{"$f":"'Summary - Building Method'!$D$21:$G$21","v":0},{"$error":"#N/A"},{"$f":"'Summary - Space Method'!H34","v":0},{"$f":"'Summary - Space Method'!I34","v":0},{"$f":"'Summary - Space Method'!S34","v":""},{"$f":"IF(C32=\"Interior\",VLOOKUP(E32,'Validation Logic'!$H$4:$L$16,4,FALSE),IF(C32=\"Exterior\",'Validation Logic'!$L$4,\"-\"))","v":{"$error":"#N/A"}},{"$f":"IF(C32=\"Interior\",VLOOKUP(E32,'Validation Logic'!$H$4:$L$16,3,FALSE),IF(C32=\"Exterior\",'Validation Logic'!$L$4,\"-\"))","v":{"$error":"#N/A"}},{"$error":"#N/A"},{"$error":"#N/A"},{"$error":"#N/A"},{"$error":"#N/A"},{"$error":"#N/A"},{"$error":"#N/A"},{"$error":"#N/A"},{"$error":"#N/A"},{"$error":"#N/A"},{"$error":"#N/A"},{"$error":"#N/A"},{"$error":"#N/A"},{"$error":"#N/A"},{"$error":"#N/A"},{"$error":"#N/A"},{"$error":"#N/A"},{"$error":"#N/A"},{"$error":"#N/A"},{"$error":"#N/A"},{"$error":"#N/A"},{"$error":"#N/A"},{"$error":"#N/A"},{"$error":"#N/A"},{"$error":"#N/A"},{"$error":"#N/A"},{"$error":"#N/A"},{"$error":"#N/A"},{"$error":"#N/A"},{"$error":"#N/A"},{"$error":"#N/A"},{"$f":"VLOOKUP(E32,'Validation Logic'!$H$4:$O$16,8,FALSE)","v":{"$error":"#N/A"}},{"$f":"VLOOKUP(E32,'Validation Logic'!$H$4:$O$16,6,FALSE)","v":{"$error":"#N/A"}},{"$f":"VLOOKUP(E32,'Validation Logic'!$H$4:$O$16,7,FALSE)","v":{"$error":"#N/A"}},0,0,0,0,0,0,0]
[null,{"$f":"'Summary - Space Method'!C35","v":"S15"},"Interior",{"$f":"'Summary - Building Method'!$D$21:$G$21","v":0},{"$error":"#N/A"},{"$f":"'Summary - Space Method'!H35","v":0},{"$f":"'Summary - Space Method'!I35","v":0},{"$f":"'Summary - Space Method'!S35","v":""},{"$f":"IF(C33=\"Interior\",VLOOKUP(E33,'Validation Logic'!$H$4:$L$16,4,FALSE),IF(C33=\"Exterior\",'Validation Logic'!$L$4,\"-\"))","v":{"$error":"#N/A"}},{"$f":"IF(C33=\"Interior\",VLOOKUP(E33,'Validation Logic'!$H$4:$L$16,3,FALSE),IF(C33=\"Exterior\",'Validation Logic'!$L$4,\"-\"))","v":{"$error":"#N/A"}},{"$error":"#N/A"},{"$error":"#N/A"},{"$error":"#N/A"},{"$error":"#N/A"},{"$error":"#N/A"},{"$error":"#N/A"},{"$error":"#N/A"},{"$error":"#N/A"},{"$error":"#N/A"},{"$error":"#N/A"},{"$error":"#N/A"},{"$error":"#N/A"},{"$error":"#N/A"},{"$error":"#N/A"},{"$error":"#N/A"},{"$error":"#N/A"},{"$error":"#N/A"},{"$error":"#N/A"},{"$error":"#N/A"},{"$error":"#N/A"},{"$error":"#N/A"},{"$error":"#N/A"},{"$error":"#N/A"},{"$error":"#N/A"},{"$error":"#N/A"},{"$error":"#N/A"},{"$error":"#N/A"},{"$error":"#N/A"},{"$error":"#N/A"},{"$error":"#N/A"},{"$f":"VLOOKUP(E33,'Validation Logic'!$H$4:$O$16,8,FALSE)","v":{"$error":"#N/A"}},{"$f":"VLOOKUP(E33,'Validation Logic'!$H$4:$O$16,6,FALSE)","v":{"$error":"#N/A"}},{"$f":"VLOOKUP(E33,'Validation Logic'!$H$4:$O$16,7,FALSE)","v":{"$error":"#N/A"}},0,0,0,0,0,0,0,null,null,"Mid-Atlantic TRM "]
[null,{"$f":"'Summary - Space Method'!C36","v":"S16"},"Interior",{"$f":"'Summary - Building Method'!$D$21:$G$21","v":0},{"$error":"#N/A"},{"$f":"'Summary - Space Method'!H36","v":0},{"$f":"'Summary - Space Method'!I36","v":0},{"$f":"'Summary - Space Method'!S36","v":""},{"$f":"IF(C34=\"Interior\",VLOOKUP(E34,'Validation Logic'!$H$4:$L$16,4,FALSE),IF(C34=\"Exterior\",'Validation Logic'!$L$4,\"-\"))","v":{"$error":"#N/A"}},{"$f":"IF(C34=\"Interior\",VLOOKUP(E34,'Validation Logic'!$H$4:$L$16,3,FALSE),IF(C34=\"Exterior\",'Validation Logic'!$L$4,\"-\"))","v":{"$error":"#N/A"}},{"$error":"#N/A"},{"$error":"#N/A"},{"$error":"#N/A"},{"$error":"#N/A"},{"$error":"#N/A"},{"$error":"#N/A"},{"$error":"#N/A"},{"$error":"#N/A"},{"$error":"#N/A"},{"$error":"#N/A"},{"$error":"#N/A"},{"$error":"#N/A"},{"$error":"#N/A"},{"$error":"#N/A"},{"$error":"#N/A"},{"$error":"#N/A"},{"$error":"#N/A"},{"$error":"#N/A"},{"$error":"#N/A"},{"$error":"#N/A"},{"$error":"#N/A"},{"$error":"#N/A"},{"$error":"#N/A"},{"$error":"#N/A"},{"$error":"#N/A"},{"$error":"#N/A"},{"$error":"#N/A"},{"$error":"#N/A"},{"$error":"#N/A"},{"$error":"#N/A"},{"$f":"VLOOKUP(E34,'Validation Logic'!$H$4:$O$16,8,FALSE)","v":{"$error":"#N/A"}},{"$f":"VLOOKUP(E34,'Validation Logic'!$H$4:$O$16,6,FALSE)","v":{"$error":"#N/A"}},{"$f":"VLOOKUP(E34,'Validation Logic'!$H$4:$O$16,7,FALSE)","v":{"$error":"#N/A"}},0,0,0,0,0,0,0]
[null,{"$f":"'Summary - Space Method'!C37","v":"S17"},"Interior",{"$f":"'Summary - Building Method'!$D$21:$G$21","v":0},{"$error":"#N/A"},{"$f":"'Summary - Space Method'!H37","v":0},{"$f":"'Summary - Space Method'!I37","v":0},{"$f":"'Summary - Space Method'!S37","v":""},{"$f":"IF(C35=\"Interior\",VLOOKUP(E35,'Validation Logic'!$H$4:$L$16,4,FALSE),IF(C35=\"Exterior\",'Validation Logic'!$L$4,\"-\"))","v":{"$error":"#N/A"}},{"$f":"IF(C35=\"Interior\",VLOOKUP(E35,'Validation Logic'!$H$4:$L$16,3,FALSE),IF(C35=\"Exterior\",'Validation Logic'!$L$4,\"-\"))","v":{"$error":"#N/A"}},{"$error":"#N/A"},{"$error":"#N/A"},{"$error":"#N/A"},{"$error":"#N/A"},{"$error":"#N/A"},{"$error":"#N/A"},{"$error":"#N/A"},{"$error":"#N/A"},{"$error":"#N/A"},{"$error":"#N/A"},{"$error":"#N/A"},{"$error":"#N/A"},{"$error":"#N/A"},{"$error":"#N/A"},{"$error":"#N/A"},{"$error":"#N/A"},{"$error":"#N/A"},{"$error":"#N/A"},{"$error":"#N/A"},{"$error":"#N/A"},{"$error":"#N/A"},{"$error":"#N/A"},{"$error":"#N/A"},{"$error":"#N/A"},{"$error":"#N/A"},{"$error":"#N/A"},{"$error":"#N/A"},{"$error":"#N/A"},{"$error":"#N/A"},{"$error":"#N/A"},{"$f":"VLOOKUP(E35,'Validation Logic'!$H$4:$O$16,8,FALSE)","v":{"$error":"#N/A"}},{"$f":"VLOOKUP(E35,'Validation Logic'!$H$4:$O$16,6,FALSE)","v":{"$error":"#N/A"}},{"$f":"VLOOKUP(E35,'Validation Logic'!$H$4:$O$16,7,FALSE)","v":{"$error":"#N/A"}},0,0,0,0,0,0,0]
[null,{"$f":"'Summary - Space Method'!C38","v":"S18"},"Interior",{"$f":"'Summary - Building Method'!$D$21:$G$21","v":0},{"$error":"#N/A"},{"$f":"'Summary - Space Method'!H38","v":0},{"$f":"'Summary - Space Method'!I38","v":0},{"$f":"'Summary - Space Method'!S38","v":""},{"$f":"IF(C36=\"Interior\",VLOOKUP(E36,'Validation Logic'!$H$4:$L$16,4,FALSE),IF(C36=\"Exterior\",'Validation Logic'!$L$4,\"-\"))","v":{"$error":"#N/A"}},{"$f":"IF(C36=\"Interior\",VLOOKUP(E36,'Validation Logic'!$H$4:$L$16,3,FALSE),IF(C36=\"Exterior\",'Validation Logic'!$L$4,\"-\"))","v":{"$error":"#N/A"}},{"$error":"#N/A"},{"$error":"#N/A"},{"$error":"#N/A"},{"$error":"#N/A"},{"$error":"#N/A"},{"$error":"#N/A"},{"$error":"#N/A"},{"$error":"#N/A"},{"$error":"#N/A"},{"$error":"#N/A"},{"$error":"#N/A"},{"$error":"#N/A"},{"$error":"#N/A"},{"$error":"#N/A"},{"$error":"#N/A"},{"$error":"#N/A"},{"$error":"#N/A"},{"$error":"#N/A"},{"$error":"#N/A"},{"$error":"#N/A"},{"$error":"#N/A"},{"$error":"#N/A"},{"$error":"#N/A"},{"$error":"#N/A"},{"$error":"#N/A"},{"$error":"#N/A"},{"$error":"#N/A"},{"$error":"#N/A"},{"$error":"#N/A"},{"$error":"#N/A"},{"$f":"VLOOKUP(E36,'Validation Logic'!$H$4:$O$16,8,FALSE)","v":{"$error":"#N/A"}},{"$f":"VLOOKUP(E36,'Validation Logic'!$H$4:$O$16,6,FALSE)","v":{"$error":"#N/A"}},{"$f":"VLOOKUP(E36,'Validation Logic'!$H$4:$O$16,7,FALSE)","v":{"$error":"#N/A"}},0,0,0,0,0,0,0]
[null,{"$f":"'Summary - Space Method'!C39","v":"S19"},"Interior",{"$f":"'Summary - Building Method'!$D$21:$G$21","v":0},{"$error":"#N/A"},{"$f":"'Summary - Space Method'!H39","v":0},{"$f":"'Summary - Space Method'!I39","v":0},{"$f":"'Summary - Space Method'!S39","v":""},{"$f":"IF(C37=\"Interior\",VLOOKUP(E37,'Validation Logic'!$H$4:$L$16,4,FALSE),IF(C37=\"Exterior\",'Validation Logic'!$L$4,\"-\"))","v":{"$error":"#N/A"}},{"$f":"IF(C37=\"Interior\",VLOOKUP(E37,'Validation Logic'!$H$4:$L$16,3,FALSE),IF(C37=\"Exterior\",'Validation Logic'!$L$4,\"-\"))","v":{"$error":"#N/A"}},{"$error":"#N/A"},{"$error":"#N/A"},{"$error":"#N/A"},{"$error":"#N/A"},{"$error":"#N/A"},{"$error":"#N/A"},{"$f":"IF(G37>M37,M37,G37)","v":{"$error":"#N/A"}},{"$f":"IF(SUM(Q37:Q37)=G37,0,IF(SUM(M37:N37)>G37,G37-SUM(Q37:Q37),N37))","v":{"$error":"#N/A"}},{"$f":"IF(SUM(Q37:R37)=G37,0,IF(SUM(M37:O37)>G37,G37-SUM(Q37:R37),O37))","v":{"$error":"#N/A"}},{"$f":"IF(SUM(Q37:S37)=G37,0,IF(SUM(M37:P37)>G37,G37-SUM(Q37:S37),P37))","v":{"$error":"#N/A"}},{"$error":"#N/A"},{"$error":"#N/A"},{"$error":"#N/A"},{"$error":"#N/A"},{"$error":"#N/A"},{"$error":"#N/A"},{"$error":"#N/A"},{"$error":"#N/A"},{"$error":"#N/A"},{"$error":"#N/A"},{"$error":"#N/A"},{"$error":"#N/A"},{"$error":"#N/A"},{"$error":"#N/A"},{"$error":"#N/A"},{"$error":"#N/A"},{"$f":"SUMPRODUCT($Q37:$T37,U37:X37)","v":{"$error":"#N/A"}},{"$f":"SUMPRODUCT($Q37:$T37,Y37:AB37)","v":{"$error":"#N/A"}},{"$f":"SUMPRODUCT($Q37:$T37,AC37:AF37)","v":{"$error":"#N/A"}},{"$f":"SUMPRODUCT($Q37:$T37,AG37:AJ37)","v":{"$error":"#N/A"}},{"$f":"VLOOKUP(E37,'Validation Logic'!$H$4:$O$16,8,FALSE)","v":{"$error":"#N/A"}},{"$f":"VLOOKUP(E37,'Validation Logic'!$H$4:$O$16,6,FALSE)","v":{"$error":"#N/A"}},{"$f":"VLOOKUP(E37,'Validation Logic'!$H$4:$O$16,7,FALSE)","v":{"$error":"#N/A"}},0,0,0,0,0,0,0]
[null,{"$f":"'Summary - Space Method'!C40","v":"S20"},"Interior",{"$f":"'Summary - Building Method'!$D$21:$G$21","v":0},{"$error":"#N/A"},{"$f":"'Summary - Space Method'!H40","v":0},{"$f":"'Summary - Space Method'!I40","v":0},{"$f":"'Summary - Space Method'!S40","v":""},{"$f":"IF(C38=\"Interior\",VLOOKUP(E38,'Validation Logic'!$H$4:$L$16,4,FALSE),IF(C38=\"Exterior\",'Validation Logic'!$L$4,\"-\"))","v":{"$error":"#N/A"}},{"$f":"IF(C38=\"Interior\",VLOOKUP(E38,'Validation Logic'!$H$4:$L$16,3,FALSE),IF(C38=\"Exterior\",'Validation Logic'!$L$4,\"-\"))","v":{"$error":"#N/A"}},{"$error":"#N/A"},{"$error":"#N/A"},{"$error":"#N/A"},{"$error":"#N/A"},{"$error":"#N/A"},{"$error":"#N/A"},{"$error":"#N/A"},{"$error":"#N/A"},{"$error":"#N/A"},{"$error":"#N/A"},{"$error":"#N/A"},{"$error":"#N/A"},{"$error":"#N/A"},{"$error":"#N/A"},{"$error":"#N/A"},{"$error":"#N/A"},{"$error":"#N/A"},{"$error":"#N/A"},{"$error":"#N/A"},{"$error":"#N/A"},{"$error":"#N/A"},{"$error":"#N/A"},{"$error":"#N/A"},{"$error":"#N/A"},{"$error":"#N/A"},{"$error":"#N/A"},{"$error":"#N/A"},{"$error":"#N/A"},{"$error":"#N/A"},{"$error":"#N/A"},{"$f":"VLOOKUP(E38,'Validation Logic'!$H$4:$O$16,8,FALSE)","v":{"$error":"#N/A"}},{"$f":"VLOOKUP(E38,'Validation Logic'!$H$4:$O$16,6,FALSE)","v":{"$error":"#N/A"}},{"$f":"VLOOKUP(E38,'Validation Logic'!$H$4:$O$16,7,FALSE)","v":{"$error":"#N/A"}},0,0,0,0,0,0,0]
[null,{"$f":"'Summary - Space Method'!C41","v":"S21"},"Interior",{"$f":"'Summary - Building Method'!$D$21:$G$21","v":0},{"$error":"#N/A"},{"$f":"'Summary - Space Method'!H41","v":0},{"$f":"'Summary - Space Method'!I41","v":0},{"$f":"'Summary - Space Method'!S41","v":""},{"$f":"IF(C39=\"Interior\",VLOOKUP(E39,'Validation Logic'!$H$4:$L$16,4,FALSE),IF(C39=\"Exterior\",'Validation Logic'!$L$4,\"-\"))","v":{"$error":"#N/A"}},{"$f":"IF(C39=\"Interior\",VLOOKUP(E39,'Validation Logic'!$H$4:$L$16,3,FALSE),IF(C39=\"Exterior\",'Validation Logic'!$L$4,\"-\"))","v":{"$error":"#N/A"}},{"$error":"#N/A"},{"$error":"#N/A"},{"$error":"#N/A"},{"$error":"#N/A"},{"$error":"#N/A"},{"$error":"#N/A"},{"$error":"#N/A"},{"$error":"#N/A"},{"$error":"#N/A"},{"$error":"#N/A"},{"$error":"#N/A"},{"$error":"#N/A"},{"$error":"#N/A"},{"$error":"#N/A"},{"$error":"#N/A"},{"$error":"#N/A"},{"$error":"#N/A"},{"$error":"#N/A"},{"$error":"#N/A"},{"$error":"#N/A"},{"$error":"#N/A"},{"$error":"#N/A"},{"$error":"#N/A"},{"$error":"#N/A"},{"$error":"#N/A"},{"$error":"#N/A"},{"$error":"#N/A"},{"$error":"#N/A"},{"$error":"#N/A"},{"$error":"#N/A"},{"$f":"VLOOKUP(E39,'Validation Logic'!$H$4:$O$16,8,FALSE)","v":{"$error":"#N/A"}},{"$f":"VLOOKUP(E39,'Validation Logic'!$H$4:$O$16,6,FALSE)","v":{"$error":"#N/A"}},{"$f":"VLOOKUP(E39,'Validation Logic'!$H$4:$O$16,7,FALSE)","v":{"$error":"#N/A"}},0,0,0,0,0,0,0]
[null,{"$f":"'Summary - Space Method'!C42","v":"S22"},"Interior",{"$f":"'Summary - Building Method'!$D$21:$G$21","v":0},{"$error":"#N/A"},{"$f":"'Summary - Space Method'!H42","v":0},{"$f":"'Summary - Space Method'!I42","v":0},{"$f":"'Summary - Space Method'!S42","v":""},{"$f":"IF(C40=\"Interior\",VLOOKUP(E40,'Validation Logic'!$H$4:$L$16,4,FALSE),IF(C40=\"Exterior\",'Validation Logic'!$L$4,\"-\"))","v":{"$error":"#N/A"}},{"$f":"IF(C40=\"Interior\",VLOOKUP(E40,'Validation Logic'!$H$4:$L$16,3,FALSE),IF(C40=\"Exterior\",'Validation Logic'!$L$4,\"-\"))","v":{"$error":"#N/A"}},{"$error":"#N/A"},{"$error":"#N/A"},{"$error":"#N/A"},{"$error":"#N/A"},{"$error":"#N/A"},{"$error":"#N/A"},{"$error":"#N/A"},{"$error":"#N/A"},{"$error":"#N/A"},{"$error":"#N/A"},{"$error":"#N/A"},{"$error":"#N/A"},{"$error":"#N/A"},{"$error":"#N/A"},{"$error":"#N/A"},{"$error":"#N/A"},{"$error":"#N/A"},{"$error":"#N/A"},{"$error":"#N/A"},{"$error":"#N/A"},{"$error":"#N/A"},{"$error":"#N/A"},{"$error":"#N/A"},{"$error":"#N/A"},{"$error":"#N/A"},{"$error":"#N/A"},{"$error":"#N/A"},{"$error":"#N/A"},{"$error":"#N/A"},{"$error":"#N/A"},{"$f":"VLOOKUP(E40,'Validation Logic'!$H$4:$O$16,8,FALSE)","v":{"$error":"#N/A"}},{"$f":"VLOOKUP(E40,'Validation Logic'!$H$4:$O$16,6,FALSE)","v":{"$error":"#N/A"}},{"$f":"VLOOKUP(E40,'Validation Logic'!$H$4:$O$16,7,FALSE)","v":{"$error":"#N/A"}},0,0,0,0,0,0,0]
[null,{"$f":"'Summary - Space Method'!C43","v":"S23"},"Interior",{"$f":"'Summary - Building Method'!$D$21:$G$21","v":0},{"$error":"#N/A"},{"$f":"'Summary - Space Method'!H43","v":0},{"$f":"'Summary - Space Method'!I43","v":0},{"$f":"'Summary - Space Method'!S43","v":""},{"$f":"IF(C41=\"Interior\",VLOOKUP(E41,'Validation Logic'!$H$4:$L$16,4,FALSE),IF(C41=\"Exterior\",'Validation Logic'!$L$4,\"-\"))","v":{"$error":"#N/A"}},{"$f":"IF(C41=\"Interior\",VLOOKUP(E41,'Validation Logic'!$H$4:$L$16,3,FALSE),IF(C41=\"Exterior\",'Validation Logic'!$L$4,\"-\"))","v":{"$error":"#N/A"}},{"$error":"#N/A"},{"$error":"#N/A"},{"$error":"#N/A"},{"$error":"#N/A"},{"$error":"#N/A"},{"$error":"#N/A"},{"$error":"#N/A"},{"$error":"#N/A"},{"$error":"#N/A"},{"$error":"#N/A"},{"$error":"#N/A"},{"$error":"#N/A"},{"$error":"#N/A"},{"$error":"#N/A"},{"$error":"#N/A"},{"$error":"#N/A"},{"$error":"#N/A"},{"$error":"#N/A"},{"$error":"#N/A"},{"$error":"#N/A"},{"$error":"#N/A"},{"$error":"#N/A"},{"$error":"#N/A"},{"$error":"#N/A"},{"$error":"#N/A"},{"$error":"#N/A"},{"$error":"#N/A"},{"$error":"#N/A"},{"$error":"#N/A"},{"$error":"#N/A"},{"$f":"VLOOKUP(E41,'Validation Logic'!$H$4:$O$16,8,FALSE)","v":{"$error":"#N/A"}},{"$f":"VLOOKUP(E41,'Validation Logic'!$H$4:$O$16,6,FALSE)","v":{"$error":"#N/A"}},{"$f":"VLOOKUP(E41,'Validation Logic'!$H$4:$O$16,7,FALSE)","v":{"$error":"#N/A"}},0,0,0,0,0,0,0]
[null,{"$f":"'Summary - Space Method'!C44","v":"S24"},"Interior",{"$f":"'Summary - Building Method'!$D$21:$G$21","v":0},{"$error":"#N/A"},{"$f":"'Summary - Space Method'!H44","v":0},{"$f":"'Summary - Space Method'!I44","v":0},{"$f":"'Summary - Space Method'!S44","v":""},{"$f":"IF(C42=\"Interior\",VLOOKUP(E42,'Validation Logic'!$H$4:$L$16,4,FALSE),IF(C42=\"Exterior\",'Validation Logic'!$L$4,\"-\"))","v":{"$error":"#N/A"}},{"$f":"IF(C42=\"Interior\",VLOOKUP(E42,'Validation Logic'!$H$4:$L$16,3,FALSE),IF(C42=\"Exterior\",'Validation Logic'!$L$4,\"-\"))","v":{"$error":"#N/A"}},{"$error":"#N/A"},{"$error":"#N/A"},{"$error":"#N/A"},{"$error":"#N/A"},{"$error":"#N/A"},{"$error":"#N/A"},{"$error":"#N/A"},{"$error":"#N/A"},{"$error":"#N/A"},{"$error":"#N/A"},{"$error":"#N/A"},{"$error":"#N/A"},{"$error":"#N/A"},{"$error":"#N/A"},{"$error":"#N/A"},{"$error":"#N/A"},{"$error":"#N/A"},{"$error":"#N/A"},{"$error":"#N/A"},{"$error":"#N/A"},{"$error":"#N/A"},{"$error":"#N/A"},{"$error":"#N/A"},{"$error":"#N/A"},{"$error":"#N/A"},{"$error":"#N/A"},{"$error":"#N/A"},{"$error":"#N/A"},{"$error":"#N/A"},{"$error":"#N/A"},{"$f":"VLOOKUP(E42,'Validation Logic'!$H$4:$O$16,8,FALSE)","v":{"$error":"#N/A"}},{"$f":"VLOOKUP(E42,'Validation Logic'!$H$4:$O$16,6,FALSE)","v":{"$error":"#N/A"}},{"$f":"VLOOKUP(E42,'Validation Logic'!$H$4:$O$16,7,FALSE)","v":{"$error":"#N/A"}},0,0,0,0,0,0,0]
[null,{"$f":"'Summary - Space Method'!C45","v":"S25"},"Interior",{"$f":"'Summary - Building Method'!$D$21:$G$21","v":0},{"$error":"#N/A"},{"$f":"'Summary - Space Method'!H45","v":0},{"$f":"'Summary - Space Method'!I45","v":0},{"$f":"'Summary - Space Method'!S45","v":""},{"$f":"IF(C43=\"Interior\",VLOOKUP(E43,'Validation Logic'!$H$4:$L$16,4,FALSE),IF(C43=\"Exterior\",'Validation Logic'!$L$4,\"-\"))","v":{"$error":"#N/A"}},{"$f":"IF(C43=\"Interior\",VLOOKUP(E43,'Validation Logic'!$H$4:$L$16,3,FALSE),IF(C43=\"Exterior\",'Validation Logic'!$L$4,\"-\"))","v":{"$error":"#N/A"}},{"$error":"#N/A"},{"$error":"#N/A"},{"$error":"#N/A"},{"$error":"#N/A"},{"$error":"#N/A"},{"$error":"#N/A"},{"$error":"#N/A"},{"$error":"#N/A"},{"$error":"#N/A"},{"$error":"#N/A"},{"$error":"#N/A"},{"$error":"#N/A"},{"$error":"#N/A"},{"$error":"#N/A"},{"$error":"#N/A"},{"$error":"#N/A"},{"$error":"#N/A"},{"$error":"#N/A"},{"$error":"#N/A"},{"$error":"#N/A"},{"$error":"#N/A"},{"$error":"#N/A"},{"$error":"#N/A"},{"$error":"#N/A"},{"$error":"#N/A"},{"$error":"#N/A"},{"$error":"#N/A"},{"$error":"#N/A"},{"$error":"#N/A"},{"$error":"#N/A"},{"$f":"VLOOKUP(E43,'Validation Logic'!$H$4:$O$16,8,FALSE)","v":{"$error":"#N/A"}},{"$f":"VLOOKUP(E43,'Validation Logic'!$H$4:$O$16,6,FALSE)","v":{"$error":"#N/A"}},{"$f":"VLOOKUP(E43,'Validation Logic'!$H$4:$O$16,7,FALSE)","v":{"$error":"#N/A"}},0,0,0,0,0,0,0]
[null,{"$f":"'Summary - Space Method'!C46","v":"S26"},"Interior",{"$f":"'Summary - Building Method'!$D$21:$G$21","v":0},{"$error":"#N/A"},{"$f":"'Summary - Space Method'!H46","v":0},{"$f":"'Summary - Space Method'!I46","v":0},{"$f":"'Summary - Space Method'!S46","v":""},{"$f":"IF(C44=\"Interior\",VLOOKUP(E44,'Validation Logic'!$H$4:$L$16,4,FALSE),IF(C44=\"Exterior\",'Validation Logic'!$L$4,\"-\"))","v":{"$error":"#N/A"}},{"$f":"IF(C44=\"Interior\",VLOOKUP(E44,'Validation Logic'!$H$4:$L$16,3,FALSE),IF(C44=\"Exterior\",'Validation Logic'!$L$4,\"-\"))","v":{"$error":"#N/A"}},{"$error":"#N/A"},{"$error":"#N/A"},{"$error":"#N/A"},{"$error":"#N/A"},{"$error":"#N/A"},{"$error":"#N/A"},{"$error":"#N/A"},{"$error":"#N/A"},{"$error":"#N/A"},{"$error":"#N/A"},{"$error":"#N/A"},{"$error":"#N/A"},{"$error":"#N/A"},{"$error":"#N/A"},{"$error":"#N/A"},{"$error":"#N/A"},{"$error":"#N/A"},{"$error":"#N/A"},{"$error":"#N/A"},{"$error":"#N/A"},{"$error":"#N/A"},{"$error":"#N/A"},{"$error":"#N/A"},{"$error":"#N/A"},{"$error":"#N/A"},{"$error":"#N/A"},{"$error":"#N/A"},{"$error":"#N/A"},{"$error":"#N/A"},{"$error":"#N/A"},{"$f":"VLOOKUP(E44,'Validation Logic'!$H$4:$O$16,8,FALSE)","v":{"$error":"#N/A"}},{"$f":"VLOOKUP(E44,'Validation Logic'!$H$4:$O$16,6,FALSE)","v":{"$error":"#N/A"}},{"$f":"VLOOKUP(E44,'Validation Logic'!$H$4:$O$16,7,FALSE)","v":{"$error":"#N/A"}},0,0,0,0,0,0,0]
[null,{"$f":"'Summary - Space Method'!C47","v":"S27"},"Interior",{"$f":"'Summary - Building Method'!$D$21:$G$21","v":0},{"$error":"#N/A"},{"$f":"'Summary - Space Method'!H47","v":0},{"$f":"'Summary - Space Method'!I47","v":0},{"$f":"'Summary - Space Method'!S47","v":""},{"$f":"IF(C45=\"Interior\",VLOOKUP(E45,'Validation Logic'!$H$4:$L$16,4,FALSE),IF(C45=\"Exterior\",'Validation Logic'!$L$4,\"-\"))","v":{"$error":"#N/A"}},{"$f":"IF(C45=\"Interior\",VLOOKUP(E45,'Validation Logic'!$H$4:$L$16,3,FALSE),IF(C45=\"Exterior\",'Validation Logic'!$L$4,\"-\"))","v":{"$error":"#N/A"}},{"$error":"#N/A"},{"$error":"#N/A"},{"$error":"#N/A"},{"$error":"#N/A"},{"$error":"#N/A"},{"$error":"#N/A"},{"$error":"#N/A"},{"$error":"#N/A"},{"$error":"#N/A"},{"$error":"#N/A"},{"$error":"#N/A"},{"$error":"#N/A"},{"$error":"#N/A"},{"$error":"#N/A"},{"$error":"#N/A"},{"$error":"#N/A"},{"$error":"#N/A"},{"$error":"#N/A"},{"$error":"#N/A"},{"$error":"#N/A"},{"$error":"#N/A"},{"$error":"#N/A"},{"$error":"#N/A"},{"$error":"#N/A"},{"$error":"#N/A"},{"$error":"#N/A"},{"$error":"#N/A"},{"$error":"#N/A"},{"$error":"#N/A"},{"$error":"#N/A"},{"$f":"VLOOKUP(E45,'Validation Logic'!$H$4:$O$16,8,FALSE)","v":{"$error":"#N/A"}},{"$f":"VLOOKUP(E45,'Validation Logic'!$H$4:$O$16,6,FALSE)","v":{"$error":"#N/A"}},{"$f":"VLOOKUP(E45,'Validation Logic'!$H$4:$O$16,7,FALSE)","v":{"$error":"#N/A"}},0,0,0,0,0,0,0]
[null,{"$f":"'Summary - Space Method'!C48","v":"S28"},"Interior",{"$f":"'Summary - Building Method'!$D$21:$G$21","v":0},{"$error":"#N/A"},{"$f":"'Summary - Space Method'!H48","v":0},{"$f":"'Summary - Space Method'!I48","v":0},{"$f":"'Summary - Space Method'!S48","v":""},{"$f":"IF(C46=\"Interior\",VLOOKUP(E46,'Validation Logic'!$H$4:$L$16,4,FALSE),IF(C46=\"Exterior\",'Validation Logic'!$L$4,\"-\"))","v":{"$error":"#N/A"}},{"$f":"IF(C46=\"Interior\",VLOOKUP(E46,'Validation Logic'!$H$4:$L$16,3,FALSE),IF(C46=\"Exterior\",'Validation Logic'!$L$4,\"-\"))","v":{"$error":"#N/A"}},{"$error":"#N/A"},{"$error":"#N/A"},{"$error":"#N/A"},{"$error":"#N/A"},{"$error":"#N/A"},{"$error":"#N/A"},{"$error":"#N/A"},{"$error":"#N/A"},{"$error":"#N/A"},{"$error":"#N/A"},{"$error":"#N/A"},{"$error":"#N/A"},{"$error":"#N/A"},{"$error":"#N/A"},{"$error":"#N/A"},{"$error":"#N/A"},{"$error":"#N/A"},{"$error":"#N/A"},{"$error":"#N/A"},{"$error":"#N/A"},{"$error":"#N/A"},{"$error":"#N/A"},{"$error":"#N/A"},{"$error":"#N/A"},{"$error":"#N/A"},{"$error":"#N/A"},{"$error":"#N/A"},{"$error":"#N/A"},{"$error":"#N/A"},{"$error":"#N/A"},{"$f":"VLOOKUP(E46,'Validation Logic'!$H$4:$O$16,8,FALSE)","v":{"$error":"#N/A"}},{"$f":"VLOOKUP(E46,'Validation Logic'!$H$4:$O$16,6,FALSE)","v":{"$error":"#N/A"}},{"$f":"VLOOKUP(E46,'Validation Logic'!$H$4:$O$16,7,FALSE)","v":{"$error":"#N/A"}},0,0,0,0,0,0,0]
[null,{"$f":"'Summary - Space Method'!C49","v":"S29"},"Interior",{"$f":"'Summary - Building Method'!$D$21:$G$21","v":0},{"$error":"#N/A"},{"$f":"'Summary - Space Method'!H49","v":0},{"$f":"'Summary - Space Method'!I49","v":0},{"$f":"'Summary - Space Method'!S49","v":""},{"$f":"IF(C47=\"Interior\",VLOOKUP(E47,'Validation Logic'!$H$4:$L$16,4,FALSE),IF(C47=\"Exterior\",'Validation Logic'!$L$4,\"-\"))","v":{"$error":"#N/A"}},{"$f":"IF(C47=\"Interior\",VLOOKUP(E47,'Validation Logic'!$H$4:$L$16,3,FALSE),IF(C47=\"Exterior\",'Validation Logic'!$L$4,\"-\"))","v":{"$error":"#N/A"}},{"$error":"#N/A"},{"$error":"#N/A"},{"$error":"#N/A"},{"$error":"#N/A"},{"$error":"#N/A"},{"$error":"#N/A"},{"$error":"#N/A"},{"$error":"#N/A"},{"$error":"#N/A"},{"$error":"#N/A"},{"$error":"#N/A"},{"$error":"#N/A"},{"$error":"#N/A"},{"$error":"#N/A"},{"$error":"#N/A"},{"$error":"#N/A"},{"$error":"#N/A"},{"$error":"#N/A"},{"$error":"#N/A"},{"$error":"#N/A"},{"$error":"#N/A"},{"$error":"#N/A"},{"$error":"#N/A"},{"$error":"#N/A"},{"$error":"#N/A"},{"$error":"#N/A"},{"$error":"#N/A"},{"$error":"#N/A"},{"$error":"#N/A"},{"$error":"#N/A"},{"$f":"VLOOKUP(E47,'Validation Logic'!$H$4:$O$16,8,FALSE)","v":{"$error":"#N/A"}},{"$f":"VLOOKUP(E47,'Validation Logic'!$H$4:$O$16,6,FALSE)","v":{"$error":"#N/A"}},{"$f":"VLOOKUP(E47,'Validation Logic'!$H$4:$O$16,7,FALSE)","v":{"$error":"#N/A"}},0,0,0,0,0,0,0]
[null,{"$f":"'Summary - Space Method'!C50","v":"S30"},"Interior",{"$f":"'Summary - Building Method'!$D$21:$G$21","v":0},{"$error":"#N/A"},{"$f":"'Summary - Space Method'!H50","v":0},{"$f":"'Summary - Space Method'!I50","v":0},{"$f":"'Summary - Space Method'!S50","v":""},{"$f":"IF(C48=\"Interior\",VLOOKUP(E48,'Validation Logic'!$H$4:$L$16,4,FALSE),IF(C48=\"Exterior\",'Validation Logic'!$L$4,\"-\"))","v":{"$error":"#N/A"}},{"$f":"IF(C48=\"Interior\",VLOOKUP(E48,'Validation Logic'!$H$4:$L$16,3,FALSE),IF(C48=\"Exterior\",'Validation Logic'!$L$4,\"-\"))","v":{"$error":"#N/A"}},{"$error":"#N/A"},{"$error":"#N/A"},{"$error":"#N/A"},{"$error":"#N/A"},{"$error":"#N/A"},{"$error":"#N/A"},{"$error":"#N/A"},{"$error":"#N/A"},{"$error":"#N/A"},{"$error":"#N/A"},{"$error":"#N/A"},{"$error":"#N/A"},{"$error":"#N/A"},{"$error":"#N/A"},{"$error":"#N/A"},{"$error":"#N/A"},{"$error":"#N/A"},{"$error":"#N/A"},{"$error":"#N/A"},{"$error":"#N/A"},{"$error":"#N/A"},{"$error":"#N/A"},{"$error":"#N/A"},{"$error":"#N/A"},{"$error":"#N/A"},{"$error":"#N/A"},{"$error":"#N/A"},{"$error":"#N/A"},{"$error":"#N/A"},{"$error":"#N/A"},{"$f":"VLOOKUP(E48,'Validation Logic'!$H$4:$O$16,8,FALSE)","v":{"$error":"#N/A"}},{"$f":"VLOOKUP(E48,'Validation Logic'!$H$4:$O$16,6,FALSE)","v":{"$error":"#N/A"}},{"$f":"VLOOKUP(E48,'Validation Logic'!$H$4:$O$16,7,FALSE)","v":{"$error":"#N/A"}},0,0,0,0,0,0,0]
[null,{"$f":"'Summary - Space Method'!C51","v":"S31"},"Interior",{"$f":"'Summary - Building Method'!$D$21:$G$21","v":0},{"$error":"#N/A"},{"$f":"'Summary - Space Method'!H51","v":0},{"$f":"'Summary - Space Method'!I51","v":0},{"$f":"'Summary - Space Method'!S51","v":""},{"$f":"IF(C49=\"Interior\",VLOOKUP(E49,'Validation Logic'!$H$4:$L$16,4,FALSE),IF(C49=\"Exterior\",'Validation Logic'!$L$4,\"-\"))","v":{"$error":"#N/A"}},{"$f":"IF(C49=\"Interior\",VLOOKUP(E49,'Validation Logic'!$H$4:$L$16,3,FALSE),IF(C49=\"Exterior\",'Validation Logic'!$L$4,\"-\"))","v":{"$error":"#N/A"}},{"$error":"#N/A"},{"$error":"#N/A"},{"$error":"#N/A"},{"$error":"#N/A"},{"$error":"#N/A"},{"$error":"#N/A"},{"$error":"#N/A"},{"$error":"#N/A"},{"$error":"#N/A"},{"$error":"#N/A"},{"$error":"#N/A"},{"$error":"#N/A"},{"$error":"#N/A"},{"$error":"#N/A"},{"$error":"#N/A"},{"$error":"#N/A"},{"$error":"#N/A"},{"$error":"#N/A"},{"$error":"#N/A"},{"$error":"#N/A"},{"$error":"#N/A"},{"$error":"#N/A"},{"$error":"#N/A"},{"$error":"#N/A"},{"$error":"#N/A"},{"$error":"#N/A"},{"$error":"#N/A"},{"$error":"#N/A"},{"$error":"#N/A"},{"$error":"#N/A"},{"$f":"VLOOKUP(E49,'Validation Logic'!$H$4:$O$16,8,FALSE)","v":{"$error":"#N/A"}},{"$f":"VLOOKUP(E49,'Validation Logic'!$H$4:$O$16,6,FALSE)","v":{"$error":"#N/A"}},{"$f":"VLOOKUP(E49,'Validation Logic'!$H$4:$O$16,7,FALSE)","v":{"$error":"#N/A"}},0,0,0,0,0,0,0]
[null,{"$f":"'Summary - Space Method'!C52","v":"S32"},"Interior",{"$f":"'Summary - Building Method'!$D$21:$G$21","v":0},{"$error":"#N/A"},{"$f":"'Summary - Space Method'!H52","v":0},{"$f":"'Summary - Space Method'!I52","v":0},{"$f":"'Summary - Space Method'!S52","v":""},{"$f":"IF(C50=\"Interior\",VLOOKUP(E50,'Validation Logic'!$H$4:$L$16,4,FALSE),IF(C50=\"Exterior\",'Validation Logic'!$L$4,\"-\"))","v":{"$error":"#N/A"}},{"$f":"IF(C50=\"Interior\",VLOOKUP(E50,'Validation Logic'!$H$4:$L$16,3,FALSE),IF(C50=\"Exterior\",'Validation Logic'!$L$4,\"-\"))","v":{"$error":"#N/A"}},{"$error":"#N/A"},{"$error":"#N/A"},{"$error":"#N/A"},{"$error":"#N/A"},{"$error":"#N/A"},{"$error":"#N/A"},{"$error":"#N/A"},{"$error":"#N/A"},{"$error":"#N/A"},{"$error":"#N/A"},{"$error":"#N/A"},{"$error":"#N/A"},{"$error":"#N/A"},{"$error":"#N/A"},{"$error":"#N/A"},{"$error":"#N/A"},{"$error":"#N/A"},{"$error":"#N/A"},{"$error":"#N/A"},{"$error":"#N/A"},{"$error":"#N/A"},{"$error":"#N/A"},{"$error":"#N/A"},{"$error":"#N/A"},{"$error":"#N/A"},{"$error":"#N/A"},{"$error":"#N/A"},{"$error":"#N/A"},{"$error":"#N/A"},{"$error":"#N/A"},{"$f":"VLOOKUP(E50,'Validation Logic'!$H$4:$O$16,8,FALSE)","v":{"$error":"#N/A"}},{"$f":"VLOOKUP(E50,'Validation Logic'!$H$4:$O$16,6,FALSE)","v":{"$error":"#N/A"}},{"$f":"VLOOKUP(E50,'Validation Logic'!$H$4:$O$16,7,FALSE)","v":{"$error":"#N/A"}},0,0,0,0,0,0,0]
[null,{"$f":"'Summary - Space Method'!C53","v":"S33"},"Interior",{"$f":"'Summary - Building Method'!$D$21:$G$21","v":0},{"$error":"#N/A"},{"$f":"'Summary - Space Method'!H53","v":0},{"$f":"'Summary - Space Method'!I53","v":0},{"$f":"'Summary - Space Method'!S53","v":""},{"$f":"IF(C51=\"Interior\",VLOOKUP(E51,'Validation Logic'!$H$4:$L$16,4,FALSE),IF(C51=\"Exterior\",'Validation Logic'!$L$4,\"-\"))","v":{"$error":"#N/A"}},{"$f":"IF(C51=\"Interior\",VLOOKUP(E51,'Validation Logic'!$H$4:$L$16,3,FALSE),IF(C51=\"Exterior\",'Validation Logic'!$L$4,\"-\"))","v":{"$error":"#N/A"}},{"$error":"#N/A"},{"$error":"#N/A"},{"$error":"#N/A"},{"$error":"#N/A"},{"$error":"#N/A"},{"$error":"#N/A"},{"$error":"#N/A"},{"$error":"#N/A"},{"$error":"#N/A"},{"$error":"#N/A"},{"$error":"#N/A"},{"$error":"#N/A"},{"$error":"#N/A"},{"$error":"#N/A"},{"$error":"#N/A"},{"$error":"#N/A"},{"$error":"#N/A"},{"$error":"#N/A"},{"$error":"#N/A"},{"$error":"#N/A"},{"$error":"#N/A"},{"$error":"#N/A"},{"$error":"#N/A"},{"$error":"#N/A"},{"$error":"#N/A"},{"$error":"#N/A"},{"$error":"#N/A"},{"$error":"#N/A"},{"$error":"#N/A"},{"$error":"#N/A"},{"$f":"VLOOKUP(E51,'Validation Logic'!$H$4:$O$16,8,FALSE)","v":{"$error":"#N/A"}},{"$f":"VLOOKUP(E51,'Validation Logic'!$H$4:$O$16,6,FALSE)","v":{"$error":"#N/A"}},{"$f":"VLOOKUP(E51,'Validation Logic'!$H$4:$O$16,7,FALSE)","v":{"$error":"#N/A"}},0,0,0,0,0,0,0]
[null,{"$f":"'Summary - Space Method'!C54","v":"S34"},"Interior",{"$f":"'Summary - Building Method'!$D$21:$G$21","v":0},{"$error":"#N/A"},{"$f":"'Summary - Space Method'!H54","v":0},{"$f":"'Summary - Space Method'!I54","v":0},{"$f":"'Summary - Space Method'!S54","v":""},{"$f":"IF(C52=\"Interior\",VLOOKUP(E52,'Validation Logic'!$H$4:$L$16,4,FALSE),IF(C52=\"Exterior\",'Validation Logic'!$L$4,\"-\"))","v":{"$error":"#N/A"}},{"$f":"IF(C52=\"Interior\",VLOOKUP(E52,'Validation Logic'!$H$4:$L$16,3,FALSE),IF(C52=\"Exterior\",'Validation Logic'!$L$4,\"-\"))","v":{"$error":"#N/A"}},{"$error":"#N/A"},{"$error":"#N/A"},{"$error":"#N/A"},{"$error":"#N/A"},{"$error":"#N/A"},{"$error":"#N/A"},{"$error":"#N/A"},{"$error":"#N/A"},{"$error":"#N/A"},{"$error":"#N/A"},{"$error":"#N/A"},{"$error":"#N/A"},{"$error":"#N/A"},{"$error":"#N/A"},{"$error":"#N/A"},{"$error":"#N/A"},{"$error":"#N/A"},{"$error":"#N/A"},{"$error":"#N/A"},{"$error":"#N/A"},{"$error":"#N/A"},{"$error":"#N/A"},{"$error":"#N/A"},{"$error":"#N/A"},{"$error":"#N/A"},{"$error":"#N/A"},{"$error":"#N/A"},{"$error":"#N/A"},{"$error":"#N/A"},{"$error":"#N/A"},{"$f":"VLOOKUP(E52,'Validation Logic'!$H$4:$O$16,8,FALSE)","v":{"$error":"#N/A"}},{"$f":"VLOOKUP(E52,'Validation Logic'!$H$4:$O$16,6,FALSE)","v":{"$error":"#N/A"}},{"$f":"VLOOKUP(E52,'Validation Logic'!$H$4:$O$16,7,FALSE)","v":{"$error":"#N/A"}},0,0,0,0,0,0,0]
[null,{"$f":"'Summary - Space Method'!C55","v":"S35"},"Interior",{"$f":"'Summary - Building Method'!$D$21:$G$21","v":0},{"$error":"#N/A"},{"$f":"'Summary - Space Method'!H55","v":0},{"$f":"'Summary - Space Method'!I55","v":0},{"$f":"'Summary - Space Method'!S55","v":""},{"$f":"IF(C53=\"Interior\",VLOOKUP(E53,'Validation Logic'!$H$4:$L$16,4,FALSE),IF(C53=\"Exterior\",'Validation Logic'!$L$4,\"-\"))","v":{"$error":"#N/A"}},{"$f":"IF(C53=\"Interior\",VLOOKUP(E53,'Validation Logic'!$H$4:$L$16,3,FALSE),IF(C53=\"Exterior\",'Validation Logic'!$L$4,\"-\"))","v":{"$error":"#N/A"}},{"$error":"#N/A"},{"$error":"#N/A"},{"$error":"#N/A"},{"$error":"#N/A"},{"$error":"#N/A"},{"$error":"#N/A"},{"$error":"#N/A"},{"$error":"#N/A"},{"$error":"#N/A"},{"$error":"#N/A"},{"$error":"#N/A"},{"$error":"#N/A"},{"$error":"#N/A"},{"$error":"#N/A"},{"$error":"#N/A"},{"$error":"#N/A"},{"$error":"#N/A"},{"$error":"#N/A"},{"$error":"#N/A"},{"$error":"#N/A"},{"$error":"#N/A"},{"$error":"#N/A"},{"$error":"#N/A"},{"$error":"#N/A"},{"$error":"#N/A"},{"$error":"#N/A"},{"$error":"#N/A"},{"$error":"#N/A"},{"$error":"#N/A"},{"$error":"#N/A"},{"$f":"VLOOKUP(E53,'Validation Logic'!$H$4:$O$16,8,FALSE)","v":{"$error":"#N/A"}},{"$f":"VLOOKUP(E53,'Validation Logic'!$H$4:$O$16,6,FALSE)","v":{"$error":"#N/A"}},{"$f":"VLOOKUP(E53,'Validation Logic'!$H$4:$O$16,7,FALSE)","v":{"$error":"#N/A"}},0,0,0,0,0,0,0]
[null,{"$f":"'Summary - Space Method'!C56","v":"S36"},"Interior",{"$f":"'Summary - Building Method'!$D$21:$G$21","v":0},{"$error":"#N/A"},{"$f":"'Summary - Space Method'!H56","v":0},{"$f":"'Summary - Space Method'!I56","v":0},{"$f":"'Summary - Space Method'!S56","v":""},{"$f":"IF(C54=\"Interior\",VLOOKUP(E54,'Validation Logic'!$H$4:$L$16,4,FALSE),IF(C54=\"Exterior\",'Validation Logic'!$L$4,\"-\"))","v":{"$error":"#N/A"}},{"$f":"IF(C54=\"Interior\",VLOOKUP(E54,'Validation Logic'!$H$4:$L$16,3,FALSE),IF(C54=\"Exterior\",'Validation Logic'!$L$4,\"-\"))","v":{"$error":"#N/A"}},{"$error":"#N/A"},{"$error":"#N/A"},{"$error":"#N/A"},{"$error":"#N/A"},{"$error":"#N/A"},{"$error":"#N/A"},{"$error":"#N/A"},{"$error":"#N/A"},{"$error":"#N/A"},{"$error":"#N/A"},{"$error":"#N/A"},{"$error":"#N/A"},{"$error":"#N/A"},{"$error":"#N/A"},{"$error":"#N/A"},{"$error":"#N/A"},{"$error":"#N/A"},{"$error":"#N/A"},{"$error":"#N/A"},{"$error":"#N/A"},{"$error":"#N/A"},{"$error":"#N/A"},{"$error":"#N/A"},{"$error":"#N/A"},{"$error":"#N/A"},{"$error":"#N/A"},{"$error":"#N/A"},{"$error":"#N/A"},{"$error":"#N/A"},{"$error":"#N/A"},{"$f":"VLOOKUP(E54,'Validation Logic'!$H$4:$O$16,8,FALSE)","v":{"$error":"#N/A"}},{"$f":"VLOOKUP(E54,'Validation Logic'!$H$4:$O$16,6,FALSE)","v":{"$error":"#N/A"}},{"$f":"VLOOKUP(E54,'Validation Logic'!$H$4:$O$16,7,FALSE)","v":{"$error":"#N/A"}},0,0,0,0,0,0,0]
[null,{"$f":"'Summary - Space Method'!C57","v":"S37"},"Interior",{"$f":"'Summary - Building Method'!$D$21:$G$21","v":0},{"$error":"#N/A"},{"$f":"'Summary - Space Method'!H57","v":0},{"$f":"'Summary - Space Method'!I57","v":0},{"$f":"'Summary - Space Method'!S57","v":""},{"$f":"IF(C55=\"Interior\",VLOOKUP(E55,'Validation Logic'!$H$4:$L$16,4,FALSE),IF(C55=\"Exterior\",'Validation Logic'!$L$4,\"-\"))","v":{"$error":"#N/A"}},{"$f":"IF(C55=\"Interior\",VLOOKUP(E55,'Validation Logic'!$H$4:$L$16,3,FALSE),IF(C55=\"Exterior\",'Validation Logic'!$L$4,\"-\"))","v":{"$error":"#N/A"}},{"$error":"#N/A"},{"$error":"#N/A"},{"$error":"#N/A"},{"$error":"#N/A"},{"$error":"#N/A"},{"$error":"#N/A"},{"$error":"#N/A"},{"$error":"#N/A"},{"$error":"#N/A"},{"$error":"#N/A"},{"$error":"#N/A"},{"$error":"#N/A"},{"$error":"#N/A"},{"$error":"#N/A"},{"$error":"#N/A"},{"$error":"#N/A"},{"$error":"#N/A"},{"$error":"#N/A"},{"$error":"#N/A"},{"$error":"#N/A"},{"$error":"#N/A"},{"$error":"#N/A"},{"$error":"#N/A"},{"$error":"#N/A"},{"$error":"#N/A"},{"$error":"#N/A"},{"$error":"#N/A"},{"$error":"#N/A"},{"$error":"#N/A"},{"$error":"#N/A"},{"$f":"VLOOKUP(E55,'Validation Logic'!$H$4:$O$16,8,FALSE)","v":{"$error":"#N/A"}},{"$f":"VLOOKUP(E55,'Validation Logic'!$H$4:$O$16,6,FALSE)","v":{"$error":"#N/A"}},{"$f":"VLOOKUP(E55,'Validation Logic'!$H$4:$O$16,7,FALSE)","v":{"$error":"#N/A"}},0,0,0,0,0,0,0]
[null,{"$f":"'Summary - Space Method'!C58","v":"S38"},"Interior",{"$f":"'Summary - Building Method'!$D$21:$G$21","v":0},{"$error":"#N/A"},{"$f":"'Summary - Space Method'!H58","v":0},{"$f":"'Summary - Space Method'!I58","v":0},{"$f":"'Summary - Space Method'!S58","v":""},{"$f":"IF(C56=\"Interior\",VLOOKUP(E56,'Validation Logic'!$H$4:$L$16,4,FALSE),IF(C56=\"Exterior\",'Validation Logic'!$L$4,\"-\"))","v":{"$error":"#N/A"}},{"$f":"IF(C56=\"Interior\",VLOOKUP(E56,'Validation Logic'!$H$4:$L$16,3,FALSE),IF(C56=\"Exterior\",'Validation Logic'!$L$4,\"-\"))","v":{"$error":"#N/A"}},{"$error":"#N/A"},{"$error":"#N/A"},{"$error":"#N/A"},{"$error":"#N/A"},{"$error":"#N/A"},{"$error":"#N/A"},{"$error":"#N/A"},{"$error":"#N/A"},{"$error":"#N/A"},{"$error":"#N/A"},{"$error":"#N/A"},{"$error":"#N/A"},{"$error":"#N/A"},{"$error":"#N/A"},{"$error":"#N/A"},{"$error":"#N/A"},{"$error":"#N/A"},{"$error":"#N/A"},{"$error":"#N/A"},{"$error":"#N/A"},{"$error":"#N/A"},{"$error":"#N/A"},{"$error":"#N/A"},{"$error":"#N/A"},{"$error":"#N/A"},{"$error":"#N/A"},{"$error":"#N/A"},{"$error":"#N/A"},{"$error":"#N/A"},{"$error":"#N/A"},{"$f":"VLOOKUP(E56,'Validation Logic'!$H$4:$O$16,8,FALSE)","v":{"$error":"#N/A"}},{"$f":"VLOOKUP(E56,'Validation Logic'!$H$4:$O$16,6,FALSE)","v":{"$error":"#N/A"}},{"$f":"VLOOKUP(E56,'Validation Logic'!$H$4:$O$16,7,FALSE)","v":{"$error":"#N/A"}},0,0,0,0,0,0,0]
[null,{"$f":"'Summary - Space Method'!C59","v":"S39"},"Interior",{"$f":"'Summary - Building Method'!$D$21:$G$21","v":0},{"$error":"#N/A"},{"$f":"'Summary - Space Method'!H59","v":0},{"$f":"'Summary - Space Method'!I59","v":0},{"$f":"'Summary - Space Method'!S59","v":""},{"$f":"IF(C57=\"Interior\",VLOOKUP(E57,'Validation Logic'!$H$4:$L$16,4,FALSE),IF(C57=\"Exterior\",'Validation Logic'!$L$4,\"-\"))","v":{"$error":"#N/A"}},{"$f":"IF(C57=\"Interior\",VLOOKUP(E57,'Validation Logic'!$H$4:$L$16,3,FALSE),IF(C57=\"Exterior\",'Validation Logic'!$L$4,\"-\"))","v":{"$error":"#N/A"}},{"$error":"#N/A"},{"$error":"#N/A"},{"$error":"#N/A"},{"$error":"#N/A"},{"$error":"#N/A"},{"$error":"#N/A"},{"$error":"#N/A"},{"$error":"#N/A"},{"$error":"#N/A"},{"$error":"#N/A"},{"$error":"#N/A"},{"$error":"#N/A"},{"$error":"#N/A"},{"$error":"#N/A"},{"$error":"#N/A"},{"$error":"#N/A"},{"$error":"#N/A"},{"$error":"#N/A"},{"$error":"#N/A"},{"$error":"#N/A"},{"$error":"#N/A"},{"$error":"#N/A"},{"$error":"#N/A"},{"$error":"#N/A"},{"$error":"#N/A"},{"$error":"#N/A"},{"$error":"#N/A"},{"$error":"#N/A"},{"$error":"#N/A"},{"$error":"#N/A"},{"$f":"VLOOKUP(E57,'Validation Logic'!$H$4:$O$16,8,FALSE)","v":{"$error":"#N/A"}},{"$f":"VLOOKUP(E57,'Validation Logic'!$H$4:$O$16,6,FALSE)","v":{"$error":"#N/A"}},{"$f":"VLOOKUP(E57,'Validation Logic'!$H$4:$O$16,7,FALSE)","v":{"$error":"#N/A"}},0,0,0,0,0,0,0]
[null,{"$f":"'Summary - Space Method'!C60","v":"S40"},"Interior",{"$f":"'Summary - Building Method'!$D$21:$G$21","v":0},{"$error":"#N/A"},{"$f":"'Summary - Space Method'!H60","v":0},{"$f":"'Summary - Space Method'!I60","v":0},{"$f":"'Summary - Space Method'!S60","v":""},{"$f":"IF(C58=\"Interior\",VLOOKUP(E58,'Validation Logic'!$H$4:$L$16,4,FALSE),IF(C58=\"Exterior\",'Validation Logic'!$L$4,\"-\"))","v":{"$error":"#N/A"}},{"$f":"IF(C58=\"Interior\",VLOOKUP(E58,'Validation Logic'!$H$4:$L$16,3,FALSE),IF(C58=\"Exterior\",'Validation Logic'!$L$4,\"-\"))","v":{"$error":"#N/A"}},{"$error":"#N/A"},{"$error":"#N/A"},{"$error":"#N/A"},{"$error":"#N/A"},{"$error":"#N/A"},{"$error":"#N/A"},{"$error":"#N/A"},{"$error":"#N/A"},{"$error":"#N/A"},{"$error":"#N/A"},{"$error":"#N/A"},{"$error":"#N/A"},{"$error":"#N/A"},{"$error":"#N/A"},{"$error":"#N/A"},{"$error":"#N/A"},{"$error":"#N/A"},{"$error":"#N/A"},{"$error":"#N/A"},{"$error":"#N/A"},{"$error":"#N/A"},{"$error":"#N/A"},{"$error":"#N/A"},{"$error":"#N/A"},{"$error":"#N/A"},{"$error":"#N/A"},{"$error":"#N/A"},{"$error":"#N/A"},{"$error":"#N/A"},{"$error":"#N/A"},{"$f":"VLOOKUP(E58,'Validation Logic'!$H$4:$O$16,8,FALSE)","v":{"$error":"#N/A"}},{"$f":"VLOOKUP(E58,'Validation Logic'!$H$4:$O$16,6,FALSE)","v":{"$error":"#N/A"}},{"$f":"VLOOKUP(E58,'Validation Logic'!$H$4:$O$16,7,FALSE)","v":{"$error":"#N/A"}},0,0,0,0,0,0,0]
[null,{"$f":"'Summary - Space Method'!C61","v":"S41"},"Interior",{"$f":"'Summary - Building Method'!$D$21:$G$21","v":0},{"$error":"#N/A"},{"$f":"'Summary - Space Method'!H61","v":0},{"$f":"'Summary - Space Method'!I61","v":0},{"$f":"'Summary - Space Method'!S61","v":""},{"$f":"IF(C59=\"Interior\",VLOOKUP(E59,'Validation Logic'!$H$4:$L$16,4,FALSE),IF(C59=\"Exterior\",'Validation Logic'!$L$4,\"-\"))","v":{"$error":"#N/A"}},{"$f":"IF(C59=\"Interior\",VLOOKUP(E59,'Validation Logic'!$H$4:$L$16,3,FALSE),IF(C59=\"Exterior\",'Validation Logic'!$L$4,\"-\"))","v":{"$error":"#N/A"}},{"$error":"#N/A"},{"$error":"#N/A"},{"$error":"#N/A"},{"$error":"#N/A"},{"$error":"#N/A"},{"$error":"#N/A"},{"$error":"#N/A"},{"$error":"#N/A"},{"$error":"#N/A"},{"$error":"#N/A"},{"$error":"#N/A"},{"$error":"#N/A"},{"$error":"#N/A"},{"$error":"#N/A"},{"$error":"#N/A"},{"$error":"#N/A"},{"$error":"#N/A"},{"$error":"#N/A"},{"$error":"#N/A"},{"$error":"#N/A"},{"$error":"#N/A"},{"$error":"#N/A"},{"$error":"#N/A"},{"$error":"#N/A"},{"$error":"#N/A"},{"$error":"#N/A"},{"$error":"#N/A"},{"$error":"#N/A"},{"$error":"#N/A"},{"$error":"#N/A"},{"$f":"VLOOKUP(E59,'Validation Logic'!$H$4:$O$16,8,FALSE)","v":{"$error":"#N/A"}},{"$f":"VLOOKUP(E59,'Validation Logic'!$H$4:$O$16,6,FALSE)","v":{"$error":"#N/A"}},{"$f":"VLOOKUP(E59,'Validation Logic'!$H$4:$O$16,7,FALSE)","v":{"$error":"#N/A"}},0,0,0,0,0,0,0]
[null,{"$f":"'Summary - Space Method'!C62","v":"S42"},"Interior",{"$f":"'Summary - Building Method'!$D$21:$G$21","v":0},{"$error":"#N/A"},{"$f":"'Summary - Space Method'!H62","v":0},{"$f":"'Summary - Space Method'!I62","v":0},{"$f":"'Summary - Space Method'!S62","v":""},{"$f":"IF(C60=\"Interior\",VLOOKUP(E60,'Validation Logic'!$H$4:$L$16,4,FALSE),IF(C60=\"Exterior\",'Validation Logic'!$L$4,\"-\"))","v":{"$error":"#N/A"}},{"$f":"IF(C60=\"Interior\",VLOOKUP(E60,'Validation Logic'!$H$4:$L$16,3,FALSE),IF(C60=\"Exterior\",'Validation Logic'!$L$4,\"-\"))","v":{"$error":"#N/A"}},{"$error":"#N/A"},{"$error":"#N/A"},{"$error":"#N/A"},{"$error":"#N/A"},{"$error":"#N/A"},{"$error":"#N/A"},{"$error":"#N/A"},{"$error":"#N/A"},{"$error":"#N/A"},{"$error":"#N/A"},{"$error":"#N/A"},{"$error":"#N/A"},{"$error":"#N/A"},{"$error":"#N/A"},{"$error":"#N/A"},{"$error":"#N/A"},{"$error":"#N/A"},{"$error":"#N/A"},{"$error":"#N/A"},{"$error":"#N/A"},{"$error":"#N/A"},{"$error":"#N/A"},{"$error":"#N/A"},{"$error":"#N/A"},{"$error":"#N/A"},{"$error":"#N/A"},{"$error":"#N/A"},{"$error":"#N/A"},{"$error":"#N/A"},{"$error":"#N/A"},{"$f":"VLOOKUP(E60,'Validation Logic'!$H$4:$O$16,8,FALSE)","v":{"$error":"#N/A"}},{"$f":"VLOOKUP(E60,'Validation Logic'!$H$4:$O$16,6,FALSE)","v":{"$error":"#N/A"}},{"$f":"VLOOKUP(E60,'Validation Logic'!$H$4:$O$16,7,FALSE)","v":{"$error":"#N/A"}},0,0,0,0,0,0,0]
[null,{"$f":"'Summary - Space Method'!C63","v":"S43"},"Interior",{"$f":"'Summary - Building Method'!$D$21:$G$21","v":0},{"$error":"#N/A"},{"$f":"'Summary - Space Method'!H63","v":0},{"$f":"'Summary - Space Method'!I63","v":0},{"$f":"'Summary - Space Method'!S63","v":""},{"$f":"IF(C61=\"Interior\",VLOOKUP(E61,'Validation Logic'!$H$4:$L$16,4,FALSE),IF(C61=\"Exterior\",'Validation Logic'!$L$4,\"-\"))","v":{"$error":"#N/A"}},{"$f":"IF(C61=\"Interior\",VLOOKUP(E61,'Validation Logic'!$H$4:$L$16,3,FALSE),IF(C61=\"Exterior\",'Validation Logic'!$L$4,\"-\"))","v":{"$error":"#N/A"}},{"$error":"#N/A"},{"$error":"#N/A"},{"$error":"#N/A"},{"$error":"#N/A"},{"$error":"#N/A"},{"$error":"#N/A"},{"$error":"#N/A"},{"$error":"#N/A"},{"$error":"#N/A"},{"$error":"#N/A"},{"$error":"#N/A"},{"$error":"#N/A"},{"$error":"#N/A"},{"$error":"#N/A"},{"$error":"#N/A"},{"$error":"#N/A"},{"$error":"#N/A"},{"$error":"#N/A"},{"$error":"#N/A"},{"$error":"#N/A"},{"$error":"#N/A"},{"$error":"#N/A"},{"$error":"#N/A"},{"$error":"#N/A"},{"$error":"#N/A"},{"$error":"#N/A"},{"$error":"#N/A"},{"$error":"#N/A"},{"$error":"#N/A"},{"$error":"#N/A"},{"$f":"VLOOKUP(E61,'Validation Logic'!$H$4:$O$16,8,FALSE)","v":{"$error":"#N/A"}},{"$f":"VLOOKUP(E61,'Validation Logic'!$H$4:$O$16,6,FALSE)","v":{"$error":"#N/A"}},{"$f":"VLOOKUP(E61,'Validation Logic'!$H$4:$O$16,7,FALSE)","v":{"$error":"#N/A"}},0,0,0,0,0,0,0]
[null,{"$f":"'Summary - Space Method'!C64","v":"S44"},"Interior",{"$f":"'Summary - Building Method'!$D$21:$G$21","v":0},{"$error":"#N/A"},{"$f":"'Summary - Space Method'!H64","v":0},{"$f":"'Summary - Space Method'!I64","v":0},{"$f":"'Summary - Space Method'!S64","v":""},{"$f":"IF(C62=\"Interior\",VLOOKUP(E62,'Validation Logic'!$H$4:$L$16,4,FALSE),IF(C62=\"Exterior\",'Validation Logic'!$L$4,\"-\"))","v":{"$error":"#N/A"}},{"$f":"IF(C62=\"Interior\",VLOOKUP(E62,'Validation Logic'!$H$4:$L$16,3,FALSE),IF(C62=\"Exterior\",'Validation Logic'!$L$4,\"-\"))","v":{"$error":"#N/A"}},{"$error":"#N/A"},{"$error":"#N/A"},{"$error":"#N/A"},{"$error":"#N/A"},{"$error":"#N/A"},{"$error":"#N/A"},{"$error":"#N/A"},{"$error":"#N/A"},{"$error":"#N/A"},{"$error":"#N/A"},{"$error":"#N/A"},{"$error":"#N/A"},{"$error":"#N/A"},{"$error":"#N/A"},{"$error":"#N/A"},{"$error":"#N/A"},{"$error":"#N/A"},{"$error":"#N/A"},{"$error":"#N/A"},{"$error":"#N/A"},{"$error":"#N/A"},{"$error":"#N/A"},{"$error":"#N/A"},{"$error":"#N/A"},{"$error":"#N/A"},{"$error":"#N/A"},{"$error":"#N/A"},{"$error":"#N/A"},{"$error":"#N/A"},{"$error":"#N/A"},{"$f":"VLOOKUP(E62,'Validation Logic'!$H$4:$O$16,8,FALSE)","v":{"$error":"#N/A"}},{"$f":"VLOOKUP(E62,'Validation Logic'!$H$4:$O$16,6,FALSE)","v":{"$error":"#N/A"}},{"$f":"VLOOKUP(E62,'Validation Logic'!$H$4:$O$16,7,FALSE)","v":{"$error":"#N/A"}},0,0,0,0,0,0,0]
[null,{"$f":"'Summary - Space Method'!C65","v":"S45"},"Interior",{"$f":"'Summary - Building Method'!$D$21:$G$21","v":0},{"$error":"#N/A"},{"$f":"'Summary - Space Method'!H65","v":0},{"$f":"'Summary - Space Method'!I65","v":0},{"$f":"'Summary - Space Method'!S65","v":""},{"$f":"IF(C63=\"Interior\",VLOOKUP(E63,'Validation Logic'!$H$4:$L$16,4,FALSE),IF(C63=\"Exterior\",'Validation Logic'!$L$4,\"-\"))","v":{"$error":"#N/A"}},{"$f":"IF(C63=\"Interior\",VLOOKUP(E63,'Validation Logic'!$H$4:$L$16,3,FALSE),IF(C63=\"Exterior\",'Validation Logic'!$L$4,\"-\"))","v":{"$error":"#N/A"}},{"$error":"#N/A"},{"$error":"#N/A"},{"$error":"#N/A"},{"$error":"#N/A"},{"$error":"#N/A"},{"$error":"#N/A"},{"$error":"#N/A"},{"$error":"#N/A"},{"$error":"#N/A"},{"$error":"#N/A"},{"$error":"#N/A"},{"$error":"#N/A"},{"$error":"#N/A"},{"$error":"#N/A"},{"$error":"#N/A"},{"$error":"#N/A"},{"$error":"#N/A"},{"$error":"#N/A"},{"$error":"#N/A"},{"$error":"#N/A"},{"$error":"#N/A"},{"$error":"#N/A"},{"$error":"#N/A"},{"$error":"#N/A"},{"$error":"#N/A"},{"$error":"#N/A"},{"$error":"#N/A"},{"$error":"#N/A"},{"$error":"#N/A"},{"$error":"#N/A"},{"$f":"VLOOKUP(E63,'Validation Logic'!$H$4:$O$16,8,FALSE)","v":{"$error":"#N/A"}},{"$f":"VLOOKUP(E63,'Validation Logic'!$H$4:$O$16,6,FALSE)","v":{"$error":"#N/A"}},{"$f":"VLOOKUP(E63,'Validation Logic'!$H$4:$O$16,7,FALSE)","v":{"$error":"#N/A"}},0,0,0,0,0,0,0]
[null,{"$f":"'Summary - Space Method'!C66","v":"S46"},"Interior",{"$f":"'Summary - Building Method'!$D$21:$G$21","v":0},{"$error":"#N/A"},{"$f":"'Summary - Space Method'!H66","v":0},{"$f":"'Summary - Space Method'!I66","v":0},{"$f":"'Summary - Space Method'!S66","v":""},{"$f":"IF(C64=\"Interior\",VLOOKUP(E64,'Validation Logic'!$H$4:$L$16,4,FALSE),IF(C64=\"Exterior\",'Validation Logic'!$L$4,\"-\"))","v":{"$error":"#N/A"}},{"$f":"IF(C64=\"Interior\",VLOOKUP(E64,'Validation Logic'!$H$4:$L$16,3,FALSE),IF(C64=\"Exterior\",'Validation Logic'!$L$4,\"-\"))","v":{"$error":"#N/A"}},{"$error":"#N/A"},{"$error":"#N/A"},{"$error":"#N/A"},{"$error":"#N/A"},{"$error":"#N/A"},{"$error":"#N/A"},{"$error":"#N/A"},{"$error":"#N/A"},{"$error":"#N/A"},{"$error":"#N/A"},{"$error":"#N/A"},{"$error":"#N/A"},{"$error":"#N/A"},{"$error":"#N/A"},{"$error":"#N/A"},{"$error":"#N/A"},{"$error":"#N/A"},{"$error":"#N/A"},{"$error":"#N/A"},{"$error":"#N/A"},{"$error":"#N/A"},{"$error":"#N/A"},{"$error":"#N/A"},{"$error":"#N/A"},{"$error":"#N/A"},{"$error":"#N/A"},{"$error":"#N/A"},{"$error":"#N/A"},{"$error":"#N/A"},{"$error":"#N/A"},{"$f":"VLOOKUP(E64,'Validation Logic'!$H$4:$O$16,8,FALSE)","v":{"$error":"#N/A"}},{"$f":"VLOOKUP(E64,'Validation Logic'!$H$4:$O$16,6,FALSE)","v":{"$error":"#N/A"}},{"$f":"VLOOKUP(E64,'Validation Logic'!$H$4:$O$16,7,FALSE)","v":{"$error":"#N/A"}},0,0,0,0,0,0,0]
[null,{"$f":"'Summary - Space Method'!C67","v":"S47"},"Interior",{"$f":"'Summary - Building Method'!$D$21:$G$21","v":0},{"$error":"#N/A"},{"$f":"'Summary - Space Method'!H67","v":0},{"$f":"'Summary - Space Method'!I67","v":0},{"$f":"'Summary - Space Method'!S67","v":""},{"$f":"IF(C65=\"Interior\",VLOOKUP(E65,'Validation Logic'!$H$4:$L$16,4,FALSE),IF(C65=\"Exterior\",'Validation Logic'!$L$4,\"-\"))","v":{"$error":"#N/A"}},{"$f":"IF(C65=\"Interior\",VLOOKUP(E65,'Validation Logic'!$H$4:$L$16,3,FALSE),IF(C65=\"Exterior\",'Validation Logic'!$L$4,\"-\"))","v":{"$error":"#N/A"}},{"$error":"#N/A"},{"$error":"#N/A"},{"$error":"#N/A"},{"$error":"#N/A"},{"$error":"#N/A"},{"$error":"#N/A"},{"$f":"IF(G65>M65,M65,G65)","v":{"$error":"#N/A"}},{"$f":"IF(SUM(Q65:Q65)=G65,0,IF(SUM(M65:N65)>G65,G65-SUM(Q65:Q65),N65))","v":{"$error":"#N/A"}},{"$f":"IF(SUM(Q65:R65)=G65,0,IF(SUM(M65:O65)>G65,G65-SUM(Q65:R65),O65))","v":{"$error":"#N/A"}},{"$f":"IF(SUM(Q65:S65)=G65,0,IF(SUM(M65:P65)>G65,G65-SUM(Q65:S65),P65))","v":{"$error":"#N/A"}},{"$error":"#N/A"},{"$error":"#N/A"},{"$error":"#N/A"},{"$error":"#N/A"},{"$error":"#N/A"},{"$error":"#N/A"},{"$error":"#N/A"},{"$error":"#N/A"},{"$error":"#N/A"},{"$error":"#N/A"},{"$error":"#N/A"},{"$error":"#N/A"},{"$error":"#N/A"},{"$error":"#N/A"},{"$error":"#N/A"},{"$error":"#N/A"},{"$f":"SUMPRODUCT($Q65:$T65,U65:X65)","v":{"$error":"#N/A"}},{"$f":"SUMPRODUCT($Q65:$T65,Y65:AB65)","v":{"$error":"#N/A"}},{"$f":"SUMPRODUCT($Q65:$T65,AC65:AF65)","v":{"$error":"#N/A"}},{"$f":"SUMPRODUCT($Q65:$T65,AG65:AJ65)","v":{"$error":"#N/A"}},{"$f":"VLOOKUP(E65,'Validation Logic'!$H$4:$O$16,8,FALSE)","v":{"$error":"#N/A"}},{"$f":"VLOOKUP(E65,'Validation Logic'!$H$4:$O$16,6,FALSE)","v":{"$error":"#N/A"}},{"$f":"VLOOKUP(E65,'Validation Logic'!$H$4:$O$16,7,FALSE)","v":{"$error":"#N/A"}},0,0,0,0,0,0,0]
[null,{"$f":"'Summary - Space Method'!C68","v":"S48"},"Interior",{"$f":"'Summary - Building Method'!$D$21:$G$21","v":0},{"$error":"#N/A"},{"$f":"'Summary - Space Method'!H68","v":0},{"$f":"'Summary - Space Method'!I68","v":0},{"$f":"'Summary - Space Method'!S68","v":""},{"$f":"IF(C66=\"Interior\",VLOOKUP(E66,'Validation Logic'!$H$4:$L$16,4,FALSE),IF(C66=\"Exterior\",'Validation Logic'!$L$4,\"-\"))","v":{"$error":"#N/A"}},{"$f":"IF(C66=\"Interior\",VLOOKUP(E66,'Validation Logic'!$H$4:$L$16,3,FALSE),IF(C66=\"Exterior\",'Validation Logic'!$L$4,\"-\"))","v":{"$error":"#N/A"}},{"$error":"#N/A"},{"$error":"#N/A"},{"$error":"#N/A"},{"$error":"#N/A"},{"$error":"#N/A"},{"$error":"#N/A"},{"$error":"#N/A"},{"$error":"#N/A"},{"$error":"#N/A"},{"$error":"#N/A"},{"$error":"#N/A"},{"$error":"#N/A"},{"$error":"#N/A"},{"$error":"#N/A"},{"$error":"#N/A"},{"$error":"#N/A"},{"$error":"#N/A"},{"$error":"#N/A"},{"$error":"#N/A"},{"$error":"#N/A"},{"$error":"#N/A"},{"$error":"#N/A"},{"$error":"#N/A"},{"$error":"#N/A"},{"$error":"#N/A"},{"$error":"#N/A"},{"$error":"#N/A"},{"$error":"#N/A"},{"$error":"#N/A"},{"$error":"#N/A"},{"$f":"VLOOKUP(E66,'Validation Logic'!$H$4:$O$16,8,FALSE)","v":{"$error":"#N/A"}},{"$f":"VLOOKUP(E66,'Validation Logic'!$H$4:$O$16,6,FALSE)","v":{"$error":"#N/A"}},{"$f":"VLOOKUP(E66,'Validation Logic'!$H$4:$O$16,7,FALSE)","v":{"$error":"#N/A"}},0,0,0,0,0,0,0]
[null,{"$f":"'Summary - Space Method'!C69","v":"S49"},"Interior",{"$f":"'Summary - Building Method'!$D$21:$G$21","v":0},{"$error":"#N/A"},{"$f":"'Summary - Space Method'!H69","v":0},{"$f":"'Summary - Space Method'!I69","v":0},{"$f":"'Summary - Space Method'!S69","v":""},{"$f":"IF(C67=\"Interior\",VLOOKUP(E67,'Validation Logic'!$H$4:$L$16,4,FALSE),IF(C67=\"Exterior\",'Validation Logic'!$L$4,\"-\"))","v":{"$error":"#N/A"}},{"$f":"IF(C67=\"Interior\",VLOOKUP(E67,'Validation Logic'!$H$4:$L$16,3,FALSE),IF(C67=\"Exterior\",'Validation Logic'!$L$4,\"-\"))","v":{"$error":"#N/A"}},{"$error":"#N/A"},{"$error":"#N/A"},{"$error":"#N/A"},{"$error":"#N/A"},{"$error":"#N/A"},{"$error":"#N/A"},{"$error":"#N/A"},{"$error":"#N/A"},{"$error":"#N/A"},{"$error":"#N/A"},{"$error":"#N/A"},{"$error":"#N/A"},{"$error":"#N/A"},{"$error":"#N/A"},{"$error":"#N/A"},{"$error":"#N/A"},{"$error":"#N/A"},{"$error":"#N/A"},{"$error":"#N/A"},{"$error":"#N/A"},{"$error":"#N/A"},{"$error":"#N/A"},{"$error":"#N/A"},{"$error":"#N/A"},{"$error":"#N/A"},{"$error":"#N/A"},{"$error":"#N/A"},{"$error":"#N/A"},{"$error":"#N/A"},{"$error":"#N/A"},{"$f":"VLOOKUP(E67,'Validation Logic'!$H$4:$O$16,8,FALSE)","v":{"$error":"#N/A"}},{"$f":"VLOOKUP(E67,'Validation Logic'!$H$4:$O$16,6,FALSE)","v":{"$error":"#N/A"}},{"$f":"VLOOKUP(E67,'Validation Logic'!$H$4:$O$16,7,FALSE)","v":{"$error":"#N/A"}},0,0,0,0,0,0,0]
[null,{"$f":"'Summary - Space Method'!C70","v":"S50"},"Interior",{"$f":"'Summary - Building Method'!$D$21:$G$21","v":0},{"$error":"#N/A"},{"$f":"'Summary - Space Method'!H70","v":0},{"$f":"'Summary - Space Method'!I70","v":0},{"$f":"'Summary - Space Method'!S70","v":""},{"$f":"IF(C68=\"Interior\",VLOOKUP(E68,'Validation Logic'!$H$4:$L$16,4,FALSE),IF(C68=\"Exterior\",'Validation Logic'!$L$4,\"-\"))","v":{"$error":"#N/A"}},{"$f":"IF(C68=\"Interior\",VLOOKUP(E68,'Validation Logic'!$H$4:$L$16,3,FALSE),IF(C68=\"Exterior\",'Validation Logic'!$L$4,\"-\"))","v":{"$error":"#N/A"}},{"$error":"#N/A"},{"$error":"#N/A"},{"$error":"#N/A"},{"$error":"#N/A"},{"$error":"#N/A"},{"$error":"#N/A"},{"$error":"#N/A"},{"$error":"#N/A"},{"$error":"#N/A"},{"$error":"#N/A"},{"$error":"#N/A"},{"$error":"#N/A"},{"$error":"#N/A"},{"$error":"#N/A"},{"$error":"#N/A"},{"$error":"#N/A"},{"$error":"#N/A"},{"$error":"#N/A"},{"$error":"#N/A"},{"$error":"#N/A"},{"$error":"#N/A"},{"$error":"#N/A"},{"$error":"#N/A"},{"$error":"#N/A"},{"$error":"#N/A"},{"$error":"#N/A"},{"$error":"#N/A"},{"$error":"#N/A"},{"$error":"#N/A"},{"$error":"#N/A"},{"$f":"VLOOKUP(E68,'Validation Logic'!$H$4:$O$16,8,FALSE)","v":{"$error":"#N/A"}},{"$f":"VLOOKUP(E68,'Validation Logic'!$H$4:$O$16,6,FALSE)","v":{"$error":"#N/A"}},{"$f":"VLOOKUP(E68,'Validation Logic'!$H$4:$O$16,7,FALSE)","v":{"$error":"#N/A"}},0,0,0,0,0,0,0]
[null,"Exterior "]
[null,null,null,null,"Space type","Space Dimension",null,"Watts Reduced","Peak Coincidence Factor SSP","Peak Coincidence Factor PJM","Operating Hours Check","# Bin Profile","Max Operating Hours by Bin Priority",null,null,null,"Operating Hours by Bin Priority",null,null,null,"Peak Summer Fractions",null,null,null,"Off-Peak Summer Fractions",null,null,null,"Peak Winter Fractions",null,null,null,"Off-Peak Winter Fractions",null,null,null,"Hours of operation by season",null,null,null,"Waste Heat Factor (WHFe)","Waste Heat Factor (WHFd) PJM","Waste Heat Factor (WHFd) SSP","Peak Summer","Off-Peak Summer","Peak Winter","Off-peak winter","Summer PJM Peak ","Summer Coincident Peak "]
[null,"Entry","Location","Zone",null,null,"Operating Hours",null,null,null,null,null,"Bin 1","Bin 2","Bin 3","Bin 4","Bin 1","Bin 2","Bin 3","Bin 4","Bin 1","Bin 2","Bin 3","Bin 4","Bin 1","Bin 2","Bin 3","Bin 4","Bin 1","Bin 2","Bin 3","Bin 4","Bin 1","Bin 2","Bin 3","Bin 4","Peak \nSummer","Off-Peak \nSummer","Peak \nWinter","Off-peak \nWinter",null,null,null,"kWh savings","kWh savings","kWh savings","kWh savings","kW savings","kW savings"]
[null,{"$f":"'Exterior Lighting Inventory'!C21","v":"E1"},{"$f":"'Exterior Lighting Inventory'!D21","v":0},{"$f":"'Exterior Lighting Inventory'!E21","v":0},{"$f":"'Exterior Lighting Inventory'!F21","v":0},{"$f":"'Exterior Lighting Inventory'!G21","v":0},{"$f":"IF('Exterior Lighting Inventory'!I21<4380,'Exterior Lighting Inventory'!I21,4380)","v":0},{"$f":"'Exterior Lighting Inventory'!V21","v":"0"},{"$f":"'Validation Logic'!$L$4","v":3.6999999999999998E-2},{"$f":"'Validation Logic'!$L$4","v":3.6999999999999998E-2},null,null,null,null,null,null,null,null,null,null,6.0999999999999999E-2,null,null,null,0.218,null,null,null,0.23699999999999999,null,null,null,0.48399999999999999,null,null,null,{"$f":"U72*G72","v":0},{"$f":"Y72*G72","v":0},{"$f":"AC72*G72","v":0},{"$f":"AG72*G72","v":0},null,null,null,{"$f":"IF($H72*AK72/1000>0,$H72*AK72/1000,0)","v":0},{"$f":"IF($H72*AL72/1000>0,$H72*AL72/1000,0)","v":0},0,0]
[null,{"$f":"'Exterior Lighting Inventory'!C22","v":"E2"},{"$f":"'Exterior Lighting Inventory'!D22","v":0},{"$f":"'Exterior Lighting Inventory'!E22","v":0},{"$f":"'Exterior Lighting Inventory'!F22","v":0},{"$f":"'Exterior Lighting Inventory'!G22","v":0},{"$f":"IF('Exterior Lighting Inventory'!I22<4380,'Exterior Lighting Inventory'!I22,4380)","v":0},{"$f":"'Exterior Lighting Inventory'!V22","v":"0"},{"$f":"'Validation Logic'!$L$4","v":3.6999999999999998E-2},{"$f":"'Validation Logic'!$L$4","v":3.6999999999999998E-2},null,null,null,null,null,null,null,null,null,null,6.0999999999999999E-2,null,null,null,0.218,null,null,null,0.23699999999999999,null,null,null,0.48399999999999999,null,null,null,{"$f":"U73*G73","v":0},{"$f":"Y73*G73","v":0},{"$f":"AC73*G73","v":0},{"$f":"AG73*G73","v":0},null,null,null,{"$f":"IF($H73*AK73/1000>0,$H73*AK73/1000,0)","v":0},{"$f":"IF($H73*AL73/1000>0,$H73*AL73/1000,0)","v":0},{"$f":"IF($H73*AM73/1000>0,$H73*AM73/1000,0)","v":0},{"$f":"IF($H73*AN73/1000>0,$H73*AN73/1000,0)","v":0}]
[null,{"$f":"'Exterior Lighting Inventory'!C23","v":"E3"},{"$f":"'Exterior Lighting Inventory'!D23","v":0},{"$f":"'Exterior Lighting Inventory'!E23","v":0},{"$f":"'Exterior Lighting Inventory'!F23","v":0},{"$f":"'Exterior Lighting Inventory'!G23","v":0},{"$f":"IF('Exterior Lighting Inventory'!I23<4380,'Exterior Lighting Inventory'!I23,4380)","v":0},{"$f":"'Exterior Lighting Inventory'!V23","v":"0"},{"$f":"'Validation Logic'!$L$4","v":3.6999999999999998E-2},{"$f":"'Validation Logic'!$L$4","v":3.6999999999999998E-2},null,null,null,null,null,null,null,null,null,null,6.0999999999999999E-2,null,null,null,0.218,null,null,null,0.23699999999999999,null,null,null,0.48399999999999999,null,null,null,0,0,0,0,null,null,null,0,0,0,0]
[null,{"$f":"'Exterior Lighting Inventory'!C24","v":"E4"},{"$f":"'Exterior Lighting Inventory'!D24","v":0},{"$f":"'Exterior Lighting Inventory'!E24","v":0},{"$f":"'Exterior Lighting Inventory'!F24","v":0},{"$f":"'Exterior Lighting Inventory'!G24","v":0},{"$f":"IF('Exterior Lighting Inventory'!I24<4380,'Exterior Lighting Inventory'!I24,4380)","v":0},{"$f":"'Exterior Lighting Inventory'!V24","v":"0"},{"$f":"'Validation Logic'!$L$4","v":3.6999999999999998E-2},{"$f":"'Validation Logic'!$L$4","v":3.6999999999999998E-2},null,null,null,null,null,null,null,null,null,null,6.0999999999999999E-2,null,null,null,0.218,null,null,null,0.23699999999999999,null,null,null,0.48399999999999999,null,null,null,0,0,0,0,null,null,null,0,0,0,0]
[null,{"$f":"'Exterior Lighting Inventory'!C25","v":"E5"},{"$f":"'Exterior Lighting Inventory'!D25","v":0},{"$f":"'Exterior Lighting Inventory'!E25","v":0},{"$f":"'Exterior Lighting Inventory'!F25","v":0},{"$f":"'Exterior Lighting Inventory'!G25","v":0},{"$f":"IF('Exterior Lighting Inventory'!I25<4380,'Exterior Lighting Inventory'!I25,4380)","v":0},{"$f":"'Exterior Lighting Inventory'!V25","v":"0"},{"$f":"'Validation Logic'!$L$4","v":3.6999999999999998E-2},{"$f":"'Validation Logic'!$L$4","v":3.6999999999999998E-2},null,null,null,null,null,null,null,null,null,null,6.0999999999999999E-2,null,null,null,0.218,null,null,null,0.23699999999999999,null,null,null,0.48399999999999999,null,null,null,0,0,0,0,null,null,null,0,0,0,0]
[null,{"$f":"'Exterior Lighting Inventory'!C26","v":"E6"},{"$f":"'Exterior Lighting Inventory'!D26","v":0},{"$f":"'Exterior Lighting Inventory'!E26","v":0},{"$f":"'Exterior Lighting Inventory'!F26","v":0},{"$f":"'Exterior Lighting Inventory'!G26","v":0},{"$f":"IF('Exterior Lighting Inventory'!I26<4380,'Exterior Lighting Inventory'!I26,4380)","v":0},{"$f":"'Exterior Lighting Inventory'!V26","v":"0"},{"$f":"'Validation Logic'!$L$4","v":3.6999999999999998E-2},{"$f":"'Validation Logic'!$L$4","v":3.6999999999999998E-2},null,null,null,null,null,null,null,null,null,null,6.0999999999999999E-2,null,null,null,0.218,null,null,null,0.23699999999999999,null,null,null,0.48399999999999999,null,null,null,0,0,0,0,null,null,null,0,0,0,0]
[null,{"$f":"'Exterior Lighting Inventory'!C27","v":"E7"},{"$f":"'Exterior Lighting Inventory'!D27","v":0},{"$f":"'Exterior Lighting Inventory'!E27","v":0},{"$f":"'Exterior Lighting Inventory'!F27","v":0},{"$f":"'Exterior Lighting Inventory'!G27","v":0},{"$f":"IF('Exterior Lighting Inventory'!I27<4380,'Exterior Lighting Inventory'!I27,4380)","v":0},{"$f":"'Exterior Lighting Inventory'!V27","v":"0"},{"$f":"'Validation Logic'!$L$4","v":3.6999999999999998E-2},{"$f":"'Validation Logic'!$L$4","v":3.6999999999999998E-2},null,null,null,null,null,null,null,null,null,null,6.0999999999999999E-2,null,null,null,0.218,null,null,null,0.23699999999999999,null,null,null,0.48399999999999999,null,null,null,0,0,0,0,null,null,null,0,0,0,0]
[null,{"$f":"'Exterior Lighting Inventory'!C28","v":"E8"},{"$f":"'Exterior Lighting Inventory'!D28","v":0},{"$f":"'Exterior Lighting Inventory'!E28","v":0},{"$f":"'Exterior Lighting Inventory'!F28","v":0},{"$f":"'Exterior Lighting Inventory'!G28","v":0},{"$f":"IF('Exterior Lighting Inventory'!I28<4380,'Exterior Lighting Inventory'!I28,4380)","v":0},{"$f":"'Exterior Lighting Inventory'!V28","v":"0"},{"$f":"'Validation Logic'!$L$4","v":3.6999999999999998E-2},{"$f":"'Validation Logic'!$L$4","v":3.6999999999999998E-2},null,null,null,null,null,null,null,null,null,null,6.0999999999999999E-2,null,null,null,0.218,null,null,null,0.23699999999999999,null,null,null,0.48399999999999999,null,null,null,0,0,0,0,null,null,null,0,0,0,0]
[null,{"$f":"'Exterior Lighting Inventory'!C29","v":"E9"},{"$f":"'Exterior Lighting Inventory'!D29","v":0},{"$f":"'Exterior Lighting Inventory'!E29","v":0},{"$f":"'Exterior Lighting Inventory'!F29","v":0},{"$f":"'Exterior Lighting Inventory'!G29","v":0},{"$f":"IF('Exterior Lighting Inventory'!I29<4380,'Exterior Lighting Inventory'!I29,4380)","v":0},{"$f":"'Exterior Lighting Inventory'!V29","v":"0"},{"$f":"'Validation Logic'!$L$4","v":3.6999999999999998E-2},{"$f":"'Validation Logic'!$L$4","v":3.6999999999999998E-2},null,null,null,null,null,null,null,null,null,null,6.0999999999999999E-2,null,null,null,0.218,null,null,null,0.23699999999999999,null,null,null,0.48399999999999999,null,null,null,0,0,0,0,null,null,null,0,0,0,0]
[null,{"$f":"'Exterior Lighting Inventory'!C30","v":"E10"},{"$f":"'Exterior Lighting Inventory'!D30","v":0},{"$f":"'Exterior Lighting Inventory'!E30","v":0},{"$f":"'Exterior Lighting Inventory'!F30","v":0},{"$f":"'Exterior Lighting Inventory'!G30","v":0},{"$f":"IF('Exterior Lighting Inventory'!I30<4380,'Exterior Lighting Inventory'!I30,4380)","v":0},{"$f":"'Exterior Lighting Inventory'!V30","v":"0"},{"$f":"'Validation Logic'!$L$4","v":3.6999999999999998E-2},{"$f":"'Validation Logic'!$L$4","v":3.6999999999999998E-2},null,null,null,null,null,null,null,null,null,null,6.0999999999999999E-2,null,null,null,0.218,null,null,null,0.23699999999999999,null,null,null,0.48399999999999999,null,null,null,0,0,0,0,null,null,null,0,0,0,0]
[null,{"$f":"'Exterior Lighting Inventory'!C31","v":"E11"},{"$f":"'Exterior Lighting Inventory'!D31","v":0},{"$f":"'Exterior Lighting Inventory'!E31","v":0},{"$f":"'Exterior Lighting Inventory'!F31","v":0},{"$f":"'Exterior Lighting Inventory'!G31","v":0},{"$f":"IF('Exterior Lighting Inventory'!I31<4380,'Exterior Lighting Inventory'!I31,4380)","v":0},{"$f":"'Exterior Lighting Inventory'!V31","v":"0"},{"$f":"'Validation Logic'!$L$4","v":3.6999999999999998E-2},{"$f":"'Validation Logic'!$L$4","v":3.6999999999999998E-2},null,null,null,null,null,null,null,null,null,null,6.0999999999999999E-2,null,null,null,0.218,null,null,null,0.23699999999999999,null,null,null,0.48399999999999999,null,null,null,0,0,0,0,null,null,null,0,0,0,0]
[null,{"$f":"'Exterior Lighting Inventory'!C32","v":"E12"},{"$f":"'Exterior Lighting Inventory'!D32","v":0},{"$f":"'Exterior Lighting Inventory'!E32","v":0},{"$f":"'Exterior Lighting Inventory'!F32","v":0},{"$f":"'Exterior Lighting Inventory'!G32","v":0},{"$f":"IF('Exterior Lighting Inventory'!I32<4380,'Exterior Lighting Inventory'!I32,4380)","v":0},{"$f":"'Exterior Lighting Inventory'!V32","v":"0"},{"$f":"'Validation Logic'!$L$4","v":3.6999999999999998E-2},{"$f":"'Validation Logic'!$L$4","v":3.6999999999999998E-2},null,null,null,null,null,null,null,null,null,null,6.0999999999999999E-2,null,null,null,0.218,null,null,null,0.23699999999999999,null,null,null,0.48399999999999999,null,null,null,0,0,0,0,null,null,null,0,0,0,0]
[null,{"$f":"'Exterior Lighting Inventory'!C33","v":"E13"},{"$f":"'Exterior Lighting Inventory'!D33","v":0},{"$f":"'Exterior Lighting Inventory'!E33","v":0},{"$f":"'Exterior Lighting Inventory'!F33","v":0},{"$f":"'Exterior Lighting Inventory'!G33","v":0},{"$f":"IF('Exterior Lighting Inventory'!I33<4380,'Exterior Lighting Inventory'!I33,4380)","v":0},{"$f":"'Exterior Lighting Inventory'!V33","v":"0"},{"$f":"'Validation Logic'!$L$4","v":3.6999999999999998E-2},{"$f":"'Validation Logic'!$L$4","v":3.6999999999999998E-2},null,null,null,null,null,null,null,null,null,null,6.0999999999999999E-2,null,null,null,0.218,null,null,null,0.23699999999999999,null,null,null,0.48399999999999999,null,null,null,0,0,0,0,null,null,null,0,0,0,0]
[null,{"$f":"'Exterior Lighting Inventory'!C34","v":"E14"},{"$f":"'Exterior Lighting Inventory'!D34","v":0},{"$f":"'Exterior Lighting Inventory'!E34","v":0},{"$f":"'Exterior Lighting Inventory'!F34","v":0},{"$f":"'Exterior Lighting Inventory'!G34","v":0},{"$f":"IF('Exterior Lighting Inventory'!I34<4380,'Exterior Lighting Inventory'!I34,4380)","v":0},{"$f":"'Exterior Lighting Inventory'!V34","v":"0"},{"$f":"'Validation Logic'!$L$4","v":3.6999999999999998E-2},{"$f":"'Validation Logic'!$L$4","v":3.6999999999999998E-2},null,null,null,null,null,null,null,null,null,null,6.0999999999999999E-2,null,null,null,0.218,null,null,null,0.23699999999999999,null,null,null,0.48399999999999999,null,null,null,0,0,0,0,null,null,null,0,0,0,0]
[null,{"$f":"'Exterior Lighting Inventory'!C35","v":"E15"},{"$f":"'Exterior Lighting Inventory'!D35","v":0},{"$f":"'Exterior Lighting Inventory'!E35","v":0},{"$f":"'Exterior Lighting Inventory'!F35","v":0},{"$f":"'Exterior Lighting Inventory'!G35","v":0},{"$f":"IF('Exterior Lighting Inventory'!I35<4380,'Exterior Lighting Inventory'!I35,4380)","v":0},{"$f":"'Exterior Lighting Inventory'!V35","v":"0"},{"$f":"'Validation Logic'!$L$4","v":3.6999999999999998E-2},{"$f":"'Validation Logic'!$L$4","v":3.6999999999999998E-2},null,null,null,null,null,null,null,null,null,null,6.0999999999999999E-2,null,null,null,0.218,null,null,null,0.23699999999999999,null,null,null,0.48399999999999999,null,null,null,0,0,0,0,null,null,null,0,0,0,0]
[null,{"$f":"'Exterior Lighting Inventory'!C36","v":"E16"},{"$f":"'Exterior Lighting Inventory'!D36","v":0},{"$f":"'Exterior Lighting Inventory'!E36","v":0},{"$f":"'Exterior Lighting Inventory'!F36","v":0},{"$f":"'Exterior Lighting Inventory'!G36","v":0},{"$f":"IF('Exterior Lighting Inventory'!I36<4380,'Exterior Lighting Inventory'!I36,4380)","v":0},{"$f":"'Exterior Lighting Inventory'!V36","v":"0"},{"$f":"'Validation Logic'!$L$4","v":3.6999999999999998E-2},{"$f":"'Validation Logic'!$L$4","v":3.6999999999999998E-2},null,null,null,null,null,null,null,null,null,null,6.0999999999999999E-2,null,null,null,0.218,null,null,null,0.23699999999999999,null,null,null,0.48399999999999999,null,null,null,0,0,0,0,null,null,null,0,0,0,0]
[null,{"$f":"'Exterior Lighting Inventory'!C37","v":"E17"},{"$f":"'Exterior Lighting Inventory'!D37","v":0},{"$f":"'Exterior Lighting Inventory'!E37","v":0},{"$f":"'Exterior Lighting Inventory'!F37","v":0},{"$f":"'Exterior Lighting Inventory'!G37","v":0},{"$f":"IF('Exterior Lighting Inventory'!I37<4380,'Exterior Lighting Inventory'!I37,4380)","v":0},{"$f":"'Exterior Lighting Inventory'!V37","v":"0"},{"$f":"'Validation Logic'!$L$4","v":3.6999999999999998E-2},{"$f":"'Validation Logic'!$L$4","v":3.6999999999999998E-2},null,null,null,null,null,null,null,null,null,null,6.0999999999999999E-2,null,null,null,0.218,null,null,null,0.23699999999999999,null,null,null,0.48399999999999999,null,null,null,0,0,0,0,null,null,null,0,0,0,0]
[null,{"$f":"'Exterior Lighting Inventory'!C38","v":"E18"},{"$f":"'Exterior Lighting Inventory'!D38","v":0},{"$f":"'Exterior Lighting Inventory'!E38","v":0},{"$f":"'Exterior Lighting Inventory'!F38","v":0},{"$f":"'Exterior Lighting Inventory'!G38","v":0},{"$f":"IF('Exterior Lighting Inventory'!I38<4380,'Exterior Lighting Inventory'!I38,4380)","v":0},{"$f":"'Exterior Lighting Inventory'!V38","v":"0"},{"$f":"'Validation Logic'!$L$4","v":3.6999999999999998E-2},{"$f":"'Validation Logic'!$L$4","v":3.6999999999999998E-2},null,null,null,null,null,null,null,null,null,null,6.0999999999999999E-2,null,null,null,0.218,null,null,null,0.23699999999999999,null,null,null,0.48399999999999999,null,null,null,0,0,0,0,null,null,null,0,0,0,0]
[null,{"$f":"'Exterior Lighting Inventory'!C39","v":"E19"},{"$f":"'Exterior Lighting Inventory'!D39","v":0},{"$f":"'Exterior Lighting Inventory'!E39","v":0},{"$f":"'Exterior Lighting Inventory'!F39","v":0},{"$f":"'Exterior Lighting Inventory'!G39","v":0},{"$f":"IF('Exterior Lighting Inventory'!I39<4380,'Exterior Lighting Inventory'!I39,4380)","v":0},{"$f":"'Exterior Lighting Inventory'!V39","v":"0"},{"$f":"'Validation Logic'!$L$4","v":3.6999999999999998E-2},{"$f":"'Validation Logic'!$L$4","v":3.6999999999999998E-2},null,null,null,null,null,null,null,null,null,null,6.0999999999999999E-2,null,null,null,0.218,null,null,null,0.23699999999999999,null,null,null,0.48399999999999999,null,null,null,0,0,0,0,null,null,null,0,0,0,0]
[null,{"$f":"'Exterior Lighting Inventory'!C40","v":"E20"},{"$f":"'Exterior Lighting Inventory'!D40","v":0},{"$f":"'Exterior Lighting Inventory'!E40","v":0},{"$f":"'Exterior Lighting Inventory'!F40","v":0},{"$f":"'Exterior Lighting Inventory'!G40","v":0},{"$f":"IF('Exterior Lighting Inventory'!I40<4380,'Exterior Lighting Inventory'!I40,4380)","v":0},{"$f":"'Exterior Lighting Inventory'!V40","v":"0"},{"$f":"'Validation Logic'!$L$4","v":3.6999999999999998E-2},{"$f":"'Validation Logic'!$L$4","v":3.6999999999999998E-2},null,null,null,null,null,null,null,null,null,null,6.0999999999999999E-2,null,null,null,0.218,null,null,null,0.23699999999999999,null,null,null,0.48399999999999999,null,null,null,0,0,0,0,null,null,null,0,0,0,0]
[null,null,null,null,null,null,null,null,null,null,null,null,null,null,null,null,null,null,null,null,null,null,null,null,null,null,null,null,null,null,null,null,null,null,null,null,null,null,null,null,null,null,null,null,null,null,null,"No demand savings claimed for exterior"]
[null,"Notes:"]
[null,"Peak Coincidence Factor from  B:\\Resources and Standards\\DSM References\\Measures\\Library\\Lighting\\Peak Demand - Coincidence Factors CT Lighting Coincidence Factor Report Mar 2007 (from Colin).pdf Average of all C&I sectors for peak hours from 1-5pm, summer"]

{"sheet":"Incentive Logic","index":12,"n_rows":7,"n_cols":6,"rows_kept":7,"cut":false,"hidden":true,"merged":[[2,1,2,2],[2,3,3,3],[2,5,3,5]]}
[]
[null,"Incentive Level Lookup"]
[null,"Required Efficiency",null,"Incentive Level","Tier","Tier Description"]
[null,"Min","Max"]
[null,0,9.9999000000000005E-2,0,0,"None"]
[null,0.1,0.19999900000000001,0.4,1,"Tier 1 - $0.40/watt"]
[null,0.2,9.99,0.8,2,"Tier 2 - $0.80/watt"]

{"sheet":"Version Tracking","index":13,"n_rows":16,"n_cols":4,"rows_kept":16,"cut":false,"hidden":true,"merged":[[43,2,44,2]]}
[null,"Version","Description / Modifications since previous","Date"]
["Current:",{"$f":"LOOKUP(2,1/(B1:B50000<>\"\"),B1:B50000)","v":6232026},{"$f":"LOOKUP(2,1/(C1:C50000<>\"\"),C1:C50000)","v":"Added sports field space types in Exterior lighting tab on Exterior LPD tab using ASHRAE 90.1 2019, table 9.4.2-2"},{"$f":"LOOKUP(2,1/(D1:D50000<>\"\"),D1:D50000)","v":"2026-06-23"}]
[null,0,"Mockup","2017-08-07"]
[null,1,"First version ","2017-08-08"]
[null,1.1000000000000001,"Updated calculations","2017-09-27"]
[null,1.2,"Unmerged columns, expanded general fixture info, added project type selection","2017-12-18"]
[null,1.21,"Changed program name; changed version number to a date","2017-12-27"]
[null,1.22,"Updated calculations","2018-01-19"]
[null,1.23,"Updated Space method summary tab","2018-09-20"]
[null,2,"Revised for BGE and SMECO.  Changed Building Summary, SpaceBySpace, and Exterior calculations to pay $0.40 per watts reduced for a Tier 1 reduction or to pay $0.80 per watts reduced for a Tier 2 reduction.  Removed PHI calculation that paid $0.40 per first Tier 1 reduction and $0.80 per Tier 2 reduction after that.","2019-03-12"]
[null,2,"Final revisions made by J. Myrie and tested in Sightline by C.Grant","2019-04-16"]
[null,2.1,"Branding revisions","2019-05-23"]
[null,6012023,"Update Building Area and Space-By-Space baseline LPD values to match IECC 2018","2023-04-06"]
[null,9018023,"Added Secondary Lighting Inventory tab for Building Area Method projects with 2 different building types","2023-08-08"]
[null,6162024,"Updated IECC Baselines to 2021 standards","2024-06-04"]
[null,6232026,"Added sports field space types in Exterior lighting tab on Exterior LPD tab using ASHRAE 90.1 2019, table 9.4.2-2","2026-06-23"]

{"sheet":"Building Area  LPD","index":14,"n_rows":37,"n_cols":5,"rows_kept":37,"cut":false,"hidden":true,"merged":[[0,1,0,4],[1,1,1,4]]}
[null,"Table 2"]
[null,"Building Area Method"]
[null,"BUILDING TYPE","Base LPD Watts/Sq. Ft. (ASRHAE 90.1-2013)","Base LPD Watts/Sq. Ft. Less 10%","Base LPD Watts/Sq. Ft. Less 20%"]
[1,"Automotive Facility",0.75,{"$f":"C4*0.9","v":0.67500000000000004},{"$f":"C4*0.8","v":0.60000000000000009}]
[2,"Convention Center",0.64,{"$f":"C5*0.9","v":0.57600000000000007},{"$f":"C5*0.8","v":0.51200000000000001}]
[3,"Court House",0.79,0.71100000000000008,0.63200000000000012]
[4,"Dining: Bar Lounge/Leisure",0.8,0.72000000000000008,0.64000000000000012]
[5,"Dining: Cafeteria/Fast Food",0.76,0.68400000000000005,0.6080000000000001]
[6,"Dining: Family",0.71,0.63900000000000001,0.56799999999999995]
[7,"Dormitory",0.53,0.47700000000000004,0.42400000000000004]
[8,"Exercise Center",0.72,0.64800000000000002,0.57599999999999996]
[9,"Fire Station",0.56000000000000005,0.50400000000000011,0.44800000000000006]
[10,"Gymnasium",0.76,0.68400000000000005,0.6080000000000001]
[11,"Healthcare-Clinic",0.81,0.72900000000000009,0.64800000000000013]
[12,"Hospital",0.96,0.86399999999999999,0.76800000000000002]
[13,"Hotel ",0.56000000000000005,0.50400000000000011,0.44800000000000006]
[14,"Library",0.83,0.747,0.66400000000000003]
[15,"Manufacturing Facility",0.82,0.73799999999999999,0.65600000000000003]
[17,"Motion Picture Theater",0.44,0.39600000000000002,0.35200000000000004]
[null,"Motel",0.56000000000000005,0.50400000000000011,0.44800000000000006]
[18,"Multi-Family",0.45,0.40500000000000003,0.36000000000000004]
[19,"Museum",0.55000000000000004,0.49500000000000005,0.44000000000000006]
[20,"Office",0.64,0.57600000000000007,0.51200000000000001]
[21,"Parking Garage",0.18,0.16200000000000001,0.14399999999999999]
[22,"Penitentiary",0.69,0.621,0.55199999999999994]
[23,"Performing Arts Theater",0.84,0.75600000000000001,0.67200000000000004]
[24,"Police Station",0.66,0.59400000000000008,0.52800000000000002]
[25,"Post Office",0.65,0.58500000000000008,0.52]
[26,"Religious Building",0.67,0.60300000000000009,0.53600000000000003]
[27,"Retail",0.84,0.75600000000000001,0.67200000000000004]
[28,"School/University",0.72,0.64800000000000002,0.57599999999999996]
[29,"Sports Arena",0.76,0.68400000000000005,0.6080000000000001]
[30,"Town Hall",0.69,0.621,0.55199999999999994]
[31,"Transportation",0.5,0.45,0.4]
[32,"Warehouse",0.45,0.40500000000000003,0.36000000000000004]
[null,"Workshop",0.91,0.81900000000000006,0.72800000000000009]
[null,null,"IECC 2021 (v5, May 2024)"]

{"sheet":"Space-by-Space LPD","index":15,"n_rows":100,"n_cols":4,"rows_kept":100,"cut":false,"hidden":true,"merged":[[0,1,0,3],[1,1,1,3]]}
[null,"Table 4"]
[null,"Space-by-space Method"]
[null,"SPACE TYPE","Base LPD Watts/Sq. Ft.²\n(Atrium values are watts/ft. of height)","Space Geometry Adjustment1 Room Cavity Ratio Threshold\n(Corridor values are for corridor width in feet)"]
[null,"Atrium-First Three Floors (up to 40 ft height)",0.48,0]
[null,"Atrium-Each Additional Floor (above 40 ft height)",0.6,0]
[null,"Audience Seating Area - Auditorium",0.61,6]
[null,"Audience Seating Area - Gymnasium",0.23,6]
[null,"Audience Seating Area - Motion Picture Theater",0.27,4]
[null,"Audience Seating Area - Otherwise",0.33,4]
[null,"Audience Seating Area - Penitentiary",0.67,4]
[null,"Audience Seating Area - Performing Arts Theater",1.1599999999999999,8]
[null,"Audience Seating Area - Religious Buildings",0.72,4]
[null,"Audience Seating Area - Sports Arena",0.33,4]
[null,"Banking Activity Area",0.61,6]
[null,"Classroom / Lecture Hall / Training room - Otherwise",0.71,4]
[null,"Classroom / Lecture Hall / Training room - Penitentiary",0.89,4]
[null,"Computer room",0.94,4]
[null,"Conference / Meeting Room / Multipurpose",0.97,6]
[null,"Convention Center / exhibit space ",0.61,6]
[null,"Copy/print room",0.31,4]
[null,"Corridor /  - Hospital",0.71,8]
[null,"Corridor / - Otherwise",0.41,8]
[null,"Corridor / for visually impaired and not used primarily by the staff",0.71,8]
[null,"Courtroom",1.2,6]
[null,"Dining Area - Bar/Lounge/Leisure Dining",0.86,4]
[null,"Dining Area - Cafeteria or fast food dining",0.4,4]
[null,"Dining Area - Family dining",0.6,4]
[null,"Dining Area - for visually impaired and not used primarily by the staff",1.27,4]
[null,"Dining Area - Otherwise",0.43,4]
[null,"Dining Area - Penitentiary",0.42,6]
[null,"Dormitory - living quarters",0.5,4]
[null,"Electrical / Mechanical Room",0.43,6]
[null,"Emergency vehicle garage",0.52,4]
[null,"Facility for visually impaired - in chapel and not used primarily by the staff",0.7,4]
[null,"Facility for visually impaired - in recreation room and not used primarily by the staff",1.77,6]
[null,"Fire station -sleeping quarters",0.23,6]
[null,"Food Preparation area",1.0900000000000001,6]
[null,"Guest room",0.41,6]
[null,"Gymnasium / fitness center - in a playing area ",0.85,4]
[null,"Gymnasium / fitness center - in an exercise area ",0.9,4]
[null,"Health care facility - in a nursery",0.92,6]
[null,"Health care facility - in a nurse's station ",1.17,6]
[null,"Health care facility - in a patient room",0.68,6]
[null,"Health care facility - in a physical therapy room",0.91,6]
[null,"Health care facility - in a recovery room",1.25,6]
[null,"Health care facility - in an exam /treatment room",1.4,8]
[null,"Health care facility - in an imagining room",0.94,6]
[null,"Health care facility - in an operating room ",2.2599999999999998,6]
[null,"Health care facility - in medical supply room",0.62,6]
[null,"Laboratory - for Classrooms",1.1100000000000001,6]
[null,"Laboratory - Otherwise",1.33,6]
[null,"Laundry / Washing area",0.53,4]
[null,"Library - In a reading area",0.96,4]
[null,"Library - In the stacks",1.18,4]
[null,"Loading dock , interior",0.88,6]
[null,"Lobby - Elevator",0.65,6]
[null,"Lobby - for visually impaired and not used primarily by the staff",1.69,4]
[null,"Lobby - Hotel",0.51,4]
[null,"Lobby - Motion Picture Theater",0.23,4]
[null,"Lobby - Otherwise",0.84,4]
[null,"Lobby - Performing Arts Theater",1.25,6]
[null,"Locker room",0.52,6]
[null,"Lounge/breakroom - in healthcare facility",0.42,6]
[null,"Lounge/breakroom - Otherwise",0.59,4]
[null,"Manufacturing - Detailed Manufacturing",0.8,4]
[null,"Manufacturing - Equipment Room",0.76,6]
[null,"Manufacturing Extra High Bay (>50 FT Flr to Clg Hgt)",1.42,4]
[null,"Manufacturing High Bay (25-50 FT Floor to Ceiling Hgt)",1.24,4]
[null,"Manufacturing Lowbay (<25 FT Floor to Ceiling Hgt)",0.86,4]
[null,"Museum - General Exhibition Area",0.31,6]
[null,"Museum - Restoration room",1.1000000000000001,6]
[null,"Office - Enclosed",0.74,8]
[null,"Office - Open Plan",0.61,4]
[null,"Parking area , interior",0.15,4]
[null,"Performing arts theather - dressing room",0.41,6]
[null,"Pharmacy area",1.66,6]
[null,"Post Office - Sorting Area",0.76,4]
[null,"Religious Buildings - Fellowship Hall",0.54,4]
[null,"Religious Buildings - Worship Pulpit, Choir",0.85,4]
[null,"Restrooms - for visually impaired and not used primarily by the staff",1.26,8]
[null,"Restrooms - Otherwise",0.63,8]
[null,"Retail - Dressing / Fitting Room",0.54,8]
[null,"Retail - Mall Concourse",0.82,4]
[null,"Sales area",1.05,6]
[null,"Seating area , general",0.23,4]
[null,"Sports arena - playing area for a class I facility",2.94,4]
[null,"Sports arena - playing area for a class II facility ",2.0099999999999998,4]
[null,"Sports arena - playing area for a class III facility ",1.3,4]
[null,"Sports arena - playing area for a class IV facility",0.86,4]
[null,"Stairwell",0.49,10]
[null,"Storage room <50 sqft.",0.38,6]
[null,"Storage room >50 sqft.",0.38,6]
[null,"Transportation -  Baggage / Carousel Area",0.39,4]
[null,"Transportation - Airport Concourse",0.25,4]
[null,"Transportation - Terminal Ticket Counter",0.51,4]
[null,"Vehicular maintenance area",0.6,4]
[null,"Warehouse Storage - Medium/ Bulky Palletized Material",0.33,4]
[null,"Warehouse Storage - Small hand carry items",0.69,6]
[null,"Workshop",1.26,6]
[null,"1. See ANSI/ASHRAE/IES Standard 90.1-2013, Table 9.6.1 for application details"]

{"sheet":"AEG Import","index":16,"n_rows":75,"n_cols":37,"rows_kept":75,"cut":false,"hidden":true,"merged":[]}
["Measure #","Import?","Area_Lit","basecase_system_rating","building_type","Calculator_Version","Comm_Coincidence_Factor_PJM","Comm_Coincidence_Factor_SSP","Elec_Util_cust_Incentive","HEATING_TYPE","Hrs_of_Use","kW_Impact","KW_PJM_PEAK_UNADJUSTED","kWh_Impact","kwh_nonsummer_offpeak_unadjusted","kwh_nonsummer_peak_unadjusted","kwh_summer_offpeak_unadjusted","kwh_summer_peak_unadjusted","Line_ID","LOCATION","Details","NUMBER_OF_FIXTURES","Measure_Life","name","Project_Type","quantity","Space_Type","BASELINE_WATTS","Wattage_New","WATTS_SAVED","Watts_sqft","Watts_sqft_Saved","WHF_D","WHF_D_PJM","WHF_E","KW_PJM_WINTER_UNADJUSTED","KW_PJM_WINTER_UNADJUSTED_FACTOR"]
["AEG Import Building Method","No"]
["Building Method Interior",{"$f":"IF(AND('Information Page'!$F$9=\"Building Area Method\",'Summary - Building Method'!$V$21<>0),\"Yes\",\"No\")","v":"No"},{"$f":"'Summary - Building Method'!I21","v":0},{"$f":"'Summary - Building Method'!M21","v":{"$error":"#N/A"}},{"$f":"'Summary - Building Method'!D21","v":0},{"$f":"'Version Tracking'!$B$2","v":6232026},{"$f":"'Calculations TRM'!J14","v":{"$error":"#N/A"}},{"$f":"'Calculations TRM'!I14","v":{"$error":"#N/A"}},{"$f":"TRUNC('Summary - Building Method'!V21,2)","v":0},{"$f":"IF('Information Page'!$F$12=\"Use Drop Down Menu to Select\",\"-\",'Information Page'!$F$12)","v":"-"},{"$f":"'Information Page'!F11","v":0},{"$f":"'Summary - Building Method'!I26","v":0},{"$f":"'Summary - Building Method'!H26","v":0},{"$f":"SUM(O3,P3,Q3,R3)","v":0},{"$f":"'Summary - Building Method'!G26","v":0},{"$f":"'Summary - Building Method'!F26","v":0},{"$f":"'Summary - Building Method'!E26","v":0},{"$f":"'Summary - Building Method'!D26","v":0},"B1",{"$f":"'Summary - Building Method'!H21","v":"Interior"},{"$f":"'Summary - Building Method'!H21","v":"Interior"},{"$f":"'Summary - Building Method'!L21","v":0},15,{"$f":"A3","v":"Building Method Interior"},{"$f":"'Information Page'!$D$9","v":"Use Drop Down Menu to Select "},1,{"$f":"'Summary - Building Method'!D21","v":0},{"$f":"'Summary - Building Method'!O21","v":{"$error":"#N/A"}},{"$f":"'Summary - Building Method'!K21","v":0},{"$f":"AB3-AC3","v":{"$error":"#N/A"}},{"$f":"'Summary - Building Method'!N21","v":0},{"$f":"'Summary - Building Method'!M21-'Summary - Building Method'!N21","v":{"$error":"#N/A"}},{"$f":"'Calculations TRM'!AQ14","v":{"$error":"#N/A"}},{"$f":"'Calculations TRM'!AP14","v":{"$error":"#N/A"}},{"$f":"'Calculations TRM'!AO14","v":{"$error":"#N/A"}},{"$f":"AK3*N3","v":0},1.3621E-4]
["Building Method Interior",{"$f":"IF(AND('Information Page'!$F$9=\"Building Area Method\",'Summary - Building Method'!$V$21<>0),\"Yes\",\"No\")","v":"No"},{"$f":"'Summary - Building Method'!I22","v":0},{"$f":"'Summary - Building Method'!M22","v":{"$error":"#N/A"}},{"$f":"'Summary - Building Method'!D22","v":"0 (secondary space not enabled)"},{"$f":"'Version Tracking'!$B$2","v":6232026},{"$f":"'Calculations TRM'!J15","v":{"$error":"#N/A"}},{"$f":"'Calculations TRM'!I15","v":{"$error":"#N/A"}},{"$f":"TRUNC('Summary - Building Method'!V22,2)","v":0},{"$f":"IF('Information Page'!$F$12=\"Use Drop Down Menu to Select\",\"-\",'Information Page'!$G$12)","v":"-"},{"$f":"'Information Page'!G11","v":0},{"$f":"'Summary - Building Method'!I27","v":0},{"$f":"'Summary - Building Method'!H27","v":0},{"$f":"SUM(O4,P4,Q4,R4)","v":0},{"$f":"'Summary - Building Method'!G27","v":0},{"$f":"'Summary - Building Method'!F27","v":0},{"$f":"'Summary - Building Method'!E27","v":0},{"$f":"'Summary - Building Method'!D27","v":0},"B2",{"$f":"'Summary - Building Method'!H22","v":"Interior"},{"$f":"'Summary - Building Method'!H22","v":"Interior"},{"$f":"'Summary - Building Method'!L22","v":0},15,{"$f":"A4","v":"Building Method Interior"},{"$f":"'Information Page'!$D$9","v":"Use Drop Down Menu to Select "},1,{"$f":"'Summary - Building Method'!D22","v":"0 (secondary space not enabled)"},{"$f":"'Summary - Building Method'!O22","v":{"$error":"#N/A"}},{"$f":"'Summary - Building Method'!K22","v":0},{"$f":"AB4-AC4","v":{"$error":"#N/A"}},{"$f":"'Summary - Building Method'!N22","v":0},{"$f":"'Summary - Building Method'!M22-'Summary - Building Method'!N22","v":{"$error":"#N/A"}},{"$f":"'Calculations TRM'!AQ15","v":{"$error":"#N/A"}},{"$f":"'Calculations TRM'!AP15","v":{"$error":"#N/A"}},{"$f":"'Calculations TRM'!AO15","v":{"$error":"#N/A"}},{"$f":"AK4*N4","v":0},1.3621E-4]
["AEG Import Space Method","No"]
["Space Method Interior",{"$f":"IF(AND('Summary - Space Method'!V21>0,'Information Page'!$F$9=\"Space-by-Space Method\"),\"Yes\",\"No\")","v":"No"},{"$f":"'Summary - Space Method'!H21","v":0},{"$f":"'Summary - Space Method'!L21","v":""},{"$f":"'Information Page'!$D$9","v":"Use Drop Down Menu to Select "},{"$f":"'Version Tracking'!$B$2","v":6232026},{"$f":"'Calculations TRM'!J19","v":{"$error":"#N/A"}},{"$f":"'Calculations TRM'!I19","v":{"$error":"#N/A"}},{"$f":"TRUNC('Summary - Space Method'!V21,2)","v":0},{"$f":"IF('Information Page'!$F$12=\"Use Drop Down Menu to Select\",\"-\",'Information Page'!$F$12)","v":"-"},{"$f":"'Summary - Space Method'!I21","v":0},{"$f":"'Summary - Space Method'!I78","v":0},{"$f":"'Summary - Space Method'!H78","v":0},{"$f":"SUM(O6,P6,Q6,R6)","v":0},{"$f":"'Summary - Space Method'!G78","v":0},{"$f":"'Summary - Space Method'!F78","v":0},{"$f":"'Summary - Space Method'!E78","v":0},{"$f":"'Summary - Space Method'!D78","v":0},"S1",{"$f":"'Interior Lighting Inventory'!D21","v":0},"Interior",{"$f":"'Summary - Space Method'!K21","v":0},15,{"$f":"A6","v":"Space Method Interior"},{"$f":"'Information Page'!$D$9","v":"Use Drop Down Menu to Select "},1,{"$f":"'Summary - Space Method'!D21","v":0},{"$f":"'Summary - Space Method'!M21","v":""},{"$f":"'Summary - Space Method'!J21","v":0},{"$f":"IFERROR(AB6-AC6,0)","v":0},{"$f":"'Summary - Space Method'!N21","v":""},{"$f":"IF('Summary - Space Method'!L21=\"\",\"\",'Summary - Space Method'!L21-'Summary - Space Method'!N21)","v":""},{"$f":"'Calculations TRM'!AQ19","v":{"$error":"#N/A"}},{"$f":"'Calculations TRM'!AP19","v":{"$error":"#N/A"}},{"$f":"'Calculations TRM'!AO19","v":{"$error":"#N/A"}},{"$f":"AK6*N6","v":0},1.3621E-4]
["Space Method Interior",{"$f":"IF(AND('Summary - Space Method'!V22>0,'Information Page'!$F$9=\"Space-by-Space Method\"),\"Yes\",\"No\")","v":"No"},{"$f":"'Summary - Space Method'!H22","v":0},{"$f":"'Summary - Space Method'!L22","v":""},{"$f":"'Information Page'!$D$9","v":"Use Drop Down Menu to Select "},{"$f":"'Version Tracking'!$B$2","v":6232026},{"$f":"'Calculations TRM'!J20","v":{"$error":"#N/A"}},{"$f":"'Calculations TRM'!I20","v":{"$error":"#N/A"}},{"$f":"TRUNC('Summary - Space Method'!V22,2)","v":0},{"$f":"IF('Information Page'!$F$12=\"Use Drop Down Menu to Select\",\"-\",'Information Page'!$F$12)","v":"-"},{"$f":"'Summary - Space Method'!I22","v":0},{"$f":"'Summary - Space Method'!I79","v":0},{"$f":"'Summary - Space Method'!H79","v":0},{"$f":"SUM(O7,P7,Q7,R7)","v":0},{"$f":"'Summary - Space Method'!G79","v":0},{"$f":"'Summary - Space Method'!F79","v":0},{"$f":"'Summary - Space Method'!E79","v":0},{"$f":"'Summary - Space Method'!D79","v":0},"S2",{"$f":"'Interior Lighting Inventory'!D22","v":0},"Interior",{"$f":"'Summary - Space Method'!K22","v":0},15,"Space Method Interior",{"$f":"'Information Page'!$D$9","v":"Use Drop Down Menu to Select "},1,{"$f":"'Summary - Space Method'!D22","v":""},{"$f":"'Summary - Space Method'!M22","v":""},{"$f":"'Summary - Space Method'!J22","v":0},{"$f":"IFERROR(AB7-AC7,0)","v":0},{"$f":"'Summary - Space Method'!N22","v":""},{"$f":"IF('Summary - Space Method'!L22=\"\",\"\",'Summary - Space Method'!L22-'Summary - Space Method'!N22)","v":""},{"$f":"'Calculations TRM'!AQ20","v":{"$error":"#N/A"}},{"$f":"'Calculations TRM'!AP20","v":{"$error":"#N/A"}},{"$f":"'Calculations TRM'!AO20","v":{"$error":"#N/A"}},0,1.3621E-4]
["Space Method Interior",{"$f":"IF(AND('Summary - Space Method'!V23>0,'Information Page'!$F$9=\"Space-by-Space Method\"),\"Yes\",\"No\")","v":"No"},{"$f":"'Summary - Space Method'!H23","v":0},{"$f":"'Summary - Space Method'!L23","v":""},{"$f":"'Information Page'!$D$9","v":"Use Drop Down Menu to Select "},{"$f":"'Version Tracking'!$B$2","v":6232026},{"$f":"'Calculations TRM'!J21","v":{"$error":"#N/A"}},{"$f":"'Calculations TRM'!I21","v":{"$error":"#N/A"}},{"$f":"TRUNC('Summary - Space Method'!V23,2)","v":0},{"$f":"IF('Information Page'!$F$12=\"Use Drop Down Menu to Select\",\"-\",'Information Page'!$F$12)","v":"-"},{"$f":"'Summary - Space Method'!I23","v":0},{"$f":"'Summary - Space Method'!I80","v":0},{"$f":"'Summary - Space Method'!H80","v":0},0,{"$f":"'Summary - Space Method'!G80","v":0},{"$f":"'Summary - Space Method'!F80","v":0},{"$f":"'Summary - Space Method'!E80","v":0},{"$f":"'Summary - Space Method'!D80","v":0},"S3",{"$f":"'Interior Lighting Inventory'!D23","v":0},"Interior",{"$f":"'Summary - Space Method'!K23","v":0},15,"Space Method Interior",{"$f":"'Information Page'!$D$9","v":"Use Drop Down Menu to Select "},1,{"$f":"'Summary - Space Method'!D23","v":""},{"$f":"'Summary - Space Method'!M23","v":""},{"$f":"'Summary - Space Method'!J23","v":0},0,{"$f":"'Summary - Space Method'!N23","v":""},{"$f":"IF('Summary - Space Method'!L23=\"\",\"\",'Summary - Space Method'!L23-'Summary - Space Method'!N23)","v":""},{"$f":"'Calculations TRM'!AQ21","v":{"$error":"#N/A"}},{"$f":"'Calculations TRM'!AP21","v":{"$error":"#N/A"}},{"$f":"'Calculations TRM'!AO21","v":{"$error":"#N/A"}},0,1.3621E-4]
["Space Method Interior",{"$f":"IF(AND('Summary - Space Method'!V24>0,'Information Page'!$F$9=\"Space-by-Space Method\"),\"Yes\",\"No\")","v":"No"},{"$f":"'Summary - Space Method'!H24","v":0},{"$f":"'Summary - Space Method'!L24","v":""},{"$f":"'Information Page'!$D$9","v":"Use Drop Down Menu to Select "},{"$f":"'Version Tracking'!$B$2","v":6232026},{"$f":"'Calculations TRM'!J22","v":{"$error":"#N/A"}},{"$f":"'Calculations TRM'!I22","v":{"$error":"#N/A"}},{"$f":"TRUNC('Summary - Space Method'!V24,2)","v":0},{"$f":"IF('Information Page'!$F$12=\"Use Drop Down Menu to Select\",\"-\",'Information Page'!$F$12)","v":"-"},{"$f":"'Summary - Space Method'!I24","v":0},{"$f":"'Summary - Space Method'!I81","v":0},{"$f":"'Summary - Space Method'!H81","v":0},0,{"$f":"'Summary - Space Method'!G81","v":0},{"$f":"'Summary - Space Method'!F81","v":0},{"$f":"'Summary - Space Method'!E81","v":0},{"$f":"'Summary - Space Method'!D81","v":0},"S4",{"$f":"'Interior Lighting Inventory'!D24","v":0},"Interior",{"$f":"'Summary - Space Method'!K24","v":0},15,"Space Method Interior",{"$f":"'Information Page'!$D$9","v":"Use Drop Down Menu to Select "},1,{"$f":"'Summary - Space Method'!D24","v":""},{"$f":"'Summary - Space Method'!M24","v":""},{"$f":"'Summary - Space Method'!J24","v":0},0,{"$f":"'Summary - Space Method'!N24","v":""},{"$f":"IF('Summary - Space Method'!L24=\"\",\"\",'Summary - Space Method'!L24-'Summary - Space Method'!N24)","v":""},{"$f":"'Calculations TRM'!AQ22","v":{"$error":"#N/A"}},{"$f":"'Calculations TRM'!AP22","v":{"$error":"#N/A"}},{"$f":"'Calculations TRM'!AO22","v":{"$error":"#N/A"}},0,1.3621E-4]
["Space Method Interior",{"$f":"IF(AND('Summary - Space Method'!V25>0,'Information Page'!$F$9=\"Space-by-Space Method\"),\"Yes\",\"No\")","v":"No"},{"$f":"'Summary - Space Method'!H25","v":0},{"$f":"'Summary - Space Method'!L25","v":""},{"$f":"'Information Page'!$D$9","v":"Use Drop Down Menu to Select "},{"$f":"'Version Tracking'!$B$2","v":6232026},{"$f":"'Calculations TRM'!J23","v":{"$error":"#N/A"}},{"$f":"'Calculations TRM'!I23","v":{"$error":"#N/A"}},{"$f":"TRUNC('Summary - Space Method'!V25,2)","v":0},{"$f":"IF('Information Page'!$F$12=\"Use Drop Down Menu to Select\",\"-\",'Information Page'!$F$12)","v":"-"},{"$f":"'Summary - Space Method'!I25","v":0},{"$f":"'Summary - Space Method'!I82","v":0},{"$f":"'Summary - Space Method'!H82","v":0},0,{"$f":"'Summary - Space Method'!G82","v":0},{"$f":"'Summary - Space Method'!F82","v":0},{"$f":"'Summary - Space Method'!E82","v":0},{"$f":"'Summary - Space Method'!D82","v":0},"S5",{"$f":"'Interior Lighting Inventory'!D25","v":0},"Interior",{"$f":"'Summary - Space Method'!K25","v":0},15,"Space Method Interior",{"$f":"'Information Page'!$D$9","v":"Use Drop Down Menu to Select "},1,{"$f":"'Summary - Space Method'!D25","v":""},{"$f":"'Summary - Space Method'!M25","v":""},{"$f":"'Summary - Space Method'!J25","v":0},0,{"$f":"'Summary - Space Method'!N25","v":""},{"$f":"IF('Summary - Space Method'!L25=\"\",\"\",'Summary - Space Method'!L25-'Summary - Space Method'!N25)","v":""},{"$f":"'Calculations TRM'!AQ23","v":{"$error":"#N/A"}},{"$f":"'Calculations TRM'!AP23","v":{"$error":"#N/A"}},{"$f":"'Calculations TRM'!AO23","v":{"$error":"#N/A"}},0,1.3621E-4]
["Space Method Interior",{"$f":"IF(AND('Summary - Space Method'!V26>0,'Information Page'!$F$9=\"Space-by-Space Method\"),\"Yes\",\"No\")","v":"No"},{"$f":"'Summary - Space Method'!H26","v":0},{"$f":"'Summary - Space Method'!L26","v":""},{"$f":"'Information Page'!$D$9","v":"Use Drop Down Menu to Select "},{"$f":"'Version Tracking'!$B$2","v":6232026},{"$f":"'Calculations TRM'!J24","v":{"$error":"#N/A"}},{"$f":"'Calculations TRM'!I24","v":{"$error":"#N/A"}},{"$f":"TRUNC('Summary - Space Method'!V26,2)","v":0},{"$f":"IF('Information Page'!$F$12=\"Use Drop Down Menu to Select\",\"-\",'Information Page'!$F$12)","v":"-"},{"$f":"'Summary - Space Method'!I26","v":0},{"$f":"'Summary - Space Method'!I83","v":0},{"$f":"'Summary - Space Method'!H83","v":0},0,{"$f":"'Summary - Space Method'!G83","v":0},{"$f":"'Summary - Space Method'!F83","v":0},{"$f":"'Summary - Space Method'!E83","v":0},{"$f":"'Summary - Space Method'!D83","v":0},"S6",{"$f":"'Interior Lighting Inventory'!D26","v":0},"Interior",{"$f":"'Summary - Space Method'!K26","v":0},15,"Space Method Interior",{"$f":"'Information Page'!$D$9","v":"Use Drop Down Menu to Select "},1,{"$f":"'Summary - Space Method'!D26","v":""},{"$f":"'Summary - Space Method'!M26","v":""},{"$f":"'Summary - Space Method'!J26","v":0},0,{"$f":"'Summary - Space Method'!N26","v":""},{"$f":"IF('Summary - Space Method'!L26=\"\",\"\",'Summary - Space Method'!L26-'Summary - Space Method'!N26)","v":""},{"$f":"'Calculations TRM'!AQ24","v":{"$error":"#N/A"}},{"$f":"'Calculations TRM'!AP24","v":{"$error":"#N/A"}},{"$f":"'Calculations TRM'!AO24","v":{"$error":"#N/A"}},0,1.3621E-4]
["Space Method Interior",{"$f":"IF(AND('Summary - Space Method'!V27>0,'Information Page'!$F$9=\"Space-by-Space Method\"),\"Yes\",\"No\")","v":"No"},{"$f":"'Summary - Space Method'!H27","v":0},{"$f":"'Summary - Space Method'!L27","v":""},{"$f":"'Information Page'!$D$9","v":"Use Drop Down Menu to Select "},{"$f":"'Version Tracking'!$B$2","v":6232026},{"$f":"'Calculations TRM'!J25","v":{"$error":"#N/A"}},{"$f":"'Calculations TRM'!I25","v":{"$error":"#N/A"}},{"$f":"TRUNC('Summary - Space Method'!V27,2)","v":0},{"$f":"IF('Information Page'!$F$12=\"Use Drop Down Menu to Select\",\"-\",'Information Page'!$F$12)","v":"-"},{"$f":"'Summary - Space Method'!I27","v":0},{"$f":"'Summary - Space Method'!I84","v":0},{"$f":"'Summary - Space Method'!H84","v":0},0,{"$f":"'Summary - Space Method'!G84","v":0},{"$f":"'Summary - Space Method'!F84","v":0},{"$f":"'Summary - Space Method'!E84","v":0},{"$f":"'Summary - Space Method'!D84","v":0},"S7",{"$f":"'Interior Lighting Inventory'!D27","v":0},"Interior",{"$f":"'Summary - Space Method'!K27","v":0},15,"Space Method Interior",{"$f":"'Information Page'!$D$9","v":"Use Drop Down Menu to Select "},1,{"$f":"'Summary - Space Method'!D27","v":""},{"$f":"'Summary - Space Method'!M27","v":""},{"$f":"'Summary - Space Method'!J27","v":0},0,{"$f":"'Summary - Space Method'!N27","v":""},{"$f":"IF('Summary - Space Method'!L27=\"\",\"\",'Summary - Space Method'!L27-'Summary - Space Method'!N27)","v":""},{"$f":"'Calculations TRM'!AQ25","v":{"$error":"#N/A"}},{"$f":"'Calculations TRM'!AP25","v":{"$error":"#N/A"}},{"$f":"'Calculations TRM'!AO25","v":{"$error":"#N/A"}},0,1.3621E-4]
["Space Method Interior",{"$f":"IF(AND('Summary - Space Method'!V28>0,'Information Page'!$F$9=\"Space-by-Space Method\"),\"Yes\",\"No\")","v":"No"},{"$f":"'Summary - Space Method'!H28","v":0},{"$f":"'Summary - Space Method'!L28","v":""},{"$f":"'Information Page'!$D$9","v":"Use Drop Down Menu to Select "},{"$f":"'Version Tracking'!$B$2","v":6232026},{"$f":"'Calculations TRM'!J26","v":{"$error":"#N/A"}},{"$f":"'Calculations TRM'!I26","v":{"$error":"#N/A"}},{"$f":"TRUNC('Summary - Space Method'!V28,2)","v":0},{"$f":"IF('Information Page'!$F$12=\"Use Drop Down Menu to Select\",\"-\",'Information Page'!$F$12)","v":"-"},{"$f":"'Summary - Space Method'!I28","v":0},{"$f":"'Summary - Space Method'!I85","v":0},{"$f":"'Summary - Space Method'!H85","v":0},0,{"$f":"'Summary - Space Method'!G85","v":0},{"$f":"'Summary - Space Method'!F85","v":0},{"$f":"'Summary - Space Method'!E85","v":0},{"$f":"'Summary - Space Method'!D85","v":0},"S8",{"$f":"'Interior Lighting Inventory'!D28","v":0},"Interior",{"$f":"'Summary - Space Method'!K28","v":0},15,"Space Method Interior",{"$f":"'Information Page'!$D$9","v":"Use Drop Down Menu to Select "},1,{"$f":"'Summary - Space Method'!D28","v":""},{"$f":"'Summary - Space Method'!M28","v":""},{"$f":"'Summary - Space Method'!J28","v":0},0,{"$f":"'Summary - Space Method'!N28","v":""},{"$f":"IF('Summary - Space Method'!L28=\"\",\"\",'Summary - Space Method'!L28-'Summary - Space Method'!N28)","v":""},{"$f":"'Calculations TRM'!AQ26","v":{"$error":"#N/A"}},{"$f":"'Calculations TRM'!AP26","v":{"$error":"#N/A"}},{"$f":"'Calculations TRM'!AO26","v":{"$error":"#N/A"}},0,1.3621E-4]
["Space Method Interior",{"$f":"IF(AND('Summary - Space Method'!V29>0,'Information Page'!$F$9=\"Space-by-Space Method\"),\"Yes\",\"No\")","v":"No"},{"$f":"'Summary - Space Method'!H29","v":0},{"$f":"'Summary - Space Method'!L29","v":""},{"$f":"'Information Page'!$D$9","v":"Use Drop Down Menu to Select "},{"$f":"'Version Tracking'!$B$2","v":6232026},{"$f":"'Calculations TRM'!J27","v":{"$error":"#N/A"}},{"$f":"'Calculations TRM'!I27","v":{"$error":"#N/A"}},{"$f":"TRUNC('Summary - Space Method'!V29,2)","v":0},{"$f":"IF('Information Page'!$F$12=\"Use Drop Down Menu to Select\",\"-\",'Information Page'!$F$12)","v":"-"},{"$f":"'Summary - Space Method'!I29","v":0},{"$f":"'Summary - Space Method'!I86","v":0},{"$f":"'Summary - Space Method'!H86","v":0},0,{"$f":"'Summary - Space Method'!G86","v":0},{"$f":"'Summary - Space Method'!F86","v":0},{"$f":"'Summary - Space Method'!E86","v":0},{"$f":"'Summary - Space Method'!D86","v":0},"S9",{"$f":"'Interior Lighting Inventory'!D29","v":0},"Interior",{"$f":"'Summary - Space Method'!K29","v":0},15,"Space Method Interior",{"$f":"'Information Page'!$D$9","v":"Use Drop Down Menu to Select "},1,{"$f":"'Summary - Space Method'!D29","v":""},{"$f":"'Summary - Space Method'!M29","v":""},{"$f":"'Summary - Space Method'!J29","v":0},0,{"$f":"'Summary - Space Method'!N29","v":""},{"$f":"IF('Summary - Space Method'!L29=\"\",\"\",'Summary - Space Method'!L29-'Summary - Space Method'!N29)","v":""},{"$f":"'Calculations TRM'!AQ27","v":{"$error":"#N/A"}},{"$f":"'Calculations TRM'!AP27","v":{"$error":"#N/A"}},{"$f":"'Calculations TRM'!AO27","v":{"$error":"#N/A"}},0,1.3621E-4]
["Space Method Interior",{"$f":"IF(AND('Summary - Space Method'!V30>0,'Information Page'!$F$9=\"Space-by-Space Method\"),\"Yes\",\"No\")","v":"No"},{"$f":"'Summary - Space Method'!H30","v":0},{"$f":"'Summary - Space Method'!L30","v":""},{"$f":"'Information Page'!$D$9","v":"Use Drop Down Menu to Select "},{"$f":"'Version Tracking'!$B$2","v":6232026},{"$f":"'Calculations TRM'!J28","v":{"$error":"#N/A"}},{"$f":"'Calculations TRM'!I28","v":{"$error":"#N/A"}},{"$f":"TRUNC('Summary - Space Method'!V30,2)","v":0},{"$f":"IF('Information Page'!$F$12=\"Use Drop Down Menu to Select\",\"-\",'Information Page'!$F$12)","v":"-"},{"$f":"'Summary - Space Method'!I30","v":0},{"$f":"'Summary - Space Method'!I87","v":0},{"$f":"'Summary - Space Method'!H87","v":0},0,{"$f":"'Summary - Space Method'!G87","v":0},{"$f":"'Summary - Space Method'!F87","v":0},{"$f":"'Summary - Space Method'!E87","v":0},{"$f":"'Summary - Space Method'!D87","v":0},"S10",{"$f":"'Interior Lighting Inventory'!D30","v":0},"Interior",{"$f":"'Summary - Space Method'!K30","v":0},15,"Space Method Interior",{"$f":"'Information Page'!$D$9","v":"Use Drop Down Menu to Select "},1,{"$f":"'Summary - Space Method'!D30","v":""},{"$f":"'Summary - Space Method'!M30","v":""},{"$f":"'Summary - Space Method'!J30","v":0},0,{"$f":"'Summary - Space Method'!N30","v":""},{"$f":"IF('Summary - Space Method'!L30=\"\",\"\",'Summary - Space Method'!L30-'Summary - Space Method'!N30)","v":""},{"$f":"'Calculations TRM'!AQ28","v":{"$error":"#N/A"}},{"$f":"'Calculations TRM'!AP28","v":{"$error":"#N/A"}},{"$f":"'Calculations TRM'!AO28","v":{"$error":"#N/A"}},0,1.3621E-4]
["Space Method Interior",{"$f":"IF(AND('Summary - Space Method'!V31>0,'Information Page'!$F$9=\"Space-by-Space Method\"),\"Yes\",\"No\")","v":"No"},{"$f":"'Summary - Space Method'!H31","v":0},{"$f":"'Summary - Space Method'!L31","v":""},{"$f":"'Information Page'!$D$9","v":"Use Drop Down Menu to Select "},{"$f":"'Version Tracking'!$B$2","v":6232026},{"$f":"'Calculations TRM'!J29","v":{"$error":"#N/A"}},{"$f":"'Calculations TRM'!I29","v":{"$error":"#N/A"}},{"$f":"TRUNC('Summary - Space Method'!V31,2)","v":0},{"$f":"IF('Information Page'!$F$12=\"Use Drop Down Menu to Select\",\"-\",'Information Page'!$F$12)","v":"-"},{"$f":"'Summary - Space Method'!I31","v":0},{"$f":"'Summary - Space Method'!I88","v":0},{"$f":"'Summary - Space Method'!H88","v":0},0,{"$f":"'Summary - Space Method'!G88","v":0},{"$f":"'Summary - Space Method'!F88","v":0},{"$f":"'Summary - Space Method'!E88","v":0},{"$f":"'Summary - Space Method'!D88","v":0},"S11",{"$f":"'Interior Lighting Inventory'!D31","v":0},"Interior",{"$f":"'Summary - Space Method'!K31","v":0},15,"Space Method Interior",{"$f":"'Information Page'!$D$9","v":"Use Drop Down Menu to Select "},1,{"$f":"'Summary - Space Method'!D31","v":""},{"$f":"'Summary - Space Method'!M31","v":""},{"$f":"'Summary - Space Method'!J31","v":0},0,{"$f":"'Summary - Space Method'!N31","v":""},{"$f":"IF('Summary - Space Method'!L31=\"\",\"\",'Summary - Space Method'!L31-'Summary - Space Method'!N31)","v":""},{"$f":"'Calculations TRM'!AQ29","v":{"$error":"#N/A"}},{"$f":"'Calculations TRM'!AP29","v":{"$error":"#N/A"}},{"$f":"'Calculations TRM'!AO29","v":{"$error":"#N/A"}},0,1.3621E-4]
["Space Method Interior",{"$f":"IF(AND('Summary - Space Method'!V32>0,'Information Page'!$F$9=\"Space-by-Space Method\"),\"Yes\",\"No\")","v":"No"},{"$f":"'Summary - Space Method'!H32","v":0},{"$f":"'Summary - Space Method'!L32","v":""},{"$f":"'Information Page'!$D$9","v":"Use Drop Down Menu to Select "},{"$f":"'Version Tracking'!$B$2","v":6232026},{"$f":"'Calculations TRM'!J30","v":{"$error":"#N/A"}},{"$f":"'Calculations TRM'!I30","v":{"$error":"#N/A"}},{"$f":"TRUNC('Summary - Space Method'!V32,2)","v":0},{"$f":"IF('Information Page'!$F$12=\"Use Drop Down Menu to Select\",\"-\",'Information Page'!$F$12)","v":"-"},{"$f":"'Summary - Space Method'!I32","v":0},{"$f":"'Summary - Space Method'!I89","v":0},{"$f":"'Summary - Space Method'!H89","v":0},0,{"$f":"'Summary - Space Method'!G89","v":0},{"$f":"'Summary - Space Method'!F89","v":0},{"$f":"'Summary - Space Method'!E89","v":0},{"$f":"'Summary - Space Method'!D89","v":0},"S12",{"$f":"'Interior Lighting Inventory'!D32","v":0},"Interior",{"$f":"'Summary - Space Method'!K32","v":0},15,"Space Method Interior",{"$f":"'Information Page'!$D$9","v":"Use Drop Down Menu to Select "},1,{"$f":"'Summary - Space Method'!D32","v":""},{"$f":"'Summary - Space Method'!M32","v":""},{"$f":"'Summary - Space Method'!J32","v":0},0,{"$f":"'Summary - Space Method'!N32","v":""},{"$f":"IF('Summary - Space Method'!L32=\"\",\"\",'Summary - Space Method'!L32-'Summary - Space Method'!N32)","v":""},{"$f":"'Calculations TRM'!AQ30","v":{"$error":"#N/A"}},{"$f":"'Calculations TRM'!AP30","v":{"$error":"#N/A"}},{"$f":"'Calculations TRM'!AO30","v":{"$error":"#N/A"}},0,1.3621E-4]
["Space Method Interior",{"$f":"IF(AND('Summary - Space Method'!V33>0,'Information Page'!$F$9=\"Space-by-Space Method\"),\"Yes\",\"No\")","v":"No"},{"$f":"'Summary - Space Method'!H33","v":0},{"$f":"'Summary - Space Method'!L33","v":""},{"$f":"'Information Page'!$D$9","v":"Use Drop Down Menu to Select "},{"$f":"'Version Tracking'!$B$2","v":6232026},{"$f":"'Calculations TRM'!J31","v":{"$error":"#N/A"}},{"$f":"'Calculations TRM'!I31","v":{"$error":"#N/A"}},{"$f":"TRUNC('Summary - Space Method'!V33,2)","v":0},{"$f":"IF('Information Page'!$F$12=\"Use Drop Down Menu to Select\",\"-\",'Information Page'!$F$12)","v":"-"},{"$f":"'Summary - Space Method'!I33","v":0},{"$f":"'Summary - Space Method'!I90","v":0},{"$f":"'Summary - Space Method'!H90","v":0},0,{"$f":"'Summary - Space Method'!G90","v":0},{"$f":"'Summary - Space Method'!F90","v":0},{"$f":"'Summary - Space Method'!E90","v":0},{"$f":"'Summary - Space Method'!D90","v":0},"S13",{"$f":"'Interior Lighting Inventory'!D33","v":0},"Interior",{"$f":"'Summary - Space Method'!K33","v":0},15,"Space Method Interior",{"$f":"'Information Page'!$D$9","v":"Use Drop Down Menu to Select "},1,{"$f":"'Summary - Space Method'!D33","v":""},{"$f":"'Summary - Space Method'!M33","v":""},{"$f":"'Summary - Space Method'!J33","v":0},0,{"$f":"'Summary - Space Method'!N33","v":""},{"$f":"IF('Summary - Space Method'!L33=\"\",\"\",'Summary - Space Method'!L33-'Summary - Space Method'!N33)","v":""},{"$f":"'Calculations TRM'!AQ31","v":{"$error":"#N/A"}},{"$f":"'Calculations TRM'!AP31","v":{"$error":"#N/A"}},{"$f":"'Calculations TRM'!AO31","v":{"$error":"#N/A"}},0,1.3621E-4]
["Space Method Interior",{"$f":"IF(AND('Summary - Space Method'!V34>0,'Information Page'!$F$9=\"Space-by-Space Method\"),\"Yes\",\"No\")","v":"No"},{"$f":"'Summary - Space Method'!H34","v":0},{"$f":"'Summary - Space Method'!L34","v":""},{"$f":"'Information Page'!$D$9","v":"Use Drop Down Menu to Select "},{"$f":"'Version Tracking'!$B$2","v":6232026},{"$f":"'Calculations TRM'!J32","v":{"$error":"#N/A"}},{"$f":"'Calculations TRM'!I32","v":{"$error":"#N/A"}},{"$f":"TRUNC('Summary - Space Method'!V34,2)","v":0},{"$f":"IF('Information Page'!$F$12=\"Use Drop Down Menu to Select\",\"-\",'Information Page'!$F$12)","v":"-"},{"$f":"'Summary - Space Method'!I34","v":0},{"$f":"'Summary - Space Method'!I91","v":0},{"$f":"'Summary - Space Method'!H91","v":0},0,{"$f":"'Summary - Space Method'!G91","v":0},{"$f":"'Summary - Space Method'!F91","v":0},{"$f":"'Summary - Space Method'!E91","v":0},{"$f":"'Summary - Space Method'!D91","v":0},"S14",{"$f":"'Interior Lighting Inventory'!D34","v":0},"Interior",{"$f":"'Summary - Space Method'!K34","v":0},15,"Space Method Interior",{"$f":"'Information Page'!$D$9","v":"Use Drop Down Menu to Select "},1,{"$f":"'Summary - Space Method'!D34","v":""},{"$f":"'Summary - Space Method'!M34","v":""},{"$f":"'Summary - Space Method'!J34","v":0},0,{"$f":"'Summary - Space Method'!N34","v":""},{"$f":"IF('Summary - Space Method'!L34=\"\",\"\",'Summary - Space Method'!L34-'Summary - Space Method'!N34)","v":""},{"$f":"'Calculations TRM'!AQ32","v":{"$error":"#N/A"}},{"$f":"'Calculations TRM'!AP32","v":{"$error":"#N/A"}},{"$f":"'Calculations TRM'!AO32","v":{"$error":"#N/A"}},0,1.3621E-4]
["Space Method Interior",{"$f":"IF(AND('Summary - Space Method'!V35>0,'Information Page'!$F$9=\"Space-by-Space Method\"),\"Yes\",\"No\")","v":"No"},{"$f":"'Summary - Space Method'!H35","v":0},{"$f":"'Summary - Space Method'!L35","v":""},{"$f":"'Information Page'!$D$9","v":"Use Drop Down Menu to Select "},{"$f":"'Version Tracking'!$B$2","v":6232026},{"$f":"'Calculations TRM'!J33","v":{"$error":"#N/A"}},{"$f":"'Calculations TRM'!I33","v":{"$error":"#N/A"}},{"$f":"TRUNC('Summary - Space Method'!V35,2)","v":0},{"$f":"IF('Information Page'!$F$12=\"Use Drop Down Menu to Select\",\"-\",'Information Page'!$F$12)","v":"-"},{"$f":"'Summary - Space Method'!I35","v":0},{"$f":"'Summary - Space Method'!I92","v":0},{"$f":"'Summary - Space Method'!H92","v":0},0,{"$f":"'Summary - Space Method'!G92","v":0},{"$f":"'Summary - Space Method'!F92","v":0},{"$f":"'Summary - Space Method'!E92","v":0},{"$f":"'Summary - Space Method'!D92","v":0},"S15",{"$f":"'Interior Lighting Inventory'!D35","v":0},"Interior",{"$f":"'Summary - Space Method'!K35","v":0},15,"Space Method Interior",{"$f":"'Information Page'!$D$9","v":"Use Drop Down Menu to Select "},1,{"$f":"'Summary - Space Method'!D35","v":""},{"$f":"'Summary - Space Method'!M35","v":""},{"$f":"'Summary - Space Method'!J35","v":0},0,{"$f":"'Summary - Space Method'!N35","v":""},{"$f":"IF('Summary - Space Method'!L35=\"\",\"\",'Summary - Space Method'!L35-'Summary - Space Method'!N35)","v":""},{"$f":"'Calculations TRM'!AQ33","v":{"$error":"#N/A"}},{"$f":"'Calculations TRM'!AP33","v":{"$error":"#N/A"}},{"$f":"'Calculations TRM'!AO33","v":{"$error":"#N/A"}},0,1.3621E-4]
["Space Method Interior",{"$f":"IF(AND('Summary - Space Method'!V36>0,'Information Page'!$F$9=\"Space-by-Space Method\"),\"Yes\",\"No\")","v":"No"},{"$f":"'Summary - Space Method'!H36","v":0},{"$f":"'Summary - Space Method'!L36","v":""},{"$f":"'Information Page'!$D$9","v":"Use Drop Down Menu to Select "},{"$f":"'Version Tracking'!$B$2","v":6232026},{"$f":"'Calculations TRM'!J34","v":{"$error":"#N/A"}},{"$f":"'Calculations TRM'!I34","v":{"$error":"#N/A"}},{"$f":"TRUNC('Summary - Space Method'!V36,2)","v":0},{"$f":"IF('Information Page'!$F$12=\"Use Drop Down Menu to Select\",\"-\",'Information Page'!$F$12)","v":"-"},{"$f":"'Summary - Space Method'!I36","v":0},{"$f":"'Summary - Space Method'!I93","v":0},{"$f":"'Summary - Space Method'!H93","v":0},0,{"$f":"'Summary - Space Method'!G93","v":0},{"$f":"'Summary - Space Method'!F93","v":0},{"$f":"'Summary - Space Method'!E93","v":0},{"$f":"'Summary - Space Method'!D93","v":0},"S16",{"$f":"'Interior Lighting Inventory'!D36","v":0},"Interior",{"$f":"'Summary - Space Method'!K36","v":0},15,"Space Method Interior",{"$f":"'Information Page'!$D$9","v":"Use Drop Down Menu to Select "},1,{"$f":"'Summary - Space Method'!D36","v":""},{"$f":"'Summary - Space Method'!M36","v":""},{"$f":"'Summary - Space Method'!J36","v":0},0,{"$f":"'Summary - Space Method'!N36","v":""},{"$f":"IF('Summary - Space Method'!L36=\"\",\"\",'Summary - Space Method'!L36-'Summary - Space Method'!N36)","v":""},{"$f":"'Calculations TRM'!AQ34","v":{"$error":"#N/A"}},{"$f":"'Calculations TRM'!AP34","v":{"$error":"#N/A"}},{"$f":"'Calculations TRM'!AO34","v":{"$error":"#N/A"}},0,1.3621E-4]
["Space Method Interior",{"$f":"IF(AND('Summary - Space Method'!V37>0,'Information Page'!$F$9=\"Space-by-Space Method\"),\"Yes\",\"No\")","v":"No"},{"$f":"'Summary - Space Method'!H37","v":0},{"$f":"'Summary - Space Method'!L37","v":""},{"$f":"'Information Page'!$D$9","v":"Use Drop Down Menu to Select "},{"$f":"'Version Tracking'!$B$2","v":6232026},{"$f":"'Calculations TRM'!J35","v":{"$error":"#N/A"}},{"$f":"'Calculations TRM'!I35","v":{"$error":"#N/A"}},{"$f":"TRUNC('Summary - Space Method'!V37,2)","v":0},{"$f":"IF('Information Page'!$F$12=\"Use Drop Down Menu to Select\",\"-\",'Information Page'!$F$12)","v":"-"},{"$f":"'Summary - Space Method'!I37","v":0},{"$f":"'Summary - Space Method'!I94","v":0},{"$f":"'Summary - Space Method'!H94","v":0},0,{"$f":"'Summary - Space Method'!G94","v":0},{"$f":"'Summary - Space Method'!F94","v":0},{"$f":"'Summary - Space Method'!E94","v":0},{"$f":"'Summary - Space Method'!D94","v":0},"S17",{"$f":"'Interior Lighting Inventory'!D37","v":0},"Interior",{"$f":"'Summary - Space Method'!K37","v":0},15,"Space Method Interior",{"$f":"'Information Page'!$D$9","v":"Use Drop Down Menu to Select "},1,{"$f":"'Summary - Space Method'!D37","v":""},{"$f":"'Summary - Space Method'!M37","v":""},{"$f":"'Summary - Space Method'!J37","v":0},0,{"$f":"'Summary - Space Method'!N37","v":""},{"$f":"IF('Summary - Space Method'!L37=\"\",\"\",'Summary - Space Method'!L37-'Summary - Space Method'!N37)","v":""},{"$f":"'Calculations TRM'!AQ35","v":{"$error":"#N/A"}},{"$f":"'Calculations TRM'!AP35","v":{"$error":"#N/A"}},{"$f":"'Calculations TRM'!AO35","v":{"$error":"#N/A"}},0,1.3621E-4]
["Space Method Interior",{"$f":"IF(AND('Summary - Space Method'!V38>0,'Information Page'!$F$9=\"Space-by-Space Method\"),\"Yes\",\"No\")","v":"No"},{"$f":"'Summary - Space Method'!H38","v":0},{"$f":"'Summary - Space Method'!L38","v":""},{"$f":"'Information Page'!$D$9","v":"Use Drop Down Menu to Select "},{"$f":"'Version Tracking'!$B$2","v":6232026},{"$f":"'Calculations TRM'!J36","v":{"$error":"#N/A"}},{"$f":"'Calculations TRM'!I36","v":{"$error":"#N/A"}},{"$f":"TRUNC('Summary - Space Method'!V38,2)","v":0},{"$f":"IF('Information Page'!$F$12=\"Use Drop Down Menu to Select\",\"-\",'Information Page'!$F$12)","v":"-"},{"$f":"'Summary - Space Method'!I38","v":0},{"$f":"'Summary - Space Method'!I95","v":0},{"$f":"'Summary - Space Method'!H95","v":0},0,{"$f":"'Summary - Space Method'!G95","v":0},{"$f":"'Summary - Space Method'!F95","v":0},{"$f":"'Summary - Space Method'!E95","v":0},{"$f":"'Summary - Space Method'!D95","v":0},"S18",{"$f":"'Interior Lighting Inventory'!D38","v":0},"Interior",{"$f":"'Summary - Space Method'!K38","v":0},15,"Space Method Interior",{"$f":"'Information Page'!$D$9","v":"Use Drop Down Menu to Select "},1,{"$f":"'Summary - Space Method'!D38","v":""},{"$f":"'Summary - Space Method'!M38","v":""},{"$f":"'Summary - Space Method'!J38","v":0},0,{"$f":"'Summary - Space Method'!N38","v":""},{"$f":"IF('Summary - Space Method'!L38=\"\",\"\",'Summary - Space Method'!L38-'Summary - Space Method'!N38)","v":""},{"$f":"'Calculations TRM'!AQ36","v":{"$error":"#N/A"}},{"$f":"'Calculations TRM'!AP36","v":{"$error":"#N/A"}},{"$f":"'Calculations TRM'!AO36","v":{"$error":"#N/A"}},0,1.3621E-4]
["Space Method Interior",{"$f":"IF(AND('Summary - Space Method'!V39>0,'Information Page'!$F$9=\"Space-by-Space Method\"),\"Yes\",\"No\")","v":"No"},{"$f":"'Summary - Space Method'!H39","v":0},{"$f":"'Summary - Space Method'!L39","v":""},{"$f":"'Information Page'!$D$9","v":"Use Drop Down Menu to Select "},{"$f":"'Version Tracking'!$B$2","v":6232026},{"$f":"'Calculations TRM'!J37","v":{"$error":"#N/A"}},{"$f":"'Calculations TRM'!I37","v":{"$error":"#N/A"}},{"$f":"TRUNC('Summary - Space Method'!V39,2)","v":0},{"$f":"IF('Information Page'!$F$12=\"Use Drop Down Menu to Select\",\"-\",'Information Page'!$F$12)","v":"-"},{"$f":"'Summary - Space Method'!I39","v":0},{"$f":"'Summary - Space Method'!I96","v":0},{"$f":"'Summary - Space Method'!H96","v":0},0,{"$f":"'Summary - Space Method'!G96","v":0},{"$f":"'Summary - Space Method'!F96","v":0},{"$f":"'Summary - Space Method'!E96","v":0},{"$f":"'Summary - Space Method'!D96","v":0},"S19",{"$f":"'Interior Lighting Inventory'!D39","v":0},"Interior",{"$f":"'Summary - Space Method'!K39","v":0},15,"Space Method Interior",{"$f":"'Information Page'!$D$9","v":"Use Drop Down Menu to Select "},1,{"$f":"'Summary - Space Method'!D39","v":""},{"$f":"'Summary - Space Method'!M39","v":""},{"$f":"'Summary - Space Method'!J39","v":0},0,{"$f":"'Summary - Space Method'!N39","v":""},{"$f":"IF('Summary - Space Method'!L39=\"\",\"\",'Summary - Space Method'!L39-'Summary - Space Method'!N39)","v":""},{"$f":"'Calculations TRM'!AQ37","v":{"$error":"#N/A"}},{"$f":"'Calculations TRM'!AP37","v":{"$error":"#N/A"}},{"$f":"'Calculations TRM'!AO37","v":{"$error":"#N/A"}},0,1.3621E-4]
["Space Method Interior",{"$f":"IF(AND('Summary - Space Method'!V40>0,'Information Page'!$F$9=\"Space-by-Space Method\"),\"Yes\",\"No\")","v":"No"},{"$f":"'Summary - Space Method'!H40","v":0},{"$f":"'Summary - Space Method'!L40","v":""},{"$f":"'Information Page'!$D$9","v":"Use Drop Down Menu to Select "},{"$f":"'Version Tracking'!$B$2","v":6232026},{"$f":"'Calculations TRM'!J38","v":{"$error":"#N/A"}},{"$f":"'Calculations TRM'!I38","v":{"$error":"#N/A"}},{"$f":"TRUNC('Summary - Space Method'!V40,2)","v":0},{"$f":"IF('Information Page'!$F$12=\"Use Drop Down Menu to Select\",\"-\",'Information Page'!$F$12)","v":"-"},{"$f":"'Summary - Space Method'!I40","v":0},{"$f":"'Summary - Space Method'!I97","v":0},{"$f":"'Summary - Space Method'!H97","v":0},0,{"$f":"'Summary - Space Method'!G97","v":0},{"$f":"'Summary - Space Method'!F97","v":0},{"$f":"'Summary - Space Method'!E97","v":0},{"$f":"'Summary - Space Method'!D97","v":0},"S20",{"$f":"'Interior Lighting Inventory'!D40","v":0},"Interior",{"$f":"'Summary - Space Method'!K40","v":0},15,"Space Method Interior",{"$f":"'Information Page'!$D$9","v":"Use Drop Down Menu to Select "},1,{"$f":"'Summary - Space Method'!D40","v":""},{"$f":"'Summary - Space Method'!M40","v":""},{"$f":"'Summary - Space Method'!J40","v":0},0,{"$f":"'Summary - Space Method'!N40","v":""},{"$f":"IF('Summary - Space Method'!L40=\"\",\"\",'Summary - Space Method'!L40-'Summary - Space Method'!N40)","v":""},{"$f":"'Calculations TRM'!AQ38","v":{"$error":"#N/A"}},{"$f":"'Calculations TRM'!AP38","v":{"$error":"#N/A"}},{"$f":"'Calculations TRM'!AO38","v":{"$error":"#N/A"}},0,1.3621E-4]
["Space Method Interior",{"$f":"IF(AND('Summary - Space Method'!V41>0,'Information Page'!$F$9=\"Space-by-Space Method\"),\"Yes\",\"No\")","v":"No"},{"$f":"'Summary - Space Method'!H41","v":0},{"$f":"'Summary - Space Method'!L41","v":""},{"$f":"'Information Page'!$D$9","v":"Use Drop Down Menu to Select "},{"$f":"'Version Tracking'!$B$2","v":6232026},{"$f":"'Calculations TRM'!J39","v":{"$error":"#N/A"}},{"$f":"'Calculations TRM'!I39","v":{"$error":"#N/A"}},{"$f":"TRUNC('Summary - Space Method'!V41,2)","v":0},{"$f":"IF('Information Page'!$F$12=\"Use Drop Down Menu to Select\",\"-\",'Information Page'!$F$12)","v":"-"},{"$f":"'Summary - Space Method'!I41","v":0},{"$f":"'Summary - Space Method'!I98","v":0},{"$f":"'Summary - Space Method'!H98","v":0},0,{"$f":"'Summary - Space Method'!G98","v":0},{"$f":"'Summary - Space Method'!F98","v":0},{"$f":"'Summary - Space Method'!E98","v":0},{"$f":"'Summary - Space Method'!D98","v":0},"S21",{"$f":"'Interior Lighting Inventory'!D41","v":0},"Interior",{"$f":"'Summary - Space Method'!K41","v":0},15,"Space Method Interior",{"$f":"'Information Page'!$D$9","v":"Use Drop Down Menu to Select "},1,{"$f":"'Summary - Space Method'!D41","v":""},{"$f":"'Summary - Space Method'!M41","v":""},{"$f":"'Summary - Space Method'!J41","v":0},0,{"$f":"'Summary - Space Method'!N41","v":""},{"$f":"IF('Summary - Space Method'!L41=\"\",\"\",'Summary - Space Method'!L41-'Summary - Space Method'!N41)","v":""},{"$f":"'Calculations TRM'!AQ39","v":{"$error":"#N/A"}},{"$f":"'Calculations TRM'!AP39","v":{"$error":"#N/A"}},{"$f":"'Calculations TRM'!AO39","v":{"$error":"#N/A"}},0,1.3621E-4]
["Space Method Interior",{"$f":"IF(AND('Summary - Space Method'!V42>0,'Information Page'!$F$9=\"Space-by-Space Method\"),\"Yes\",\"No\")","v":"No"},{"$f":"'Summary - Space Method'!H42","v":0},{"$f":"'Summary - Space Method'!L42","v":""},{"$f":"'Information Page'!$D$9","v":"Use Drop Down Menu to Select "},{"$f":"'Version Tracking'!$B$2","v":6232026},{"$f":"'Calculations TRM'!J40","v":{"$error":"#N/A"}},{"$f":"'Calculations TRM'!I40","v":{"$error":"#N/A"}},{"$f":"TRUNC('Summary - Space Method'!V42,2)","v":0},{"$f":"IF('Information Page'!$F$12=\"Use Drop Down Menu to Select\",\"-\",'Information Page'!$F$12)","v":"-"},{"$f":"'Summary - Space Method'!I42","v":0},{"$f":"'Summary - Space Method'!I99","v":0},{"$f":"'Summary - Space Method'!H99","v":0},0,{"$f":"'Summary - Space Method'!G99","v":0},{"$f":"'Summary - Space Method'!F99","v":0},{"$f":"'Summary - Space Method'!E99","v":0},{"$f":"'Summary - Space Method'!D99","v":0},"S22",{"$f":"'Interior Lighting Inventory'!D42","v":0},"Interior",{"$f":"'Summary - Space Method'!K42","v":0},15,"Space Method Interior",{"$f":"'Information Page'!$D$9","v":"Use Drop Down Menu to Select "},1,{"$f":"'Summary - Space Method'!D42","v":""},{"$f":"'Summary - Space Method'!M42","v":""},{"$f":"'Summary - Space Method'!J42","v":0},0,{"$f":"'Summary - Space Method'!N42","v":""},{"$f":"IF('Summary - Space Method'!L42=\"\",\"\",'Summary - Space Method'!L42-'Summary - Space Method'!N42)","v":""},{"$f":"'Calculations TRM'!AQ40","v":{"$error":"#N/A"}},{"$f":"'Calculations TRM'!AP40","v":{"$error":"#N/A"}},{"$f":"'Calculations TRM'!AO40","v":{"$error":"#N/A"}},0,1.3621E-4]
["Space Method Interior",{"$f":"IF(AND('Summary - Space Method'!V43>0,'Information Page'!$F$9=\"Space-by-Space Method\"),\"Yes\",\"No\")","v":"No"},{"$f":"'Summary - Space Method'!H43","v":0},{"$f":"'Summary - Space Method'!L43","v":""},{"$f":"'Information Page'!$D$9","v":"Use Drop Down Menu to Select "},{"$f":"'Version Tracking'!$B$2","v":6232026},{"$f":"'Calculations TRM'!J41","v":{"$error":"#N/A"}},{"$f":"'Calculations TRM'!I41","v":{"$error":"#N/A"}},{"$f":"TRUNC('Summary - Space Method'!V43,2)","v":0},{"$f":"IF('Information Page'!$F$12=\"Use Drop Down Menu to Select\",\"-\",'Information Page'!$F$12)","v":"-"},{"$f":"'Summary - Space Method'!I43","v":0},{"$f":"'Summary - Space Method'!I100","v":0},{"$f":"'Summary - Space Method'!H100","v":0},0,{"$f":"'Summary - Space Method'!G100","v":0},{"$f":"'Summary - Space Method'!F100","v":0},{"$f":"'Summary - Space Method'!E100","v":0},{"$f":"'Summary - Space Method'!D100","v":0},"S23",{"$f":"'Interior Lighting Inventory'!D43","v":0},"Interior",{"$f":"'Summary - Space Method'!K43","v":0},15,"Space Method Interior",{"$f":"'Information Page'!$D$9","v":"Use Drop Down Menu to Select "},1,{"$f":"'Summary - Space Method'!D43","v":""},{"$f":"'Summary - Space Method'!M43","v":""},{"$f":"'Summary - Space Method'!J43","v":0},0,{"$f":"'Summary - Space Method'!N43","v":""},{"$f":"IF('Summary - Space Method'!L43=\"\",\"\",'Summary - Space Method'!L43-'Summary - Space Method'!N43)","v":""},{"$f":"'Calculations TRM'!AQ41","v":{"$error":"#N/A"}},{"$f":"'Calculations TRM'!AP41","v":{"$error":"#N/A"}},{"$f":"'Calculations TRM'!AO41","v":{"$error":"#N/A"}},0,1.3621E-4]
["Space Method Interior",{"$f":"IF(AND('Summary - Space Method'!V44>0,'Information Page'!$F$9=\"Space-by-Space Method\"),\"Yes\",\"No\")","v":"No"},{"$f":"'Summary - Space Method'!H44","v":0},{"$f":"'Summary - Space Method'!L44","v":""},{"$f":"'Information Page'!$D$9","v":"Use Drop Down Menu to Select "},{"$f":"'Version Tracking'!$B$2","v":6232026},{"$f":"'Calculations TRM'!J42","v":{"$error":"#N/A"}},{"$f":"'Calculations TRM'!I42","v":{"$error":"#N/A"}},{"$f":"TRUNC('Summary - Space Method'!V44,2)","v":0},{"$f":"IF('Information Page'!$F$12=\"Use Drop Down Menu to Select\",\"-\",'Information Page'!$F$12)","v":"-"},{"$f":"'Summary - Space Method'!I44","v":0},{"$f":"'Summary - Space Method'!I101","v":0},{"$f":"'Summary - Space Method'!H101","v":0},0,{"$f":"'Summary - Space Method'!G101","v":0},{"$f":"'Summary - Space Method'!F101","v":0},{"$f":"'Summary - Space Method'!E101","v":0},{"$f":"'Summary - Space Method'!D101","v":0},"S24",{"$f":"'Interior Lighting Inventory'!D44","v":0},"Interior",{"$f":"'Summary - Space Method'!K44","v":0},15,"Space Method Interior",{"$f":"'Information Page'!$D$9","v":"Use Drop Down Menu to Select "},1,{"$f":"'Summary - Space Method'!D44","v":""},{"$f":"'Summary - Space Method'!M44","v":""},{"$f":"'Summary - Space Method'!J44","v":0},0,{"$f":"'Summary - Space Method'!N44","v":""},{"$f":"IF('Summary - Space Method'!L44=\"\",\"\",'Summary - Space Method'!L44-'Summary - Space Method'!N44)","v":""},{"$f":"'Calculations TRM'!AQ42","v":{"$error":"#N/A"}},{"$f":"'Calculations TRM'!AP42","v":{"$error":"#N/A"}},{"$f":"'Calculations TRM'!AO42","v":{"$error":"#N/A"}},0,1.3621E-4]
["Space Method Interior",{"$f":"IF(AND('Summary - Space Method'!V45>0,'Information Page'!$F$9=\"Space-by-Space Method\"),\"Yes\",\"No\")","v":"No"},{"$f":"'Summary - Space Method'!H45","v":0},{"$f":"'Summary - Space Method'!L45","v":""},{"$f":"'Information Page'!$D$9","v":"Use Drop Down Menu to Select "},{"$f":"'Version Tracking'!$B$2","v":6232026},{"$f":"'Calculations TRM'!J43","v":{"$error":"#N/A"}},{"$f":"'Calculations TRM'!I43","v":{"$error":"#N/A"}},{"$f":"TRUNC('Summary - Space Method'!V45,2)","v":0},{"$f":"IF('Information Page'!$F$12=\"Use Drop Down Menu to Select\",\"-\",'Information Page'!$F$12)","v":"-"},{"$f":"'Summary - Space Method'!I45","v":0},{"$f":"'Summary - Space Method'!I102","v":0},{"$f":"'Summary - Space Method'!H102","v":0},0,{"$f":"'Summary - Space Method'!G102","v":0},{"$f":"'Summary - Space Method'!F102","v":0},{"$f":"'Summary - Space Method'!E102","v":0},{"$f":"'Summary - Space Method'!D102","v":0},"S25",{"$f":"'Interior Lighting Inventory'!D45","v":0},"Interior",{"$f":"'Summary - Space Method'!K45","v":0},15,"Space Method Interior",{"$f":"'Information Page'!$D$9","v":"Use Drop Down Menu to Select "},1,{"$f":"'Summary - Space Method'!D45","v":""},{"$f":"'Summary - Space Method'!M45","v":""},{"$f":"'Summary - Space Method'!J45","v":0},0,{"$f":"'Summary - Space Method'!N45","v":""},{"$f":"IF('Summary - Space Method'!L45=\"\",\"\",'Summary - Space Method'!L45-'Summary - Space Method'!N45)","v":""},{"$f":"'Calculations TRM'!AQ43","v":{"$error":"#N/A"}},{"$f":"'Calculations TRM'!AP43","v":{"$error":"#N/A"}},{"$f":"'Calculations TRM'!AO43","v":{"$error":"#N/A"}},0,1.3621E-4]
["Space Method Interior",{"$f":"IF(AND('Summary - Space Method'!V46>0,'Information Page'!$F$9=\"Space-by-Space Method\"),\"Yes\",\"No\")","v":"No"},{"$f":"'Summary - Space Method'!H46","v":0},{"$f":"'Summary - Space Method'!L46","v":""},{"$f":"'Information Page'!$D$9","v":"Use Drop Down Menu to Select "},{"$f":"'Version Tracking'!$B$2","v":6232026},{"$f":"'Calculations TRM'!J44","v":{"$error":"#N/A"}},{"$f":"'Calculations TRM'!I44","v":{"$error":"#N/A"}},{"$f":"TRUNC('Summary - Space Method'!V46,2)","v":0},{"$f":"IF('Information Page'!$F$12=\"Use Drop Down Menu to Select\",\"-\",'Information Page'!$F$12)","v":"-"},{"$f":"'Summary - Space Method'!I46","v":0},{"$f":"'Summary - Space Method'!I103","v":0},{"$f":"'Summary - Space Method'!H103","v":0},0,{"$f":"'Summary - Space Method'!G103","v":0},{"$f":"'Summary - Space Method'!F103","v":0},{"$f":"'Summary - Space Method'!E103","v":0},{"$f":"'Summary - Space Method'!D103","v":0},"S26",{"$f":"'Interior Lighting Inventory'!D46","v":0},"Interior",{"$f":"'Summary - Space Method'!K46","v":0},15,"Space Method Interior",{"$f":"'Information Page'!$D$9","v":"Use Drop Down Menu to Select "},1,{"$f":"'Summary - Space Method'!D46","v":""},{"$f":"'Summary - Space Method'!M46","v":""},{"$f":"'Summary - Space Method'!J46","v":0},0,{"$f":"'Summary - Space Method'!N46","v":""},{"$f":"IF('Summary - Space Method'!L46=\"\",\"\",'Summary - Space Method'!L46-'Summary - Space Method'!N46)","v":""},{"$f":"'Calculations TRM'!AQ44","v":{"$error":"#N/A"}},{"$f":"'Calculations TRM'!AP44","v":{"$error":"#N/A"}},{"$f":"'Calculations TRM'!AO44","v":{"$error":"#N/A"}},0,1.3621E-4]
["Space Method Interior",{"$f":"IF(AND('Summary - Space Method'!V47>0,'Information Page'!$F$9=\"Space-by-Space Method\"),\"Yes\",\"No\")","v":"No"},{"$f":"'Summary - Space Method'!H47","v":0},{"$f":"'Summary - Space Method'!L47","v":""},{"$f":"'Information Page'!$D$9","v":"Use Drop Down Menu to Select "},{"$f":"'Version Tracking'!$B$2","v":6232026},{"$f":"'Calculations TRM'!J45","v":{"$error":"#N/A"}},{"$f":"'Calculations TRM'!I45","v":{"$error":"#N/A"}},{"$f":"TRUNC('Summary - Space Method'!V47,2)","v":0},{"$f":"IF('Information Page'!$F$12=\"Use Drop Down Menu to Select\",\"-\",'Information Page'!$F$12)","v":"-"},{"$f":"'Summary - Space Method'!I47","v":0},{"$f":"'Summary - Space Method'!I104","v":0},{"$f":"'Summary - Space Method'!H104","v":0},0,{"$f":"'Summary - Space Method'!G104","v":0},{"$f":"'Summary - Space Method'!F104","v":0},{"$f":"'Summary - Space Method'!E104","v":0},{"$f":"'Summary - Space Method'!D104","v":0},"S27",{"$f":"'Interior Lighting Inventory'!D47","v":0},"Interior",{"$f":"'Summary - Space Method'!K47","v":0},15,"Space Method Interior",{"$f":"'Information Page'!$D$9","v":"Use Drop Down Menu to Select "},1,{"$f":"'Summary - Space Method'!D47","v":""},{"$f":"'Summary - Space Method'!M47","v":""},{"$f":"'Summary - Space Method'!J47","v":0},0,{"$f":"'Summary - Space Method'!N47","v":""},{"$f":"IF('Summary - Space Method'!L47=\"\",\"\",'Summary - Space Method'!L47-'Summary - Space Method'!N47)","v":""},{"$f":"'Calculations TRM'!AQ45","v":{"$error":"#N/A"}},{"$f":"'Calculations TRM'!AP45","v":{"$error":"#N/A"}},{"$f":"'Calculations TRM'!AO45","v":{"$error":"#N/A"}},0,1.3621E-4]
["Space Method Interior",{"$f":"IF(AND('Summary - Space Method'!V48>0,'Information Page'!$F$9=\"Space-by-Space Method\"),\"Yes\",\"No\")","v":"No"},{"$f":"'Summary - Space Method'!H48","v":0},{"$f":"'Summary - Space Method'!L48","v":""},{"$f":"'Information Page'!$D$9","v":"Use Drop Down Menu to Select "},{"$f":"'Version Tracking'!$B$2","v":6232026},{"$f":"'Calculations TRM'!J46","v":{"$error":"#N/A"}},{"$f":"'Calculations TRM'!I46","v":{"$error":"#N/A"}},{"$f":"TRUNC('Summary - Space Method'!V48,2)","v":0},{"$f":"IF('Information Page'!$F$12=\"Use Drop Down Menu to Select\",\"-\",'Information Page'!$F$12)","v":"-"},{"$f":"'Summary - Space Method'!I48","v":0},{"$f":"'Summary - Space Method'!I105","v":0},{"$f":"'Summary - Space Method'!H105","v":0},0,{"$f":"'Summary - Space Method'!G105","v":0},{"$f":"'Summary - Space Method'!F105","v":0},{"$f":"'Summary - Space Method'!E105","v":0},{"$f":"'Summary - Space Method'!D105","v":0},"S28",{"$f":"'Interior Lighting Inventory'!D48","v":0},"Interior",{"$f":"'Summary - Space Method'!K48","v":0},15,"Space Method Interior",{"$f":"'Information Page'!$D$9","v":"Use Drop Down Menu to Select "},1,{"$f":"'Summary - Space Method'!D48","v":""},{"$f":"'Summary - Space Method'!M48","v":""},{"$f":"'Summary - Space Method'!J48","v":0},0,{"$f":"'Summary - Space Method'!N48","v":""},{"$f":"IF('Summary - Space Method'!L48=\"\",\"\",'Summary - Space Method'!L48-'Summary - Space Method'!N48)","v":""},{"$f":"'Calculations TRM'!AQ46","v":{"$error":"#N/A"}},{"$f":"'Calculations TRM'!AP46","v":{"$error":"#N/A"}},{"$f":"'Calculations TRM'!AO46","v":{"$error":"#N/A"}},0,1.3621E-4]
["Space Method Interior",{"$f":"IF(AND('Summary - Space Method'!V49>0,'Information Page'!$F$9=\"Space-by-Space Method\"),\"Yes\",\"No\")","v":"No"},{"$f":"'Summary - Space Method'!H49","v":0},{"$f":"'Summary - Space Method'!L49","v":""},{"$f":"'Information Page'!$D$9","v":"Use Drop Down Menu to Select "},{"$f":"'Version Tracking'!$B$2","v":6232026},{"$f":"'Calculations TRM'!J47","v":{"$error":"#N/A"}},{"$f":"'Calculations TRM'!I47","v":{"$error":"#N/A"}},{"$f":"TRUNC('Summary - Space Method'!V49,2)","v":0},{"$f":"IF('Information Page'!$F$12=\"Use Drop Down Menu to Select\",\"-\",'Information Page'!$F$12)","v":"-"},{"$f":"'Summary - Space Method'!I49","v":0},{"$f":"'Summary - Space Method'!I106","v":0},{"$f":"'Summary - Space Method'!H106","v":0},0,{"$f":"'Summary - Space Method'!G106","v":0},{"$f":"'Summary - Space Method'!F106","v":0},{"$f":"'Summary - Space Method'!E106","v":0},{"$f":"'Summary - Space Method'!D106","v":0},"S29",{"$f":"'Interior Lighting Inventory'!D49","v":0},"Interior",{"$f":"'Summary - Space Method'!K49","v":0},15,"Space Method Interior",{"$f":"'Information Page'!$D$9","v":"Use Drop Down Menu to Select "},1,{"$f":"'Summary - Space Method'!D49","v":""},{"$f":"'Summary - Space Method'!M49","v":""},{"$f":"'Summary - Space Method'!J49","v":0},0,{"$f":"'Summary - Space Method'!N49","v":""},{"$f":"IF('Summary - Space Method'!L49=\"\",\"\",'Summary - Space Method'!L49-'Summary - Space Method'!N49)","v":""},{"$f":"'Calculations TRM'!AQ47","v":{"$error":"#N/A"}},{"$f":"'Calculations TRM'!AP47","v":{"$error":"#N/A"}},{"$f":"'Calculations TRM'!AO47","v":{"$error":"#N/A"}},0,1.3621E-4]
["Space Method Interior",{"$f":"IF(AND('Summary - Space Method'!V50>0,'Information Page'!$F$9=\"Space-by-Space Method\"),\"Yes\",\"No\")","v":"No"},{"$f":"'Summary - Space Method'!H50","v":0},{"$f":"'Summary - Space Method'!L50","v":""},{"$f":"'Information Page'!$D$9","v":"Use Drop Down Menu to Select "},{"$f":"'Version Tracking'!$B$2","v":6232026},{"$f":"'Calculations TRM'!J48","v":{"$error":"#N/A"}},{"$f":"'Calculations TRM'!I48","v":{"$error":"#N/A"}},{"$f":"TRUNC('Summary - Space Method'!V50,2)","v":0},{"$f":"IF('Information Page'!$F$12=\"Use Drop Down Menu to Select\",\"-\",'Information Page'!$F$12)","v":"-"},{"$f":"'Summary - Space Method'!I50","v":0},{"$f":"'Summary - Space Method'!I107","v":0},{"$f":"'Summary - Space Method'!H107","v":0},0,{"$f":"'Summary - Space Method'!G107","v":0},{"$f":"'Summary - Space Method'!F107","v":0},{"$f":"'Summary - Space Method'!E107","v":0},{"$f":"'Summary - Space Method'!D107","v":0},"S30",{"$f":"'Interior Lighting Inventory'!D50","v":0},"Interior",{"$f":"'Summary - Space Method'!K50","v":0},15,"Space Method Interior",{"$f":"'Information Page'!$D$9","v":"Use Drop Down Menu to Select "},1,{"$f":"'Summary - Space Method'!D50","v":""},{"$f":"'Summary - Space Method'!M50","v":""},{"$f":"'Summary - Space Method'!J50","v":0},0,{"$f":"'Summary - Space Method'!N50","v":""},{"$f":"IF('Summary - Space Method'!L50=\"\",\"\",'Summary - Space Method'!L50-'Summary - Space Method'!N50)","v":""},{"$f":"'Calculations TRM'!AQ48","v":{"$error":"#N/A"}},{"$f":"'Calculations TRM'!AP48","v":{"$error":"#N/A"}},{"$f":"'Calculations TRM'!AO48","v":{"$error":"#N/A"}},0,1.3621E-4]
["Space Method Interior",{"$f":"IF(AND('Summary - Space Method'!V51>0,'Information Page'!$F$9=\"Space-by-Space Method\"),\"Yes\",\"No\")","v":"No"},{"$f":"'Summary - Space Method'!H51","v":0},{"$f":"'Summary - Space Method'!L51","v":""},{"$f":"'Information Page'!$D$9","v":"Use Drop Down Menu to Select "},{"$f":"'Version Tracking'!$B$2","v":6232026},{"$f":"'Calculations TRM'!J49","v":{"$error":"#N/A"}},{"$f":"'Calculations TRM'!I49","v":{"$error":"#N/A"}},{"$f":"TRUNC('Summary - Space Method'!V51,2)","v":0},{"$f":"IF('Information Page'!$F$12=\"Use Drop Down Menu to Select\",\"-\",'Information Page'!$F$12)","v":"-"},{"$f":"'Summary - Space Method'!I51","v":0},{"$f":"'Summary - Space Method'!I108","v":0},{"$f":"'Summary - Space Method'!H108","v":0},0,{"$f":"'Summary - Space Method'!G108","v":0},{"$f":"'Summary - Space Method'!F108","v":0},{"$f":"'Summary - Space Method'!E108","v":0},{"$f":"'Summary - Space Method'!D108","v":0},"S31",{"$f":"'Interior Lighting Inventory'!D51","v":0},"Interior",{"$f":"'Summary - Space Method'!K51","v":0},15,"Space Method Interior",{"$f":"'Information Page'!$D$9","v":"Use Drop Down Menu to Select "},1,{"$f":"'Summary - Space Method'!D51","v":""},{"$f":"'Summary - Space Method'!M51","v":""},{"$f":"'Summary - Space Method'!J51","v":0},0,{"$f":"'Summary - Space Method'!N51","v":""},{"$f":"IF('Summary - Space Method'!L51=\"\",\"\",'Summary - Space Method'!L51-'Summary - Space Method'!N51)","v":""},{"$f":"'Calculations TRM'!AQ49","v":{"$error":"#N/A"}},{"$f":"'Calculations TRM'!AP49","v":{"$error":"#N/A"}},{"$f":"'Calculations TRM'!AO49","v":{"$error":"#N/A"}},0,1.3621E-4]
["Space Method Interior",{"$f":"IF(AND('Summary - Space Method'!V52>0,'Information Page'!$F$9=\"Space-by-Space Method\"),\"Yes\",\"No\")","v":"No"},{"$f":"'Summary - Space Method'!H52","v":0},{"$f":"'Summary - Space Method'!L52","v":""},{"$f":"'Information Page'!$D$9","v":"Use Drop Down Menu to Select "},{"$f":"'Version Tracking'!$B$2","v":6232026},{"$f":"'Calculations TRM'!J50","v":{"$error":"#N/A"}},{"$f":"'Calculations TRM'!I50","v":{"$error":"#N/A"}},{"$f":"TRUNC('Summary - Space Method'!V52,2)","v":0},{"$f":"IF('Information Page'!$F$12=\"Use Drop Down Menu to Select\",\"-\",'Information Page'!$F$12)","v":"-"},{"$f":"'Summary - Space Method'!I52","v":0},{"$f":"'Summary - Space Method'!I109","v":0},{"$f":"'Summary - Space Method'!H109","v":0},0,{"$f":"'Summary - Space Method'!G109","v":0},{"$f":"'Summary - Space Method'!F109","v":0},{"$f":"'Summary - Space Method'!E109","v":0},{"$f":"'Summary - Space Method'!D109","v":0},"S32",{"$f":"'Interior Lighting Inventory'!D52","v":0},"Interior",{"$f":"'Summary - Space Method'!K52","v":0},15,"Space Method Interior",{"$f":"'Information Page'!$D$9","v":"Use Drop Down Menu to Select "},1,{"$f":"'Summary - Space Method'!D52","v":""},{"$f":"'Summary - Space Method'!M52","v":""},{"$f":"'Summary - Space Method'!J52","v":0},0,{"$f":"'Summary - Space Method'!N52","v":""},{"$f":"IF('Summary - Space Method'!L52=\"\",\"\",'Summary - Space Method'!L52-'Summary - Space Method'!N52)","v":""},{"$f":"'Calculations TRM'!AQ50","v":{"$error":"#N/A"}},{"$f":"'Calculations TRM'!AP50","v":{"$error":"#N/A"}},{"$f":"'Calculations TRM'!AO50","v":{"$error":"#N/A"}},0,1.3621E-4]
["Space Method Interior",{"$f":"IF(AND('Summary - Space Method'!V53>0,'Information Page'!$F$9=\"Space-by-Space Method\"),\"Yes\",\"No\")","v":"No"},{"$f":"'Summary - Space Method'!H53","v":0},{"$f":"'Summary - Space Method'!L53","v":""},{"$f":"'Information Page'!$D$9","v":"Use Drop Down Menu to Select "},{"$f":"'Version Tracking'!$B$2","v":6232026},{"$f":"'Calculations TRM'!J51","v":{"$error":"#N/A"}},{"$f":"'Calculations TRM'!I51","v":{"$error":"#N/A"}},{"$f":"TRUNC('Summary - Space Method'!V53,2)","v":0},{"$f":"IF('Information Page'!$F$12=\"Use Drop Down Menu to Select\",\"-\",'Information Page'!$F$12)","v":"-"},{"$f":"'Summary - Space Method'!I53","v":0},{"$f":"'Summary - Space Method'!I110","v":0},{"$f":"'Summary - Space Method'!H110","v":0},0,{"$f":"'Summary - Space Method'!G110","v":0},{"$f":"'Summary - Space Method'!F110","v":0},{"$f":"'Summary - Space Method'!E110","v":0},{"$f":"'Summary - Space Method'!D110","v":0},"S33",{"$f":"'Interior Lighting Inventory'!D53","v":0},"Interior",{"$f":"'Summary - Space Method'!K53","v":0},15,{"$f":"A38","v":"Space Method Interior"},{"$f":"'Information Page'!$D$9","v":"Use Drop Down Menu to Select "},1,{"$f":"'Summary - Space Method'!D53","v":""},{"$f":"'Summary - Space Method'!M53","v":""},{"$f":"'Summary - Space Method'!J53","v":0},0,{"$f":"'Summary - Space Method'!N53","v":""},{"$f":"IF('Summary - Space Method'!L53=\"\",\"\",'Summary - Space Method'!L53-'Summary - Space Method'!N53)","v":""},{"$f":"'Calculations TRM'!AQ51","v":{"$error":"#N/A"}},{"$f":"'Calculations TRM'!AP51","v":{"$error":"#N/A"}},{"$f":"'Calculations TRM'!AO51","v":{"$error":"#N/A"}},{"$f":"AK38*N38","v":0},1.3621E-4]
["Space Method Interior",{"$f":"IF(AND('Summary - Space Method'!V54>0,'Information Page'!$F$9=\"Space-by-Space Method\"),\"Yes\",\"No\")","v":"No"},{"$f":"'Summary - Space Method'!H54","v":0},{"$f":"'Summary - Space Method'!L54","v":""},{"$f":"'Information Page'!$D$9","v":"Use Drop Down Menu to Select "},{"$f":"'Version Tracking'!$B$2","v":6232026},{"$f":"'Calculations TRM'!J52","v":{"$error":"#N/A"}},{"$f":"'Calculations TRM'!I52","v":{"$error":"#N/A"}},{"$f":"TRUNC('Summary - Space Method'!V54,2)","v":0},{"$f":"IF('Information Page'!$F$12=\"Use Drop Down Menu to Select\",\"-\",'Information Page'!$F$12)","v":"-"},{"$f":"'Summary - Space Method'!I54","v":0},{"$f":"'Summary - Space Method'!I111","v":0},{"$f":"'Summary - Space Method'!H111","v":0},0,{"$f":"'Summary - Space Method'!G111","v":0},{"$f":"'Summary - Space Method'!F111","v":0},{"$f":"'Summary - Space Method'!E111","v":0},{"$f":"'Summary - Space Method'!D111","v":0},"S34",{"$f":"'Interior Lighting Inventory'!D54","v":0},"Interior",{"$f":"'Summary - Space Method'!K54","v":0},15,"Space Method Interior",{"$f":"'Information Page'!$D$9","v":"Use Drop Down Menu to Select "},1,{"$f":"'Summary - Space Method'!D54","v":""},{"$f":"'Summary - Space Method'!M54","v":""},{"$f":"'Summary - Space Method'!J54","v":0},0,{"$f":"'Summary - Space Method'!N54","v":""},{"$f":"IF('Summary - Space Method'!L54=\"\",\"\",'Summary - Space Method'!L54-'Summary - Space Method'!N54)","v":""},{"$f":"'Calculations TRM'!AQ52","v":{"$error":"#N/A"}},{"$f":"'Calculations TRM'!AP52","v":{"$error":"#N/A"}},{"$f":"'Calculations TRM'!AO52","v":{"$error":"#N/A"}},0,1.3621E-4]
["Space Method Interior",{"$f":"IF(AND('Summary - Space Method'!V55>0,'Information Page'!$F$9=\"Space-by-Space Method\"),\"Yes\",\"No\")","v":"No"},{"$f":"'Summary - Space Method'!H55","v":0},{"$f":"'Summary - Space Method'!L55","v":""},{"$f":"'Information Page'!$D$9","v":"Use Drop Down Menu to Select "},{"$f":"'Version Tracking'!$B$2","v":6232026},{"$f":"'Calculations TRM'!J53","v":{"$error":"#N/A"}},{"$f":"'Calculations TRM'!I53","v":{"$error":"#N/A"}},{"$f":"TRUNC('Summary - Space Method'!V55,2)","v":0},{"$f":"IF('Information Page'!$F$12=\"Use Drop Down Menu to Select\",\"-\",'Information Page'!$F$12)","v":"-"},{"$f":"'Summary - Space Method'!I55","v":0},{"$f":"'Summary - Space Method'!I112","v":0},{"$f":"'Summary - Space Method'!H112","v":0},0,{"$f":"'Summary - Space Method'!G112","v":0},{"$f":"'Summary - Space Method'!F112","v":0},{"$f":"'Summary - Space Method'!E112","v":0},{"$f":"'Summary - Space Method'!D112","v":0},"S35",{"$f":"'Interior Lighting Inventory'!D55","v":0},"Interior",{"$f":"'Summary - Space Method'!K55","v":0},15,"Space Method Interior",{"$f":"'Information Page'!$D$9","v":"Use Drop Down Menu to Select "},1,{"$f":"'Summary - Space Method'!D55","v":""},{"$f":"'Summary - Space Method'!M55","v":""},{"$f":"'Summary - Space Method'!J55","v":0},0,{"$f":"'Summary - Space Method'!N55","v":""},{"$f":"IF('Summary - Space Method'!L55=\"\",\"\",'Summary - Space Method'!L55-'Summary - Space Method'!N55)","v":""},{"$f":"'Calculations TRM'!AQ53","v":{"$error":"#N/A"}},{"$f":"'Calculations TRM'!AP53","v":{"$error":"#N/A"}},{"$f":"'Calculations TRM'!AO53","v":{"$error":"#N/A"}},0,1.3621E-4]
["Space Method Interior",{"$f":"IF(AND('Summary - Space Method'!V56>0,'Information Page'!$F$9=\"Space-by-Space Method\"),\"Yes\",\"No\")","v":"No"},{"$f":"'Summary - Space Method'!H56","v":0},{"$f":"'Summary - Space Method'!L56","v":""},{"$f":"'Information Page'!$D$9","v":"Use Drop Down Menu to Select "},{"$f":"'Version Tracking'!$B$2","v":6232026},{"$f":"'Calculations TRM'!J54","v":{"$error":"#N/A"}},{"$f":"'Calculations TRM'!I54","v":{"$error":"#N/A"}},{"$f":"TRUNC('Summary - Space Method'!V56,2)","v":0},{"$f":"IF('Information Page'!$F$12=\"Use Drop Down Menu to Select\",\"-\",'Information Page'!$F$12)","v":"-"},{"$f":"'Summary - Space Method'!I56","v":0},{"$f":"'Summary - Space Method'!I113","v":0},{"$f":"'Summary - Space Method'!H113","v":0},0,{"$f":"'Summary - Space Method'!G113","v":0},{"$f":"'Summary - Space Method'!F113","v":0},{"$f":"'Summary - Space Method'!E113","v":0},{"$f":"'Summary - Space Method'!D113","v":0},"S36",{"$f":"'Interior Lighting Inventory'!D56","v":0},"Interior",{"$f":"'Summary - Space Method'!K56","v":0},15,"Space Method Interior",{"$f":"'Information Page'!$D$9","v":"Use Drop Down Menu to Select "},1,{"$f":"'Summary - Space Method'!D56","v":""},{"$f":"'Summary - Space Method'!M56","v":""},{"$f":"'Summary - Space Method'!J56","v":0},0,{"$f":"'Summary - Space Method'!N56","v":""},{"$f":"IF('Summary - Space Method'!L56=\"\",\"\",'Summary - Space Method'!L56-'Summary - Space Method'!N56)","v":""},{"$f":"'Calculations TRM'!AQ54","v":{"$error":"#N/A"}},{"$f":"'Calculations TRM'!AP54","v":{"$error":"#N/A"}},{"$f":"'Calculations TRM'!AO54","v":{"$error":"#N/A"}},0,1.3621E-4]
["Space Method Interior",{"$f":"IF(AND('Summary - Space Method'!V57>0,'Information Page'!$F$9=\"Space-by-Space Method\"),\"Yes\",\"No\")","v":"No"},{"$f":"'Summary - Space Method'!H57","v":0},{"$f":"'Summary - Space Method'!L57","v":""},{"$f":"'Information Page'!$D$9","v":"Use Drop Down Menu to Select "},{"$f":"'Version Tracking'!$B$2","v":6232026},{"$f":"'Calculations TRM'!J55","v":{"$error":"#N/A"}},{"$f":"'Calculations TRM'!I55","v":{"$error":"#N/A"}},{"$f":"TRUNC('Summary - Space Method'!V57,2)","v":0},{"$f":"IF('Information Page'!$F$12=\"Use Drop Down Menu to Select\",\"-\",'Information Page'!$F$12)","v":"-"},{"$f":"'Summary - Space Method'!I57","v":0},{"$f":"'Summary - Space Method'!I114","v":0},{"$f":"'Summary - Space Method'!H114","v":0},0,{"$f":"'Summary - Space Method'!G114","v":0},{"$f":"'Summary - Space Method'!F114","v":0},{"$f":"'Summary - Space Method'!E114","v":0},{"$f":"'Summary - Space Method'!D114","v":0},"S37",{"$f":"'Interior Lighting Inventory'!D57","v":0},"Interior",{"$f":"'Summary - Space Method'!K57","v":0},15,"Space Method Interior",{"$f":"'Information Page'!$D$9","v":"Use Drop Down Menu to Select "},1,{"$f":"'Summary - Space Method'!D57","v":""},{"$f":"'Summary - Space Method'!M57","v":""},{"$f":"'Summary - Space Method'!J57","v":0},0,{"$f":"'Summary - Space Method'!N57","v":""},{"$f":"IF('Summary - Space Method'!L57=\"\",\"\",'Summary - Space Method'!L57-'Summary - Space Method'!N57)","v":""},{"$f":"'Calculations TRM'!AQ55","v":{"$error":"#N/A"}},{"$f":"'Calculations TRM'!AP55","v":{"$error":"#N/A"}},{"$f":"'Calculations TRM'!AO55","v":{"$error":"#N/A"}},0,1.3621E-4]
["Space Method Interior",{"$f":"IF(AND('Summary - Space Method'!V58>0,'Information Page'!$F$9=\"Space-by-Space Method\"),\"Yes\",\"No\")","v":"No"},{"$f":"'Summary - Space Method'!H58","v":0},{"$f":"'Summary - Space Method'!L58","v":""},{"$f":"'Information Page'!$D$9","v":"Use Drop Down Menu to Select "},{"$f":"'Version Tracking'!$B$2","v":6232026},{"$f":"'Calculations TRM'!J56","v":{"$error":"#N/A"}},{"$f":"'Calculations TRM'!I56","v":{"$error":"#N/A"}},{"$f":"TRUNC('Summary - Space Method'!V58,2)","v":0},{"$f":"IF('Information Page'!$F$12=\"Use Drop Down Menu to Select\",\"-\",'Information Page'!$F$12)","v":"-"},{"$f":"'Summary - Space Method'!I58","v":0},{"$f":"'Summary - Space Method'!I115","v":0},{"$f":"'Summary - Space Method'!H115","v":0},0,{"$f":"'Summary - Space Method'!G115","v":0},{"$f":"'Summary - Space Method'!F115","v":0},{"$f":"'Summary - Space Method'!E115","v":0},{"$f":"'Summary - Space Method'!D115","v":0},"S38",{"$f":"'Interior Lighting Inventory'!D58","v":0},"Interior",{"$f":"'Summary - Space Method'!K58","v":0},15,"Space Method Interior",{"$f":"'Information Page'!$D$9","v":"Use Drop Down Menu to Select "},1,{"$f":"'Summary - Space Method'!D58","v":""},{"$f":"'Summary - Space Method'!M58","v":""},{"$f":"'Summary - Space Method'!J58","v":0},0,{"$f":"'Summary - Space Method'!N58","v":""},{"$f":"IF('Summary - Space Method'!L58=\"\",\"\",'Summary - Space Method'!L58-'Summary - Space Method'!N58)","v":""},{"$f":"'Calculations TRM'!AQ56","v":{"$error":"#N/A"}},{"$f":"'Calculations TRM'!AP56","v":{"$error":"#N/A"}},{"$f":"'Calculations TRM'!AO56","v":{"$error":"#N/A"}},0,1.3621E-4]
["Space Method Interior",{"$f":"IF(AND('Summary - Space Method'!V59>0,'Information Page'!$F$9=\"Space-by-Space Method\"),\"Yes\",\"No\")","v":"No"},{"$f":"'Summary - Space Method'!H59","v":0},{"$f":"'Summary - Space Method'!L59","v":""},{"$f":"'Information Page'!$D$9","v":"Use Drop Down Menu to Select "},{"$f":"'Version Tracking'!$B$2","v":6232026},{"$f":"'Calculations TRM'!J57","v":{"$error":"#N/A"}},{"$f":"'Calculations TRM'!I57","v":{"$error":"#N/A"}},{"$f":"TRUNC('Summary - Space Method'!V59,2)","v":0},{"$f":"IF('Information Page'!$F$12=\"Use Drop Down Menu to Select\",\"-\",'Information Page'!$F$12)","v":"-"},{"$f":"'Summary - Space Method'!I59","v":0},{"$f":"'Summary - Space Method'!I116","v":0},{"$f":"'Summary - Space Method'!H116","v":0},0,{"$f":"'Summary - Space Method'!G116","v":0},{"$f":"'Summary - Space Method'!F116","v":0},{"$f":"'Summary - Space Method'!E116","v":0},{"$f":"'Summary - Space Method'!D116","v":0},"S39",{"$f":"'Interior Lighting Inventory'!D59","v":0},"Interior",{"$f":"'Summary - Space Method'!K59","v":0},15,"Space Method Interior",{"$f":"'Information Page'!$D$9","v":"Use Drop Down Menu to Select "},1,{"$f":"'Summary - Space Method'!D59","v":""},{"$f":"'Summary - Space Method'!M59","v":""},{"$f":"'Summary - Space Method'!J59","v":0},0,{"$f":"'Summary - Space Method'!N59","v":""},{"$f":"IF('Summary - Space Method'!L59=\"\",\"\",'Summary - Space Method'!L59-'Summary - Space Method'!N59)","v":""},{"$f":"'Calculations TRM'!AQ57","v":{"$error":"#N/A"}},{"$f":"'Calculations TRM'!AP57","v":{"$error":"#N/A"}},{"$f":"'Calculations TRM'!AO57","v":{"$error":"#N/A"}},0,1.3621E-4]
["Space Method Interior",{"$f":"IF(AND('Summary - Space Method'!V60>0,'Information Page'!$F$9=\"Space-by-Space Method\"),\"Yes\",\"No\")","v":"No"},{"$f":"'Summary - Space Method'!H60","v":0},{"$f":"'Summary - Space Method'!L60","v":""},{"$f":"'Information Page'!$D$9","v":"Use Drop Down Menu to Select "},{"$f":"'Version Tracking'!$B$2","v":6232026},{"$f":"'Calculations TRM'!J58","v":{"$error":"#N/A"}},{"$f":"'Calculations TRM'!I58","v":{"$error":"#N/A"}},{"$f":"TRUNC('Summary - Space Method'!V60,2)","v":0},{"$f":"IF('Information Page'!$F$12=\"Use Drop Down Menu to Select\",\"-\",'Information Page'!$F$12)","v":"-"},{"$f":"'Summary - Space Method'!I60","v":0},{"$f":"'Summary - Space Method'!I117","v":0},{"$f":"'Summary - Space Method'!H117","v":0},0,{"$f":"'Summary - Space Method'!G117","v":0},{"$f":"'Summary - Space Method'!F117","v":0},{"$f":"'Summary - Space Method'!E117","v":0},{"$f":"'Summary - Space Method'!D117","v":0},"S40",{"$f":"'Interior Lighting Inventory'!D60","v":0},"Interior",{"$f":"'Summary - Space Method'!K60","v":0},15,"Space Method Interior",{"$f":"'Information Page'!$D$9","v":"Use Drop Down Menu to Select "},1,{"$f":"'Summary - Space Method'!D60","v":""},{"$f":"'Summary - Space Method'!M60","v":""},{"$f":"'Summary - Space Method'!J60","v":0},0,{"$f":"'Summary - Space Method'!N60","v":""},{"$f":"IF('Summary - Space Method'!L60=\"\",\"\",'Summary - Space Method'!L60-'Summary - Space Method'!N60)","v":""},{"$f":"'Calculations TRM'!AQ58","v":{"$error":"#N/A"}},{"$f":"'Calculations TRM'!AP58","v":{"$error":"#N/A"}},{"$f":"'Calculations TRM'!AO58","v":{"$error":"#N/A"}},0,1.3621E-4]
["Space Method Interior",{"$f":"IF(AND('Summary - Space Method'!V61>0,'Information Page'!$F$9=\"Space-by-Space Method\"),\"Yes\",\"No\")","v":"No"},{"$f":"'Summary - Space Method'!H61","v":0},{"$f":"'Summary - Space Method'!L61","v":""},{"$f":"'Information Page'!$D$9","v":"Use Drop Down Menu to Select "},{"$f":"'Version Tracking'!$B$2","v":6232026},{"$f":"'Calculations TRM'!J59","v":{"$error":"#N/A"}},{"$f":"'Calculations TRM'!I59","v":{"$error":"#N/A"}},{"$f":"TRUNC('Summary - Space Method'!V61,2)","v":0},{"$f":"IF('Information Page'!$F$12=\"Use Drop Down Menu to Select\",\"-\",'Information Page'!$F$12)","v":"-"},{"$f":"'Summary - Space Method'!I61","v":0},{"$f":"'Summary - Space Method'!I118","v":0},{"$f":"'Summary - Space Method'!H118","v":0},0,{"$f":"'Summary - Space Method'!G118","v":0},{"$f":"'Summary - Space Method'!F118","v":0},{"$f":"'Summary - Space Method'!E118","v":0},{"$f":"'Summary - Space Method'!D118","v":0},"S41",{"$f":"'Interior Lighting Inventory'!D61","v":0},"Interior",{"$f":"'Summary - Space Method'!K61","v":0},15,"Space Method Interior",{"$f":"'Information Page'!$D$9","v":"Use Drop Down Menu to Select "},1,{"$f":"'Summary - Space Method'!D61","v":""},{"$f":"'Summary - Space Method'!M61","v":""},{"$f":"'Summary - Space Method'!J61","v":0},0,{"$f":"'Summary - Space Method'!N61","v":""},{"$f":"IF('Summary - Space Method'!L61=\"\",\"\",'Summary - Space Method'!L61-'Summary - Space Method'!N61)","v":""},{"$f":"'Calculations TRM'!AQ59","v":{"$error":"#N/A"}},{"$f":"'Calculations TRM'!AP59","v":{"$error":"#N/A"}},{"$f":"'Calculations TRM'!AO59","v":{"$error":"#N/A"}},0,1.3621E-4]
["Space Method Interior",{"$f":"IF(AND('Summary - Space Method'!V62>0,'Information Page'!$F$9=\"Space-by-Space Method\"),\"Yes\",\"No\")","v":"No"},{"$f":"'Summary - Space Method'!H62","v":0},{"$f":"'Summary - Space Method'!L62","v":""},{"$f":"'Information Page'!$D$9","v":"Use Drop Down Menu to Select "},{"$f":"'Version Tracking'!$B$2","v":6232026},{"$f":"'Calculations TRM'!J60","v":{"$error":"#N/A"}},{"$f":"'Calculations TRM'!I60","v":{"$error":"#N/A"}},{"$f":"TRUNC('Summary - Space Method'!V62,2)","v":0},{"$f":"IF('Information Page'!$F$12=\"Use Drop Down Menu to Select\",\"-\",'Information Page'!$F$12)","v":"-"},{"$f":"'Summary - Space Method'!I62","v":0},{"$f":"'Summary - Space Method'!I119","v":0},{"$f":"'Summary - Space Method'!H119","v":0},0,{"$f":"'Summary - Space Method'!G119","v":0},{"$f":"'Summary - Space Method'!F119","v":0},{"$f":"'Summary - Space Method'!E119","v":0},{"$f":"'Summary - Space Method'!D119","v":0},"S42",{"$f":"'Interior Lighting Inventory'!D62","v":0},"Interior",{"$f":"'Summary - Space Method'!K62","v":0},15,"Space Method Interior",{"$f":"'Information Page'!$D$9","v":"Use Drop Down Menu to Select "},1,{"$f":"'Summary - Space Method'!D62","v":""},{"$f":"'Summary - Space Method'!M62","v":""},{"$f":"'Summary - Space Method'!J62","v":0},0,{"$f":"'Summary - Space Method'!N62","v":""},{"$f":"IF('Summary - Space Method'!L62=\"\",\"\",'Summary - Space Method'!L62-'Summary - Space Method'!N62)","v":""},{"$f":"'Calculations TRM'!AQ60","v":{"$error":"#N/A"}},{"$f":"'Calculations TRM'!AP60","v":{"$error":"#N/A"}},{"$f":"'Calculations TRM'!AO60","v":{"$error":"#N/A"}},0,1.3621E-4]
["Space Method Interior",{"$f":"IF(AND('Summary - Space Method'!V63>0,'Information Page'!$F$9=\"Space-by-Space Method\"),\"Yes\",\"No\")","v":"No"},{"$f":"'Summary - Space Method'!H63","v":0},{"$f":"'Summary - Space Method'!L63","v":""},{"$f":"'Information Page'!$D$9","v":"Use Drop Down Menu to Select "},{"$f":"'Version Tracking'!$B$2","v":6232026},{"$f":"'Calculations TRM'!J61","v":{"$error":"#N/A"}},{"$f":"'Calculations TRM'!I61","v":{"$error":"#N/A"}},{"$f":"TRUNC('Summary - Space Method'!V63,2)","v":0},{"$f":"IF('Information Page'!$F$12=\"Use Drop Down Menu to Select\",\"-\",'Information Page'!$F$12)","v":"-"},{"$f":"'Summary - Space Method'!I63","v":0},{"$f":"'Summary - Space Method'!I120","v":0},{"$f":"'Summary - Space Method'!H120","v":0},0,{"$f":"'Summary - Space Method'!G120","v":0},{"$f":"'Summary - Space Method'!F120","v":0},{"$f":"'Summary - Space Method'!E120","v":0},{"$f":"'Summary - Space Method'!D120","v":0},"S43",{"$f":"'Interior Lighting Inventory'!D63","v":0},"Interior",{"$f":"'Summary - Space Method'!K63","v":0},15,"Space Method Interior",{"$f":"'Information Page'!$D$9","v":"Use Drop Down Menu to Select "},1,{"$f":"'Summary - Space Method'!D63","v":""},{"$f":"'Summary - Space Method'!M63","v":""},{"$f":"'Summary - Space Method'!J63","v":0},0,{"$f":"'Summary - Space Method'!N63","v":""},{"$f":"IF('Summary - Space Method'!L63=\"\",\"\",'Summary - Space Method'!L63-'Summary - Space Method'!N63)","v":""},{"$f":"'Calculations TRM'!AQ61","v":{"$error":"#N/A"}},{"$f":"'Calculations TRM'!AP61","v":{"$error":"#N/A"}},{"$f":"'Calculations TRM'!AO61","v":{"$error":"#N/A"}},0,1.3621E-4]
["Space Method Interior",{"$f":"IF(AND('Summary - Space Method'!V64>0,'Information Page'!$F$9=\"Space-by-Space Method\"),\"Yes\",\"No\")","v":"No"},{"$f":"'Summary - Space Method'!H64","v":0},{"$f":"'Summary - Space Method'!L64","v":""},{"$f":"'Information Page'!$D$9","v":"Use Drop Down Menu to Select "},{"$f":"'Version Tracking'!$B$2","v":6232026},{"$f":"'Calculations TRM'!J62","v":{"$error":"#N/A"}},{"$f":"'Calculations TRM'!I62","v":{"$error":"#N/A"}},{"$f":"TRUNC('Summary - Space Method'!V64,2)","v":0},{"$f":"IF('Information Page'!$F$12=\"Use Drop Down Menu to Select\",\"-\",'Information Page'!$F$12)","v":"-"},{"$f":"'Summary - Space Method'!I64","v":0},{"$f":"'Summary - Space Method'!I121","v":0},{"$f":"'Summary - Space Method'!H121","v":0},0,{"$f":"'Summary - Space Method'!G121","v":0},{"$f":"'Summary - Space Method'!F121","v":0},{"$f":"'Summary - Space Method'!E121","v":0},{"$f":"'Summary - Space Method'!D121","v":0},"S44",{"$f":"'Interior Lighting Inventory'!D64","v":0},"Interior",{"$f":"'Summary - Space Method'!K64","v":0},15,"Space Method Interior",{"$f":"'Information Page'!$D$9","v":"Use Drop Down Menu to Select "},1,{"$f":"'Summary - Space Method'!D64","v":""},{"$f":"'Summary - Space Method'!M64","v":""},{"$f":"'Summary - Space Method'!J64","v":0},0,{"$f":"'Summary - Space Method'!N64","v":""},{"$f":"IF('Summary - Space Method'!L64=\"\",\"\",'Summary - Space Method'!L64-'Summary - Space Method'!N64)","v":""},{"$f":"'Calculations TRM'!AQ62","v":{"$error":"#N/A"}},{"$f":"'Calculations TRM'!AP62","v":{"$error":"#N/A"}},{"$f":"'Calculations TRM'!AO62","v":{"$error":"#N/A"}},0,1.3621E-4]
["Space Method Interior",{"$f":"IF(AND('Summary - Space Method'!V65>0,'Information Page'!$F$9=\"Space-by-Space Method\"),\"Yes\",\"No\")","v":"No"},{"$f":"'Summary - Space Method'!H65","v":0},{"$f":"'Summary - Space Method'!L65","v":""},{"$f":"'Information Page'!$D$9","v":"Use Drop Down Menu to Select "},{"$f":"'Version Tracking'!$B$2","v":6232026},{"$f":"'Calculations TRM'!J63","v":{"$error":"#N/A"}},{"$f":"'Calculations TRM'!I63","v":{"$error":"#N/A"}},{"$f":"TRUNC('Summary - Space Method'!V65,2)","v":0},{"$f":"IF('Information Page'!$F$12=\"Use Drop Down Menu to Select\",\"-\",'Information Page'!$F$12)","v":"-"},{"$f":"'Summary - Space Method'!I65","v":0},{"$f":"'Summary - Space Method'!I122","v":0},{"$f":"'Summary - Space Method'!H122","v":0},0,{"$f":"'Summary - Space Method'!G122","v":0},{"$f":"'Summary - Space Method'!F122","v":0},{"$f":"'Summary - Space Method'!E122","v":0},{"$f":"'Summary - Space Method'!D122","v":0},"S45",{"$f":"'Interior Lighting Inventory'!D65","v":0},"Interior",{"$f":"'Summary - Space Method'!K65","v":0},15,"Space Method Interior",{"$f":"'Information Page'!$D$9","v":"Use Drop Down Menu to Select "},1,{"$f":"'Summary - Space Method'!D65","v":""},{"$f":"'Summary - Space Method'!M65","v":""},{"$f":"'Summary - Space Method'!J65","v":0},0,{"$f":"'Summary - Space Method'!N65","v":""},{"$f":"IF('Summary - Space Method'!L65=\"\",\"\",'Summary - Space Method'!L65-'Summary - Space Method'!N65)","v":""},{"$f":"'Calculations TRM'!AQ63","v":{"$error":"#N/A"}},{"$f":"'Calculations TRM'!AP63","v":{"$error":"#N/A"}},{"$f":"'Calculations TRM'!AO63","v":{"$error":"#N/A"}},0,1.3621E-4]
["Space Method Interior",{"$f":"IF(AND('Summary - Space Method'!V66>0,'Information Page'!$F$9=\"Space-by-Space Method\"),\"Yes\",\"No\")","v":"No"},{"$f":"'Summary - Space Method'!H66","v":0},{"$f":"'Summary - Space Method'!L66","v":""},{"$f":"'Information Page'!$D$9","v":"Use Drop Down Menu to Select "},{"$f":"'Version Tracking'!$B$2","v":6232026},{"$f":"'Calculations TRM'!J64","v":{"$error":"#N/A"}},{"$f":"'Calculations TRM'!I64","v":{"$error":"#N/A"}},{"$f":"TRUNC('Summary - Space Method'!V66,2)","v":0},{"$f":"IF('Information Page'!$F$12=\"Use Drop Down Menu to Select\",\"-\",'Information Page'!$F$12)","v":"-"},{"$f":"'Summary - Space Method'!I66","v":0},{"$f":"'Summary - Space Method'!I123","v":0},{"$f":"'Summary - Space Method'!H123","v":0},0,{"$f":"'Summary - Space Method'!G123","v":0},{"$f":"'Summary - Space Method'!F123","v":0},{"$f":"'Summary - Space Method'!E123","v":0},{"$f":"'Summary - Space Method'!D123","v":0},"S46",{"$f":"'Interior Lighting Inventory'!D66","v":0},"Interior",{"$f":"'Summary - Space Method'!K66","v":0},15,"Space Method Interior",{"$f":"'Information Page'!$D$9","v":"Use Drop Down Menu to Select "},1,{"$f":"'Summary - Space Method'!D66","v":""},{"$f":"'Summary - Space Method'!M66","v":""},{"$f":"'Summary - Space Method'!J66","v":0},0,{"$f":"'Summary - Space Method'!N66","v":""},{"$f":"IF('Summary - Space Method'!L66=\"\",\"\",'Summary - Space Method'!L66-'Summary - Space Method'!N66)","v":""},{"$f":"'Calculations TRM'!AQ64","v":{"$error":"#N/A"}},{"$f":"'Calculations TRM'!AP64","v":{"$error":"#N/A"}},{"$f":"'Calculations TRM'!AO64","v":{"$error":"#N/A"}},0,1.3621E-4]
["Space Method Interior",{"$f":"IF(AND('Summary - Space Method'!V67>0,'Information Page'!$F$9=\"Space-by-Space Method\"),\"Yes\",\"No\")","v":"No"},{"$f":"'Summary - Space Method'!H67","v":0},{"$f":"'Summary - Space Method'!L67","v":""},{"$f":"'Information Page'!$D$9","v":"Use Drop Down Menu to Select "},{"$f":"'Version Tracking'!$B$2","v":6232026},{"$f":"'Calculations TRM'!J65","v":{"$error":"#N/A"}},{"$f":"'Calculations TRM'!I65","v":{"$error":"#N/A"}},{"$f":"TRUNC('Summary - Space Method'!V67,2)","v":0},{"$f":"IF('Information Page'!$F$12=\"Use Drop Down Menu to Select\",\"-\",'Information Page'!$F$12)","v":"-"},{"$f":"'Summary - Space Method'!I67","v":0},{"$f":"'Summary - Space Method'!I124","v":0},{"$f":"'Summary - Space Method'!H124","v":0},0,{"$f":"'Summary - Space Method'!G124","v":0},{"$f":"'Summary - Space Method'!F124","v":0},{"$f":"'Summary - Space Method'!E124","v":0},{"$f":"'Summary - Space Method'!D124","v":0},"S47",{"$f":"'Interior Lighting Inventory'!D67","v":0},"Interior",{"$f":"'Summary - Space Method'!K67","v":0},15,"Space Method Interior",{"$f":"'Information Page'!$D$9","v":"Use Drop Down Menu to Select "},1,{"$f":"'Summary - Space Method'!D67","v":""},{"$f":"'Summary - Space Method'!M67","v":""},{"$f":"'Summary - Space Method'!J67","v":0},0,{"$f":"'Summary - Space Method'!N67","v":""},{"$f":"IF('Summary - Space Method'!L67=\"\",\"\",'Summary - Space Method'!L67-'Summary - Space Method'!N67)","v":""},{"$f":"'Calculations TRM'!AQ65","v":{"$error":"#N/A"}},{"$f":"'Calculations TRM'!AP65","v":{"$error":"#N/A"}},{"$f":"'Calculations TRM'!AO65","v":{"$error":"#N/A"}},0,1.3621E-4]
["Space Method Interior",{"$f":"IF(AND('Summary - Space Method'!V68>0,'Information Page'!$F$9=\"Space-by-Space Method\"),\"Yes\",\"No\")","v":"No"},{"$f":"'Summary - Space Method'!H68","v":0},{"$f":"'Summary - Space Method'!L68","v":""},{"$f":"'Information Page'!$D$9","v":"Use Drop Down Menu to Select "},{"$f":"'Version Tracking'!$B$2","v":6232026},{"$f":"'Calculations TRM'!J66","v":{"$error":"#N/A"}},{"$f":"'Calculations TRM'!I66","v":{"$error":"#N/A"}},{"$f":"TRUNC('Summary - Space Method'!V68,2)","v":0},{"$f":"IF('Information Page'!$F$12=\"Use Drop Down Menu to Select\",\"-\",'Information Page'!$F$12)","v":"-"},{"$f":"'Summary - Space Method'!I68","v":0},{"$f":"'Summary - Space Method'!I125","v":0},{"$f":"'Summary - Space Method'!H125","v":0},0,{"$f":"'Summary - Space Method'!G125","v":0},{"$f":"'Summary - Space Method'!F125","v":0},{"$f":"'Summary - Space Method'!E125","v":0},{"$f":"'Summary - Space Method'!D125","v":0},"S48",{"$f":"'Interior Lighting Inventory'!D68","v":0},"Interior",{"$f":"'Summary - Space Method'!K68","v":0},15,"Space Method Interior",{"$f":"'Information Page'!$D$9","v":"Use Drop Down Menu to Select "},1,{"$f":"'Summary - Space Method'!D68","v":""},{"$f":"'Summary - Space Method'!M68","v":""},{"$f":"'Summary - Space Method'!J68","v":0},0,{"$f":"'Summary - Space Method'!N68","v":""},{"$f":"IF('Summary - Space Method'!L68=\"\",\"\",'Summary - Space Method'!L68-'Summary - Space Method'!N68)","v":""},{"$f":"'Calculations TRM'!AQ66","v":{"$error":"#N/A"}},{"$f":"'Calculations TRM'!AP66","v":{"$error":"#N/A"}},{"$f":"'Calculations TRM'!AO66","v":{"$error":"#N/A"}},0,1.3621E-4]
["Space Method Interior",{"$f":"IF(AND('Summary - Space Method'!V69>0,'Information Page'!$F$9=\"Space-by-Space Method\"),\"Yes\",\"No\")","v":"No"},{"$f":"'Summary - Space Method'!H69","v":0},{"$f":"'Summary - Space Method'!L69","v":""},{"$f":"'Information Page'!$D$9","v":"Use Drop Down Menu to Select "},{"$f":"'Version Tracking'!$B$2","v":6232026},{"$f":"'Calculations TRM'!J67","v":{"$error":"#N/A"}},{"$f":"'Calculations TRM'!I67","v":{"$error":"#N/A"}},{"$f":"TRUNC('Summary - Space Method'!V69,2)","v":0},{"$f":"IF('Information Page'!$F$12=\"Use Drop Down Menu to Select\",\"-\",'Information Page'!$F$12)","v":"-"},{"$f":"'Summary - Space Method'!I69","v":0},{"$f":"'Summary - Space Method'!I126","v":0},{"$f":"'Summary - Space Method'!H126","v":0},0,{"$f":"'Summary - Space Method'!G126","v":0},{"$f":"'Summary - Space Method'!F126","v":0},{"$f":"'Summary - Space Method'!E126","v":0},{"$f":"'Summary - Space Method'!D126","v":0},"S49",{"$f":"'Interior Lighting Inventory'!D69","v":0},"Interior",{"$f":"'Summary - Space Method'!K69","v":0},15,"Space Method Interior",{"$f":"'Information Page'!$D$9","v":"Use Drop Down Menu to Select "},1,{"$f":"'Summary - Space Method'!D69","v":""},{"$f":"'Summary - Space Method'!M69","v":""},{"$f":"'Summary - Space Method'!J69","v":0},0,{"$f":"'Summary - Space Method'!N69","v":""},{"$f":"IF('Summary - Space Method'!L69=\"\",\"\",'Summary - Space Method'!L69-'Summary - Space Method'!N69)","v":""},{"$f":"'Calculations TRM'!AQ67","v":{"$error":"#N/A"}},{"$f":"'Calculations TRM'!AP67","v":{"$error":"#N/A"}},{"$f":"'Calculations TRM'!AO67","v":{"$error":"#N/A"}},0,1.3621E-4]
["Space Method Interior",{"$f":"IF(AND('Summary - Space Method'!V70>0,'Information Page'!$F$9=\"Space-by-Space Method\"),\"Yes\",\"No\")","v":"No"},{"$f":"'Summary - Space Method'!H70","v":0},{"$f":"'Summary - Space Method'!L70","v":""},{"$f":"'Information Page'!$D$9","v":"Use Drop Down Menu to Select "},{"$f":"'Version Tracking'!$B$2","v":6232026},{"$f":"'Calculations TRM'!J68","v":{"$error":"#N/A"}},{"$f":"'Calculations TRM'!I68","v":{"$error":"#N/A"}},{"$f":"TRUNC('Summary - Space Method'!V70,2)","v":0},{"$f":"IF('Information Page'!$F$12=\"Use Drop Down Menu to Select\",\"-\",'Information Page'!$F$12)","v":"-"},{"$f":"'Summary - Space Method'!I70","v":0},{"$f":"'Summary - Space Method'!I127","v":0},{"$f":"'Summary - Space Method'!H127","v":0},0,{"$f":"'Summary - Space Method'!G127","v":0},{"$f":"'Summary - Space Method'!F127","v":0},{"$f":"'Summary - Space Method'!E127","v":0},{"$f":"'Summary - Space Method'!D127","v":0},"S50",{"$f":"'Interior Lighting Inventory'!D70","v":0},"Interior",{"$f":"'Summary - Space Method'!K70","v":0},15,"Space Method Interior",{"$f":"'Information Page'!$D$9","v":"Use Drop Down Menu to Select "},1,{"$f":"'Summary - Space Method'!D70","v":""},{"$f":"'Summary - Space Method'!M70","v":""},{"$f":"'Summary - Space Method'!J70","v":0},0,{"$f":"'Summary - Space Method'!N70","v":""},{"$f":"IF('Summary - Space Method'!L70=\"\",\"\",'Summary - Space Method'!L70-'Summary - Space Method'!N70)","v":""},{"$f":"'Calculations TRM'!AQ68","v":{"$error":"#N/A"}},{"$f":"'Calculations TRM'!AP68","v":{"$error":"#N/A"}},{"$f":"'Calculations TRM'!AO68","v":{"$error":"#N/A"}},0,1.3621E-4]
["Space Method Exterior",{"$f":"IF('Exterior Lighting Inventory'!Y21>0,\"Yes\",\"No\")","v":"No"},{"$f":"'Exterior Lighting Inventory'!G21","v":0},{"$f":"'Exterior Lighting Inventory'!P21","v":"-"},{"$f":"'Information Page'!$D$9","v":"Use Drop Down Menu to Select "},{"$f":"'Version Tracking'!$B$2","v":6232026},{"$f":"'Calculations TRM'!I72","v":3.6999999999999998E-2},{"$f":"'Calculations TRM'!J72","v":3.6999999999999998E-2},{"$f":"TRUNC('Exterior Lighting Inventory'!Y21,2)","v":0},"None",{"$f":"'Exterior Lighting Inventory'!I21","v":0},{"$f":"'Exterior Lighting Inventory'!I46","v":0},{"$f":"'Exterior Lighting Inventory'!H46","v":0},0,{"$f":"'Exterior Lighting Inventory'!G46","v":0},{"$f":"'Exterior Lighting Inventory'!F46","v":0},{"$f":"'Exterior Lighting Inventory'!E46","v":0},{"$f":"'Exterior Lighting Inventory'!D46","v":0},"E1",{"$f":"'Exterior Lighting Inventory'!D21","v":0},{"$f":"'Exterior Lighting Inventory'!E21","v":0},{"$f":"'Exterior Lighting Inventory'!M21","v":0},15,"Space Method Exterior",{"$f":"'Information Page'!$D$9","v":"Use Drop Down Menu to Select "},1,{"$f":"'Exterior Lighting Inventory'!F21","v":0},{"$f":"'Exterior Lighting Inventory'!Q21","v":"-"},{"$f":"'Exterior Lighting Inventory'!R21","v":"-"},{"$f":"'Exterior Lighting Inventory'!V21","v":"0"},{"$f":"IF('Exterior Lighting Inventory'!G21=\"\",\"\",'Exterior Lighting Inventory'!R21/'Exterior Lighting Inventory'!G21)","v":""},{"$f":"IF(AE56=\"\",\"\",AD56/C56)","v":""},null,null,null,0,1.3621E-4]
["Space Method Exterior",{"$f":"IF('Exterior Lighting Inventory'!Y22>0,\"Yes\",\"No\")","v":"No"},{"$f":"'Exterior Lighting Inventory'!G22","v":0},{"$f":"'Exterior Lighting Inventory'!P22","v":"-"},{"$f":"'Information Page'!$D$9","v":"Use Drop Down Menu to Select "},{"$f":"'Version Tracking'!$B$2","v":6232026},{"$f":"'Calculations TRM'!I73","v":3.6999999999999998E-2},{"$f":"'Calculations TRM'!J73","v":3.6999999999999998E-2},{"$f":"TRUNC('Exterior Lighting Inventory'!Y22,2)","v":0},"None",{"$f":"'Exterior Lighting Inventory'!I22","v":0},{"$f":"'Exterior Lighting Inventory'!I47","v":0},{"$f":"'Exterior Lighting Inventory'!H47","v":0},0,{"$f":"'Exterior Lighting Inventory'!G47","v":0},{"$f":"'Exterior Lighting Inventory'!F47","v":0},{"$f":"'Exterior Lighting Inventory'!E47","v":0},{"$f":"'Exterior Lighting Inventory'!D47","v":0},"E2",{"$f":"'Exterior Lighting Inventory'!D22","v":0},{"$f":"'Exterior Lighting Inventory'!E22","v":0},{"$f":"'Exterior Lighting Inventory'!M22","v":0},15,"Space Method Exterior",{"$f":"'Information Page'!$D$9","v":"Use Drop Down Menu to Select "},1,{"$f":"'Exterior Lighting Inventory'!F22","v":0},{"$f":"'Exterior Lighting Inventory'!Q22","v":"-"},{"$f":"'Exterior Lighting Inventory'!R22","v":"-"},{"$f":"'Exterior Lighting Inventory'!V22","v":"0"},{"$f":"IF('Exterior Lighting Inventory'!G22=\"\",\"\",'Exterior Lighting Inventory'!R22/'Exterior Lighting Inventory'!G22)","v":""},{"$f":"IF(AE57=\"\",\"\",AD57/C57)","v":""},null,null,null,0,1.3621E-4]
["Space Method Exterior",{"$f":"IF('Exterior Lighting Inventory'!Y23>0,\"Yes\",\"No\")","v":"No"},{"$f":"'Exterior Lighting Inventory'!G23","v":0},{"$f":"'Exterior Lighting Inventory'!P23","v":"-"},{"$f":"'Information Page'!$D$9","v":"Use Drop Down Menu to Select "},{"$f":"'Version Tracking'!$B$2","v":6232026},{"$f":"'Calculations TRM'!I74","v":3.6999999999999998E-2},{"$f":"'Calculations TRM'!J74","v":3.6999999999999998E-2},{"$f":"TRUNC('Exterior Lighting Inventory'!Y23,2)","v":0},"None",{"$f":"'Exterior Lighting Inventory'!I23","v":0},{"$f":"'Exterior Lighting Inventory'!I48","v":0},{"$f":"'Exterior Lighting Inventory'!H48","v":0},0,{"$f":"'Exterior Lighting Inventory'!G48","v":0},{"$f":"'Exterior Lighting Inventory'!F48","v":0},{"$f":"'Exterior Lighting Inventory'!E48","v":0},{"$f":"'Exterior Lighting Inventory'!D48","v":0},"E3",{"$f":"'Exterior Lighting Inventory'!D23","v":0},{"$f":"'Exterior Lighting Inventory'!E23","v":0},{"$f":"'Exterior Lighting Inventory'!M23","v":0},15,"Space Method Exterior",{"$f":"'Information Page'!$D$9","v":"Use Drop Down Menu to Select "},1,{"$f":"'Exterior Lighting Inventory'!F23","v":0},{"$f":"'Exterior Lighting Inventory'!Q23","v":"-"},{"$f":"'Exterior Lighting Inventory'!R23","v":"-"},{"$f":"'Exterior Lighting Inventory'!V23","v":"0"},{"$f":"IF('Exterior Lighting Inventory'!G23=\"\",\"\",'Exterior Lighting Inventory'!R23/'Exterior Lighting Inventory'!G23)","v":""},"",null,null,null,0,1.3621E-4]
["Space Method Exterior",{"$f":"IF('Exterior Lighting Inventory'!Y24>0,\"Yes\",\"No\")","v":"No"},{"$f":"'Exterior Lighting Inventory'!G24","v":0},{"$f":"'Exterior Lighting Inventory'!P24","v":"-"},{"$f":"'Information Page'!$D$9","v":"Use Drop Down Menu to Select "},{"$f":"'Version Tracking'!$B$2","v":6232026},{"$f":"'Calculations TRM'!I75","v":3.6999999999999998E-2},{"$f":"'Calculations TRM'!J75","v":3.6999999999999998E-2},{"$f":"TRUNC('Exterior Lighting Inventory'!Y24,2)","v":0},"None",{"$f":"'Exterior Lighting Inventory'!I24","v":0},{"$f":"'Exterior Lighting Inventory'!I49","v":0},{"$f":"'Exterior Lighting Inventory'!H49","v":0},0,{"$f":"'Exterior Lighting Inventory'!G49","v":0},{"$f":"'Exterior Lighting Inventory'!F49","v":0},{"$f":"'Exterior Lighting Inventory'!E49","v":0},{"$f":"'Exterior Lighting Inventory'!D49","v":0},"E4",{"$f":"'Exterior Lighting Inventory'!D24","v":0},{"$f":"'Exterior Lighting Inventory'!E24","v":0},{"$f":"'Exterior Lighting Inventory'!M24","v":0},15,"Space Method Exterior",{"$f":"'Information Page'!$D$9","v":"Use Drop Down Menu to Select "},1,{"$f":"'Exterior Lighting Inventory'!F24","v":0},{"$f":"'Exterior Lighting Inventory'!Q24","v":"-"},{"$f":"'Exterior Lighting Inventory'!R24","v":"-"},{"$f":"'Exterior Lighting Inventory'!V24","v":"0"},{"$f":"IF('Exterior Lighting Inventory'!G24=\"\",\"\",'Exterior Lighting Inventory'!R24/'Exterior Lighting Inventory'!G24)","v":""},"",null,null,null,0,1.3621E-4]
["Space Method Exterior",{"$f":"IF('Exterior Lighting Inventory'!Y25>0,\"Yes\",\"No\")","v":"No"},{"$f":"'Exterior Lighting Inventory'!G25","v":0},{"$f":"'Exterior Lighting Inventory'!P25","v":"-"},{"$f":"'Information Page'!$D$9","v":"Use Drop Down Menu to Select "},{"$f":"'Version Tracking'!$B$2","v":6232026},{"$f":"'Calculations TRM'!I76","v":3.6999999999999998E-2},{"$f":"'Calculations TRM'!J76","v":3.6999999999999998E-2},{"$f":"TRUNC('Exterior Lighting Inventory'!Y25,2)","v":0},"None",{"$f":"'Exterior Lighting Inventory'!I25","v":0},{"$f":"'Exterior Lighting Inventory'!I50","v":0},{"$f":"'Exterior Lighting Inventory'!H50","v":0},0,{"$f":"'Exterior Lighting Inventory'!G50","v":0},{"$f":"'Exterior Lighting Inventory'!F50","v":0},{"$f":"'Exterior Lighting Inventory'!E50","v":0},{"$f":"'Exterior Lighting Inventory'!D50","v":0},"E5",{"$f":"'Exterior Lighting Inventory'!D25","v":0},{"$f":"'Exterior Lighting Inventory'!E25","v":0},{"$f":"'Exterior Lighting Inventory'!M25","v":0},15,"Space Method Exterior",{"$f":"'Information Page'!$D$9","v":"Use Drop Down Menu to Select "},1,{"$f":"'Exterior Lighting Inventory'!F25","v":0},{"$f":"'Exterior Lighting Inventory'!Q25","v":"-"},{"$f":"'Exterior Lighting Inventory'!R25","v":"-"},{"$f":"'Exterior Lighting Inventory'!V25","v":"0"},{"$f":"IF('Exterior Lighting Inventory'!G25=\"\",\"\",'Exterior Lighting Inventory'!R25/'Exterior Lighting Inventory'!G25)","v":""},"",null,null,null,0,1.3621E-4]
["Space Method Exterior",{"$f":"IF('Exterior Lighting Inventory'!Y26>0,\"Yes\",\"No\")","v":"No"},{"$f":"'Exterior Lighting Inventory'!G26","v":0},{"$f":"'Exterior Lighting Inventory'!P26","v":"-"},{"$f":"'Information Page'!$D$9","v":"Use Drop Down Menu to Select "},{"$f":"'Version Tracking'!$B$2","v":6232026},{"$f":"'Calculations TRM'!I77","v":3.6999999999999998E-2},{"$f":"'Calculations TRM'!J77","v":3.6999999999999998E-2},{"$f":"TRUNC('Exterior Lighting Inventory'!Y26,2)","v":0},"None",{"$f":"'Exterior Lighting Inventory'!I26","v":0},{"$f":"'Exterior Lighting Inventory'!I51","v":0},{"$f":"'Exterior Lighting Inventory'!H51","v":0},0,{"$f":"'Exterior Lighting Inventory'!G51","v":0},{"$f":"'Exterior Lighting Inventory'!F51","v":0},{"$f":"'Exterior Lighting Inventory'!E51","v":0},{"$f":"'Exterior Lighting Inventory'!D51","v":0},"E6",{"$f":"'Exterior Lighting Inventory'!D26","v":0},{"$f":"'Exterior Lighting Inventory'!E26","v":0},{"$f":"'Exterior Lighting Inventory'!M26","v":0},15,"Space Method Exterior",{"$f":"'Information Page'!$D$9","v":"Use Drop Down Menu to Select "},1,{"$f":"'Exterior Lighting Inventory'!F26","v":0},{"$f":"'Exterior Lighting Inventory'!Q26","v":"-"},{"$f":"'Exterior Lighting Inventory'!R26","v":"-"},{"$f":"'Exterior Lighting Inventory'!V26","v":"0"},{"$f":"IF('Exterior Lighting Inventory'!G26=\"\",\"\",'Exterior Lighting Inventory'!R26/'Exterior Lighting Inventory'!G26)","v":""},"",null,null,null,0,1.3621E-4]
["Space Method Exterior",{"$f":"IF('Exterior Lighting Inventory'!Y27>0,\"Yes\",\"No\")","v":"No"},{"$f":"'Exterior Lighting Inventory'!G27","v":0},{"$f":"'Exterior Lighting Inventory'!P27","v":"-"},{"$f":"'Information Page'!$D$9","v":"Use Drop Down Menu to Select "},{"$f":"'Version Tracking'!$B$2","v":6232026},{"$f":"'Calculations TRM'!I78","v":3.6999999999999998E-2},{"$f":"'Calculations TRM'!J78","v":3.6999999999999998E-2},{"$f":"TRUNC('Exterior Lighting Inventory'!Y27,2)","v":0},"None",{"$f":"'Exterior Lighting Inventory'!I27","v":0},{"$f":"'Exterior Lighting Inventory'!I52","v":0},{"$f":"'Exterior Lighting Inventory'!H52","v":0},0,{"$f":"'Exterior Lighting Inventory'!G52","v":0},{"$f":"'Exterior Lighting Inventory'!F52","v":0},{"$f":"'Exterior Lighting Inventory'!E52","v":0},{"$f":"'Exterior Lighting Inventory'!D52","v":0},"E7",{"$f":"'Exterior Lighting Inventory'!D27","v":0},{"$f":"'Exterior Lighting Inventory'!E27","v":0},{"$f":"'Exterior Lighting Inventory'!M27","v":0},15,"Space Method Exterior",{"$f":"'Information Page'!$D$9","v":"Use Drop Down Menu to Select "},1,{"$f":"'Exterior Lighting Inventory'!F27","v":0},{"$f":"'Exterior Lighting Inventory'!Q27","v":"-"},{"$f":"'Exterior Lighting Inventory'!R27","v":"-"},{"$f":"'Exterior Lighting Inventory'!V27","v":"0"},{"$f":"IF('Exterior Lighting Inventory'!G27=\"\",\"\",'Exterior Lighting Inventory'!R27/'Exterior Lighting Inventory'!G27)","v":""},"",null,null,null,0,1.3621E-4]
["Space Method Exterior",{"$f":"IF('Exterior Lighting Inventory'!Y28>0,\"Yes\",\"No\")","v":"No"},{"$f":"'Exterior Lighting Inventory'!G28","v":0},{"$f":"'Exterior Lighting Inventory'!P28","v":"-"},{"$f":"'Information Page'!$D$9","v":"Use Drop Down Menu to Select "},{"$f":"'Version Tracking'!$B$2","v":6232026},{"$f":"'Calculations TRM'!I79","v":3.6999999999999998E-2},{"$f":"'Calculations TRM'!J79","v":3.6999999999999998E-2},{"$f":"TRUNC('Exterior Lighting Inventory'!Y28,2)","v":0},"None",{"$f":"'Exterior Lighting Inventory'!I28","v":0},{"$f":"'Exterior Lighting Inventory'!I53","v":0},{"$f":"'Exterior Lighting Inventory'!H53","v":0},0,{"$f":"'Exterior Lighting Inventory'!G53","v":0},{"$f":"'Exterior Lighting Inventory'!F53","v":0},{"$f":"'Exterior Lighting Inventory'!E53","v":0},{"$f":"'Exterior Lighting Inventory'!D53","v":0},"E8",{"$f":"'Exterior Lighting Inventory'!D28","v":0},{"$f":"'Exterior Lighting Inventory'!E28","v":0},{"$f":"'Exterior Lighting Inventory'!M28","v":0},15,"Space Method Exterior",{"$f":"'Information Page'!$D$9","v":"Use Drop Down Menu to Select "},1,{"$f":"'Exterior Lighting Inventory'!F28","v":0},{"$f":"'Exterior Lighting Inventory'!Q28","v":"-"},{"$f":"'Exterior Lighting Inventory'!R28","v":"-"},{"$f":"'Exterior Lighting Inventory'!V28","v":"0"},{"$f":"IF('Exterior Lighting Inventory'!G28=\"\",\"\",'Exterior Lighting Inventory'!R28/'Exterior Lighting Inventory'!G28)","v":""},"",null,null,null,0,1.3621E-4]
["Space Method Exterior",{"$f":"IF('Exterior Lighting Inventory'!Y29>0,\"Yes\",\"No\")","v":"No"},{"$f":"'Exterior Lighting Inventory'!G29","v":0},{"$f":"'Exterior Lighting Inventory'!P29","v":"-"},{"$f":"'Information Page'!$D$9","v":"Use Drop Down Menu to Select "},{"$f":"'Version Tracking'!$B$2","v":6232026},{"$f":"'Calculations TRM'!I80","v":3.6999999999999998E-2},{"$f":"'Calculations TRM'!J80","v":3.6999999999999998E-2},{"$f":"TRUNC('Exterior Lighting Inventory'!Y29,2)","v":0},"None",{"$f":"'Exterior Lighting Inventory'!I29","v":0},{"$f":"'Exterior Lighting Inventory'!I54","v":0},{"$f":"'Exterior Lighting Inventory'!H54","v":0},0,{"$f":"'Exterior Lighting Inventory'!G54","v":0},{"$f":"'Exterior Lighting Inventory'!F54","v":0},{"$f":"'Exterior Lighting Inventory'!E54","v":0},{"$f":"'Exterior Lighting Inventory'!D54","v":0},"E9",{"$f":"'Exterior Lighting Inventory'!D29","v":0},{"$f":"'Exterior Lighting Inventory'!E29","v":0},{"$f":"'Exterior Lighting Inventory'!M29","v":0},15,"Space Method Exterior",{"$f":"'Information Page'!$D$9","v":"Use Drop Down Menu to Select "},1,{"$f":"'Exterior Lighting Inventory'!F29","v":0},{"$f":"'Exterior Lighting Inventory'!Q29","v":"-"},{"$f":"'Exterior Lighting Inventory'!R29","v":"-"},{"$f":"'Exterior Lighting Inventory'!V29","v":"0"},{"$f":"IF('Exterior Lighting Inventory'!G29=\"\",\"\",'Exterior Lighting Inventory'!R29/'Exterior Lighting Inventory'!G29)","v":""},"",null,null,null,0,1.3621E-4]
["Space Method Exterior",{"$f":"IF('Exterior Lighting Inventory'!Y30>0,\"Yes\",\"No\")","v":"No"},{"$f":"'Exterior Lighting Inventory'!G30","v":0},{"$f":"'Exterior Lighting Inventory'!P30","v":"-"},{"$f":"'Information Page'!$D$9","v":"Use Drop Down Menu to Select "},{"$f":"'Version Tracking'!$B$2","v":6232026},{"$f":"'Calculations TRM'!I81","v":3.6999999999999998E-2},{"$f":"'Calculations TRM'!J81","v":3.6999999999999998E-2},{"$f":"TRUNC('Exterior Lighting Inventory'!Y30,2)","v":0},"None",{"$f":"'Exterior Lighting Inventory'!I30","v":0},{"$f":"'Exterior Lighting Inventory'!I55","v":0},{"$f":"'Exterior Lighting Inventory'!H55","v":0},0,{"$f":"'Exterior Lighting Inventory'!G55","v":0},{"$f":"'Exterior Lighting Inventory'!F55","v":0},{"$f":"'Exterior Lighting Inventory'!E55","v":0},{"$f":"'Exterior Lighting Inventory'!D55","v":0},"E10",{"$f":"'Exterior Lighting Inventory'!D30","v":0},{"$f":"'Exterior Lighting Inventory'!E30","v":0},{"$f":"'Exterior Lighting Inventory'!M30","v":0},15,"Space Method Exterior",{"$f":"'Information Page'!$D$9","v":"Use Drop Down Menu to Select "},1,{"$f":"'Exterior Lighting Inventory'!F30","v":0},{"$f":"'Exterior Lighting Inventory'!Q30","v":"-"},{"$f":"'Exterior Lighting Inventory'!R30","v":"-"},{"$f":"'Exterior Lighting Inventory'!V30","v":"0"},{"$f":"IF('Exterior Lighting Inventory'!G30=\"\",\"\",'Exterior Lighting Inventory'!R30/'Exterior Lighting Inventory'!G30)","v":""},"",null,null,null,0,1.3621E-4]
["Space Method Exterior",{"$f":"IF('Exterior Lighting Inventory'!Y31>0,\"Yes\",\"No\")","v":"No"},{"$f":"'Exterior Lighting Inventory'!G31","v":0},{"$f":"'Exterior Lighting Inventory'!P31","v":"-"},{"$f":"'Information Page'!$D$9","v":"Use Drop Down Menu to Select "},{"$f":"'Version Tracking'!$B$2","v":6232026},{"$f":"'Calculations TRM'!I82","v":3.6999999999999998E-2},{"$f":"'Calculations TRM'!J82","v":3.6999999999999998E-2},{"$f":"TRUNC('Exterior Lighting Inventory'!Y31,2)","v":0},"None",{"$f":"'Exterior Lighting Inventory'!I31","v":0},{"$f":"'Exterior Lighting Inventory'!I56","v":0},{"$f":"'Exterior Lighting Inventory'!H56","v":0},0,{"$f":"'Exterior Lighting Inventory'!G56","v":0},{"$f":"'Exterior Lighting Inventory'!F56","v":0},{"$f":"'Exterior Lighting Inventory'!E56","v":0},{"$f":"'Exterior Lighting Inventory'!D56","v":0},"E11",{"$f":"'Exterior Lighting Inventory'!D31","v":0},{"$f":"'Exterior Lighting Inventory'!E31","v":0},{"$f":"'Exterior Lighting Inventory'!M31","v":0},15,"Space Method Exterior",{"$f":"'Information Page'!$D$9","v":"Use Drop Down Menu to Select "},1,{"$f":"'Exterior Lighting Inventory'!F31","v":0},{"$f":"'Exterior Lighting Inventory'!Q31","v":"-"},{"$f":"'Exterior Lighting Inventory'!R31","v":"-"},{"$f":"'Exterior Lighting Inventory'!V31","v":"0"},{"$f":"IF('Exterior Lighting Inventory'!G31=\"\",\"\",'Exterior Lighting Inventory'!R31/'Exterior Lighting Inventory'!G31)","v":""},"",null,null,null,0,1.3621E-4]
["Space Method Exterior",{"$f":"IF('Exterior Lighting Inventory'!Y32>0,\"Yes\",\"No\")","v":"No"},{"$f":"'Exterior Lighting Inventory'!G32","v":0},{"$f":"'Exterior Lighting Inventory'!P32","v":"-"},{"$f":"'Information Page'!$D$9","v":"Use Drop Down Menu to Select "},{"$f":"'Version Tracking'!$B$2","v":6232026},{"$f":"'Calculations TRM'!I83","v":3.6999999999999998E-2},{"$f":"'Calculations TRM'!J83","v":3.6999999999999998E-2},{"$f":"TRUNC('Exterior Lighting Inventory'!Y32,2)","v":0},"None",{"$f":"'Exterior Lighting Inventory'!I32","v":0},{"$f":"'Exterior Lighting Inventory'!I57","v":0},{"$f":"'Exterior Lighting Inventory'!H57","v":0},0,{"$f":"'Exterior Lighting Inventory'!G57","v":0},{"$f":"'Exterior Lighting Inventory'!F57","v":0},{"$f":"'Exterior Lighting Inventory'!E57","v":0},{"$f":"'Exterior Lighting Inventory'!D57","v":0},"E12",{"$f":"'Exterior Lighting Inventory'!D32","v":0},{"$f":"'Exterior Lighting Inventory'!E32","v":0},{"$f":"'Exterior Lighting Inventory'!M32","v":0},15,"Space Method Exterior",{"$f":"'Information Page'!$D$9","v":"Use Drop Down Menu to Select "},1,{"$f":"'Exterior Lighting Inventory'!F32","v":0},{"$f":"'Exterior Lighting Inventory'!Q32","v":"-"},{"$f":"'Exterior Lighting Inventory'!R32","v":"-"},{"$f":"'Exterior Lighting Inventory'!V32","v":"0"},{"$f":"IF('Exterior Lighting Inventory'!G32=\"\",\"\",'Exterior Lighting Inventory'!R32/'Exterior Lighting Inventory'!G32)","v":""},"",null,null,null,0,1.3621E-4]
["Space Method Exterior",{"$f":"IF('Exterior Lighting Inventory'!Y33>0,\"Yes\",\"No\")","v":"No"},{"$f":"'Exterior Lighting Inventory'!G33","v":0},{"$f":"'Exterior Lighting Inventory'!P33","v":"-"},{"$f":"'Information Page'!$D$9","v":"Use Drop Down Menu to Select "},{"$f":"'Version Tracking'!$B$2","v":6232026},{"$f":"'Calculations TRM'!I84","v":3.6999999999999998E-2},{"$f":"'Calculations TRM'!J84","v":3.6999999999999998E-2},{"$f":"TRUNC('Exterior Lighting Inventory'!Y33,2)","v":0},"None",{"$f":"'Exterior Lighting Inventory'!I33","v":0},{"$f":"'Exterior Lighting Inventory'!I58","v":0},{"$f":"'Exterior Lighting Inventory'!H58","v":0},0,{"$f":"'Exterior Lighting Inventory'!G58","v":0},{"$f":"'Exterior Lighting Inventory'!F58","v":0},{"$f":"'Exterior Lighting Inventory'!E58","v":0},{"$f":"'Exterior Lighting Inventory'!D58","v":0},"E13",{"$f":"'Exterior Lighting Inventory'!D33","v":0},{"$f":"'Exterior Lighting Inventory'!E33","v":0},{"$f":"'Exterior Lighting Inventory'!M33","v":0},15,"Space Method Exterior",{"$f":"'Information Page'!$D$9","v":"Use Drop Down Menu to Select "},1,{"$f":"'Exterior Lighting Inventory'!F33","v":0},{"$f":"'Exterior Lighting Inventory'!Q33","v":"-"},{"$f":"'Exterior Lighting Inventory'!R33","v":"-"},{"$f":"'Exterior Lighting Inventory'!V33","v":"0"},{"$f":"IF('Exterior Lighting Inventory'!G33=\"\",\"\",'Exterior Lighting Inventory'!R33/'Exterior Lighting Inventory'!G33)","v":""},"",null,null,null,0,1.3621E-4]
["Space Method Exterior",{"$f":"IF('Exterior Lighting Inventory'!Y34>0,\"Yes\",\"No\")","v":"No"},{"$f":"'Exterior Lighting Inventory'!G34","v":0},{"$f":"'Exterior Lighting Inventory'!P34","v":"-"},{"$f":"'Information Page'!$D$9","v":"Use Drop Down Menu to Select "},{"$f":"'Version Tracking'!$B$2","v":6232026},{"$f":"'Calculations TRM'!I85","v":3.6999999999999998E-2},{"$f":"'Calculations TRM'!J85","v":3.6999999999999998E-2},{"$f":"TRUNC('Exterior Lighting Inventory'!Y34,2)","v":0},"None",{"$f":"'Exterior Lighting Inventory'!I34","v":0},{"$f":"'Exterior Lighting Inventory'!I59","v":0},{"$f":"'Exterior Lighting Inventory'!H59","v":0},0,{"$f":"'Exterior Lighting Inventory'!G59","v":0},{"$f":"'Exterior Lighting Inventory'!F59","v":0},{"$f":"'Exterior Lighting Inventory'!E59","v":0},{"$f":"'Exterior Lighting Inventory'!D59","v":0},"E14",{"$f":"'Exterior Lighting Inventory'!D34","v":0},{"$f":"'Exterior Lighting Inventory'!E34","v":0},{"$f":"'Exterior Lighting Inventory'!M34","v":0},15,"Space Method Exterior",{"$f":"'Information Page'!$D$9","v":"Use Drop Down Menu to Select "},1,{"$f":"'Exterior Lighting Inventory'!F34","v":0},{"$f":"'Exterior Lighting Inventory'!Q34","v":"-"},{"$f":"'Exterior Lighting Inventory'!R34","v":"-"},{"$f":"'Exterior Lighting Inventory'!V34","v":"0"},{"$f":"IF('Exterior Lighting Inventory'!G34=\"\",\"\",'Exterior Lighting Inventory'!R34/'Exterior Lighting Inventory'!G34)","v":""},"",null,null,null,0,1.3621E-4]
["Space Method Exterior",{"$f":"IF('Exterior Lighting Inventory'!Y35>0,\"Yes\",\"No\")","v":"No"},{"$f":"'Exterior Lighting Inventory'!G35","v":0},{"$f":"'Exterior Lighting Inventory'!P35","v":"-"},{"$f":"'Information Page'!$D$9","v":"Use Drop Down Menu to Select "},{"$f":"'Version Tracking'!$B$2","v":6232026},{"$f":"'Calculations TRM'!I86","v":3.6999999999999998E-2},{"$f":"'Calculations TRM'!J86","v":3.6999999999999998E-2},{"$f":"TRUNC('Exterior Lighting Inventory'!Y35,2)","v":0},"None",{"$f":"'Exterior Lighting Inventory'!I35","v":0},{"$f":"'Exterior Lighting Inventory'!I60","v":0},{"$f":"'Exterior Lighting Inventory'!H60","v":0},0,{"$f":"'Exterior Lighting Inventory'!G60","v":0},{"$f":"'Exterior Lighting Inventory'!F60","v":0},{"$f":"'Exterior Lighting Inventory'!E60","v":0},{"$f":"'Exterior Lighting Inventory'!D60","v":0},"E15",{"$f":"'Exterior Lighting Inventory'!D35","v":0},{"$f":"'Exterior Lighting Inventory'!E35","v":0},{"$f":"'Exterior Lighting Inventory'!M35","v":0},15,"Space Method Exterior",{"$f":"'Information Page'!$D$9","v":"Use Drop Down Menu to Select "},1,{"$f":"'Exterior Lighting Inventory'!F35","v":0},{"$f":"'Exterior Lighting Inventory'!Q35","v":"-"},{"$f":"'Exterior Lighting Inventory'!R35","v":"-"},{"$f":"'Exterior Lighting Inventory'!V35","v":"0"},{"$f":"IF('Exterior Lighting Inventory'!G35=\"\",\"\",'Exterior Lighting Inventory'!R35/'Exterior Lighting Inventory'!G35)","v":""},"",null,null,null,{"$f":"AK70*N70","v":0},1.3621E-4]
["Space Method Exterior",{"$f":"IF('Exterior Lighting Inventory'!Y36>0,\"Yes\",\"No\")","v":"No"},{"$f":"'Exterior Lighting Inventory'!G36","v":0},{"$f":"'Exterior Lighting Inventory'!P36","v":"-"},{"$f":"'Information Page'!$D$9","v":"Use Drop Down Menu to Select "},{"$f":"'Version Tracking'!$B$2","v":6232026},{"$f":"'Calculations TRM'!I87","v":3.6999999999999998E-2},{"$f":"'Calculations TRM'!J87","v":3.6999999999999998E-2},{"$f":"TRUNC('Exterior Lighting Inventory'!Y36,2)","v":0},"None",{"$f":"'Exterior Lighting Inventory'!I36","v":0},{"$f":"'Exterior Lighting Inventory'!I61","v":0},{"$f":"'Exterior Lighting Inventory'!H61","v":0},{"$f":"SUM(O71,P71,Q71,R71)","v":0},{"$f":"'Exterior Lighting Inventory'!G61","v":0},{"$f":"'Exterior Lighting Inventory'!F61","v":0},{"$f":"'Exterior Lighting Inventory'!E61","v":0},{"$f":"'Exterior Lighting Inventory'!D61","v":0},"E16",{"$f":"'Exterior Lighting Inventory'!D36","v":0},{"$f":"'Exterior Lighting Inventory'!E36","v":0},{"$f":"'Exterior Lighting Inventory'!M36","v":0},15,"Space Method Exterior",{"$f":"'Information Page'!$D$9","v":"Use Drop Down Menu to Select "},1,{"$f":"'Exterior Lighting Inventory'!F36","v":0},{"$f":"'Exterior Lighting Inventory'!Q36","v":"-"},{"$f":"'Exterior Lighting Inventory'!R36","v":"-"},{"$f":"'Exterior Lighting Inventory'!V36","v":"0"},{"$f":"IF('Exterior Lighting Inventory'!G36=\"\",\"\",'Exterior Lighting Inventory'!R36/'Exterior Lighting Inventory'!G36)","v":""},"",null,null,null,0,1.3621E-4]
["Space Method Exterior",{"$f":"IF('Exterior Lighting Inventory'!Y37>0,\"Yes\",\"No\")","v":"No"},{"$f":"'Exterior Lighting Inventory'!G37","v":0},{"$f":"'Exterior Lighting Inventory'!P37","v":"-"},{"$f":"'Information Page'!$D$9","v":"Use Drop Down Menu to Select "},{"$f":"'Version Tracking'!$B$2","v":6232026},{"$f":"'Calculations TRM'!I88","v":3.6999999999999998E-2},{"$f":"'Calculations TRM'!J88","v":3.6999999999999998E-2},{"$f":"TRUNC('Exterior Lighting Inventory'!Y37,2)","v":0},"None",{"$f":"'Exterior Lighting Inventory'!I37","v":0},{"$f":"'Exterior Lighting Inventory'!I62","v":0},{"$f":"'Exterior Lighting Inventory'!H62","v":0},0,{"$f":"'Exterior Lighting Inventory'!G62","v":0},{"$f":"'Exterior Lighting Inventory'!F62","v":0},{"$f":"'Exterior Lighting Inventory'!E62","v":0},{"$f":"'Exterior Lighting Inventory'!D62","v":0},"E17",{"$f":"'Exterior Lighting Inventory'!D37","v":0},{"$f":"'Exterior Lighting Inventory'!E37","v":0},{"$f":"'Exterior Lighting Inventory'!M37","v":0},15,"Space Method Exterior",{"$f":"'Information Page'!$D$9","v":"Use Drop Down Menu to Select "},1,{"$f":"'Exterior Lighting Inventory'!F37","v":0},{"$f":"'Exterior Lighting Inventory'!Q37","v":"-"},{"$f":"'Exterior Lighting Inventory'!R37","v":"-"},{"$f":"'Exterior Lighting Inventory'!V37","v":"0"},{"$f":"IF('Exterior Lighting Inventory'!G37=\"\",\"\",'Exterior Lighting Inventory'!R37/'Exterior Lighting Inventory'!G37)","v":""},"",null,null,null,0,1.3621E-4]
["Space Method Exterior",{"$f":"IF('Exterior Lighting Inventory'!Y38>0,\"Yes\",\"No\")","v":"No"},{"$f":"'Exterior Lighting Inventory'!G38","v":0},{"$f":"'Exterior Lighting Inventory'!P38","v":"-"},{"$f":"'Information Page'!$D$9","v":"Use Drop Down Menu to Select "},{"$f":"'Version Tracking'!$B$2","v":6232026},{"$f":"'Calculations TRM'!I89","v":3.6999999999999998E-2},{"$f":"'Calculations TRM'!J89","v":3.6999999999999998E-2},{"$f":"TRUNC('Exterior Lighting Inventory'!Y38,2)","v":0},"None",{"$f":"'Exterior Lighting Inventory'!I38","v":0},{"$f":"'Exterior Lighting Inventory'!I63","v":0},{"$f":"'Exterior Lighting Inventory'!H63","v":0},0,{"$f":"'Exterior Lighting Inventory'!G63","v":0},{"$f":"'Exterior Lighting Inventory'!F63","v":0},{"$f":"'Exterior Lighting Inventory'!E63","v":0},{"$f":"'Exterior Lighting Inventory'!D63","v":0},"E18",{"$f":"'Exterior Lighting Inventory'!D38","v":0},{"$f":"'Exterior Lighting Inventory'!E38","v":0},{"$f":"'Exterior Lighting Inventory'!M38","v":0},15,"Space Method Exterior",{"$f":"'Information Page'!$D$9","v":"Use Drop Down Menu to Select "},1,{"$f":"'Exterior Lighting Inventory'!F38","v":0},{"$f":"'Exterior Lighting Inventory'!Q38","v":"-"},{"$f":"'Exterior Lighting Inventory'!R38","v":"-"},{"$f":"'Exterior Lighting Inventory'!V38","v":"0"},{"$f":"IF('Exterior Lighting Inventory'!G38=\"\",\"\",'Exterior Lighting Inventory'!R38/'Exterior Lighting Inventory'!G38)","v":""},"",null,null,null,0,1.3621E-4]
["Space Method Exterior",{"$f":"IF('Exterior Lighting Inventory'!Y39>0,\"Yes\",\"No\")","v":"No"},{"$f":"'Exterior Lighting Inventory'!G39","v":0},{"$f":"'Exterior Lighting Inventory'!P39","v":"-"},{"$f":"'Information Page'!$D$9","v":"Use Drop Down Menu to Select "},{"$f":"'Version Tracking'!$B$2","v":6232026},{"$f":"'Calculations TRM'!I90","v":3.6999999999999998E-2},{"$f":"'Calculations TRM'!J90","v":3.6999999999999998E-2},{"$f":"TRUNC('Exterior Lighting Inventory'!Y39,2)","v":0},"None",{"$f":"'Exterior Lighting Inventory'!I39","v":0},{"$f":"'Exterior Lighting Inventory'!I64","v":0},{"$f":"'Exterior Lighting Inventory'!H64","v":0},0,{"$f":"'Exterior Lighting Inventory'!G64","v":0},{"$f":"'Exterior Lighting Inventory'!F64","v":0},{"$f":"'Exterior Lighting Inventory'!E64","v":0},{"$f":"'Exterior Lighting Inventory'!D64","v":0},"E19",{"$f":"'Exterior Lighting Inventory'!D39","v":0},{"$f":"'Exterior Lighting Inventory'!E39","v":0},{"$f":"'Exterior Lighting Inventory'!M39","v":0},15,"Space Method Exterior",{"$f":"'Information Page'!$D$9","v":"Use Drop Down Menu to Select "},1,{"$f":"'Exterior Lighting Inventory'!F39","v":0},{"$f":"'Exterior Lighting Inventory'!Q39","v":"-"},{"$f":"'Exterior Lighting Inventory'!R39","v":"-"},{"$f":"'Exterior Lighting Inventory'!V39","v":"0"},{"$f":"IF('Exterior Lighting Inventory'!G39=\"\",\"\",'Exterior Lighting Inventory'!R39/'Exterior Lighting Inventory'!G39)","v":""},"",null,null,null,0,1.3621E-4]
["Space Method Exterior",{"$f":"IF('Exterior Lighting Inventory'!Y40>0,\"Yes\",\"No\")","v":"No"},{"$f":"'Exterior Lighting Inventory'!G40","v":0},{"$f":"'Exterior Lighting Inventory'!P40","v":"-"},{"$f":"'Information Page'!$D$9","v":"Use Drop Down Menu to Select "},{"$f":"'Version Tracking'!$B$2","v":6232026},{"$f":"'Calculations TRM'!I91","v":3.6999999999999998E-2},{"$f":"'Calculations TRM'!J91","v":3.6999999999999998E-2},{"$f":"TRUNC('Exterior Lighting Inventory'!Y40,2)","v":0},"None",{"$f":"'Exterior Lighting Inventory'!I40","v":0},{"$f":"'Exterior Lighting Inventory'!I65","v":0},{"$f":"'Exterior Lighting Inventory'!H65","v":0},0,{"$f":"'Exterior Lighting Inventory'!G65","v":0},{"$f":"'Exterior Lighting Inventory'!F65","v":0},{"$f":"'Exterior Lighting Inventory'!E65","v":0},{"$f":"'Exterior Lighting Inventory'!D65","v":0},"E20",{"$f":"'Exterior Lighting Inventory'!D40","v":0},{"$f":"'Exterior Lighting Inventory'!E40","v":0},{"$f":"'Exterior Lighting Inventory'!M40","v":0},15,"Space Method Exterior",{"$f":"'Information Page'!$D$9","v":"Use Drop Down Menu to Select "},1,{"$f":"'Exterior Lighting Inventory'!F40","v":0},{"$f":"'Exterior Lighting Inventory'!Q40","v":"-"},{"$f":"'Exterior Lighting Inventory'!R40","v":"-"},{"$f":"'Exterior Lighting Inventory'!V40","v":"0"},{"$f":"IF('Exterior Lighting Inventory'!G40=\"\",\"\",'Exterior Lighting Inventory'!R40/'Exterior Lighting Inventory'!G40)","v":""},"",null,null,null,0,1.3621E-4]

{"sheet":"Exterior LPD","index":17,"n_rows":28,"n_cols":31,"rows_kept":28,"cut":false,"hidden":true,"merged":[]}
[]
[]
[null,null,null,null,null,null,null,null,null,null,null,null,null,null,null,null,null,null,null,null,null,null,null,null,null,"Building Exterior Lighting Power Allowances"]
[null,null,null,null,null,null,null,null,null,null,null,null,null,null,null,null,null,null,null,null,null,null,null,null,"Exterior Location","Developed area of park, forest and rural area","Business-limited night use/Residential/Mixed-use area","High activity commercial zone-metropolitan area","Miscellaneous area not included in other options",null,"Unit"]
[null,null,null,null,null,null,null,null,null,null,null,null,null,null,null,null,null,null,null,null,null,null,null,null,"Base",350,400,900,500,"W","unitless"]
[null,null,null,null,null,null,null,null,null,null,null,null,null,null,null,null,null,null,null,null,null,null,null,null,"ATMs and Night Depositories",135,135,135,135,"W","Number of ATMs"]
[null,null,null,null,null,null,null,null,null,null,null,null,null,null,null,null,null,null,null,null,null,null,null,null,"Audience Seating Area - Sports Field",0.214,0.214,0.33,0.26400000000000001,"W/sqft","Square Feet"]
[null,null,null,null,null,null,null,null,null,null,null,null,null,null,null,null,null,null,null,null,null,null,null,null,"Building Facades",0,7.4999999999999997E-2,0.15,0.113,"W/sqft","Square Feet"]
[null,null,null,null,null,null,null,null,null,null,null,null,null,null,null,null,null,null,null,null,null,null,null,null,"Drive-Through Windows",200,200,200,200,"W","Number of drive throghs"]
[null,null,null,null,null,null,null,null,null,null,null,null,null,null,null,null,null,null,null,null,null,null,null,null,"Emergency Loading Areas",0.35,0.35,0.35,0.35,"W/sqft","Square Feet"]
[null,null,null,null,null,null,null,null,null,null,null,null,null,null,null,null,null,null,null,null,null,null,null,null,"Building Entrances and Exits- Entry Canopies",0.2,0.25,0.4,0.4,"W/sqft","Square Feet"]
[null,null,null,null,null,null,null,null,null,null,null,null,null,null,null,null,null,null,null,null,null,null,null,null,"Gatehouses at Guarded Facilities",0.5,0.5,0.5,0.5,"W/sqft","Square Feet"]
[null,null,null,null,null,null,null,null,null,null,null,null,null,null,null,null,null,null,null,null,null,null,null,null,"Landscaping",0.03,0.04,0.04,0.04,"W/sqft","Square Feet"]
[null,null,null,null,null,null,null,null,null,null,null,null,null,null,null,null,null,null,null,null,null,null,null,null,"Loading Docks",0.35,0.35,0.35,0.35,"W/sqft","Square Feet"]
[null,null,null,null,null,null,null,null,null,null,null,null,null,null,null,null,null,null,null,null,null,null,null,null,"Building Entrances and Exits- Main Entries",14,14,21,21,"W/Lin ft of door","Linear Feet of Door"]
[null,null,null,null,null,null,null,null,null,null,null,null,null,null,null,null,null,null,null,null,null,null,null,null,"Outdoor Sales- Open Sales Areas",0.2,0.2,0.5,0.35,"W/sqft","Square Feet"]
[null,null,null,null,null,null,null,null,null,null,null,null,null,null,null,null,null,null,null,null,null,null,null,null,"Building Entrances and Exits- Other Doors",14,14,21,21,"W/Lin ft of door","Linear Feet of Door"]
[null,null,null,null,null,null,null,null,null,null,null,null,null,null,null,null,null,null,null,null,null,null,null,null,"Parking near 24-hours Retail Entrances",400,400,400,400,"W","Number of main entries"]
[null,null,null,null,null,null,null,null,null,null,null,null,null,null,null,null,null,null,null,null,null,null,null,null,"Pedestrian Tunnels",0.12,0.12,0.21,0.14000000000000001,"W/sqft","Square Feet"]
[null,null,null,null,null,null,null,null,null,null,null,null,null,null,null,null,null,null,null,null,null,null,null,null,"Sales Canopies",0.4,0.4,0.7,0.6,"W/sqft","Square Feet"]
["Sports Field Class 1",1.911,1.911,2.94,2.3519999999999999,"W/sqft","Square Feet",null,null,null,null,null,null,null,null,null,null,null,null,null,null,null,null,null,"Sports Field Class 1",1.911,1.911,2.94,2.3519999999999999,"W/sqft","Square Feet"]
["Sports Field Class 2",1.306,1.306,2.0099999999999998,1.6080000000000001,"W/sqft","Square Feet",null,null,null,null,null,null,null,null,null,null,null,null,null,null,null,null,null,"Sports Field Class 2",1.306,1.306,2.0099999999999998,1.6080000000000001,"W/sqft","Square Feet"]
["Sports Field Class 3",0.84499999999999997,0.84499999999999997,1.3,1.04,"W/sqft","Square Feet",null,null,null,null,null,null,null,null,null,null,null,null,null,null,null,null,null,"Sports Field Class 3",0.84499999999999997,0.84499999999999997,1.3,1.04,"W/sqft","Square Feet"]
["Sports Field Class 4",0.55900000000000005,0.55900000000000005,0.86,0.68799999999999994,"W/sqft","Square Feet",null,null,null,null,null,null,null,null,null,null,null,null,null,null,null,null,null,"Sports Field Class 4",0.55900000000000005,0.55900000000000005,0.86,0.68799999999999994,"W/sqft","Square Feet"]
[null,null,null,null,null,null,null,null,null,null,null,null,null,null,null,null,null,null,null,null,null,null,null,null,"Stairways",0.6,0.7,0.7,0.7,"W/sqft","Square Feet"]
[null,null,null,null,null,null,null,null,null,null,null,null,null,null,null,null,null,null,null,null,null,null,null,null,"Uncovered Parking Areas and Driveways",0.03,0.04,0.08,0.06,"W/sqft","Square Feet"]
[null,null,null,null,null,null,null,null,null,null,null,null,null,null,null,null,null,null,null,null,null,null,null,null,"Walkways 10 feet or wider, Plazas, or Special Feature Area",0.1,0.1,0.14000000000000001,0.11,"W/sqft","Square Feet"]
[null,null,null,null,null,null,null,null,null,null,null,null,null,null,null,null,null,null,null,null,null,null,null,null,"Walkways less than 10 feet wide",0.5,0.5,0.7,0.6,"W/Lin ft","Linear Feet"]

{"sheet":"Controls Allowance","index":18,"n_rows":22,"n_cols":9,"rows_kept":22,"cut":false,"hidden":true,"merged":[[18,2,18,7],[19,2,19,7],[20,2,20,7],[21,2,21,7],[2,1,2,7],[3,3,3,7],[3,2,4,2],[3,1,4,1]]}
[]
[]
[null,"Additional Interior Lighting Power Allowance Factor For Installing Controls In Addition to Minimum Control Requirements\n(See ANSI/ASHRAE/IES Standard 90.1-2010, Section 9.6.2c for application details)"]
[null,"Control Method Number","Additional Control Method\n(in Addition to Mandatory Requirements).","Applicable Space Type"]
[null,null,null,"Open Office","Private Office","Conference Room, Meeting Room, Classroom (lecture, training)","Retail Sales Area","Lobby, Atrium, Dining Area, Corridor/Stairway, Gym/Pool, Mall Concourse, Parking Garage","AEG Description"]
[null,1,"Manual, continuous dimming control or Programmable multi-level dimming control",0.05,0.05,"0.10 1",0.1,0,"Manual, Continuous or Programmable Dimming"]
[null,2,"Programmable multi-level dimming control using programmable time scheduling",0.05,0.05,"0.10 1",0.1,0.1,"Programmable Diming Using Time Scheduling"]
[null,3,"Multi-level occupancy sensors",0.05,0.05,0.05,0,0,"Multi-level occupancy sensors"]
[null,4,"Occupancy sensors controlling the downlight component of workstation specific luminaires with continuous dimming to off capabilities.","0.25 2",0,0,0,0,"Workstation Cont Dim Downlight Occ Sensor"]
[null,5,"Occupancy sensors controlling the downlight component ofworkstation specific luminaires with continuous dimming to off operation, in combination with personal continuous dimming control of downlight illumination by workstation occupant.","0.30 2,3",0,0,0,0,"Workstation/Personal Cont Dim Downlight Occ Sensor"]
[null,6,"Automatic bi-level or multi-level switching in primary sidelighted areas when sidelighting effective aperture is greater than 0.15",0,0,0,"0.10 4",0,"Auto bi/multi-level switch, aperture > .15"]
[null,7,"Automatic bi-level or multi-level switching in primary sidelighted areas when sidelighting effective aperture is greater than 0.15 and when primary sidelighted area is less than 250 ft2","0.10 4","0.10 4","0.10 4","0.10 4","0.10 4","Bi/multi-lvl switch, aperture>.15 sidelit <250sqft"]
[null,8,"Automatic continuous daylight dimming in primary sidelighted areas when sidelighting effective aperture is greater than 0.15 and when primary sidelighted area is less than 250 ft2","0.20 4","0.20 4","0.20 4","0.20 4","0.20 4","Cont Daylight Dim, aperture>.15 sidelit <250sqft"]
[null,9,"Automatic continuous daylight dimming in primary sidelighted areas when sidelighting effective aperture is greater than 0.15 and when primary sidelighted area is greater than 250 ft2","0.10 4","0.10 4","0.10 4","0.10 4","0.10 4","Cont Daylight Dim, aperture>.15 sidelit >250sqft"]
[null,10,"Automatic continuous daylight dimming in secondary sidelighted areas when sidelighting effective aperture is greater than 0.3","0.10 4","0.10 4","0.10 4","0.10 4","0.10 4","Cont Daylight Dimming, aperture>.3"]
[null,11,"Automatic continuous daylight dimming in daylighted areas under skylights when the total of those areas is less than 900 ft2 and when skylight effective aperture is greater than 0.01",0.2,0.2,0.2,0.2,0.2,"Cont Dim under skylight, aperture>.01 lit <900sqft"]
[null,12,"Automatic continuous daylight dimming in daylighted areas under skylights when the total of those areas is greater than 900 ft2 and when skylight effective aperture is greater than 0.01",0.1,0.1,0.1,0.1,0.1,"Cont Dim under skylight, aperture>.01 lit >900sqft"]
[]
[null,null,"1. These control factors may only be used if the requirements of section 9.4.1.2 are met using an occupancy sensor."]
[null,null,"2 Control factor is limited to the wattage of workstation-specific luminaires in partitioned single occupant workspaces contained within an open office environment (I.e. direct-indirect luminaires with separately controlled downlight and uplight components, with the downward component providing illumination to a single occupant in an open plan workstation). Within 30 minutes of the occupant leaving the space, the downward component shall continuously dim to off over a minimum of 2 minutes. Upon the occupant entering the space, the downward component shall tum on at the minimum level and continuously raise the illumination to a preset level over a minimum 90 seconds. The uplight component of workstation specific luminaire shall comply with section 9.4.1.1 (automalic shutoff)."]
[null,null,"3. In addition to the requirements described in footnote 2, the control shall allow the occupant to select their preferred light level via a personal computer, handheld device, or similarly accessible device lqcated within the workstation."]
[null,null,"4. Control factors may not be used if controls are used to satisfY exceptions to Section 5.5.4.2.3"]

{"sheet":"Wattage Table","index":19,"n_rows":494,"n_cols":7,"rows_kept":494,"cut":false,"hidden":true,"merged":[[0,1,0,4],[1,1,1,3],[9,2,9,3],[10,2,10,3],[11,2,11,3],[6,2,6,3],[7,2,7,3],[2,2,2,3],[4,2,4,3],[5,2,5,3],[8,2,8,3]]}
[null,"Lighting System Rated Wattage Table"]
[null,"Device Description Abbreviations"]
[null," BXE  "," Biax/Twin Tube Lamp  "]
[null," CWA"," Constant Wattage Autotransformer"]
[null," EEM  "," Energy-Efficient Magnetic Ballast "]
[null," STE"," Standard Electronic Ballast  "]
[null," HBF"," High Ballast Factor Ballast"]
[null," HO  "," High Output Lamp  "]
[null," LBF"," Low Ballast Factor Ballast"]
[null," NBF"," Normal Ballast factor Ballast"]
[null," STM"," Standard Magnetic Ballast   "]
[null," VHO  "," Very Hight Output Lamp  "]
[]
[null,"System Category","Device Code","Device Description","Rated\nWatts","Fluorescent Length","Baseline Fixtures"]
[null,"Compact Fluorescents","1C0005","1 Lamp  5W Hard wired compact fluorescents  ",7,null,"1I0020"]
[null,"Compact Fluorescents","1C0007","1 Lamp  7W Hard wired compact fluorescents  ",9,null,"1I0025"]
[null,"Compact Fluorescents","1C0009","1 Lamp  9W Hard wired compact fluorescents  ",11,null,"1I0040"]
[null,"Compact Fluorescents","1C0011","1 Lamp  11W Hard wired compact fluorescents  ",13,null,"1I0040"]
[null,"Compact Fluorescents","1C0013","1 Lamp  13W Hard wired compact fluorescents  ",15,null,"1I0060"]
[null,"Compact Fluorescents","1C0018","1 Lamp  18W Hard wired compact fluorescents  ",20,null,"1I0075"]
[null,"Compact Fluorescents","1C0022","1 Lamp  22W Hard wired compact fluorescents  ",24,null,"1I0075"]
[null,"Compact Fluorescents","1C0023","1 Lamp  23W Hard wired compact fluorescents  ",25,null,"1I0075"]
[null,"Compact Fluorescents","1C0026","1 Lamp  26W Hard wired compact fluorescents  ",28,null,"1I0075"]
[null,"Compact Fluorescents","1C0028","1 Lamp  28W Hard wired compact fluorescents  ",30,null,"1I0100"]
[null,"Compact Fluorescents","1C0032","1 Lamp  32W Hard wired circline",34,null,"1I0100"]
[null,"Compact Fluorescents","1C0042","1 Lamp  42W Hard wired compact fluorescents",48,null,"1I0100"]
[null,"Compact Fluorescents","1C0044","1 Lamp  44W Hard wired circline  ",46,null,"1I0100"]
[null,"Compact Fluorescents","1C0057","1 Lamp  57W Hard wired compact fluorescents",65,null,"1I0125"]
[null,"Compact Fluorescents","1C2232","1 Lamp  22/32W Hard wired circline ",58,null,"1I0150"]
[null,"Compact Fluorescents","1C2D10","1 Lamp  10W 2D Hard wired compact fluorescents    ",12,null,"1I0200"]
[null,"Compact Fluorescents","1C2D16","1 Lamp 16W 2D Hard wired compact fluorescents    ",18,null,"1I0200"]
[null,"Compact Fluorescents","1C2D21","1 Lamp  21W 2D Hard wired compact fluorescents ",22,null,"1I0040"]
[null,"Compact Fluorescents","1C2D28","1 Lamp  28W 2D Hard wired compact fluorescents   ",28,null,"1I0075"]
[null,"Compact Fluorescents","1C2D38","1 Lamp  38W 2D Hard wired compact fluorescents  ",36,null,"1I0075"]
[null,"Compact Fluorescents","1C3240","1 Lamp  32/40W Hard wired circline  ",80,null,"1I0100"]
[null,"Compact Fluorescents","2C0005","2 Lamps  5W Hard wired compact fluorescents  ",14,null,"1I0100"]
[null,"Compact Fluorescents","2C0007","2 Lamps  7W Hard wired compact fluorescents  ",18,null,"1I0300"]
[null,"Compact Fluorescents","2C0009","2 Lamps  9W Hard wired compact fluorescents  ",22,null,"1I0060"]
[null,"Compact Fluorescents","2C0011","2 Lamps  11W Hard wired compact fluorescents  ",26,null,"1I0075"]
[null,"Compact Fluorescents","2C0013","2 Lamps  13W Hard wired compact fluorescents  ",30,null,"1I0075"]
[null,"Compact Fluorescents","2C0018","2 Lamps  18W Hard wired compact fluorescents  ",40,null,"1I0075"]
[null,"Compact Fluorescents","2C0026","2 Lamps  26W Hard wired compact fluorescents  ",54,null,"1I0100"]
[null,"Compact Fluorescents","2C0032","2 Lamps  32W Hard wired compact fluorescents  ",68,null,"1I0100"]
[null,"Compact Fluorescents","2C0042","2 Lamps  42W Hard wired compact fluorescents  ",100,null,"1I0125"]
[null,"Compact Fluorescents","3C0009","3 Lamps  9W Hard wired compact fluorescents  ",33,null,"1I0200"]
[null,"Compact Fluorescents","3C0013","3 Lamps  13W Hard wired compact fluorescents  ",45,null,"1I0300"]
[null,"Compact Fluorescents","3C0018","3 Lamps  18W Hard wired compact fluorescents  ",60,null,"1I0300"]
[null,"Compact Fluorescents","3C0026","3 Lamps  26W Hard wired compact fluorescents  ",82,null,"1I0100"]
[null,"Compact Fluorescents","3C0032","3 Lamps  32W Hard wired compact fluorescents  ",114,null,"1I0125"]
[null,"Compact Fluorescents","3C0042","3 Lamps  42W Hard wired compact fluorescents  ",141,null,"1I0200"]
[null,"Compact Fluorescents","4C0018","4 Lamps  18W Hard wired compact fluorescents  ",80,null,"1I0300"]
[null,"Compact Fluorescents","4C0026","4 Lamps  26W Hard wired compact fluorescents  ",108]
[null,"Compact Fluorescents","4C0032","4 Lamps  32W Hard wired compact fluorescents  ",152]
[null,"Compact Fluorescents","4C0042","4 Lamps  42W Hard wired compact fluorescents  ",188,null,"1I0300"]
[null,"Compact Fluorescents","6C0026","6 Lamps  26W Hard wired compact fluorescents  ",162]
[null,"Compact Fluorescents","6C0032","6 Lamps  32W Hard wired compact fluorescents  ",228]
[null,"Compact Fluorescents","6C0042","6 Lamps  42W Hard wired compact fluorescents  ",282]
[null,"Compact Fluorescents","8C0026","8 Lamps  26W Hard wired compact fluorescents  ",216]
[null,"Compact Fluorescents","8C0032","8 Lamps  32W Hard wired compact fluorescents  ",304]
[null,"Compact Fluorescents","8C0042","8 Lamps  42W Hard wired compact fluorescents  ",376]
[null,"Eight Foot T12 HO Systems","1F96T12STM95","1Lamp 95W T12 HO, standard magnetic ballast ",125,"L8'"]
[null,"Eight Foot T12 HO Systems","1F96T12STM110","1Lamp 110W T12 HO, standard magnetic ballast ",135,"L8'"]
[null,"Eight Foot T12 HO Systems","2F96T12STE95","2Lamps 95W T12 HO, standard electronic ballast   ",170,"L8'"]
[null,"Eight Foot T12 HO Systems","2F96T12EEM95","2Lamps 95W T12 HO, energy efficient magnetic ballast   ",207,"L8'"]
[null,"Eight Foot T12 HO Systems","2F96T12STM95","2Lamps 95W T12 HO, standard magnetic ballast",227,"L8'"]
[null,"Eight Foot T12 HO Systems","2F96T12STE110","2Lamps 110W T12 HO, standard electronic ballast   ",195,"L8'"]
[null,"Eight Foot T12 HO Systems","2F96T12EEM110","2Lamps 110W T12 HO, energy efficient magnetic ballast",237,"L8'"]
[null,"Eight Foot T12 HO Systems","2F96T12STM110","2Lamps 110W T12 HO, standard magnetic ballast",257,"L8'"]
[null,"Eight Foot T12 HO Systems","3F96T12STM95","3Lamps 95W T12 HO, standard magnetic ballast",352,"L8'"]
[null,"Eight Foot T12 HO Systems","3F96T12STM110","3Lamps 110W T12 HO, standard magnetic ballast",392,"L8'"]
[null,"Eight Foot T12 HO Systems","4F96T12STE95","4Lamps 95W T12 HO, standard electronic ballast   ",340,"L8'"]
[null,"Eight Foot T12 HO Systems","4F96T12EEM95","4Lamps 95W T12 HO, energy efficient magnetic ballast   ",414,"L8'"]
[null,"Eight Foot T12 HO Systems","4F96T12STM95","4Lamps 95W T12 HO, standard magnetic ballast",454,"L8'"]
[null,"Eight Foot T12 HO Systems","4F96T12STE110","4Lamps 110W T12 HO, standard electronic ballast   ",390,"L8'"]
[null,"Eight Foot T12 HO Systems","4F96T12EEM110","4Lamps 110W T12 HO, energy efficient magnetic ballast",474,"L8'"]
[null,"Eight Foot T12 HO Systems","4F96T12STM110","4Lamps 110W T12 HO, standard magnetic ballast",514,"L8'"]
[null,"Eight Foot T12 Systems","1F96T12STE60"," 1Lamp 60W T12, standard electronic ballast ",60,"L8'"]
[null,"Eight Foot T12 Systems","1F96T12STM60"," 1Lamp 60W T12, standard magnetic ballast ",83,"L8'"]
[null,"Eight Foot T12 Systems","1F96T12STE75"," 1Lamp 75W T12, standard electronic ballast ",70,"L8'"]
[null,"Eight Foot T12 Systems","1F96T12STM75"," 1Lamp 75W T12, standard magnetic ballast ",100,"L8'"]
[null,"Eight Foot T12 Systems","2F96T12STE60"," 2Lamps 60W T12, standard electronic ballast  ",109,"L8'"]
[null,"Eight Foot T12 Systems","2F96T12EEM60"," 2Lamps 60W T12, energy efficient magnetic ballast  ",123,"L8'"]
[null,"Eight Foot T12 Systems","2F96T12STM60"," 2Lamps 60W T12, standard magnetic ballast",138,"L8'"]
[null,"Eight Foot T12 Systems","2F96T12STE75"," 2Lamps 75W T12, standard electronic ballast  ",134,"L8'"]
[null,"Eight Foot T12 Systems","2F96T12EEM75"," 2Lamps 75W T12, energy efficient magnetic ballast",158,"L8'"]
[null,"Eight Foot T12 Systems","2F96T12STM75"," 2Lamps 75W T12, standard magnetic ballast",173,"L8'"]
[null,"Eight Foot T12 Systems","3F96T12STM60"," 3Lamps 60W T12, standard magnetic ballast",221,"L8'"]
[null,"Eight Foot T12 Systems","3F96T12STM75"," 3Lamps 75W T12, standard magnetic ballast",273,"L8'"]
[null,"Eight Foot T12 Systems","4F96T12STE60"," 4Lamps 60W T12, standard electronic ballast  ",218,"L8'"]
[null,"Eight Foot T12 Systems","4F96T12EEM60"," 4Lamps 60W T12, energy efficient magnetic ballast  ",246,"L8'"]
[null,"Eight Foot T12 Systems","4F96T12STM60"," 4Lamps 60W T12, standard magnetic ballast",276,"L8'"]
[null,"Eight Foot T12 Systems","4F96T12STE75"," 4Lamps 75W T12, standard electronic ballast  ",268,"L8'"]
[null,"Eight Foot T12 Systems","4F96T12EEM75"," 4Lamps 75W T12, energy efficient magnetic ballast",316,"L8'"]
[null,"Eight Foot T12 Systems","4F96T12STM75"," 4Lamps 75W T12, standard magnetic ballast",346,"L8'"]
[null,"Eight Foot T8 Systems","1F59T8NBF"," 1Lamp 59W T8, electronic normal ballast factor ",58,"L8'"]
[null,"Eight Foot T8 Systems","1F86T8NBF"," 1Lamp 86W T8 HO, electronic normal ballast factor",85,"L8'"]
[null,"Eight Foot T8 Systems","2F59T8NBF"," 2Lamps 59W T8, electronic normal ballast factor   ",109,"L8'"]
[null,"Eight Foot T8 Systems","2F59T8LBF"," 2Lamps 59W T8, electronic low ballast factor    ",100,"L8'"]
[null,"Eight Foot T8 Systems","2F86T8NBF"," 2Lamps 86W T8 HO, electronic normal ballast factor",160,"L8'"]
[null,"Eight Foot T12 VHO Systems","1F96T12STM195"," 1Lamp 195W T12 VHO, standard magnetic ballast ",200,"L8'"]
[null,"Eight Foot T12 VHO Systems","1F96T12STM215"," 1Lamp 215W T12 VHO, standard magnetic ballast ",230,"L8'"]
[null,"Eight Foot T12 VHO Systems","2F96T12STM195"," 2Lamps 195W T12 VHO, standard magnetic ballast ",390,"L8'"]
[null,"Eight Foot T12 VHO Systems","2F96T12STM215"," 2Lamps 215W T12 VHO, standard magnetic ballast ",450,"L8'"]
[null,"Eight Foot T12 VHO Systems","3F96T12STM195"," 3Lamps 195W T12 VHO, standard magnetic ballast ",590,"L8'"]
[null,"Eight Foot T12 VHO Systems","3F96T12STM215"," 3Lamps 215W T12 VHO, standard magnetic ballast ",680,"L8'"]
[null,"Eight Foot T12 VHO Systems","4F96T12STM195"," 4Lamps 195W T12 VHO, standard magnetic ballast ",780,"L8'"]
[null,"Eight Foot T12 VHO Systems","4F96T12STM215"," 4Lamps 215W T12 VHO, standard magnetic ballast ",900,"L8'"]
[null,"Five Foot Systems","1F60T12STE50"," 1Lamp 50W T12 HO, standard electronic ballast ",59,"L5'"]
[null,"Five Foot Systems","1F60T12EEM75"," 1Lamp 75W T12 HO, energy efficient magnetic ballast",90,"L5'"]
[null,"Five Foot Systems","2F60T12STE50"," 2Lamps 50W T12 HO, standard electronic ballast ",123,"L5'"]
[null,"Five Foot Systems","2F40T8STE"," 2Lamps 40W T8, standard electronic ballast  ",68,"L5'"]
[null,"Five Foot Systems","2F60T12EEM75"," 2Lamps 75W T12 HO, energy efficient magnetic ballast",178,"L5'"]
[null,"Five Foot Systems","3F40T8STE"," 3Lamps 40W T8, standard electronic ballast   ",106,"L5'"]
[null,"Four Foot F48 T12 Systems","1F48T12STM30"," 1Lamp 30W T12,  standard magnetic ballast   ",50,"L4'"]
[null,"Four Foot F48 T12 Systems","1F48T12STM40"," 1Lamp 40W T12,  standard magnetic ballast   ",60,"L4'"]
[null,"Four Foot F48 T12 Systems","2F48T12STM30"," 2Lamps 30W T12,  standard magnetic ballast   ",82,"L4'"]
[null,"Four Foot F48 T12 Systems","2F48T12STM40"," 2Lamps 40W T12,  standard magnetic ballast   ",102,"L4'"]
[null,"Four Foot F48 T12 Systems","3F48T12STM30"," 3Lamps 30W T12,  standard magnetic ballast   ",132,"L4'"]
[null,"Four Foot F48 T12 Systems","3F48T12STM40"," 3Lamps 40W T12,  standard magnetic ballast   ",162,"L4'"]
[null,"Four Foot F48 T12 Systems","4F48T12STM30"," 4Lamps 30W T12,  standard magnetic ballast   ",164,"L4'"]
[null,"Four Foot F48 T12 Systems","4F48T12STM40"," 4Lamps 40W T12,  standard magnetic ballast   ",204,"L4'"]
[null,"Four Foot F48HO T12 Systems","1F48T12STM60"," 1Lamp 60W T12 HO, standard magnetic ballast   ",80,"L4'"]
[null,"Four Foot F48HO T12 Systems","1F48T12STM70"," 1Lamp 70W T12 HO, standard magnetic ballast   ",85,"L4'"]
[null,"Four Foot F48HO T12 Systems","2F48T12STM60"," 2Lamps 60W T12 HO, standard magnetic ballast   ",135,"L4'"]
[null,"Four Foot F48HO T12 Systems","2F48T12STM70"," 2Lamps 70W T12 HO, standard magnetic ballast   ",145,"L4'"]
[null,"Four Foot F48HO T12 Systems","3F48T12STM60"," 3Lamps 60W T12 HO, standard magnetic ballast   ",215,"L4'"]
[null,"Four Foot F48HO T12 Systems","3F48T12STM70"," 3Lamps 70W T12 HO, standard magnetic ballast   ",230,"L4'"]
[null,"Four Foot F48HO T12 Systems","4F48T12STM60"," 4Lamps 60W T12 HO, standard magnetic ballast   ",270,"L4'"]
[null,"Four Foot F48HO T12 Systems","4F48T12STM70"," 4Lamps 70W T12 HO, standard magnetic ballast   ",290,"L4'"]
[null,"Four Foot F48VHO T12 Systems","1F48T12STM110"," 1Lamp 110W T12 VHO, standard magnetic ballast",123,"L4'"]
[null,"Four Foot F48VHO T12 Systems","1F48T12STM116"," 1Lamp 116W T12 VHO, standard magnetic ballast",138,"L4'"]
[null,"Four Foot F48VHO T12 Systems","2F48T12STM110"," 2Lamps 110W T12 VHO, standard magnetic ballast",230,"L4'"]
[null,"Four Foot F48VHO T12 Systems","2F48T12STM116"," 2Lamps 116W T12 VHO, standard magnetic ballast",240,"L4'"]
[null,"Four Foot F48VHO T12 Systems","3F48T12STM110"," 3Lamps 110W T12 VHO, standard magnetic ballast",333,"L4'"]
[null,"Four Foot F48VHO T12 Systems","3F48T12STM116"," 3Lamps 116W T12 VHO, standard magnetic ballast",378,"L4'"]
[null,"Four Foot F48VHO T12 Systems","4F48T12STM110"," 4Lamps 110W T12 VHO, standard magnetic ballast",460,"L4'"]
[null,"Four Foot F48VHO T12 Systems","3F48T12STM116"," 4Lamps 116W T12 VHO, standard magnetic ballast",480,"L4'"]
[null,"Four Foot Fluorescent T12 Systems","1F34T12STE"," 1Lamp 34W T12, electronic ballast",38,"L4'"]
[null,"Four Foot Fluorescent T12 Systems","1F34T12EEM"," 1Lamp 34W T12, energy efficient magnetic ballast",40,"L4'"]
[null,"Four Foot Fluorescent T12 Systems","1F34T12STM"," 1Lamp 34W T12, standard magnetic ballast",50,"L4'"]
[null,"Four Foot Fluorescent T12 Systems","1F40T12STE"," 1Lamp 40W T12, electronic ballast",46,"L4'"]
[null,"Four Foot Fluorescent T12 Systems","1F40T12EEM"," 1Lamp 40W T12, energy efficient magnetic ballast",50,"L4'"]
[null,"Four Foot Fluorescent T12 Systems","1F40T12STM"," 1Lamp 40W T12, standard magnetic ballast",57,"L4'"]
[null,"Four Foot Fluorescent T12 Systems","2F34T12STE"," 2Lamps 34W T12, standard electronic ballast",60,"L4'"]
[null,"Four Foot Fluorescent T12 Systems","2F34T12EEM"," 2Lamps 34W T12, energy efficient magnetic ballast",70,"L4'"]
[null,"Four Foot Fluorescent T12 Systems","2F34T12STM"," 2Lamps 34W T12, standard magnetic ballast",80,"L4'"]
[null,"Four Foot Fluorescent T12 Systems","2F40T12STE"," 2Lamps 40W T12, standard electronic ballast",72,"L4'"]
[null,"Four Foot Fluorescent T12 Systems","2F40T12EEM"," 2Lamps 40W T12, energy efficient magnetic ballast",86,"L4'"]
[null,"Four Foot Fluorescent T12 Systems","2F40T12STM"," 2Lamps 40W T12, standard magnetic ballast",94,"L4'"]
[null,"Four Foot Fluorescent T12 Systems","3F34T12STE"," 3Lamps 34W T12, standard electronic ballast",90,"L4'"]
[null,"Four Foot Fluorescent T12 Systems","3F34T12EEM"," 3Lamps 34W T12, energy efficient magnetic ballast",110,"L4'"]
[null,"Four Foot Fluorescent T12 Systems","3F34T12STM"," 3Lamps 34W T12, standard magnetic ballast",130,"L4'"]
[null,"Four Foot Fluorescent T12 Systems","3F40T12STE"," 3Lamps 40W T12, standard electronic ballast",110,"L4'"]
[null,"Four Foot Fluorescent T12 Systems","3F40T12EEM"," 3Lamps 40W T12, energy efficient magnetic ballast",136,"L4'"]
[null,"Four Foot Fluorescent T12 Systems","3F40T12STM"," 3Lamps 40W T12, standard magnetic ballast",151,"L4'"]
[null,"Four Foot Fluorescent T12 Systems","4F34T12STE"," 4Lamps 34W T12, standard electronic ballast",120,"L4'"]
[null,"Four Foot Fluorescent T12 Systems","4F34T12EEM"," 4Lamps 34W T12, energy efficient magnetic ballast",140,"L4'"]
[null,"Four Foot Fluorescent T12 Systems","4F34T12STM"," 4Lamps 34W T12, standard magnetic ballast",160,"L4'"]
[null,"Four Foot Fluorescent T12 Systems","4F40T12STE"," 4Lamps 40W T12, standard electronic ballast",144,"L4'"]
[null,"Four Foot Fluorescent T12 Systems","4F40T12EEM"," 4Lamps 40W T12, energy efficient magnetic ballast",172,"L4'"]
[null,"Four Foot Fluorescent T12 Systems","4F40T12STM"," 4Lamps 40W T12, standard magnetic ballast",188,"L4'"]
[null,"Four Foot Fluorescent T12 Systems","6F40T12STM"," 6Lamps 40W T12, standard magnetic ballast",282,"L4'"]
[null,"Four Foot Fluorescent T8 Systems","1F32T8LBF","1 Lamp 32W T8, electronic low ballast factor ",25,"L4'"]
[null,"Four Foot Fluorescent T8 Systems","1F32T8NBF","1 Lamp 32W T8, electronic normal ballast factor ",28,"L4'"]
[null,"Four Foot Fluorescent T8 Systems","1F32T8HBF","1 Lamp 32W T8, electronic high ballast factor ",38,"L4 "]
[null,"Four Foot Fluorescent T8 Systems","1F32T8EEM","1 Lamp 32W T8, energy efficient magnetic ballast",37,"L4'","1F32SSS"]
[null,"Four Foot Fluorescent T8 Systems","2F32T8LBF","2 Lamps 32W T8, electronic low ballast factor ",47,"L4'","1F32SSS"]
[null,"Four Foot Fluorescent T8 Systems","2F32T8NBF","2 Lamps 32W T8, electronic normal ballast factor ",55,"L4'","1F32SSS"]
[null,"Four Foot Fluorescent T8 Systems","2F32T8HBF","2 Lamps 32W T8, electronic high ballast factor ",73,"L4'"]
[null,"Four Foot Fluorescent T8 Systems","2F32T8EEM","2 Lamps 32W T8, energy efficient magnetic ballast",70,"L4'"]
[null,"Four Foot Fluorescent T8 Systems","3F32T8LBF","3 Lamps 32W T8, electronic low ballast factor ",73,"L4'"]
[null,"Four Foot Fluorescent T8 Systems","3F32T8NBF","3 Lamps 32W T8, electronic normal ballast factor ",84,"L4'"]
[null,"Four Foot Fluorescent T8 Systems","3F32T8HBF","3 Lamps 32W T8, electronic high ballast factor ",111,"L4 ","2F32SSS"]
[null,"Four Foot Fluorescent T8 Systems","3F32T8EEM","3 Lamps 32W T8, energy efficient magnetic ballast",107,"L4'","2F32SSS"]
[null,"Four Foot Fluorescent T8 Systems","4F32T8LBF","4 Lamps 32W T8, electronic low ballast factor ",95,"L4'","3F32SSS"]
[null,"Four Foot Fluorescent T8 Systems","4F32T8NBF","4 Lamps 32W T8, electronic normal ballast factor ",107,"L4'","2F32SSS"]
[null,"Four Foot Fluorescent T8 Systems","4F32T8HBF","4 Lamps 32W T8, electronic high ballast factor ",143,"L4'"]
[null,"Four Foot Fluorescent T8 Systems","4F32T8EEM","4 Lamps 32W T8, energy efficient magnetic ballast",140,"L4'"]
[null,"Four Foot Fluorescent T8 Systems","5F32T8LBF","5 Lamps 32W T8, electronic low ballast factor ",128,"L4'"]
[null,"Four Foot Fluorescent T8 Systems","5F32T8NBF","5 Lamps 32W T8, electronic normal ballast factor ",148,"L4'"]
[null,"Four Foot Fluorescent T8 Systems","5F32T8HBF","5 Lamps 32W T8, electronic high ballast factor ",190,"L4'","2F32SSS"]
[null,"Four Foot Fluorescent T8 Systems","6F32T8LBF","6 Lamps 32W T8, electronic low ballast factor ",148,"L4'","3F32SSS"]
[null,"Four Foot Fluorescent T8 Systems","6F32T8NBF","6 Lamps 32W T8, electronic normal ballast factor ",170,"L4 ","3F32SSS"]
[null,"Four Foot Fluorescent T8 Systems","6F32T8HBF","6 Lamps 32W T8, electronic high ballast factor  ",234,"L4'","3F32SSS"]
[null,"Four Foot Fluorescent T8 Systems","8F32T8LBF","8 Lamps 32W T8, electronic low ballast factor ",192,"L4'","4F32SSS"]
[null,"Four Foot Fluorescent T8 Systems","8F32T8NBF","8 Lamps 32W T8, electronic normal ballast factor ",214,"L4'","3F32SSS"]
[null,"Four Foot Fluorescent T8 Systems","8F32T8HBF","8 Lamps 32W T8, electronic high ballast factor  ",312,"L4'","3F32SSS"]
[null,"Four Foot Fluorescent T8 Systems","12F32T8LBF","12 Lamps 32W T8, electronic low ballast factor ",288,"L4'"]
[null,"Four Foot Fluorescent T8 Systems","12F32T8NBF","12 Lamps 32W T8, electronic normal ballast factor",321,"L4'"]
[null,"Halogen/Quartz Lamps","1T0035"," 35W Halogen Lamp  ",35]
[null,"Halogen/Quartz Lamps","1T0040"," 40W Halogen Lamp  ",40,null,"4F32SSS"]
[null,"Halogen/Quartz Lamps","1T0042"," 42W Halogen Lamp  ",42,null,"4F32SSS"]
[null,"Halogen/Quartz Lamps","1T0045"," 45W Halogen Lamp  ",45,null,"4F32SHH"]
[null,"Halogen/Quartz Lamps","1T0050"," 50W Halogen Lamp  ",50,null,"4F32SSS"]
[null,"Halogen/Quartz Lamps","1T0052"," 52W Halogen Lamp  ",52]
[null,"Halogen/Quartz Lamps","1T0055"," 55W Halogen Lamp  ",55]
[null,"Halogen/Quartz Lamps","1T0060"," 60W Halogen Lamp  ",60]
[null,"Halogen/Quartz Lamps","1T0072"," 72W Halogen Lamp  ",72]
[null,"Halogen/Quartz Lamps","1T0075"," 75W Halogen Lamp  ",75,null,"5F32SSS"]
[null,"Halogen/Quartz Lamps","1T0090"," 90W Halogen Lamp  ",90,null,"5F32SSS"]
[null,"Halogen/Quartz Lamps","1T0100"," 100W Halogen Lamp  ",100]
[null,"Halogen/Quartz Lamps","1T0150"," 150W Halogen Lamp  ",150,null,"6F32SSS"]
[null,"Halogen/Quartz Lamps","1T0200"," 200W Halogen Lamp  ",200,null,"6F32SSS"]
[null,"Halogen/Quartz Lamps","1T0250"," 250W Halogen Lamp  ",250]
[null,"Halogen/Quartz Lamps","1T0300"," 300W Halogen Lamp  ",300]
[null,"Halogen/Quartz Lamps","1T0350"," 350W Halogen Lamp  ",350]
[null,"Halogen/Quartz Lamps","1T0400"," 400W Halogen Lamp  ",400]
[null,"Halogen/Quartz Lamps","1T0425"," 425W Halogen Lamp  ",425]
[null,"Halogen/Quartz Lamps","1T0500"," 500W Halogen Lamp  ",500]
[null,"Halogen/Quartz Lamps","1T0750"," 750W Halogen Lamp  ",750]
[null,"Halogen/Quartz Lamps","1T0900"," 900W Halogen Lamp  ",900]
[null,"Halogen/Quartz Lamps","1T1000"," 1000W Halogen Lamp  ",1000]
[null,"Halogen/Quartz Lamps","1T1200"," 1200W Halogen Lamp  ",1200]
[null,"Halogen/Quartz Lamps","1T1500"," 1500W Halogen Lamp  ",1500]
[null,"Pulse Start MH Lamp/Ballast","1PS0100P"," 100W Pulse Start Metal Halide CWA  ",128]
[null,"Pulse Start MH Lamp/Ballast","1PS0100R"," 100W Pulse Start Metal Halide Linear  ",118]
[null,"Pulse Start MH Lamp/Ballast","1PS0150P"," 150W Pulse Start Metal Halide CWA  ",190]
[null,"Pulse Start MH Lamp/Ballast","1PS0150R"," 150W Pulse Start Metal Halide Linear  ",172]
[null,"Pulse Start MH Lamp/Ballast","1PS0175P"," 175W Pulse Start Metal Halide CWA  ",208]
[null,"Pulse Start MH Lamp/Ballast","1PS0175R"," 175W Pulse Start Metal Halide Linear  ",190]
[null,"Pulse Start MH Lamp/Ballast","1PS0200P"," 200W Pulse Start Metal Halide CWA  ",232]
[null,"Pulse Start MH Lamp/Ballast","1PS0200R"," 200W Pulse Start Metal Halide LINEAR  ",218]
[null,"Pulse Start MH Lamp/Ballast","1PS0250P"," 250W Pulse Start Metal Halide CWA  ",288]
[null,"Pulse Start MH Lamp/Ballast","1PS0250R"," 250W Pulse Start Metal Halide LINEAR  ",265]
[null,"Pulse Start MH Lamp/Ballast","1PS0300P"," 300W Pulse Start Metal Halide CWA  ",342]
[null,"Pulse Start MH Lamp/Ballast","1PS0300R"," 300W Pulse Start Metal Halide Linear  ",324]
[null,"Pulse Start MH Lamp/Ballast","1PS0320P"," 320W Pulse Start Metal Halide CWA  ",365]
[null,"Pulse Start MH Lamp/Ballast","1PS0320R"," 320W Pulse Start Metal Halide LINEAR  ",345]
[null,"Pulse Start MH Lamp/Ballast","1PS0350P"," 350W Pulse Start Metal Halide CWA  ",400]
[null,"Pulse Start MH Lamp/Ballast","1PS0350R"," 350W Pulse Start Metal Halide LINEAR  ",375]
[null,"Pulse Start MH Lamp/Ballast","1PS0400P"," 400W Pulse Start Metal Halide CWA  ",455]
[null,"Pulse Start MH Lamp/Ballast","1PS0400R"," 400W Pulse Start Metal Halide LINEAR  ",430]
[null,"Pulse Start MH Lamp/Ballast","1PS0450P"," 450W Pulse Start Metal Halide CWA  ",508]
[null,"Pulse Start MH Lamp/Ballast","1PS0450R"," 450W Pulse Start Metal Halide LINEAR  ",480]
[null,"Pulse Start MH Lamp/Ballast","1PS0750P"," 750W Pulse Start Metal Halide CWA  ",815]
[null,"Pulse Start MH Lamp/Ballast","1PS0750R"," 750W Pulse Start Metal Halide Linear  ",805]
[null,"Pulse Start MH Lamp/Ballast","1PS1000P"," 1000W Pulse Start Metal Halide CWA  ",1080]
[null,"High Pressure Sodium","1HPS0035S"," 35W High Pressure Sodium  ",45]
[null,"High Pressure Sodium","1HPS0050S"," 50W High Pressure Sodium  ",65]
[null,"High Pressure Sodium","1HPS0070S"," 70W High Pressure Sodium  ",90]
[null,"High Pressure Sodium","1HPS0100S"," 100W High Pressure Sodium  ",130]
[null,"High Pressure Sodium","1HPS0150S"," 150W High Pressure Sodium  ",190]
[null,"High Pressure Sodium","1HPS0200S"," 200W High Pressure Sodium  ",240]
[null,"High Pressure Sodium","1HPS0225S"," 225W High Pressure Sodium  ",275]
[null,"High Pressure Sodium","1HPS0250S"," 250W High Pressure Sodium  ",295]
[null,"High Pressure Sodium","1HPS0310S"," 310W High Pressure Sodium  ",350]
[null,"High Pressure Sodium","1HPS0360S"," 360W High Pressure Sodium  ",435]
[null,"High Pressure Sodium","1HPS0400S"," 400W High Pressure Sodium  ",460]
[null,"High Pressure Sodium","1HPS0600S"," 600W High Pressure Sodium  ",675]
[null,"High Pressure Sodium","1HPS0750S"," 750W High Pressure Sodium  ",835]
[null,"High Pressure Sodium","1HPS1000S"," 1000W High Pressure Sodium  ",1085]
[null,"Incandescent Lamps","1I0015"," 15W Incandescent Lamp  ",15]
[null,"Incandescent Lamps","1I0020"," 20W Incandescent Lamp  ",20]
[null,"Incandescent Lamps","1I0025"," 25W Incandescent Lamp  ",25]
[null,"Incandescent Lamps","1I0034"," 34W Incandescent Lamp  ",34]
[null,"Incandescent Lamps","1I0036"," 36W Incandescent Lamp  ",36]
[null,"Incandescent Lamps","1I0040"," 40W Incandescent Lamp  ",40]
[null,"Incandescent Lamps","1I0042"," 42W Incandescent Lamp  ",42]
[null,"Incandescent Lamps","1I0045"," 45W Incandescent Lamp  ",45]
[null,"Incandescent Lamps","1I0050"," 50W Incandescent Lamp  ",50]
[null,"Incandescent Lamps","1I0052"," 52W Incandescent Lamp  ",52]
[null,"Incandescent Lamps","1I0054"," 54W Incandescent Lamp  ",54]
[null,"Incandescent Lamps","1I0055"," 55W Incandescent Lamp  ",55]
[null,"Incandescent Lamps","1I0060"," 60W Incandescent Lamp  ",60]
[null,"Incandescent Lamps","1I0065"," 65W Incandescent Lamp  ",65]
[null,"Incandescent Lamps","1I0067"," 67W Incandescent Lamp  ",67]
[null,"Incandescent Lamps","1I0069"," 69W Incandescent Lamp  ",69]
[null,"Incandescent Lamps","1I0072"," 72W Incandescent Lamp  ",72]
[null,"Incandescent Lamps","1I0075"," 75W Incandescent Lamp  ",75]
[null,"Incandescent Lamps","1I0080"," 80W Incandescent Lamp  ",80]
[null,"Incandescent Lamps","1I0085"," 85W Incandescent Lamp  ",85]
[null,"Incandescent Lamps","1I0090"," 90W Incandescent Lamp  ",90]
[null,"Incandescent Lamps","1I0093"," 93W Incandescent Lamp  ",93]
[null,"Incandescent Lamps","1I0100"," 100W Incandescent Lamp  ",100]
[null,"Incandescent Lamps","1I0120"," 120W Incandescent Lamp  ",120]
[null,"Incandescent Lamps","1I0125"," 125W Incandescent Lamp  ",125]
[null,"Incandescent Lamps","1I0135"," 135W Incandescent Lamp  ",135]
[null,"Incandescent Lamps","1I0150"," 150W Incandescent Lamp  ",150]
[null,"Incandescent Lamps","1I0200"," 200W Incandescent Lamp  ",200]
[null,"Incandescent Lamps","1I0300"," 300W Incandescent Lamp  ",300]
[null,"Incandescent Lamps","1I0448"," 448W Incandescent Lamp  ",448]
[null,"Incandescent Lamps","1I0500"," 500W Incandescent Lamp  ",500]
[null,"Incandescent Lamps","1I0750"," 750W Incandescent Lamp  ",750]
[null,"Incandescent Lamps","1I1000"," 1000W Incandescent Lamp  ",1000]
[null,"Incandescent Lamps","1I1500"," 1500W Incandescent Lamp  ",1500]
[null," Low Pressure Sodium  ","1LPS0035"," 35W  Low Pressure Sodium    ",60]
[null," Low Pressure Sodium  ","1LPS0055"," 55W  Low Pressure Sodium    ",85]
[null," Low Pressure Sodium  ","1LPS0090"," 90W  Low Pressure Sodium    ",130]
[null," Low Pressure Sodium  ","1LPS0135"," 135W  Low Pressure Sodium    ",180]
[null," Low Pressure Sodium  ","1LPS0180"," 180W  Low Pressure Sodium    ",230]
[null,"Low Voltage Halogen","1R0020"," 20W Low Voltage Halogen fixture  ",30]
[null,"Low Voltage Halogen","1R0025"," 25W Low Voltage Halogen fixture  ",35]
[null,"Low Voltage Halogen","1R0035"," 35W Low Voltage Halogen fixture  ",45]
[null,"Low Voltage Halogen","1R0042"," 42W Low Voltage Halogen fixture  ",52]
[null,"Low Voltage Halogen","1R0050"," 50W Low Voltage Halogen fixture  ",60]
[null,"Low Voltage Halogen","1R0065"," 65W Low Voltage Halogen fixture  ",75]
[null,"Low Voltage Halogen","1R0075"," 75W Low Voltage Halogen fixture  ",85]
[null,"MH Track Lighting","1MH0035E"," 35W Metal Halide Spot Light  ",44]
[null,"MH Track Lighting","1MH0070E"," 70W Metal Halide Spot Light  ",80]
[null,"MH Track Lighting","1MH0100E"," 100W Metal Halide Spot Light  ",111]
[null,"Mercury Vapor","1MV0040S"," 40W Mercury Vapor  ",50]
[null,"Mercury Vapor","1MV0050S"," 50W Mercury Vapor  ",75]
[null,"Mercury Vapor","1MV0075S"," 75W Mercury Vapor  ",95]
[null,"Mercury Vapor","1MV0100S"," 100W Mercury Vapor  ",120]
[null,"Mercury Vapor","1MV0175S"," 175W Mercury Vapor  ",205]
[null,"Mercury Vapor","1MV0250S"," 250W Mercury Vapor  ",290]
[null,"Mercury Vapor","1MV0400S"," 400W Mercury Vapor  ",455]
[null,"Mercury Vapor","1MV0700S"," 700W Mercury Vapor  ",775]
[null,"Mercury Vapor","1MV1000S"," 1000W Mercury Vapor  ",1075]
[null,"Mercury Vapor","2MV0400S"," (2) 400W Mercury Vapor  ",880]
[null,"Metal Halide","1MH0032S"," 32W Metal Halide  ",40]
[null,"Metal Halide","1MH0050S"," 50W Metal Halide  ",65]
[null,"Metal Halide","1MH0070S"," 70W Metal Halide  ",95]
[null,"Metal Halide","1MH0100S"," 100W Metal Halide  ",120]
[null,"Metal Halide","1MH0150S"," 150W Metal Halide  ",187]
[null,"Metal Halide","1MH0175S"," 175W Metal Halide  ",210]
[null,"Metal Halide","1MH0250S"," 250W Metal Halide  ",295]
[null,"Metal Halide","1MH0360S"," 360W Metal Halide  ",430]
[null,"Metal Halide","1MH0400S"," 400W Metal Halide  ",455]
[null,"Metal Halide","1MH0750S"," 750W Metal Halide  ",825]
[null,"Metal Halide","1MH1000S"," 1000W Metal Halide  ",1075]
[null,"Metal Halide","1MH1500S"," 1500W Metal Halide  ",1615]
[null,"Metal Halide","1MH1800S"," 1800W Metal Halide  ",1875]
[null,"Six Foot T12 Systems","1F72T12STM85"," 1Lamp 85W T12 HO, standard magnetic ballast ",113,"L6'"]
[null,"Six Foot T12 Systems","1F72T12EEM57"," 1Lamp 57W T12 energy efficient magnetic ballast ",80,"L6'"]
[null,"Six Foot T12 Systems","1F72T12STM57"," 1Lamp 57W T12 standard magnetic ballast ",95,"L6'"]
[null,"Six Foot T12 Systems","2F72T12STE57"," 2Lamps 57W T12 standard electronic ballast",108,"L6'"]
[null,"Six Foot T12 Systems","2F72T12STE85"," 2Lamps 85W T12 standard electronic ballast",167,"L6'"]
[null,"Six Foot T12 Systems","2F72T12STM85"," 2Lamps 85W T12 HO, standard magnetic ballast ",195,"L6'"]
[null,"Six Foot T12 Systems","2F72T12EEM57"," 2Lamps 57W T12 energy efficient magnetic ballast ",135,"L6'"]
[null,"Six Foot T12 Systems","2F72T12STM57"," 2Lamps 57W T12 standard magnetic ballast ",173,"L6'"]
[null,"T5 Systems","1F14T5NBF","1 Lamp 14W T5, electronic standard ballast factor ",18,"L2'"]
[null,"T5 Systems","2F14T5NBF","2 Lamps 14W T5, electronic standard ballast factor ",33,"L2'"]
[null,"T5 Systems","3F14T5NBF","3 Lamps 14W T5, electronic standard ballast factor ",50,"L2'"]
[null,"T5 Systems","4F14T5NBF","4 Lamps 14W T5, electronic standard ballast factor ",66,"L2'"]
[null,"T5 Systems","1F21T5NBF","1 Lamp 21W T5, electronic standard ballast factor ",27,"L3'"]
[null,"T5 Systems","2F21T5NBF","2 Lamps 21W T5, electronic standard ballast factor ",52,"L3'"]
[null,"T5 Systems","3F21T5NBF","3 Lamps 21W T5, electronic standard ballast factor ",79,"L3'"]
[null,"T5 Systems","4F21T5NBF","4 Lamps 21W T5, electronic standard ballast factor ",104,"L3'"]
[null,"T5 Systems","1F25T5NBF","1 Lamp 25W T5, electronic standard ballast factor ",33,"L4'"]
[null,"T5 Systems","2F25T5NBF","2 Lamps 25W T5, electronic standard ballast factor ",63,"L4'"]
[null,"T5 Systems","3F25T5NBF","3 Lamps 25W T5, electronic standard ballast factor ",66,"L4'"]
[null,"T5 Systems","4F25T5NBF","4 Lamps 25W T5, electronic standard ballast factor ",126,"L4'"]
[null,"T5 Systems","1F28T5NBF","1 Lamp 28W T5, electronic standard ballast factor ",32,"L4'"]
[null,"T5 Systems","2F28T5NBF","2 Lamps 28W T5, electronic standard ballast factor ",63,"L4'"]
[null,"T5 Systems","3F28T5NBF","3 Lamps 28W T5, electronic standard ballast factor ",95,"L4'"]
[null,"T5 Systems","4F28T5NBF","4 Lamps 28W T5, electronic standard ballast factor ",126,"L4'"]
[null,"T5 Systems","1F35T5NBF","1 Lamp 35W T5, electronic standard ballast factor ",44,"L4'"]
[null,"T5 Systems","2F35T5NBF","2 Lamps 35W T5, electronic standard ballast factor ",74,"L4'"]
[null,"T5 Systems","3F35T5NBF","3 Lamps 35W T5, electronic standard ballast factor ",118,"L4'"]
[null,"T5 Systems","4F35T5NBF","4 Lamps 35W T5, electronic standard ballast factor ",148,"L4'"]
[null,"T5 Reduce Wattage HO Systems","1F24T5NBF","1 Lamp 24W T5 HO, electronic standard ballast factor ",29,"L2'"]
[null,"T5 Reduce Wattage HO Systems","2F24T5NBF","2 Lamps 24W T5 HO, electronic standard ballast factor ",54,"L2'"]
[null,"T5 Reduce Wattage HO Systems","3F24T5NBF","3 Lamps 24W T5 HO, electronic standard ballast factor ",80,"L2'"]
[null,"T5 Reduce Wattage HO Systems","4F24T5NBF","4 Lamps 24W T5 HO, electronic standard ballast factor ",108,"L2'"]
[null,"T5 Reduce Wattage HO Systems","1F39T5NBF","1 Lamp 39W T5 HO, electronic standard ballast factor ",43,"L4'"]
[null,"T5 Reduce Wattage HO Systems","2F39T5NBF","2 Lamps 39W T5 HO, electronic standard ballast factor ",88,"L4'"]
[null,"T5 Reduce Wattage HO Systems","3F39T5NBF","3 Lamps 39W T5 HO, electronic standard ballast factor ",131,"L4'"]
[null,"T5 Reduce Wattage HO Systems","4F39T5NBF","4 Lamps 39W T5 HO, electronic standard ballast factor ",176,"L4'"]
[null,"T5 Reduce Wattage HO Systems","1F44T5NBF","1 Lamp 44W T5 HO, electronic standard ballast factor ",52,"L4'"]
[null,"T5 Reduce Wattage HO Systems","2F44T5NBF","2 Lamps 44W T5 HO, electronic standard ballast factor ",99,"L4'","1F32SSS"]
[null,"T5 Reduce Wattage HO Systems","3F44T5NBF","3 Lamps 44W T5 HO, electronic standard ballast factor ",147,"L4'","1F32SSS"]
[null,"T5 Reduce Wattage HO Systems","4F44T5NBF","4 Lamps 44W T5 HO, electronic standard ballast factor ",192,"L4'","1F32SSS"]
[null,"T5 Reduce Wattage HO Systems","1F47T5NBF","1 Lamp 47W T5 HO, electronic standard ballast factor ",53,"L4'","2F32SSS"]
[null,"T5 Reduce Wattage HO Systems","2F47T5NBF","2 Lamps 47W T5 HO, electronic standard ballast factor ",103,"L4'","1MH0070S"]
[null,"T5 Reduce Wattage HO Systems","3F47T5NBF","3 Lamps 47W T5 HO, electronic standard ballast factor ",157,"L4'","2F32SSS"]
[null,"T5 Reduce Wattage HO Systems","4F47T5NBF","4 Lamps 47W T5 HO, electronic standard ballast factor ",205,"L4'","2F32SSS"]
[null,"T5 Reduce Wattage HO Systems","6F47T5NBF","6 Lamps 47W T5 HO, electronic standard ballast factor ",323,"L4'","1MH0050S"]
[null,"T5 Reduce Wattage HO Systems","8F47T5NBF","8 Lamps 47W T5 HO, electronic standard ballast factor ",410,"L4'","1MH0050S"]
[null,"T5 Reduce Wattage HO Systems","1F49T5NBF","1 Lamp 49W T5 HO, electronic standard ballast factor ",49,"L4'"]
[null,"T5 Reduce Wattage HO Systems","2F49T5NBF ","2 Lamps 49W T5 HO, electronic standard ballast factor ",107,"L4'"]
[null,"T5 Reduce Wattage HO Systems","3F49T5NBF  ","3 Lamps 49W T5 HO, electronic standard ballast factor ",162,"L4'"]
[null,"T5 Reduce Wattage HO Systems","4F49T5NBF","4 Lamps 49W T5 HO, electronic standard ballast factor ",222,"L4'"]
[null,"T5 Reduce Wattage HO Systems","5F49T5NBF ","5 Lamps 49W T5 HO, electronic standard ballast factor ",269,"L4'"]
[null,"T5 Reduce Wattage HO Systems","6F49T5NBF","6 Lamps 49W T5 HO, electronic standard ballast factor ",336,"L4'"]
[null,"T5 Reduce Wattage HO Systems","8F49T5NBF","8 Lamps 49W T5 HO, electronic standard ballast factor ",444,"L4'","1MH0070S"]
[null,"T5 Reduce Wattage HO Systems","10F49T5NBF ","10 Lamps 49W T5 HO, electronic standard ballast factor ",535,"L4'","1MH0150S"]
[null,"T5 Reduce Wattage HO Systems","12F49T5NBF ","12 Lamps 49W T5 HO, electronic standard ballast factor ",642,"L4'","1MH0175S"]
[null,"T5HO Systems","1F54T5NBF","1 Lamp 54W T5 HO, electronic standard ballast factor ",59,"L4'","1MH0250S"]
[null,"T5HO Systems","2F54T5NBF","2 Lamps 54W T5 HO, electronic standard ballast factor ",117,"L4'","1MH0360S"]
[null,"T5HO Systems","3F54T5NBF","3 Lamps 54W T5 HO, electronic standard ballast factor ",177,"L4'","1MH0400S"]
[null,"T5HO Systems","4F54T5NBF","4 Lamps 54W T5 HO, electronic standard ballast factor ",231,"L4'","1MH0750S"]
[null,"T5HO Systems","5F54T5NBF","5 Lamps 54W T5 HO, electronic standard ballast factor ",294,"L4'","1MH0750S"]
[null,"T5HO Systems","6F54T5NBF","6 Lamps 54W T5 HO, electronic standard ballast factor ",366,"L4'","1MH0070S"]
[null,"T5HO Systems","8F54T5NBF","8 Lamps 54W T5 HO, electronic standard ballast factor ",462,"L4'","1MH0150S"]
[null,"T5HO Systems","10F54T5NBF","10 Lamps 54W T5 HO, electronic standard ballast factor ",585,"L4'","1MH0175S"]
[null,"T8 Reduced Wattage","1F25T8LBF","1 Lamp 25W T8, electronic low ballast factor ",20,"L4'","1MH0250S"]
[null,"T8 Reduced Wattage","1F25T8NBF","1 Lamp 25W T8, electronic normal ballast factor ",22,"L4'","1MH0360S"]
[null,"T8 Reduced Wattage","1F25T8HBF","1 Lamp 25W T8, electronic high ballast factor  ",30,"L4'","1MH0400S"]
[null,"T8 Reduced Wattage","2F25T8LBF","2 Lamps 25W T8, electronic low ballast factor ",37,"L4'","1MH0750S"]
[null,"T8 Reduced Wattage","2F25T8NBF","2 Lamps 25W T8, electronic normal ballast factor ",43,"L4'","1MH0750S"]
[null,"T8 Reduced Wattage","2F25T8HBF","2 Lamps 25W T8, electronic high ballast factor  ",57,"L4'","1MH1000S"]
[null,"T8 Reduced Wattage","3F25T8LBF","3 Lamps 25W T8, electronic low ballast factor ",57,"L4'","1F32SSS"]
[null,"T8 Reduced Wattage","3F25T8NBF","3 Lamps 25W T8, electronic normal ballast factor ",66,"L4'","1F32SSS"]
[null,"T8 Reduced Wattage","3F25T8HBF","3 Lamps 25W T8, electronic high ballast factor  ",86,"L4'","1F32SSS"]
[null,"T8 Reduced Wattage","4F25T8LBF","4 Lamps 25W T8, electronic low ballast factor ",75,"L4'","1F32SSS"]
[null,"T8 Reduced Wattage","4F25T8NBF","4 Lamps 25W T8, electronic normal ballast factor ",86,"L4'","1F32SSS"]
[null,"T8 Reduced Wattage","4F25T8HBF","4 Lamps 25W T8, electronic high ballast factor  ",112,"L4'","1F32SSS"]
[null,"T8 Reduced Wattage","1F28T8LBF","1 Lamp 28W T8, electronic low ballast factor ",22,"L4'","3F32SSS"]
[null,"T8 Reduced Wattage","1F28T8NBF","1 Lamp 28W T8, electronic normal ballast factor ",24,"L4'","2F32SSS"]
[null,"T8 Reduced Wattage","1F28T8HBF","1 Lamp 28W T8, electronic high ballast factor  ",33,"L4'","2F32SSS"]
[null,"T8 Reduced Wattage","2F28T8LBF","2 Lamps 28W T8, electronic low ballast factor ",42,"L4'","1F32SSS"]
[null,"T8 Reduced Wattage","2F28T8NBF","2 Lamps 28W T8, electronic normal ballast factor ",49,"L4'","1F32SSS"]
[null,"T8 Reduced Wattage","2F28T8HBF","2 Lamps 28W T8, electronic high ballast factor  ",65,"L4'","1F32SSS"]
[null,"T8 Reduced Wattage","3F28T8LBF","3 Lamps 28W T8, electronic low ballast factor ",64,"L4'","3F32SSS"]
[null,"T8 Reduced Wattage","3F28T8NBF","3 Lamps 28W T8, electronic normal ballast factor ",73,"L4'","3F32SSS"]
[null,"T8 Reduced Wattage","3F28T8HBF","3 Lamps 28W T8, electronic high ballast factor  ",100,"L4'","3F32SSS"]
[null,"T8 Reduced Wattage","4F28T8LBF","4 Lamps 28W T8, electronic low ballast factor ",83,"L4'","1F32SSS"]
[null,"T8 Reduced Wattage","4F28T8NBF","4 Lamps 28W T8, electronic normal ballast factor ",94,"L4'","1F32SSS"]
[null,"T8 Reduced Wattage","4F28T8HBF","4 Lamps 28W T8, electronic high ballast factor  ",126,"L4'","1F32SSS"]
[null,"T8 Reduced Wattage","6F28T8LBF","6 Lamps 28W T8, electronic low ballast factor ",125,"L4'","4F32SSS"]
[null,"T8 Reduced Wattage","6F28T8NBF","6 Lamps 28W T8, electronic normal ballast factor ",143,"L4'","4F32SSS"]
[null,"T8 Reduced Wattage","6F28T8HBF","6 Lamps 28W T8, electronic high ballast factor  ",191,"L4'","4F32SSS"]
[null,"T8 Reduced Wattage","1F30T8LBF","1 Lamp 30W T8, electronic low ballast factor ",25,"L4'","1F32SSS"]
[null,"T8 Reduced Wattage","1F30T8NBF","1 Lamp 30W T8, electronic normal ballast factor ",29,"L4'","1F32SSS"]
[null,"T8 Reduced Wattage","1F30T8HBF","1 Lamp 30W T8, electronic high ballast factor  ",39,"L4'","1F32SSS"]
[null,"T8 Reduced Wattage","2F30T8LBF","2 Lamps 30W T8, electronic low ballast factor ",47,"L4'","1F32SSS"]
[null,"T8 Reduced Wattage","2F30T8NBF","2 Lamps 30W T8, electronic normal ballast factor ",53,"L4'","1F32SSS"]
[null,"T8 Reduced Wattage","2F30T8HBF","2 Lamps 30W T8, electronic high ballast factor  ",72,"L4'","1F32SSS"]
[null,"T8 Reduced Wattage","3F30T8LBF","3 Lamps 30W T8, electronic low ballast factor ",70,"L4'"]
[null,"T8 Reduced Wattage","3F30T8NBF","3 Lamps 30W T8, electronic normal ballast factor ",84,"L4'"]
[null,"T8 Reduced Wattage","3F30T8HBF","3 Lamps 30W T8, electronic high ballast factor  ",106,"L4'"]
[null,"T8 Reduced Wattage","4F30T8LBF","4 Lamps 30W T8, electronic low ballast factor ",91,"L4'","3F32SSS"]
[null,"T8 Reduced Wattage","4F30T8NBF","4 Lamps 30W T8, electronic normal ballast factor ",104,"L4'","2F32SSS"]
[null,"T8 Reduced Wattage","4F30T8HBF","4 Lamps 30W T8, electronic high ballast factor  ",144,"L4'","2F32SSS"]
[null,"Three Foot Fluorescent Systems","1F25T8LBF","1 Lamp 25W T8, electronic low ballast factor ",20,"L3'"]
[null,"Three Foot Fluorescent Systems","1F25T8NBF","1 Lamp 25W T8, electronic normal ballast factor ",22,"L3'"]
[null,"Three Foot Fluorescent Systems","1F25T8HBF","1 Lamp 25W T8, electronic high ballast factor  ",30,"L3'"]
[null,"Three Foot Fluorescent Systems","2F25T8LBF","2 Lamps 25W T8, electronic low ballast factor ",37,"L3'","4F32SSS"]
[null,"Three Foot Fluorescent Systems","2F25T8NBF","2 Lamps 25W T8, electronic normal ballast factor ",43,"L3'","3F32SSS"]
[null,"Three Foot Fluorescent Systems","2F25T8HBF","2 Lamps 25W T8, electronic high ballast factor  ",57,"L3'","3F32SSS"]
[null,"Three Foot Fluorescent Systems","2F25T8EEM","2 Lamps 25W T8, energy efficient magnetic ballast",65,"L3'"]
[null,"Three Foot Fluorescent Systems","3F25T8LBF","3 Lamps 25W T8, electronic low ballast factor ",57,"L3'"]
[null,"Three Foot Fluorescent Systems","3F25T8NBF","3 Lamps 25W T8, electronic normal ballast factor ",66,"L3'"]
[null,"Three Foot Fluorescent Systems","3F25T8HBF","3 Lamps 25W T8, electronic high ballast factor  ",86,"L3'","4F32SSS"]
[null,"Three Foot Fluorescent Systems","4F25T8LBF","4 Lamps 25W T8, electronic low ballast factor ",75,"L3'","4F32SSS"]
[null,"Three Foot Fluorescent Systems","4F25T8NBF","4 Lamps 25W T8, electronic normal ballast factor ",86,"L3'","4F32SSS"]
[null,"Three Foot Fluorescent Systems","4F25T8HBF","4 Lamps 25W T8, electronic high ballast factor  ",112,"L3'"]
[null,"Two Foot Fluorescent Systems","1F17T8LBF","1 Lamp 17W T8, electronic low ballast factor ",15,"L2'"]
[null,"Two Foot Fluorescent Systems","1F17T8NBF","1 Lamp 17W T8, electronic normal ballast factor ",17,"L2'"]
[null,"Two Foot Fluorescent Systems","1F17T8HBF","1 Lamp 17W T8, electronic high ballast factor  ",19,"L2'","2F32SSS"]
[null,"Two Foot Fluorescent Systems","1F17T8EEM","1 Lamp 17W T8, energy efficient magnetic ballast",24,"L2'","1F32SSS"]
[null,"Two Foot Fluorescent Systems","2F17T8LBF","2 Lamps 17W T8, electronic low ballast factor ",27,"L2'","1F32SSS"]
[null,"Two Foot Fluorescent Systems","2F17T8NBF","2 Lamps 17W T8, electronic normal ballast factor ",31,"L2'","3F32SSS"]
[null,"Two Foot Fluorescent Systems","2F17T8HBF","2 Lamps 17W T8, electronic high ballast factor  ",37,"L2'","2F32SSS"]
[null,"Two Foot Fluorescent Systems","2F17T8EEM","2 Lamps 17W T8, energy efficient magnetic ballast",45,"L2'","2F32SSS"]
[null,"Two Foot Fluorescent Systems","3F17T8LBF","3 Lamps 17W T8, electronic low ballast factor ",39,"L2'","3F32SSS"]
[null,"Two Foot Fluorescent Systems","3F17T8NBF","3 Lamps 17W T8, electronic normal ballast factor ",53,"L2'","3F32SSS"]
[null,"Two Foot Fluorescent Systems","3F17T8HBF","3 Lamps 17W T8, electronic high ballast factor  ",59,"L2'","3F32SSS"]
[null,"Two Foot Fluorescent Systems","3F17T8EEM","3 Lamps 17W T8, energy efficient magnetic ballast",64,"L2'","4F32SHH"]
[null,"Two Foot Fluorescent Systems","4F17T8LBF","4 Lamps 17W T8, electronic low ballast factor ",52,"L2'","4F32SSS"]
[null,"Two Foot Fluorescent Systems","4F17T8NBF","4 Lamps 17W T8, electronic normal ballast factor ",62,"L2'"]
[null,"Two Foot Fluorescent Systems","4F17T8HBF","4 Lamps 17W T8, electronic high ballast factor  ",80,"L2'"]
[null,"Two Foot Fluorescent Systems","4F17T8EEM","4 Lamps 17W T8, energy efficient magnetic ballast",83,"L2'"]
[null,"Two Foot Fluorescent Systems","1F20T12STM","1 Lamp 20W T12, standard magnetic ballast",32,"L2'"]
[null,"Two Foot Fluorescent Systems","2F20T12STM","2 Lamps 20W T12, standard magnetic ballast",56,"L2'"]
[null,"Two Foot Fluorescent Systems","3F20T12STM","3 Lamps 20W T12, standard magnetic ballast",78,"L2'"]
[null,"Two Foot Fluorescent Systems","4F20T12STM","4 Lamps 20W T12, standard magnetic ballast",104,"L2'"]
[null,"Two Foot Fluorescent Systems","2F24T12STM","2 Lamps 24W T12, standard magnetic ballast",85,"L2'"]
[null,"Two Foot Fluorescent Biax Systems","1F40BXE","1 Lamp 40W Biax system",46,"L2'"]
[null,"Two Foot Fluorescent Biax Systems","2F40BXE","2 Lamps 40W Biax system",72,"L2'"]
[null,"Two Foot Fluorescent Biax Systems","3F40BXE","3 Lamps 40W Biax system",102,"L2'"]
[null,"Two Foot Fluorescent Biax Systems","4F40BXE","4 Lamps 40W Biax system",144,"L2'"]
[null,"Two Foot Fluorescent Biax Systems","5F40BXE","5 Lamps 40W Biax system",190,"L2'"]
[null,"Two Foot Fluorescent Biax Systems","6F40BXE","6 Lamps 40W Biax system",204,"L2'"]
[null,"Two Foot Fluorescent Biax Systems","8F40BXE","8 Lamps 40W Biax system",288,"L2'"]
[null,"Two Foot Fluorescent Biax Systems","9F40BXE","9 Lamps 40W Biax system",306,"L2'"]
[null,"Two Foot Fluorescent Biax Systems","12F40BXE","12 Lamps 40W Biax system",408,"L2'"]
[null,"Two Foot Fluorescent Biax Systems","4F36BXE","4 Lamps 36W Biax system",148,"L2'"]
[null,"Two Foot Fluorescent Biax Systems","6F36BXE","6 Lamps 36W Biax system",212,"L2'"]
[null,"Two Foot Fluorescent Biax Systems","8F36BXE","8 Lamps 36W Biax system",296,"L2'"]
[null,"Two Foot Fluorescent Biax Systems","9F36BXE","9 Lamps 36W Biax system",318,"L2'"]
[null,"Two Foot Fluorescent Biax Systems","1F50BXE","1 Lamp 50W Biax system",54,"L2'"]
[null,"Two Foot Fluorescent Biax Systems","2F50BXE","2 Lamps 50W Biax system",108,"L2'"]
[null,"Two Foot Fluorescent Biax Systems","3F50BXE","3 Lamps 50W Biax system",162,"L2'"]
[null,"Two Foot Fluorescent Biax Systems","4F50BXE","4 Lamps 50W Biax system",216,"L2'"]
[null,"Two Foot Fluorescent Biax Systems","5F50BXE","5 Lamps 50W Biax system",270,"L2'"]
[null,"Two Foot Fluorescent Biax Systems","6F50BXE","6 Lamps 50W Biax system",324,"L2'"]
[null,"Two Foot Fluorescent Biax Systems","8F50BXE","8 Lamps 50W Biax system",432,"L2'"]
[null,"Two Foot Fluorescent Biax Systems","9F50BXE","9 Lamps 50W Biax system",486,"L2'"]
[null,"Two Foot Fluorescent Biax Systems","12F50BE","12 Lamps 50W Biax system",648,"L2'"]
[null,"Two Foot Fluorescent Biax Systems","1F55BXE","1 Lamp 55W Biax system",56,"L2'"]
[null,"Two Foot Fluorescent Biax Systems","2F55BXE","2 Lamps 55W Biax system",112,"L2'"]
[null,"Two Foot Fluorescent Biax Systems","3F55BXE","3 Lamps 55W Biax system",168,"L2'"]
[null,"Two Foot Fluorescent Biax Systems","4F55BXE","4 Lamps 55W Biax system",224,"L2'"]
[null,"Two Foot Fluorescent Biax Systems","5F55BXE","5 Lamps 55W Biax system",280,"L2'"]
[null,"Two Foot Fluorescent Biax Systems","6F55BXE","6 Lamps 55W Biax system",336,"L2'"]
[null,"Two Foot Fluorescent Biax Systems","8F55BXE","8 Lamps 55W Biax system",448,"L2'"]
[null,"Two Foot Fluorescent Biax Systems","9F55BXE","9 Lamps 55W Biax system",504,"L2'"]
[null,"Two Foot Fluorescent Biax Systems","12F55BXE","12 Lamps 55W Biax system",672,"L2'"]
[null,"Two Foot Fluorescent Biax Systems","1F80BXE","1 Lamp 80W Biax system",90,"L2'"]
[null,"Refrigeration Baseline Lighting","1RefrigBase","1 Refrigeration Fluorescent Baseline",72,"L5'"]
[null,"LED Lighting in Reach-In Cases","1Cooler","1Pcimpact (Watts)",41,"L5'"]
[null,"LED Lighting in Reach-In Cases","1Freezer","1Pcimpact (Watts)",41,"L5'"]

{"sheet":"Lighting Hour Logic","index":20,"n_rows":60,"n_cols":16,"rows_kept":60,"cut":false,"hidden":true,"merged":[[3,3,4,3],[3,4,4,4]]}
[]
[]
[null,null,null,null,null,"Peak Summer","Off-peak Summer","Peak Winter","Off-peak winter"]
[null,null,null,"Bin Priority","Max Hours"]
[null,"#","Bin Profile",null,null,null,null,null,null,"Total"]
[null,1,"Office",1,4171.4285714285716,0.33333333333333331,0,0.66666666666666663,0,1,null,null,null,"BUILDING TYPE","Bin Profile","Bin Profile #"]
[null,null,null,2,0,0,0,0,0,0,null,null,null,"Automotive Facility","Retail",{"$f":"INDEX($B$6:$B$57,MATCH(O7,$C$6:$C$57,0))","v":2}]
[null,null,null,3,0,0,0,0,0,0,null,null,null,"Convention Center","Industrial",9]
[null,null,null,4,4588.5714285714275,0,0.33333333333333337,0,0.66666666666666674,1,null,null,null,"Court House","Office",1]
[null,2,"Retail",1,5840,0.23809523809523808,9.5238095238095233E-2,0.47619047619047616,0.19047619047619047,1,null,null,null,"Dining: Bar Lounge/Leisure","Restaurant",7]
[null,null,null,2,2920,0,0.33333333333333331,0,0.66666666666666663,1,null,null,null,"Dining: Cafeteria/Fast Food","Restaurant",7]
[null,null,null,3,0,0,0,0,0,0,null,null,null,"Dining: Family","Restaurant",7]
[null,null,null,4,0,0,0,0,0,0,null,null,null,"Dormitory","Universities",4]
[null,3,"School",1,2780.9523809523807,0,0,1,0,1,null,null,null,"Exercise Center","Retail",2]
[null,null,null,2,0,0,0,0,0,0,null,null,null,"Fire Station","Industrial",9]
[null,null,null,3,3059.0476190476188,0.45454545454545453,0.18181818181818182,0,0.36363636363636365,1,null,null,null,"Gymnasium","School",{"$f":"INDEX($B$6:$B$57,MATCH(O16,$C$6:$C$57,0))","v":3}]
[null,null,null,4,2920,0,0.33333333333333331,0,0.66666666666666663,1,null,null,null,"Healthcare-Clinic","Office",1]
[null,4,"Universities",1,4171.4285714285716,0.33333333333333331,0,0.66666666666666663,0,1,null,null,null,"Hospital","Health Facilities",11]
[null,null,null,2,2085.7142857142858,0,0.33333333333333331,0,0.66666666666666663,1,null,null,null,"Hotel ","Lodging",8]
[null,null,null,3,1668.5714285714284,0,0.33333333333333331,0,0.66666666666666663,1,null,null,null,"Library","Retail",2]
[null,null,null,4,834.28571428571422,0,0.33333333333333331,0,0.66666666666666663,1,null,null,null,"Manufacturing Facility","Industrial",9]
[null,5,"Church",1,1668.5714285714284,0,0.33333333333333331,0,0.66666666666666663,1,null,null,null,"Motel","Lodging",8]
[null,null,null,2,4171.4285714285716,0.33333333333333331,0,0.66666666666666663,0,1,null,null,null,"Motion Picture Theater","Retail",2]
[null,null,null,3,0,0,0,0,0,0,null,null,null,"Multi-Family","Multifamily",12]
[null,null,null,4,2920,0,0.33333333333333331,0,0.66666666666666663,1,null,null,null,"Museum","Retail",2]
[null,6,"Grocery",1,5840,0.23809523809523808,9.5238095238095233E-2,0.47619047619047616,0.19047619047619047,1,null,null,null,"Office","Office",1]
[null,null,null,2,2920,0,0.33333333333333331,0,0.66666666666666663,1,null,null,null,"Parking Garage","Multifamily",12]
[null,null,null,3,0,0,0,0,0,0,null,null,null,"Penitentiary","Industrial",9]
[null,null,null,4,0,0,0,0,0,0,null,null,null,"Performing Arts Theater","Retail",2]
[null,7,"Restaurant",1,5840,0.23809523809523808,9.5238095238095233E-2,0.47619047619047616,0.19047619047619047,1,null,null,null,"Police Station","Industrial",9]
[null,null,null,2,2920,0,0.33333333333333331,0,0.66666666666666663,1,null,null,null,"Post Office","Retail",2]
[null,null,null,3,0,0,0,0,0,0,null,null,null,"Religious Building","Church",5]
[null,null,null,4,0,0,0,0,0,0,null,null,null,"Retail","Retail",2]
[null,8,"Lodging",1,5840,0.23809523809523808,9.5238095238095233E-2,0.47619047619047616,0.19047619047619047,1,null,null,null,"School/University","Universities",4]
[null,null,null,2,2920,0,0.33333333333333331,0,0.66666666666666663,1,null,null,null,"Sports Arena","Multifamily",12]
[null,null,null,3,0,0,0,0,0,0,null,null,null,"Town Hall","Office",1]
[null,null,null,4,0,0,0,0,0,0,null,null,null,"Transportation","Office",1]
[null,9,"Industrial",1,8760,0.15873015873015875,0.17460317460317462,0.3174603174603175,0.34920634920634924,1,null,null,null,"Warehouse","Warehouse",10]
[null,null,null,2,0,0,0,0,0,0,null,null,null,"Workshop","Retail",2]
[null,null,null,3,0,0,0,0,0,0]
[null,null,null,4,0,0,0,0,0,0]
[null,10,"Warehouse",1,8760,0.15873015873015875,0.17460317460317462,0.3174603174603175,0.34920634920634924,1]
[null,null,null,2,0,0,0,0,0,0]
[null,null,null,3,0,0,0,0,0,0]
[null,null,null,4,0,0,0,0,0,0]
[null,11,"Health Facilities",1,8760,0.15873015873015875,0.17460317460317462,0.3174603174603175,0.34920634920634924,1]
[null,null,null,2,0,0,0,0,0,0]
[null,null,null,3,0,0,0,0,0,0]
[null,null,null,4,0,0,0,0,0,0]
[null,12,"Multifamily",1,2920,0,0.33333333333333331,0,0.66666666666666663,1]
[null,null,null,2,5840,0.23809523809523808,9.5238095238095233E-2,0.47619047619047616,0.19047619047619047,1]
[null,null,null,3,0,0,0,0,0,0]
[null,null,null,4,0,0,0,0,0,0]
[null,13,"Other",1,8760,0.15873015873015875,0.17460317460317462,0.3174603174603175,0.34920634920634924,1]
[null,null,null,2,0,0,0,0,0,0]
[null,null,null,3,0,0,0,0,0,0]
[null,null,null,4,0,0,0,0,0,0]
[]
[null,null,"Notes:"]
[null,null,"Dervied in B:\\Projects - Utility DSM\\BGE Implementation\\Working Documents\\Lighting Lighting - hour logic v3.xls"]